{"text_format":"1","workbook":"xlsx","n_sheets":24,"sheets":["DATOS","4 ESTRELLAS","3 ESTRELLAS","2 ESTRELLAS","1 ESTRELLA","80 Km libre","Km clasificados","J FEI","C FEI","BINO FEI","BINOMIOS N","CLAS JUV","CLAS AB","CLAS MAY","CLAS CAB","V C JUV","V C MAY","V C AB","V C CAB","V L JUV","V L AB","V L MAY","V L CAB","PROGRAMAS"],"not_rendered":{"charts":0,"images":15,"macros":1,"external_links":0,"defined_names":86,"comments":0,"pivot_tables":0},"unopened":[],"bounds":{"document_bytes":16777216,"sheet_cells":100000,"rows_first":2000,"rows_last":500,"rows_between":2000,"halvings":0,"cell_chars":16384,"cell_head_chars":4096},"cells_cut":0,"cells_raw":0,"read":"whole","date_system":"1900"}

{"sheet":"DATOS","index":0,"n_rows":44,"n_cols":12,"rows_kept":44,"cut":false,"hidden":false,"merged":[[4,4,4,5],[3,1,3,3],[3,4,3,5],[3,7,3,9],[3,10,3,11],[1,1,1,11],[7,1,7,3],[7,4,7,5],[7,7,7,9],[7,10,7,11],[2,1,2,11],[4,10,4,11],[6,7,6,9],[4,7,4,9],[6,10,6,11],[4,1,4,3],[5,1,5,3],[6,1,6,3],[6,4,6,5],[5,4,5,5]]}
[]
[null,"EXPLORE LAS COMPETENCIAS CLASIFICADAS SUYAS Y DE SU CABALLO"]
[null,"***     Pulse (click ) en la figura. Llene el apellido del jinete o  nombre del caballo. Pulse en el boton de busqueda y tendra los datos requeridos"]
[null,"CODIGO",null,null,null,null,null,"CODIGO",null,null,"A092"]
[null,"NOMBRE DEL CABALLO",null,null,null,null,null,"NOMBRE DEL JINETE",null,null,"VITIMILLA SERRANO PABLO"]
[null,"NOMBRE JINETE / PROPIETARIO"]
[null,"HABILITADO A:      ESTRELLAS            KILOMETRAJE",null,null,null,null,null,"HABILITADO A:      ESTRELLAS            KILOMETRAJE"]
[null,"TIEMPO RESIDUAL  [ meses ]",null,null,null,null,null,"TIEMPO "]
[]
[null,"N","AÑO","CHONE","KILOMETRAJE","VELOCIDAD",null,"N","AÑO","CHONE","KILOMETRAJE","VELOCIDAD"]
[null,"TOTAL:",null,null,{"$f":"SUM(E12:E45)","v":0},"Km",null,"TOTAL:",null,null,{"$f":"SUM(K12:K45)","v":707},"Km"]
[null,1,null,null,null,null,null,1,2010,"II CHONE",40,"LIBRE"]
[null,2,null,null,null,null,null,2,2010,"IV CHONE",40,"LIBRE"]
[null,3,null,null,null,null,null,3,2011,"II CHONE",60,"CONTROLADA"]
[null,4,null,null,null,null,null,4,2011,"III CHONE",60,"CONTROLADA"]
[null,5,null,null,null,null,null,5,2011,"VI CHONE",42,"CONTROLADA"]
[null,6,null,null,null,null,null,6,2012,"I CUENCA",80,"CONTROLADA"]
[null,7,null,null,null,null,null,7,2012,"IV CHONE",40,"CONTROLADA"]
[null,8,null,null,null,null,null,8,2013,"IV CHONE",80,"CONTROLADA"]
[null,9,null,null,null,null,null,9,2013,"VI CHONE",83,"CONTROLADA"]
[null,10,null,null,null,null,null,10,2013,"VII CHONE",93,"LIBRE"]
[null,11,null,null,null,null,null,11,2014,"II CHONE",47,"CONTROLADA"]
[null,12,null,null,null,null,null,12,2014,"VIII CHONE",42,"CONTROLADA"]
[null,13,null,null,null,null,null,11]
[null,14,null,null,null,null,null,14]
[null,15,null,null,null,null,null,15]
[null,16,null,null,null,null,null,16]
[null,17,null,null,null,null,null,17]
[null,18,null,null,null,null,null,18]
[null,19,null,null,null,null,null,19]
[null,20,null,null,null,null,null,20]
[null,21,null,null,null,null,null,21]
[null,22,null,null,null,null,null,22]
[null,23,null,null,null,null,null,23]
[null,24,null,null,null,null,null,24]
[null,25,null,null,null,null,null,25]
[null,26,null,null,null,null,null,26]
[null,27,null,null,null,null,null,27]
[null,28,null,null,null,null,null,28]
[null,29,null,null,null,null,null,29]
[null,30,null,null,null,null,null,30]
[null,31,null,null,null,null,null,31]
[null,32,null,null,null,null,null,32]
[null,33,null,null,null,null,null,33]

{"sheet":"4 ESTRELLAS","index":1,"n_rows":30,"n_cols":4,"rows_kept":30,"cut":false,"hidden":false,"merged":[]}
[null,"haal","HABILITADOS A COMPETENCIAS FEI 4 ESTRELLAS, CAMPEONATOS INTERNACIONALES"]
[]
[null,null,"JUVENILES","COMPETENCIA FEI"]
[1]
[2,"J019","DARQUEA RAFAELA"]
[3,"J031","RIBADENEIRA SOFIA"]
[4]
[5]
[6]
[7]
[]
[null,null,"ADULTOS","COPETENCIA FEI"]
[1]
[2]
[]
[null,null,"ABIERTA","COMPETENCIA FEI"]
[1,"A047","NEUMANN KARINA"]
[2]
[3]
[4]
[5]
[6]
[7]
[8]
[]
[]
[null,null,"CABALLOS","CARACTERISTICA"]
[1]
[2]
[3]

{"sheet":"3 ESTRELLAS","index":2,"n_rows":40,"n_cols":9,"rows_kept":40,"cut":false,"hidden":false,"merged":[[28,3,28,4]]}
[null,"haal","HABILITADOS A COMPETENCIAS FEI 3 ESTRELLAS, CHASQUI IV LIBRE"]
[]
[null,null,"JUVENILES","COMPETENCIA FEI"]
[]
[1,"J019","DARQUEA RAFAELA","DE POR VIDA"]
[2,"J011","LETORT BERNARDA","DE POR VIDA"]
[3,"J025","MORENO CORDOVEZ DANIELA","DE POR VIDA"]
[4,"J013","MORILLO SERGIO","DE POR VIDA"]
[5,"J031","RIBADENEIRA SOFIA","DE POR VIDA"]
[6,"J020","SERRANO FELIPE","DE POR VIDA"]
[7,"J028","WRAY VINUEZA MATEO","DE POR VIDA"]
[8]
[]
[null,null,"ADULTOS","COPETENCIA FEI"]
[1,"A059","ALMEIDA AYALA HECTOR","DE POR VIDA"]
[2,"A058","RIBADENEIRA ARTURO","DE POR VIDA"]
[]
[null,null,"ABIERTA","COMPETENCIA FEI"]
[1,"A052","DARQUEA BERNARDO","DE POR VIDA"]
[2,"A051","GUARDERAS BARAHONA SEBASTIAN ","DE POR VIDA"]
[3,"A081","KOPPEL OSWALDO","DE POR VIDA"]
[4,null,"MEDINA FERNANDO","DE POR VIDA"]
[5,"A056","MORILLO MAURICIO","DE POR VIDA"]
[6,"A047","NEUMANN KARINA","DE POR VIDA"]
[7,"A055","WEEMAELS NATHALIE","DE POR VIDA"]
[8,null,"WRAY VINUEZA ROBERTO","DE POR VIDA"]
[]
[]
[null,null,"CABALLOS","PROPIETARIO / JINETE",null,"TIEMPO RESIDUAL            [ meses ]","FECHA DE CLASIFICACIÓN    / ÚLTIMA COMPETENCIA","FECHA ACTUAL","TIEMPO MÁXIMO ESTABLECIDO"]
[1,"C096","AR FAISAN","ARTURO RIBADENEIRA",null,{"$f":"IF(C30=\"\",\"\",24-MONTH(H30)+MONTH(G30)+(-YEAR(H30)+YEAR(G30))*12)","v":13},"2013-11-30",{"$f":"+IF(C30=\"\",\"\",TODAY())","v":"2014-10-28"},{"$f":"+IF(C30=\"\",\"\",\"24 MESES\")","v":"24 MESES"}]
[2,"C097","CENTAURO","ALMEIDA AYALA  HECTOR ",null,13,"2013-11-30","2014-10-28","24 MESES"]
[3,"C093","CG ALLASKI","NATHALIE WEEMAELS",null,19,"2014-05-17","2014-10-28","24 MESES"]
[4,"C136","FHARA CONEJA","BERNARDO DARQUEA",null,19,"2014-05-17","2014-10-28","24 MESES"]
[5,"C188","FRODO","ARTURO RIBADENEIRA",null,19,"2014-05-17","2014-10-28","24 MESES"]
[6,"C114","KAFIR HA","ALMEIDA AYALA  HECTOR ",null,23,"2014-09-27","2014-10-28","24 MESES"]
[7,"C094","MISTERIO","MAURICIO MORILLO ",null,13,"2013-11-30","2014-10-28","24 MESES"]
[8,"C072","QUITA PENAS","JOSÉ LETORT",null,19,"2014-05-17","2014-10-28","24 MESES"]
[9,"C041","ZUCO","SERRANO FELIPE",null,23,"2014-09-27","2014-10-28","24 MESES"]
[10,null,null,null,null,"",null,"",""]
[null,null,null,null,null,"",null,"",""]

{"sheet":"2 ESTRELLAS","index":3,"n_rows":65,"n_cols":9,"rows_kept":65,"cut":false,"hidden":false,"merged":[]}
[null,"haal","HABILITADOS A COMPETENCIAS FEI 2 ESTRELLAS, CHASQUI III LIBRE"]
[]
[null,null,"JUVENILES","COMPETENCIA FEI"]
[1,"J021","CORNEJO MANUEL",{"$f":"+IF(C4=\"\",\"\",\"DE POR VIDA\")","v":"DE POR VIDA"}]
[2,"J019","DARQUEA RAFAELA","DE POR VIDA"]
[3,"J008","GOMEZ MICHILENA ROMMEL","DE POR VIDA"]
[4,"J063","GONZALEZ BERNARDA","DE POR VIDA"]
[5,"J014","GUARDERAS PEDRO JOSE","DE POR VIDA"]
[6,"J011","LETORT BERNARDA","DE POR VIDA"]
[7,"J047","LETORT JOSE IGNACIO","DE POR VIDA"]
[8,"J055","LOYOLA VINTIMILLA MARIA CLAUDIA","DE POR VIDA"]
[9,"J087","MALO TORAL DAVID","DE POR VIDA"]
[10,"J025","MORENO CORDOVEZ DANIELA",{"$f":"+IF(C13=\"\",\"\",\"DE POR VIDA\")","v":"DE POR VIDA"}]
[11,"J043","MORENO DANIEL","DE POR VIDA"]
[12,"J013","MORILLO SERGIO","DE POR VIDA"]
[13,"J031","RIBADENEIRA SOFIA","DE POR VIDA"]
[14,"J020","SERRANO FELIPE","DE POR VIDA"]
[15,"J028","WRAY VINUEZA MATEO","DE POR VIDA"]
[16,null,null,""]
[]
[null,null,"ADULTOS","COMPETENCIA FEI"]
[1,"A059","ALMEIDA AYALA HECTOR","DE POR VIDA"]
[2,"A058","RIBADENEIRA ARTURO","DE POR VIDA"]
[]
[null,null,"ABIERTA","COMPETENCIA FEI"]
[1,"A052","DARQUEA BERNARDO","DE POR VIDA"]
[2,"A057","DAVILA GORDILLO JUAN DIEGO","DE POR VIDA"]
[3,"A051","GUARDERAS BARAHONA SEBASTIAN ","DE POR VIDA"]
[4,"A081","KOPPEL OSWALDO","DE POR VIDA"]
[5,null,"MEDINA FERNANDO","DE POR VIDA"]
[6,"A056","MORILLO MAURICIO","DE POR VIDA"]
[7,"A047","NEUMANN KARINA","DE POR VIDA"]
[8,"A060","RECALDE JUAN JOSE","DE POR VIDA"]
[9,"A023","SERRANO JUAN CARLOS","DE POR VIDA"]
[10,"A092","VINTIMILLA SERRANO PABLO","DE POR VIDA"]
[11,"A055","WEEMAELS NATHALIE","DE POR VIDA"]
[12,null,"WRAY VINUEZA ROBERTO","DE POR VIDA"]
[]
[null,null,"CABALLOS","PROPIETARIO / JINETE",null,"TIEMPO RESIDUAL            [ meses ]","FECHA DE CLASIFICACIÓN    / ÚLTIMA COMPETENCIA","FECHA ACTUAL","TIEMPO MÁXIMO ESTABLECIDO"]
[1,"C046","AMARETO","JOSÉ LETORT",null,{"$f":"IF(C40=\"\",\"\",24-MONTH(H40)+MONTH(G40)+(-YEAR(H40)+YEAR(G40))*12)","v":13},"2013-11-30",{"$f":"+IF(C40=\"\",\"\",TODAY())","v":"2014-10-28"},{"$f":"+IF(C40=\"\",\"\",\"24 MESES\")","v":"24 MESES"}]
[2,"C096","AR FAISAN","ARTURO RIBADENEIRA",null,"Superada",null,{"$f":"+IF(C41=\"\",\"\",TODAY())","v":"2014-10-28"},{"$f":"+IF(C41=\"\",\"\",\"24 MESES\")","v":"24 MESES"}]
[3,"C208","ARAGON","MALO SEBATIAN",null,{"$f":"IF(C42=\"\",\"\",24-MONTH(H42)+MONTH(G42)+(-YEAR(H42)+YEAR(G42))*12)","v":19},"2014-05-17","2014-10-28","24 MESES"]
[4,"C232","ASRAEL","BERNARDA GONZALEZ",null,{"$f":"IF(C43=\"\",\"\",24-MONTH(H43)+MONTH(G43)+(-YEAR(H43)+YEAR(G43))*12)","v":19},"2014-05-17","2014-10-28","24 MESES"]
[5,"C115","AVENTURERO","HECTOR ALMEIDA AYALA",null,{"$f":"IF(C44=\"\",\"\",24-MONTH(H44)+MONTH(G44)+(-YEAR(H44)+YEAR(G44))*12)","v":19},"2014-05-17","2014-10-28","24 MESES"]
[6,"C098","BOM BOM","JUAN JOSÉ RECALDE",null,{"$f":"IF(C45=\"\",\"\",24-MONTH(H45)+MONTH(G45)+(-YEAR(H45)+YEAR(G45))*12)","v":23},"2014-09-27","2014-10-28","24 MESES"]
[7,"C097","CENTAURO","HÉCTOR ALMEIDA AYALA",null,"Superada",null,"2014-10-28","24 MESES"]
[8,"C093","CG ALLASKI","NATHALIE WEEMAELS",null,"Superada",null,"2014-10-28","24 MESES"]
[9,"C112","FELIPE GR","ROMMEL GÓMEZ",null,{"$f":"IF(C48=\"\",\"\",24-MONTH(H48)+MONTH(G48)+(-YEAR(H48)+YEAR(G48))*12)","v":-6},"2012-04-01","2014-10-28","24 MESES"]
[10,"C136","FHARA CONEJA","BERNARDO DARQUEA",null,"Superada",null,"2014-10-28","24 MESES"]
[11,"C188","FRODO","ARTURO RIBADENEIRA",null,"Superada",null,"2014-10-28","24 MESES"]
[12,"C148","FUERTE","ALEXANDER GÓMEZ",null,{"$f":"IF(C51=\"\",\"\",24-MONTH(H51)+MONTH(G51)+(-YEAR(H51)+YEAR(G51))*12)","v":19},"2014-05-17","2014-10-28","24 MESES"]
[13,"C189","HAAKIR","CORNEJO MANUEL",null,{"$f":"IF(C52=\"\",\"\",24-MONTH(H52)+MONTH(G52)+(-YEAR(H52)+YEAR(G52))*12)","v":23},"2014-09-27","2014-10-28","24 MESES"]
[14,"C084","KADAFI","DANIEL MORENO",null,{"$f":"IF(C53=\"\",\"\",24-MONTH(H53)+MONTH(G53)+(-YEAR(H53)+YEAR(G53))*12)","v":-6},"2012-04-01","2014-10-28","24 MESES"]
[15,"C114","KAFIR HA","HÉCTOR ALMEIDA AYALA",null,"Superada","2013-11-30","2014-10-28","24 MESES"]
[16,"C120","MD KABUL","FELIPE ANDRADE",null,{"$f":"IF(C55=\"\",\"\",24-MONTH(H55)+MONTH(G55)+(-YEAR(H55)+YEAR(G55))*12)","v":23},"2014-09-27","2014-10-28","24 MESES"]
[17,"C094","MISTERIO","MAURICIO MORILLO",null,"Superada",null,"2014-10-28","24 MESES"]
[18,"C197","PATACON","CLAUDIA LOYOLA",null,{"$f":"IF(C57=\"\",\"\",24-MONTH(H57)+MONTH(G57)+(-YEAR(H57)+YEAR(G57))*12)","v":19},"2014-05-17","2014-10-28","24 MESES"]
[19,"C072","QUITA PENAS","JOSÉ LETORT",null,"Superada",null,"2014-10-28","24 MESES"]
[20,"C154","SHAKIRA","LETORT JOSE IGNACIO",null,{"$f":"IF(C59=\"\",\"\",24-MONTH(H59)+MONTH(G59)+(-YEAR(H59)+YEAR(G59))*12)","v":23},"2014-09-27","2014-10-28","24 MESES"]
[21,"C074","WISKY","MAURIICIO NOBOA",null,{"$f":"IF(C60=\"\",\"\",24-MONTH(H60)+MONTH(G60)+(-YEAR(H60)+YEAR(G60))*12)","v":19},"2014-05-17","2014-10-28","24 MESES"]
[22,"C041","ZUCO","CESAR IGNACIO LEON ARAUJO",null,{"$f":"IF(C61=\"\",\"\",24-MONTH(H61)+MONTH(G61)+(-YEAR(H61)+YEAR(G61))*12)","v":19},"2014-05-17","2014-10-28","24 MESES"]
[23,null,null,null,null,{"$f":"IF(C62=\"\",\"\",24-MONTH(H62)+MONTH(G62)+(-YEAR(H62)+YEAR(G62))*12)","v":""},null,{"$f":"+IF(C62=\"\",\"\",TODAY())","v":""},{"$f":"+IF(C62=\"\",\"\",\"24 MESES\")","v":""}]
[24]
[25]
[null,null,null,null,null,{"$f":"IF(C65=\"\",\"\",24-MONTH(H65)+MONTH(G65)+(-YEAR(H65)+YEAR(G65))*12)","v":""},null,{"$f":"+IF(C65=\"\",\"\",TODAY())","v":""},{"$f":"+IF(C65=\"\",\"\",\"24 MESES\")","v":""}]

{"sheet":"1 ESTRELLA","index":4,"n_rows":137,"n_cols":9,"rows_kept":137,"cut":false,"hidden":false,"merged":[]}
[null,"haal","HABILITADOS A COMPETENCIAS FEI 1 ESTRELLA, CHASQUI II LIBRE"]
[]
[null,null,"JUVENILES","COMPETENCIA FEI"]
[1,"J034","ANDRADE JOSE",{"$f":"+IF(C4=\"\",\"\",\"DE POR VIDA\")","v":"DE POR VIDA"}]
[2,"J021","CORNEJO BURNEO MANUEL","DE POR VIDA"]
[3,"J024","DARQUEA RAFAELA","DE POR VIDA"]
[4,"J019","DARQUEA RICARDO","DE POR VIDA"]
[5,"J007","ESPINOZA TOMAS","DE POR VIDA"]
[6,"J050","FRITZ PAULA","DE POR VIDA"]
[7,"J008","GOMEZ MICHILENA ROMMEL","DE POR VIDA"]
[8,"J063","GONZALEZ BERNARDA","DE POR VIDA"]
[9,"J014","GUARDERAS PEDRO JOSE","DE POR VIDA"]
[10,"J079","JARAMILLO MANUELA","DE POR VIDA"]
[11,"J022","JIJON JUAN ESTEBAN","DE POR VIDA"]
[12,"J011","LETORT BERNARDA","DE POR VIDA"]
[13,"J055","LOYOLA VINTIMILLA MARIA CLAUDIA","DE POR VIDA"]
[14,"J087","MALO TORAL DAVID","DE POR VIDA"]
[15,"J027","MIÑO JOSE IGNACIO","DE POR VIDA"]
[16,"J012","MIÑO SANTIAGO","DE POR VIDA"]
[17,"J023","MOLESTINA NICOLAS","DE POR VIDA"]
[18,"JO33","MONROY BAROJA FERNANDA","DE POR VIDA"]
[19,"J025","MORENO CORDOVEZ DANIELA","DE POR VIDA"]
[20,"J043","MORENO DANIEL","DE POR VIDA"]
[21,"J026","MORENO NICOLAS JUAN","DE POR VIDA"]
[22,"J013","MORILLO SERGIO","DE POR VIDA"]
[23,"J031","RIBADENEIRA SOFIA","DE POR VIDA"]
[24,"J020","SERRANO FELIPE","DE POR VIDA"]
[25,"J054","VINTIMILLA CORDERO PABLO","DE POR VIDA"]
[26,"J028","WRAY VINUEZA MATEO","DE POR VIDA"]
[27,null,null,""]
[28,null,null,""]
[29,null,null,""]
[30,null,null,""]
[]
[null,null,"ADULTOS","COMPETENCIA FEI"]
[1,"A059","ALMEIDA AYALA HECTOR",{"$f":"+IF(C36=\"\",\"\",\"DE POR VIDA\")","v":"DE POR VIDA"}]
[2,"A058","RIBADENEIRA ARTURO",{"$f":"+IF(C37=\"\",\"\",\"DE POR VIDA\")","v":"DE POR VIDA"}]
[]
[null,null,"ABIERTA","COMPETENCIA FEI"]
[1,"A050","ALZAMORA MARIA CECILIA",{"$f":"+IF(C40=\"\",\"\",\"DE POR VIDA\")","v":"DE POR VIDA"}]
[2,"A048","BARAHONA ANDRES","DE POR VIDA"]
[3,"A049","BRAUER MARIA FERNANDA","DE POR VIDA"]
[4,"A067","CANDO MARIO","DE POR VIDA"]
[5,"A052","DARQUEA BERNARDO","DE POR VIDA"]
[6,"A057","DAVILA GORDILLO JUAN DIEGO","DE POR VIDA"]
[7,"A135","DONOSO LOYOLA SEBASTIAN","DE POR VIDA"]
[8,"A124","GONZÁLEZ JUAN SEBASTIÁN","DE POR VIDA"]
[9,"A051","GUARDERAS BARAHONA SEBASTIAN ","DE POR VIDA"]
[10,"A081","KOPPEL OSWALDO","DE POR VIDA"]
[11,"A113","LANDAZURI MORA LUIS ENRIQUE","DE POR VIDA"]
[12,"A026","LETORT MENA JOSE","DE POR VIDA"]
[13,"A130","MALO JAIME","DE POR VIDA"]
[14,"A053","MARCEL ROBERTO","DE POR VIDA"]
[15,"A061","MIÑO BENALCAZAR ROBERTO","DE POR VIDA"]
[16,"A068","MONROY BAROJA FERNANDA","DE POR VIDA"]
[17,"A066","MONROY BUITRON LUIS","DE POR VIDA"]
[18,"A045","MORABOWEN CESAR","DE POR VIDA"]
[19,"A056","MORILLO MAURICIO","DE POR VIDA"]
[20,"A047","NEUMANN KARINA","DE POR VIDA"]
[21,"A046","NOBOA MAURICIO","DE POR VIDA"]
[22,"A042","PINCHAO NOLBERTO","DE POR VIDA"]
[23,"A060","RECALDE JUAN JOSE","DE POR VIDA"]
[24,"A023","SERRANO JUAN CARLOS","DE POR VIDA"]
[25,"A019","TORRES VLADIMIRO","DE POR VIDA"]
[26,"A171","VELEZ MENA MARIA CONSUELO","DE POR VIDA"]
[27,"A092","VINTIMILLA SERRANO PABLO","DE POR VIDA"]
[28,"A055","WEEMAELS NATHALIE","DE POR VIDA"]
[29,null,"WRAY VINUEZA ROBERTO","DE POR VIDA"]
[30,null,null,{"$f":"+IF(C69=\"\",\"\",\"DE POR VIDA\")","v":""}]
[31,null,null,""]
[32,null,null,""]
[33,null,null,""]
[]
[null,null,"CABALLOS","PROPIETARIO / JINETE",null,"TIEMPO RESIDUAL            [ meses ]","FECHA DE CLASIFICACIÓN    / ÚLTIMA COMPETENCIA","FECHA ACTUAL","TIEMPO MÁXIMO ESTABLECIDO"]
[1,"C100","ALELI MJ"," JOSÉ IGNACIO MIÑO",null,{"$f":"IF(C75=\"\",\"\",24-MONTH(H75)+MONTH(G75)+(-YEAR(H75)+YEAR(G75))*12)","v":0},"2012-10-01",{"$f":"+IF(C75=\"\",\"\",TODAY())","v":"2014-10-28"},{"$f":"+IF(C75=\"\",\"\",\"24 MESES\")","v":"24 MESES"}]
[2,"C046","AMARETO","JOSÉ LETORT MENA",null,"Superada",null,"2014-10-28","24 MESES"]
[3,"C096","AR FAISAN","ARTURO RIBADENEIRA",null,"Superada",null,"2014-10-28","24 MESES"]
[4,"C038","ARABITA","TOMAS ESPINOZA",null,{"$f":"IF(C78=\"\",\"\",24-MONTH(H78)+MONTH(G78)+(-YEAR(H78)+YEAR(G78))*12)","v":6},"2013-04-01","2014-10-28","24 MESES"]
[5,"C208","ARAGON","MALO SEBATIAN",null,"Superada",null,"2014-10-28","24 MESES"]
[6,"C232","ASRAEL","BERNARDA GONZALEZ",null,"Superada",null,"2014-10-28","24 MESES"]
[7,"C115","AVENTURERO","HECTOR ALMEIDA AYALA",null,"Superada",null,"2014-10-28","24 MESES"]
[8,"C085","BLACK FAIR","BERNARDO DARQUEA",null,{"$f":"IF(C82=\"\",\"\",24-MONTH(H82)+MONTH(G82)+(-YEAR(H82)+YEAR(G82))*12)","v":6},"2013-04-20","2014-10-28","24 MESES"]
[9,"C098","BOM BOM","JUAN JOSÉ RECALDE",null,"Superada",null,"2014-10-28","24 MESES"]
[10,"C142","BRICHOLA","CARLOS JOSÉ URIBE",null,{"$f":"IF(C84=\"\",\"\",24-MONTH(H84)+MONTH(G84)+(-YEAR(H84)+YEAR(G84))*12)","v":6},"2013-04-01","2014-10-28","24 MESES"]
[11,"C126","BRUMA"," MARIO CANDO",null,{"$f":"IF(C85=\"\",\"\",24-MONTH(H85)+MONTH(G85)+(-YEAR(H85)+YEAR(G85))*12)","v":18},"2014-04-05","2014-10-28","24 MESES"]
[12,"C350","BZ RHEEMAH","FELIPE ANDRADE",null,{"$f":"IF(C86=\"\",\"\",24-MONTH(H86)+MONTH(G86)+(-YEAR(H86)+YEAR(G86))*12)","v":6},"2013-04-13","2014-10-28","24 MESES"]
[13,"C135","CARAGUAY CM","PEDRO CORNEJO",null,"Superada",null,"2014-10-28","24 MESES"]
[14,"C256","CASTAÑO","PABLO VINTIMILLA",null,{"$f":"IF(C88=\"\",\"\",24-MONTH(H88)+MONTH(G88)+(-YEAR(H88)+YEAR(G88))*12)","v":9},"2013-07-01","2014-10-28","24 MESES"]
[15,"C097","CENTAURO","HÉCTOR ALMEIDA AYALA",null,"Superada",null,"2014-10-28","24 MESES"]
[16,"C093","CG ALLASKI","NATHALIE WEEMAELS",null,"Superada",null,"2014-10-28","24 MESES"]
[17,"C175","CLAW","ARTURO RIBADENEIRA",null,{"$f":"IF(C91=\"\",\"\",24-MONTH(H91)+MONTH(G91)+(-YEAR(H91)+YEAR(G91))*12)","v":18},"2014-04-05","2014-10-28","24 MESES"]
[18,"C092","DAMASCO","NICOLAS MORENO",null,{"$f":"IF(C92=\"\",\"\",24-MONTH(H92)+MONTH(G92)+(-YEAR(H92)+YEAR(G92))*12)","v":6},"2013-04-02","2014-10-28","24 MESES"]
[19,"C234","EL PADRINO","MALO JAIME",null,{"$f":"IF(C93=\"\",\"\",24-MONTH(H93)+MONTH(G93)+(-YEAR(H93)+YEAR(G93))*12)","v":23},"2014-09-07","2014-10-28","24 MESES"]
[20,"C123","FARAON","WLADIMIRO TORRES",null,{"$f":"IF(C94=\"\",\"\",24-MONTH(H94)+MONTH(G94)+(-YEAR(H94)+YEAR(G94))*12)","v":13},"2013-11-02","2014-10-28","24 MESES"]
[21,"C112","FELIPE GR","ALEXANDER GÓMEZ",null,"Superada",null,"2014-10-28","24 MESES"]
[22,"C136","FHARA CONEJA","BERNARDO DARQUEA",null,"Superada",null,"2014-10-28","24 MESES"]
[23,"C188","FRODO","ARTURO RIBADENEIRA",null,"Superada",null,"2014-10-28","24 MESES"]
[24,"C148","FUERTE","ALEXANDER GÓMEZ",null,"Superada",null,"2014-10-28","24 MESES"]
[25,"C086","GHAFIL","ROBERTO MARCEL",null,{"$f":"IF(C99=\"\",\"\",24-MONTH(H99)+MONTH(G99)+(-YEAR(H99)+YEAR(G99))*12)","v":21},"2014-07-19","2014-10-28","24 MESES"]
[26,"C111","GITANILLO","EDUARDO MONROY",null,0,"2012-10-01","2014-10-28","24 MESES"]
[27,"C089","GR COMPADRE PN","MARÍA FERNANDA BRAUER",null,6,"2013-04-01","2014-10-28","24 MESES"]
[28,"C070","GR NURIA","JUAN JOSÉ RECALDE",null,8,"2013-06-15","2014-10-28","24 MESES"]
[29,"C189","HAAKIR","PEDRO CORNEJO",null,16,"2014-02-22","2014-10-28","24 MESES"]
[30,"C082","JEQUE LL","MARÍA FERNANDA BRAUER",null,-2,"2012-08-01","2014-10-28","24 MESES"]
[31,"C075","JR NARA","KARINA NEUMAN",null,0,"2012-10-01","2014-10-28","24 MESES"]
[32,"C134","JUPITER","HECTOR ALMEIDA AYALA",null,22,"2014-08-02","2014-10-28","24 MESES"]
[33,"C084","KADAFI","DANIEL MORENO",null,"Superada",null,{"$f":"+IF(C107=\"\",\"\",TODAY())","v":"2014-10-28"},{"$f":"+IF(C107=\"\",\"\",\"24 MESES\")","v":"24 MESES"}]
[34,"C114","KAFIR HA","HÉCTOR ALMEIDA AYALA",null,"Superada",null,"2014-10-28","24 MESES"]
[35,"C120","MD KABUL","FELIPE ANDRADE",null,{"$f":"IF(C109=\"\",\"\",24-MONTH(H109)+MONTH(G109)+(-YEAR(H109)+YEAR(G109))*12)","v":22},"2014-08-02","2014-10-28","24 MESES"]
[36,"C094","MISTERIO","MAURICIO MORILLO",null,"Superada",null,"2014-10-28","24 MESES"]
[37,"C281","MK KAROK","GONZALEZ RENATO",null,{"$f":"IF(C111=\"\",\"\",24-MONTH(H111)+MONTH(G111)+(-YEAR(H111)+YEAR(G111))*12)","v":22},"2014-08-02","2014-10-28","24 MESES"]
[38,"C091","MOCACHINO MA","DANIELA MORENO",null,{"$f":"IF(C112=\"\",\"\",24-MONTH(H112)+MONTH(G112)+(-YEAR(H112)+YEAR(G112))*12)","v":-6},"2012-04-01","2014-10-28","24 MESES"]
[39,"C019","NICOLAS","MANUELA JARAMILLO",null,{"$f":"IF(C113=\"\",\"\",24-MONTH(H113)+MONTH(G113)+(-YEAR(H113)+YEAR(G113))*12)","v":18},"2014-04-05","2014-10-28","24 MESES"]
[40,"C197","PATACON","CLAUDIA LOYOLA",null,"Superada",null,"2014-10-28","24 MESES"]
[41,"C072","QUITA PENAS","JOSÉ LETORT MENA",null,"Superada",null,"2014-10-28","24 MESES"]
[42,"C071","SARA","WLADIMIRO TORRES",null,{"$f":"IF(C116=\"\",\"\",24-MONTH(H116)+MONTH(G116)+(-YEAR(H116)+YEAR(G116))*12)","v":16},"2014-02-22","2014-10-28","24 MESES"]
[43,"C140","SC SADIQ","HÉCTOR ALMEIDA",null,21,"2014-07-19","2014-10-28","24 MESES"]
[44,"C329","SERENATA CMB","MORABOWEN CESAR",null,22,"2014-08-02","2014-10-28","24 MESES"]
[45,"C154","SHAKIRA","JOSÉ LETORT MENA",null,13,"2013-11-01","2014-10-28","24 MESES"]
[46,"C090","SHALEA","BERNARDO DARQUEA",null,-2,"2012-08-01","2014-10-28","24 MESES"]
[47,"C322","SUCO","PABLO VINTIMILLA",null,-2,"2012-08-01","2014-10-28","24 MESES"]
[48,"C081","SUE","ANDRES BARAHONA VACA",null,-2,"2012-08-01","2014-10-28","24 MESES"]
[49,"C341","TENGRI","VELEZ MENA MARIA CONSUELO",null,23,"2014-09-07","2014-10-28","24 MESES"]
[50,"C312","TORDILLO","BERNARDO GONZÁLEZ",null,6,"2013-04-01","2014-10-28","24 MESES"]
[51,"C099","TRUENO","BERNARDO DARQUEA",null,6,"2013-04-01",{"$f":"+IF(C125=\"\",\"\",TODAY())","v":"2014-10-28"},{"$f":"+IF(C125=\"\",\"\",\"24 MESES\")","v":"24 MESES"}]
[52,"C074","WISKY","MAURIICIO NOBOA",null,"Superada",null,"2014-10-28","24 MESES"]
[53,"C106","ZEUS LL","LUIS ENRIQUE LANDAZURI",null,{"$f":"IF(C127=\"\",\"\",24-MONTH(H127)+MONTH(G127)+(-YEAR(H127)+YEAR(G127))*12)","v":21},"2014-07-19","2014-10-28","24 MESES"]
[54,"C041","ZUCO","CESAR IGNACIO LEON ARAUJO",null,"Superada",null,"2014-10-28","24 MESES"]
[55,null,null,null,null,{"$f":"IF(C129=\"\",\"\",24-MONTH(H129)+MONTH(G129)+(-YEAR(H129)+YEAR(G129))*12)","v":""},null,"",""]
[56,null,null,null,null,"",null,"",""]
[57,null,null,null,null,"",null,"",""]
[58,null,null,null,null,"",null,"",""]
[59,null,null,null,null,"",null,"",""]
[60,null,null,null,null,"",null,"",""]
[61,null,null,null,null,"",null,"",""]
[62,null,null,null,null,"",null,"",""]
[63,null,null,null,null,"",null,"",""]

{"sheet":"80 Km libre","index":5,"n_rows":185,"n_cols":9,"rows_kept":185,"cut":false,"hidden":false,"merged":[]}
[null,"haal","HABILITADOS A COMPETENCIAS  CHASQUI II LIBRE"]
[]
[null,null,"JUVENILES","COMPETENCIA NACIONAL"]
[1,{"$f":"IF('1 ESTRELLA'!B4=\"\",\"\",'1 ESTRELLA'!B4)","v":"J034"},{"$f":"IF('1 ESTRELLA'!C4=\"\",\"\",'1 ESTRELLA'!C4)","v":"ANDRADE JOSE"},{"$f":"+IF(C4=\"\",\"\",\"DE POR VIDA\")","v":"DE POR VIDA"}]
[2,{"$f":"IF('1 ESTRELLA'!B5=\"\",\"\",'1 ESTRELLA'!B5)","v":"J021"},{"$f":"IF('1 ESTRELLA'!C5=\"\",\"\",'1 ESTRELLA'!C5)","v":"CORNEJO BURNEO MANUEL"},{"$f":"+IF(C5=\"\",\"\",\"DE POR VIDA\")","v":"DE POR VIDA"}]
[3,{"$f":"IF('1 ESTRELLA'!B6=\"\",\"\",'1 ESTRELLA'!B6)","v":"J024"},{"$f":"IF('1 ESTRELLA'!C6=\"\",\"\",'1 ESTRELLA'!C6)","v":"DARQUEA RAFAELA"},"DE POR VIDA"]
[4,{"$f":"IF('1 ESTRELLA'!B7=\"\",\"\",'1 ESTRELLA'!B7)","v":"J019"},{"$f":"IF('1 ESTRELLA'!C7=\"\",\"\",'1 ESTRELLA'!C7)","v":"DARQUEA RICARDO"},"DE POR VIDA"]
[5,{"$f":"IF('1 ESTRELLA'!B8=\"\",\"\",'1 ESTRELLA'!B8)","v":"J007"},{"$f":"IF('1 ESTRELLA'!C8=\"\",\"\",'1 ESTRELLA'!C8)","v":"ESPINOZA TOMAS"},"DE POR VIDA"]
[6,{"$f":"IF('1 ESTRELLA'!B9=\"\",\"\",'1 ESTRELLA'!B9)","v":"J050"},{"$f":"IF('1 ESTRELLA'!C9=\"\",\"\",'1 ESTRELLA'!C9)","v":"FRITZ PAULA"},"DE POR VIDA"]
[7,{"$f":"IF('1 ESTRELLA'!B10=\"\",\"\",'1 ESTRELLA'!B10)","v":"J008"},{"$f":"IF('1 ESTRELLA'!C10=\"\",\"\",'1 ESTRELLA'!C10)","v":"GOMEZ MICHILENA ROMMEL"},"DE POR VIDA"]
[8,{"$f":"IF('1 ESTRELLA'!B11=\"\",\"\",'1 ESTRELLA'!B11)","v":"J063"},{"$f":"IF('1 ESTRELLA'!C11=\"\",\"\",'1 ESTRELLA'!C11)","v":"GONZALEZ BERNARDA"},"DE POR VIDA"]
[9,{"$f":"IF('1 ESTRELLA'!B12=\"\",\"\",'1 ESTRELLA'!B12)","v":"J014"},{"$f":"IF('1 ESTRELLA'!C12=\"\",\"\",'1 ESTRELLA'!C12)","v":"GUARDERAS PEDRO JOSE"},"DE POR VIDA"]
[10,{"$f":"IF('1 ESTRELLA'!B13=\"\",\"\",'1 ESTRELLA'!B13)","v":"J079"},{"$f":"IF('1 ESTRELLA'!C13=\"\",\"\",'1 ESTRELLA'!C13)","v":"JARAMILLO MANUELA"},"DE POR VIDA"]
[11,{"$f":"IF('1 ESTRELLA'!B14=\"\",\"\",'1 ESTRELLA'!B14)","v":"J022"},{"$f":"IF('1 ESTRELLA'!C14=\"\",\"\",'1 ESTRELLA'!C14)","v":"JIJON JUAN ESTEBAN"},"DE POR VIDA"]
[12,{"$f":"IF('1 ESTRELLA'!B15=\"\",\"\",'1 ESTRELLA'!B15)","v":"J011"},{"$f":"IF('1 ESTRELLA'!C15=\"\",\"\",'1 ESTRELLA'!C15)","v":"LETORT BERNARDA"},"DE POR VIDA"]
[13,{"$f":"IF('1 ESTRELLA'!B16=\"\",\"\",'1 ESTRELLA'!B16)","v":"J055"},{"$f":"IF('1 ESTRELLA'!C16=\"\",\"\",'1 ESTRELLA'!C16)","v":"LOYOLA VINTIMILLA MARIA CLAUDIA"},"DE POR VIDA"]
[14,{"$f":"IF('1 ESTRELLA'!B17=\"\",\"\",'1 ESTRELLA'!B17)","v":"J087"},{"$f":"IF('1 ESTRELLA'!C17=\"\",\"\",'1 ESTRELLA'!C17)","v":"MALO TORAL DAVID"},"DE POR VIDA"]
[15,{"$f":"IF('1 ESTRELLA'!B18=\"\",\"\",'1 ESTRELLA'!B18)","v":"J027"},{"$f":"IF('1 ESTRELLA'!C18=\"\",\"\",'1 ESTRELLA'!C18)","v":"MIÑO JOSE IGNACIO"},"DE POR VIDA"]
[16,{"$f":"IF('1 ESTRELLA'!B19=\"\",\"\",'1 ESTRELLA'!B19)","v":"J012"},{"$f":"IF('1 ESTRELLA'!C19=\"\",\"\",'1 ESTRELLA'!C19)","v":"MIÑO SANTIAGO"},"DE POR VIDA"]
[17,{"$f":"IF('1 ESTRELLA'!B20=\"\",\"\",'1 ESTRELLA'!B20)","v":"J023"},{"$f":"IF('1 ESTRELLA'!C20=\"\",\"\",'1 ESTRELLA'!C20)","v":"MOLESTINA NICOLAS"},"DE POR VIDA"]
[18,{"$f":"IF('1 ESTRELLA'!B21=\"\",\"\",'1 ESTRELLA'!B21)","v":"JO33"},{"$f":"IF('1 ESTRELLA'!C21=\"\",\"\",'1 ESTRELLA'!C21)","v":"MONROY BAROJA FERNANDA"},"DE POR VIDA"]
[19,{"$f":"IF('1 ESTRELLA'!B22=\"\",\"\",'1 ESTRELLA'!B22)","v":"J025"},{"$f":"IF('1 ESTRELLA'!C22=\"\",\"\",'1 ESTRELLA'!C22)","v":"MORENO CORDOVEZ DANIELA"},"DE POR VIDA"]
[20,{"$f":"IF('1 ESTRELLA'!B23=\"\",\"\",'1 ESTRELLA'!B23)","v":"J043"},{"$f":"IF('1 ESTRELLA'!C23=\"\",\"\",'1 ESTRELLA'!C23)","v":"MORENO DANIEL"},"DE POR VIDA"]
[21,{"$f":"IF('1 ESTRELLA'!B24=\"\",\"\",'1 ESTRELLA'!B24)","v":"J026"},{"$f":"IF('1 ESTRELLA'!C24=\"\",\"\",'1 ESTRELLA'!C24)","v":"MORENO NICOLAS JUAN"},"DE POR VIDA"]
[22,{"$f":"IF('1 ESTRELLA'!B25=\"\",\"\",'1 ESTRELLA'!B25)","v":"J013"},{"$f":"IF('1 ESTRELLA'!C25=\"\",\"\",'1 ESTRELLA'!C25)","v":"MORILLO SERGIO"},"DE POR VIDA"]
[23,{"$f":"IF('1 ESTRELLA'!B26=\"\",\"\",'1 ESTRELLA'!B26)","v":"J031"},{"$f":"IF('1 ESTRELLA'!C26=\"\",\"\",'1 ESTRELLA'!C26)","v":"RIBADENEIRA SOFIA"},"DE POR VIDA"]
[24,{"$f":"IF('1 ESTRELLA'!B27=\"\",\"\",'1 ESTRELLA'!B27)","v":"J020"},{"$f":"IF('1 ESTRELLA'!C27=\"\",\"\",'1 ESTRELLA'!C27)","v":"SERRANO FELIPE"},"DE POR VIDA"]
[25,{"$f":"IF('1 ESTRELLA'!B28=\"\",\"\",'1 ESTRELLA'!B28)","v":"J054"},{"$f":"IF('1 ESTRELLA'!C28=\"\",\"\",'1 ESTRELLA'!C28)","v":"VINTIMILLA CORDERO PABLO"},"DE POR VIDA"]
[26,{"$f":"IF('1 ESTRELLA'!B29=\"\",\"\",'1 ESTRELLA'!B29)","v":"J028"},{"$f":"IF('1 ESTRELLA'!C29=\"\",\"\",'1 ESTRELLA'!C29)","v":"WRAY VINUEZA MATEO"},"DE POR VIDA"]
[27,{"$f":"IF('1 ESTRELLA'!B30=\"\",\"\",'1 ESTRELLA'!B30)","v":""},{"$f":"IF('1 ESTRELLA'!C30=\"\",\"\",'1 ESTRELLA'!C30)","v":""},""]
[28,{"$f":"IF('1 ESTRELLA'!B31=\"\",\"\",'1 ESTRELLA'!B31)","v":""},{"$f":"IF('1 ESTRELLA'!C31=\"\",\"\",'1 ESTRELLA'!C31)","v":""},""]
[29,{"$f":"IF('1 ESTRELLA'!B32=\"\",\"\",'1 ESTRELLA'!B32)","v":""},{"$f":"IF('1 ESTRELLA'!C32=\"\",\"\",'1 ESTRELLA'!C32)","v":""},""]
[30,{"$f":"IF('1 ESTRELLA'!B33=\"\",\"\",'1 ESTRELLA'!B33)","v":""},{"$f":"IF('1 ESTRELLA'!C33=\"\",\"\",'1 ESTRELLA'!C33)","v":""},""]
[null,{"$f":"IF('1 ESTRELLA'!B34=\"\",\"\",'1 ESTRELLA'!B34)","v":""},{"$f":"IF('1 ESTRELLA'!C34=\"\",\"\",'1 ESTRELLA'!C34)","v":""},""]
[null,{"$f":"IF('1 ESTRELLA'!B35=\"\",\"\",'1 ESTRELLA'!B35)","v":""},{"$f":"IF('1 ESTRELLA'!C35=\"\",\"\",'1 ESTRELLA'!C35)","v":"ADULTOS"},"DE POR VIDA"]
[1,{"$f":"IF('1 ESTRELLA'!B36=\"\",\"\",'1 ESTRELLA'!B36)","v":"A059"},{"$f":"IF('1 ESTRELLA'!C36=\"\",\"\",'1 ESTRELLA'!C36)","v":"ALMEIDA AYALA HECTOR"},"DE POR VIDA"]
[2,{"$f":"IF('1 ESTRELLA'!B37=\"\",\"\",'1 ESTRELLA'!B37)","v":"A058"},{"$f":"IF('1 ESTRELLA'!C37=\"\",\"\",'1 ESTRELLA'!C37)","v":"RIBADENEIRA ARTURO"},"DE POR VIDA"]
[null,{"$f":"IF('1 ESTRELLA'!B38=\"\",\"\",'1 ESTRELLA'!B38)","v":""},{"$f":"IF('1 ESTRELLA'!C38=\"\",\"\",'1 ESTRELLA'!C38)","v":""},""]
[null,{"$f":"IF('1 ESTRELLA'!B39=\"\",\"\",'1 ESTRELLA'!B39)","v":""},{"$f":"IF('1 ESTRELLA'!C39=\"\",\"\",'1 ESTRELLA'!C39)","v":"ABIERTA"},"DE POR VIDA"]
[1,{"$f":"IF('1 ESTRELLA'!B40=\"\",\"\",'1 ESTRELLA'!B40)","v":"A050"},{"$f":"IF('1 ESTRELLA'!C40=\"\",\"\",'1 ESTRELLA'!C40)","v":"ALZAMORA MARIA CECILIA"},"DE POR VIDA"]
[2,{"$f":"IF('1 ESTRELLA'!B41=\"\",\"\",'1 ESTRELLA'!B41)","v":"A048"},{"$f":"IF('1 ESTRELLA'!C41=\"\",\"\",'1 ESTRELLA'!C41)","v":"BARAHONA ANDRES"},"DE POR VIDA"]
[3,{"$f":"IF('1 ESTRELLA'!B42=\"\",\"\",'1 ESTRELLA'!B42)","v":"A049"},{"$f":"IF('1 ESTRELLA'!C42=\"\",\"\",'1 ESTRELLA'!C42)","v":"BRAUER MARIA FERNANDA"},"DE POR VIDA"]
[4,{"$f":"IF('1 ESTRELLA'!B43=\"\",\"\",'1 ESTRELLA'!B43)","v":"A067"},{"$f":"IF('1 ESTRELLA'!C43=\"\",\"\",'1 ESTRELLA'!C43)","v":"CANDO MARIO"},"DE POR VIDA"]
[5,{"$f":"IF('1 ESTRELLA'!B44=\"\",\"\",'1 ESTRELLA'!B44)","v":"A052"},{"$f":"IF('1 ESTRELLA'!C44=\"\",\"\",'1 ESTRELLA'!C44)","v":"DARQUEA BERNARDO"},"DE POR VIDA"]
[6,{"$f":"IF('1 ESTRELLA'!B45=\"\",\"\",'1 ESTRELLA'!B45)","v":"A057"},{"$f":"IF('1 ESTRELLA'!C45=\"\",\"\",'1 ESTRELLA'!C45)","v":"DAVILA GORDILLO JUAN DIEGO"},"DE POR VIDA"]
[7,{"$f":"IF('1 ESTRELLA'!B46=\"\",\"\",'1 ESTRELLA'!B46)","v":"A135"},{"$f":"IF('1 ESTRELLA'!C46=\"\",\"\",'1 ESTRELLA'!C46)","v":"DONOSO LOYOLA SEBASTIAN"},"DE POR VIDA"]
[8,{"$f":"IF('1 ESTRELLA'!B47=\"\",\"\",'1 ESTRELLA'!B47)","v":"A124"},{"$f":"IF('1 ESTRELLA'!C47=\"\",\"\",'1 ESTRELLA'!C47)","v":"GONZÁLEZ JUAN SEBASTIÁN"},"DE POR VIDA"]
[9,{"$f":"IF('1 ESTRELLA'!B48=\"\",\"\",'1 ESTRELLA'!B48)","v":"A051"},{"$f":"IF('1 ESTRELLA'!C48=\"\",\"\",'1 ESTRELLA'!C48)","v":"GUARDERAS BARAHONA SEBASTIAN "},"DE POR VIDA"]
[10,{"$f":"IF('1 ESTRELLA'!B49=\"\",\"\",'1 ESTRELLA'!B49)","v":"A081"},{"$f":"IF('1 ESTRELLA'!C49=\"\",\"\",'1 ESTRELLA'!C49)","v":"KOPPEL OSWALDO"},"DE POR VIDA"]
[11,{"$f":"IF('1 ESTRELLA'!B50=\"\",\"\",'1 ESTRELLA'!B50)","v":"A113"},{"$f":"IF('1 ESTRELLA'!C50=\"\",\"\",'1 ESTRELLA'!C50)","v":"LANDAZURI MORA LUIS ENRIQUE"},"DE POR VIDA"]
[12,{"$f":"IF('1 ESTRELLA'!B51=\"\",\"\",'1 ESTRELLA'!B51)","v":"A026"},{"$f":"IF('1 ESTRELLA'!C51=\"\",\"\",'1 ESTRELLA'!C51)","v":"LETORT MENA JOSE"},"DE POR VIDA"]
[13,{"$f":"IF('1 ESTRELLA'!B52=\"\",\"\",'1 ESTRELLA'!B52)","v":"A130"},{"$f":"IF('1 ESTRELLA'!C52=\"\",\"\",'1 ESTRELLA'!C52)","v":"MALO JAIME"},"DE POR VIDA"]
[14,{"$f":"IF('1 ESTRELLA'!B53=\"\",\"\",'1 ESTRELLA'!B53)","v":"A053"},{"$f":"IF('1 ESTRELLA'!C53=\"\",\"\",'1 ESTRELLA'!C53)","v":"MARCEL ROBERTO"},"DE POR VIDA"]
[15,{"$f":"IF('1 ESTRELLA'!B54=\"\",\"\",'1 ESTRELLA'!B54)","v":"A061"},{"$f":"IF('1 ESTRELLA'!C54=\"\",\"\",'1 ESTRELLA'!C54)","v":"MIÑO BENALCAZAR ROBERTO"},"DE POR VIDA"]
[16,{"$f":"IF('1 ESTRELLA'!B55=\"\",\"\",'1 ESTRELLA'!B55)","v":"A068"},{"$f":"IF('1 ESTRELLA'!C55=\"\",\"\",'1 ESTRELLA'!C55)","v":"MONROY BAROJA FERNANDA"},"DE POR VIDA"]
[17,{"$f":"IF('1 ESTRELLA'!B56=\"\",\"\",'1 ESTRELLA'!B56)","v":"A066"},{"$f":"IF('1 ESTRELLA'!C56=\"\",\"\",'1 ESTRELLA'!C56)","v":"MONROY BUITRON LUIS"},"DE POR VIDA"]
[18,{"$f":"IF('1 ESTRELLA'!B57=\"\",\"\",'1 ESTRELLA'!B57)","v":"A045"},"MORILLO MAURICIO","DE POR VIDA"]
[19,{"$f":"IF('1 ESTRELLA'!B58=\"\",\"\",'1 ESTRELLA'!B58)","v":"A056"},"NEUMANN KARINA","DE POR VIDA"]
[20,{"$f":"IF('1 ESTRELLA'!B59=\"\",\"\",'1 ESTRELLA'!B59)","v":"A047"},"NOBOA MAURICIO","DE POR VIDA"]
[21,{"$f":"IF('1 ESTRELLA'!B60=\"\",\"\",'1 ESTRELLA'!B60)","v":"A046"},"PINCHAO NOLBERTO","DE POR VIDA"]
[22,{"$f":"IF('1 ESTRELLA'!B61=\"\",\"\",'1 ESTRELLA'!B61)","v":"A042"},"RECALDE JUAN JOSE","DE POR VIDA"]
[23,{"$f":"IF('1 ESTRELLA'!B62=\"\",\"\",'1 ESTRELLA'!B62)","v":"A060"},"SERRANO JUAN CARLOS","DE POR VIDA"]
[24,{"$f":"IF('1 ESTRELLA'!B63=\"\",\"\",'1 ESTRELLA'!B63)","v":"A023"},"TORRES VLADIMIRO","DE POR VIDA"]
[25,"A171","VELEZ MENA MARIA CONSUELO","DE POR VIDA"]
[26,{"$f":"IF('1 ESTRELLA'!B64=\"\",\"\",'1 ESTRELLA'!B64)","v":"A019"},"VINTIMILLA SERRANO PABLO","DE POR VIDA"]
[27,{"$f":"IF('1 ESTRELLA'!B65=\"\",\"\",'1 ESTRELLA'!B65)","v":"A171"},"WEEMAELS NATHALIE","DE POR VIDA"]
[28,{"$f":"IF('1 ESTRELLA'!B66=\"\",\"\",'1 ESTRELLA'!B66)","v":"A092"},"WRAY VINUEZA ROBERTO","DE POR VIDA"]
[29,null,null,""]
[30,{"$f":"IF('1 ESTRELLA'!B69=\"\",\"\",'1 ESTRELLA'!B69)","v":""},{"$f":"IF('1 ESTRELLA'!C69=\"\",\"\",'1 ESTRELLA'!C69)","v":""},""]
[31,{"$f":"IF('1 ESTRELLA'!B70=\"\",\"\",'1 ESTRELLA'!B70)","v":""},{"$f":"IF('1 ESTRELLA'!C70=\"\",\"\",'1 ESTRELLA'!C70)","v":""},""]
[32,{"$f":"IF('1 ESTRELLA'!B71=\"\",\"\",'1 ESTRELLA'!B71)","v":""},{"$f":"IF('1 ESTRELLA'!C71=\"\",\"\",'1 ESTRELLA'!C71)","v":""},{"$f":"+IF(C71=\"\",\"\",\"DE POR VIDA\")","v":""}]
[33,{"$f":"IF('1 ESTRELLA'!B72=\"\",\"\",'1 ESTRELLA'!B72)","v":""},{"$f":"IF('1 ESTRELLA'!C72=\"\",\"\",'1 ESTRELLA'!C72)","v":""},{"$f":"+IF(C72=\"\",\"\",\"DE POR VIDA\")","v":""}]
[]
[null,null,"CABALLOS","PROPIETARIO / JINETE",null,"TIEMPO RESIDUAL            [ meses ]","FECHA DE CLASIFICACIÓN    / ÚLTIMA COMPETENCIA","FECHA ACTUAL","TIEMPO MÁXIMO ESTABLECIDO"]
[1,"C100","ALELI MJ"," JOSÉ IGNACIO MIÑO",null,{"$f":"IF(C75=\"\",\"\",24-MONTH(H75)+MONTH(G75)+(-YEAR(H75)+YEAR(G75))*12)","v":0},"2012-10-01",{"$f":"+IF(C75=\"\",\"\",TODAY())","v":"2014-10-28"},{"$f":"+IF(C75=\"\",\"\",\"24 MESES\")","v":"24 MESES"}]
[2,"C046","AMARETO","JOSÉ LETORT MENA",null,"Superada",null,"2014-10-28","24 MESES"]
[3,"C096","AR FAISAN","ARTURO RIBADENEIRA",null,"Superada",null,"2014-10-28","24 MESES"]
[4,"C038","ARABITA","TOMAS ESPINOZA",null,{"$f":"IF(C78=\"\",\"\",24-MONTH(H78)+MONTH(G78)+(-YEAR(H78)+YEAR(G78))*12)","v":8},"2013-06-01","2014-10-28","24 MESES"]
[5,"C208","ARAGON","MALO SEBATIAN",null,{"$f":"IF(C79=\"\",\"\",24-MONTH(H79)+MONTH(G79)+(-YEAR(H79)+YEAR(G79))*12)","v":16},"2014-02-22","2014-10-28","24 MESES"]
[6,"C232","ASRAEL","BERNARDA GONZALEZ",null,"Superada",null,"2014-10-28","24 MESES"]
[7,"C115","AVENTURERO","HECTOR ALMEIDA AYALA",null,"Superada",null,"2014-10-28","24 MESES"]
[8,"C085","BLACK FAIR","BERNARDO DARQUEA",null,{"$f":"IF(C82=\"\",\"\",24-MONTH(H82)+MONTH(G82)+(-YEAR(H82)+YEAR(G82))*12)","v":6},"2013-04-20","2014-10-28","24 MESES"]
[9,"C098","BOM BOM","JUAN JOSÉ RECALDE",null,"Superada",null,"2014-10-28","24 MESES"]
[10,"C142","BRICHOLA","CARLOS JOSÉ URIBE",null,{"$f":"IF(C84=\"\",\"\",24-MONTH(H84)+MONTH(G84)+(-YEAR(H84)+YEAR(G84))*12)","v":8},"2013-06-01","2014-10-28","24 MESES"]
[11,"C126","BRUMA"," MARIO CANDO",null,{"$f":"IF(C85=\"\",\"\",24-MONTH(H85)+MONTH(G85)+(-YEAR(H85)+YEAR(G85))*12)","v":8},"2013-06-01","2014-10-28","24 MESES"]
[12,"C350","BZ RHEEMAH","FELIPE ANDRADE",null,{"$f":"IF(C86=\"\",\"\",24-MONTH(H86)+MONTH(G86)+(-YEAR(H86)+YEAR(G86))*12)","v":6},"2013-04-13","2014-10-28","24 MESES"]
[13,"C135","CARAGUAY CM","PEDRO CORNEJO",null,24,null,"2014-10-28","24 MESES"]
[14,"C256","CASTAÑO","PABLO VINTIMILLA",null,{"$f":"IF(C88=\"\",\"\",24-MONTH(H88)+MONTH(G88)+(-YEAR(H88)+YEAR(G88))*12)","v":9},"2013-07-01","2014-10-28","24 MESES"]
[15,"C097","CENTAURO","HÉCTOR ALMEIDA AYALA",null,"Superada",null,"2014-10-28","24 MESES"]
[16,"C093","CG ALLASKI","NATHALIE WEEMAELS",null,"Superada",null,"2014-10-28","24 MESES"]
[17,"C175","CLAW","ARTURO RIBADENEIRA",null,{"$f":"IF(C91=\"\",\"\",24-MONTH(H91)+MONTH(G91)+(-YEAR(H91)+YEAR(G91))*12)","v":18},"2014-04-05","2014-10-28","24 MESES"]
[18,"C092","DAMASCO","NICOLAS MORENO",null,{"$f":"IF(C92=\"\",\"\",24-MONTH(H92)+MONTH(G92)+(-YEAR(H92)+YEAR(G92))*12)","v":4},"2013-02-01","2014-10-28","24 MESES"]
[19,"C234","EL PADRINO","MALO JAIME",null,{"$f":"IF(C93=\"\",\"\",24-MONTH(H93)+MONTH(G93)+(-YEAR(H93)+YEAR(G93))*12)","v":23},"2014-09-07","2014-10-28","24 MESES"]
[20,"C123","FARAON","WLADIMIRO TORRES",null,{"$f":"IF(C94=\"\",\"\",24-MONTH(H94)+MONTH(G94)+(-YEAR(H94)+YEAR(G94))*12)","v":13},"2013-11-02","2014-10-28","24 MESES"]
[21,"C112","FELIPE GR","ALEXANDER GÓMEZ",null,"Superada",null,"2014-10-28","24 MESES"]
[22,"C136","FHARA CONEJA","BERNARDO DARQUEA",null,"Superada",null,"2014-10-28","24 MESES"]
[23,"C188","FRODO","ARTURO RIBADENEIRA",null,"Superada",null,"2014-10-28","24 MESES"]
[24,"C148","FUERTE","ALEXANDER GÓMEZ",null,{"$f":"IF(C98=\"\",\"\",24-MONTH(H98)+MONTH(G98)+(-YEAR(H98)+YEAR(G98))*12)","v":13},"2013-11-01","2014-10-28","24 MESES"]
[25,"C086","GHAFIL","ROBERTO MARCEL",null,21,"2014-07-19","2014-10-28","24 MESES"]
[26,"C111","GITANILLO","EDUARDO MONROY",null,14,"2013-12-01","2014-10-28","24 MESES"]
[27,"C089","GR COMPADRE PN","MARÍA FERNANDA BRAUER",null,6,"2013-04-01","2014-10-28","24 MESES"]
[28,"C070","GR NURIA","JUAN JOSÉ RECALDE",null,8,"2013-06-01","2014-10-28","24 MESES"]
[29,"C189","HAAKIR","PEDRO CORNEJO",null,16,"2014-02-22","2014-10-28","24 MESES"]
[30,"C082","JEQUE LL","MARÍA FERNANDA BRAUER",null,-2,"2012-08-01","2014-10-28","24 MESES"]
[31,"C075","JR NARA","KARINA NEUMAN",null,14,"2013-06-01","2014-04-10","24 MESES"]
[32,"C134","JUPITER","HECTOR ALMEIDA AYALA",null,"Superada",null,{"$f":"+IF(C106=\"\",\"\",TODAY())","v":"2014-10-28"},"24 MESES"]
[33,"C084","KADAFI","DANIEL MORENO",null,"Superada",null,"2014-10-28",{"$f":"+IF(C107=\"\",\"\",\"24 MESES\")","v":"24 MESES"}]
[34,"C114","KAFIR HA","HÉCTOR ALMEIDA AYALA",null,"Superada",null,"2014-10-28","24 MESES"]
[35,"C120","MD KABUL","FELIPE ANDRADE",null,"Superada",null,"2014-10-28","24 MESES"]
[36,"C094","MISTERIO","MAURICIO MORILLO",null,"Superada",null,"2014-10-28","24 MESES"]
[37,"C281","MK KAROK","GONZALEZ RENATO",null,{"$f":"IF(C111=\"\",\"\",24-MONTH(H111)+MONTH(G111)+(-YEAR(H111)+YEAR(G111))*12)","v":22},"2014-08-02","2014-10-28","24 MESES"]
[38,"C091","MOCACHINO MA","DANIELA MORENO",null,{"$f":"IF(C112=\"\",\"\",24-MONTH(H112)+MONTH(G112)+(-YEAR(H112)+YEAR(G112))*12)","v":-6},"2012-04-01","2014-10-28","24 MESES"]
[39,"C019","NICOLAS","MANUELA JARAMILLO",null,{"$f":"IF(C113=\"\",\"\",24-MONTH(H113)+MONTH(G113)+(-YEAR(H113)+YEAR(G113))*12)","v":18},"2014-04-05","2014-10-28","24 MESES"]
[40,"C197","PATACON","CLAUDIA LOYOLA",null,"Superada",null,"2014-10-28","24 MESES"]
[41,"C072","QUITA PENAS","JOSÉ LETORT MENA",null,"Superada",null,"2014-10-28","24 MESES"]
[42,"C294","REMOLACHA","MALO DIANA",null,{"$f":"IF(C116=\"\",\"\",24-MONTH(H116)+MONTH(G116)+(-YEAR(H116)+YEAR(G116))*12)","v":23},"2014-09-27","2014-10-28","24 MESES"]
[43,"C071","SARA","WLADIMIRO TORRES",null,16,"2014-02-22","2014-10-28","24 MESES"]
[44,"C140","SC SADIQ","HÉCTOR ALMEIDA",null,21,"2014-07-19","2014-10-28","24 MESES"]
[45,"C329","SERENATA CMB","MORABOWEN CESAR",null,22,"2014-08-02","2014-10-28","24 MESES"]
[46,"C154","SHAKIRA","JOSÉ LETORT MENA",null,13,"2013-11-01","2014-10-28","24 MESES"]
[47,"C090","SHALEA","BERNARDO DARQUEA",null,-2,"2012-08-01","2014-10-28","24 MESES"]
[48,"C322","SUCO","PABLO VINTIMILLA",null,9,"2013-07-01","2014-10-28","24 MESES"]
[49,"C081","SUE","ANDRES BARAHONA VACA",null,-2,"2012-08-01","2014-10-28","24 MESES"]
[50,"C341","TENGRI","VELEZ MENA MARIA CONSUELO",null,23,"2014-09-07","2014-10-28","24 MESES"]
[51,"C312","TORDILLO","BERNARDO GONZÁLEZ",null,6,"2013-04-01","2014-10-28","24 MESES"]
[52,"C099","TRUENO","BERNARDO DARQUEA",null,8,"2013-06-01","2014-10-28","24 MESES"]
[53,"C074","WISKY","MAURIICIO NOBOA",null,"Superada","2012-08-01","2014-10-28","24 MESES"]
[54,"C106","ZEUS LL","LUIS ENRIQUE LANDAZURI",null,{"$f":"IF(C128=\"\",\"\",24-MONTH(H128)+MONTH(G128)+(-YEAR(H128)+YEAR(G128))*12)","v":21},"2014-07-19","2014-10-28","24 MESES"]
[55,"C041","ZUCO","CESAR IGNACIO LEON ARAUJO",null,{"$f":"IF(C129=\"\",\"\",24-MONTH(H129)+MONTH(G129)+(-YEAR(H129)+YEAR(G129))*12)","v":16},"2014-02-22","2014-10-28","24 MESES"]
[56,null,null,null,null,{"$f":"IF(C130=\"\",\"\",24-MONTH(H130)+MONTH(G130)+(-YEAR(H130)+YEAR(G130))*12)","v":""},null,{"$f":"+IF(C130=\"\",\"\",TODAY())","v":""},{"$f":"+IF(C130=\"\",\"\",\"24 MESES\")","v":""}]
[57,null,null,null,null,"",null,"",""]
[58,null,null,null,null,"",null,"",""]
[59,null,null,null,null,"",null,"",""]
[60,null,null,null,null,"",null,"",""]
[61,null,null,null,null,"",null,"",""]
[62,null,null,null,null,"",null,"",""]
[63,null,null,null,null,"",null,"",""]
[64,null,null,null,null,"",null,"",""]
[65,null,null,null,null,"",null,"",""]
[66,null,null,null,null,"",null,"",{"$f":"+IF(C140=\"\",\"\",\"24 MESES\")","v":""}]
[67,null,null,null,null,"",null,"",""]
[68,null,null,null,null,"",null,"",""]
[69,null,null,null,null,"",null,"",""]
[70,null,null,null,null,"",null,"",""]
[71,null,null,null,null,"",null,"",""]
[72,null,null,null,null,"",null,"",""]
[73,null,null,null,null,"",null,"",""]
[74,null,null,null,null,"",null,"",""]
[75,null,null,null,null,"",null,"",""]
[76,null,null,null,null,"",null,"",""]
[77,null,null,null,null,"",null,"",""]
[78,null,null,null,null,"",null,"",""]
[79,null,null,null,null,"",null,"",""]
[80,null,null,null,null,"",null,"",""]
[81,null,null,null,null,"",null,"",""]
[82,null,null,null,null,"",null,"",""]
[83,null,null,null,null,"",null,"",""]
[84,null,null,null,null,"",null,"",""]
[85,null,null,null,null,"",null,"",""]
[86,null,null,null,null,"",null,"",""]
[87,null,null,null,null,"",null,"",""]
[88,null,null,null,null,"",null,"",""]
[89,null,null,null,null,"",null,"",""]
[90,null,null,null,null,"",null,"",""]
[91,null,null,null,null,"",null,"",""]
[92,null,null,null,null,"",null,"",""]
[93,null,null,null,null,"",null,"",""]
[94,null,null,null,null,"",null,"",""]
[95,null,null,null,null,"",null,"",""]
[96,null,null,null,null,"",null,"",""]
[97,null,null,null,null,"",null,"",""]
[98,null,null,null,null,"",null,"",""]
[99,null,null,null,null,"",null,"",""]
[100,null,null,null,null,"",null,"",""]
[101,null,null,null,null,"",null,"",""]
[102,null,null,null,null,"",null,"",""]
[103,null,null,null,null,"",null,"",""]
[104,null,null,null,null,"",null,"",""]
[105,null,null,null,null,"",null,"",""]
[106,null,null,null,null,"",null,"",""]
[107,null,null,null,null,"",null,"",""]
[108,null,null,null,null,"",null,"",""]
[109,null,null,null,null,{"$f":"IF(C183=\"\",\"\",24-MONTH(H183)+MONTH(G183)+(-YEAR(H183)+YEAR(G183))*12)","v":""},null,{"$f":"+IF(C183=\"\",\"\",TODAY())","v":""},""]
[110,null,null,null,null,{"$f":"IF(C184=\"\",\"\",24-MONTH(H184)+MONTH(G184)+(-YEAR(H184)+YEAR(G184))*12)","v":""},null,{"$f":"+IF(C184=\"\",\"\",TODAY())","v":""},""]
[111,null,null,null,null,{"$f":"IF(C185=\"\",\"\",24-MONTH(H185)+MONTH(G185)+(-YEAR(H185)+YEAR(G185))*12)","v":""},null,{"$f":"+IF(C185=\"\",\"\",TODAY())","v":""},""]

{"sheet":"Km clasificados","index":6,"n_rows":82,"n_cols":27,"rows_kept":82,"cut":false,"hidden":false,"merged":[[4,23,4,24],[3,11,3,12],[3,15,3,18],[3,4,3,8],[1,0,1,8],[3,1,3,2],[3,21,3,22],[1,20,1,26],[1,10,1,18]]}
[]
["KILOMETROS CLASIFICADOS",null,null,null,null,null,null,null,null,null,"KILOMETROS CLASIFICADOS",null,null,null,null,null,null,null,null,null,"KILOMETROS CLASIFICADOS"]
[]
[null,"CODIGO",null,null,"KILOMETROS",null,null,null,null,null,null,"CODIGO",null,null,null,"KILOMETROS",null,null,null,null,null,"CODIGO",null,null,null,null,"KILOMETROS"]
[null,"ANTERIOR","NUEVO","JINETES","CONTROLADA","LIBRE","OTRAS FN","FEI","TOTAL",null,null,"ANTERIOR","NUEVO","CABALLOS","DUEÑO/JINETE","CONTROLADA","LIBRE","FEI","TOTAL",null,null,"JINETE","CABALLO","BINOMIIOS",null,"FEI","TOTAL"]
[null,null,null,null,{"$f":"IF(C6=\"\",\"\",IF(MID(C6,1,1)=\"A\",VLOOKUP(D6,'V C AB'!$C$7:$AY$457,39,FALSE),VLOOKUP(D6,'V C JUV'!$C$7:$AY$435,39,FALSE)))","v":""},{"$f":"IF(C6=\"\",\"\",IF(MID(C6,1,1)=\"A\",VLOOKUP(D6,'V L AB'!$C$7:$AY$455,38,FALSE),VLOOKUP(D6,'V L JUV'!$C$7:$AY$438,38,FALSE)))","v":""},null,null,{"$f":"IF(C6=\"\",\"\",+F6+E6)","v":""},null,null,null,null,null,null,null,null,null,null,null,null,null,null,"JINETE ","CABALLO"]
[1,"J001","J031","RIBADENEIRA SOFIA",{"$f":"IF(C7=\"\",\"\",IF(MID(C7,1,1)=\"A\",VLOOKUP(D7,'V C AB'!$C$7:$AY$457,49,FALSE),VLOOKUP(D7,'V C JUV'!$C$7:$AY$435,49,FALSE)))","v":244},{"$f":"IF(C7=\"\",\"\",IF(MID(C7,1,1)=\"A\",VLOOKUP(D7,'V L AB'!$C$7:$AY$455,48,FALSE),VLOOKUP(D7,'V L JUV'!$C$7:$AY$438,48,FALSE)))","v":957},null,{"$f":"IF(D7=\"\",\"\",IFERROR(VLOOKUP(D7,'J FEI'!$C$7:$AG$454,30,FALSE),0))","v":1160},{"$f":"IF(C7=\"\",\"\",+F7+E7+H7+G7)","v":2361},null,1,null,"C136","FHARA CONEJA","DARQUEA BERNARDO",{"$f":"IF(M7=\"\",\"\",VLOOKUP(N7,'V C CAB'!$C$7:$AZ$518,50,FALSE))","v":329},{"$f":"IF(M7=\"\",\"\",VLOOKUP(N7,'V L CAB'!$C$7:$AY$524,49,FALSE))","v":1078},{"$f":"IF(N7=\"\",\"\",IFERROR(VLOOKUP(N7,'C FEI'!$C$7:$AG$456,28,FALSE),0))","v":320},{"$f":"IF(M7=\"\",\"\",+Q7+P7+R7)","v":1727},null,1,"A059","C097","HECTOR ALMEIDA","CENTAURO",{"$f":"IF(Y7=\"\",\"\",IFERROR(VLOOKUP(Y7,'BINO FEI'!$D$7:$AG$456,27,FALSE),0))","v":320},{"$f":"IF(W7=\"\",\"\",VLOOKUP(Y7,'BINOMIOS N'!$D$7:$AZ$400,46,FALSE)+Z7)","v":1546}]
[2,"A099","A047","NEUMANN KARINA",{"$f":"IF(C8=\"\",\"\",IF(MID(C8,1,1)=\"A\",VLOOKUP(D8,'V C AB'!$C$7:$AY$457,49,FALSE),VLOOKUP(D8,'V C JUV'!$C$7:$AY$435,49,FALSE)))","v":485},{"$f":"IF(C8=\"\",\"\",IF(MID(C8,1,1)=\"A\",VLOOKUP(D8,'V L AB'!$C$7:$AY$455,48,FALSE),VLOOKUP(D8,'V L JUV'!$C$7:$AY$438,48,FALSE)))","v":363},null,{"$f":"IF(D8=\"\",\"\",IFERROR(VLOOKUP(D8,'J FEI'!$C$7:$AG$454,30,FALSE),0))","v":1260},2108,null,2,"C003","C096","AR FAISAN","ARTURO RIBADENEIRA",{"$f":"IF(M8=\"\",\"\",VLOOKUP(N8,'V C CAB'!$C$7:$AZ$518,50,FALSE))","v":324},{"$f":"IF(M8=\"\",\"\",VLOOKUP(N8,'V L CAB'!$C$7:$AY$524,49,FALSE))","v":1145},{"$f":"IF(N8=\"\",\"\",IFERROR(VLOOKUP(N8,'C FEI'!$C$7:$AG$456,28,FALSE),0))","v":200},1669,null,2,"A052","C136","DARQUEA BERNARDO","FHARA CONEJA",{"$f":"IF(Y8=\"\",\"\",IFERROR(VLOOKUP(Y8,'BINO FEI'!$D$7:$AG$456,27,FALSE),0))","v":320},{"$f":"IF(W8=\"\",\"\",VLOOKUP(Y8,'BINOMIOS N'!$D$7:$AZ$400,46,FALSE)+Z8)","v":1362}]
[3,"J003","J024","DARQUEA RAFAELA",{"$f":"IF(C9=\"\",\"\",IF(MID(C9,1,1)=\"A\",VLOOKUP(D9,'V C AB'!$C$7:$AY$457,49,FALSE),VLOOKUP(D9,'V C JUV'!$C$7:$AY$435,49,FALSE)))","v":450},{"$f":"IF(C9=\"\",\"\",IF(MID(C9,1,1)=\"A\",VLOOKUP(D9,'V L AB'!$C$7:$AY$455,48,FALSE),VLOOKUP(D9,'V L JUV'!$C$7:$AY$438,48,FALSE)))","v":370},null,{"$f":"IF(D9=\"\",\"\",IFERROR(VLOOKUP(D9,'J FEI'!$C$7:$AG$454,30,FALSE),0))","v":1160},1980,null,3,"C100","C097","CENTAURO","HECTOR ALMEIDA",{"$f":"IF(M9=\"\",\"\",VLOOKUP(N9,'V C CAB'!$C$7:$AZ$518,50,FALSE))","v":312},{"$f":"IF(M9=\"\",\"\",VLOOKUP(N9,'V L CAB'!$C$7:$AY$524,49,FALSE))","v":914},{"$f":"IF(N9=\"\",\"\",IFERROR(VLOOKUP(N9,'C FEI'!$C$7:$AG$456,28,FALSE),0))","v":320},1546,null,3,"A056","C094","MORILLO MAURICIO","MISTERIO",{"$f":"IF(Y9=\"\",\"\",IFERROR(VLOOKUP(Y9,'BINO FEI'!$D$7:$AG$456,27,FALSE),0))","v":320},{"$f":"IF(W9=\"\",\"\",VLOOKUP(Y9,'BINOMIOS N'!$D$7:$AZ$400,46,FALSE)+Z9)","v":1315}]
[4,"A135","A055","WEEMAELS NATHALIE",{"$f":"IF(C10=\"\",\"\",IF(MID(C10,1,1)=\"A\",VLOOKUP(D10,'V C AB'!$C$7:$AY$457,49,FALSE),VLOOKUP(D10,'V C JUV'!$C$7:$AY$435,49,FALSE)))","v":353},{"$f":"IF(C10=\"\",\"\",IF(MID(C10,1,1)=\"A\",VLOOKUP(D10,'V L AB'!$C$7:$AY$455,48,FALSE),VLOOKUP(D10,'V L JUV'!$C$7:$AY$438,48,FALSE)))","v":571},160,{"$f":"IF(D10=\"\",\"\",IFERROR(VLOOKUP(D10,'J FEI'!$C$7:$AG$454,30,FALSE),0))","v":880},1964,null,4,null,"C094","MISTERIO","MORILLO MAURICIO",{"$f":"IF(M10=\"\",\"\",VLOOKUP(N10,'V C CAB'!$C$7:$AZ$518,50,FALSE))","v":353},{"$f":"IF(M10=\"\",\"\",VLOOKUP(N10,'V L CAB'!$C$7:$AY$524,49,FALSE))","v":758},{"$f":"IF(N10=\"\",\"\",IFERROR(VLOOKUP(N10,'C FEI'!$C$7:$AG$456,28,FALSE),0))","v":320},1431,null,4,"J031","C096","RIBADENEIRA SOFIA","AR FAISAN",{"$f":"IF(Y10=\"\",\"\",IFERROR(VLOOKUP(Y10,'BINO FEI'!$D$7:$AG$456,27,FALSE),0))","v":200},{"$f":"IF(W10=\"\",\"\",VLOOKUP(Y10,'BINOMIOS N'!$D$7:$AZ$400,46,FALSE)+Z10)","v":1181}]
[5,"M001","A059","ALMEIDA AYALA HECTOR",{"$f":"IF(C11=\"\",\"\",IF(MID(C11,1,1)=\"A\",VLOOKUP(D11,'V C AB'!$C$7:$AY$457,49,FALSE),VLOOKUP(D11,'V C JUV'!$C$7:$AY$435,49,FALSE)))","v":477},{"$f":"IF(C11=\"\",\"\",IF(MID(C11,1,1)=\"A\",VLOOKUP(D11,'V L AB'!$C$7:$AY$455,48,FALSE),VLOOKUP(D11,'V L JUV'!$C$7:$AY$438,48,FALSE)))","v":1076},null,{"$f":"IF(D11=\"\",\"\",IFERROR(VLOOKUP(D11,'J FEI'!$C$7:$AG$454,30,FALSE),0))","v":320},1873,null,5,"C143","C098","BOM BOM","JUAN JOSE RECALDE",{"$f":"IF(M11=\"\",\"\",VLOOKUP(N11,'V C CAB'!$C$7:$AZ$518,50,FALSE))","v":461},{"$f":"IF(M11=\"\",\"\",VLOOKUP(N11,'V L CAB'!$C$7:$AY$524,49,FALSE))","v":628},{"$f":"IF(N11=\"\",\"\",IFERROR(VLOOKUP(N11,'C FEI'!$C$7:$AG$456,28,FALSE),0))","v":160},1249,null,5,"A055","C093","WEEMAELS NATHALIE","CG ALLASKI",{"$f":"IF(Y11=\"\",\"\",IFERROR(VLOOKUP(Y11,'BINO FEI'!$D$7:$AG$456,27,FALSE),0))","v":200},{"$f":"IF(W11=\"\",\"\",VLOOKUP(Y11,'BINOMIOS N'!$D$7:$AZ$400,46,FALSE)+Z11)","v":1124}]
[6,"A017","A051","GUARDERAS BARAHONA SEBASTIAN",{"$f":"IF(C12=\"\",\"\",IF(MID(C12,1,1)=\"A\",VLOOKUP(D12,'V C AB'!$C$7:$AY$457,49,FALSE),VLOOKUP(D12,'V C JUV'!$C$7:$AY$435,49,FALSE)))","v":832},{"$f":"IF(C12=\"\",\"\",IF(MID(C12,1,1)=\"A\",VLOOKUP(D12,'V L AB'!$C$7:$AY$455,48,FALSE),VLOOKUP(D12,'V L JUV'!$C$7:$AY$438,48,FALSE)))","v":624},null,{"$f":"IF(D12=\"\",\"\",IFERROR(VLOOKUP(D12,'J FEI'!$C$7:$AG$454,30,FALSE),0))","v":400},1856,null,6,"C023","C093","CG ALLASKI","WEEMAELS NATHALIE",{"$f":"IF(M12=\"\",\"\",VLOOKUP(N12,'V C CAB'!$C$7:$AZ$518,50,FALSE))","v":353},{"$f":"IF(M12=\"\",\"\",VLOOKUP(N12,'V L CAB'!$C$7:$AY$524,49,FALSE))","v":571},{"$f":"IF(N12=\"\",\"\",IFERROR(VLOOKUP(N12,'C FEI'!$C$7:$AG$456,28,FALSE),0))","v":200},1124,null,6,"A046","C074","NOBOA MAURICIO","WISKY",{"$f":"IF(Y12=\"\",\"\",IFERROR(VLOOKUP(Y12,'BINO FEI'!$D$7:$AG$456,27,FALSE),0))","v":80},{"$f":"IF(W12=\"\",\"\",VLOOKUP(Y12,'BINOMIOS N'!$D$7:$AZ$400,46,FALSE)+Z12)","v":876}]
[7,"J039","J047","LETORT DUEÑAS BERNARDA",{"$f":"IF(C13=\"\",\"\",IF(MID(C13,1,1)=\"A\",VLOOKUP(D13,'V C AB'!$C$7:$AY$457,49,FALSE),VLOOKUP(D13,'V C JUV'!$C$7:$AY$435,49,FALSE)))","v":675},{"$f":"IF(C13=\"\",\"\",IF(MID(C13,1,1)=\"A\",VLOOKUP(D13,'V L AB'!$C$7:$AY$455,48,FALSE),VLOOKUP(D13,'V L JUV'!$C$7:$AY$438,48,FALSE)))","v":261},null,{"$f":"IF(D13=\"\",\"\",IFERROR(VLOOKUP(D13,'J FEI'!$C$7:$AG$454,30,FALSE),0))","v":680},1616,null,7,"C002","C099","TRUENO","DARQUEA BERNARDO",{"$f":"IF(M13=\"\",\"\",VLOOKUP(N13,'V C CAB'!$C$7:$AZ$518,50,FALSE))","v":550},{"$f":"IF(M13=\"\",\"\",VLOOKUP(N13,'V L CAB'!$C$7:$AY$524,49,FALSE))","v":461},{"$f":"IF(N13=\"\",\"\",IFERROR(VLOOKUP(N13,'C FEI'!$C$7:$AG$456,28,FALSE),0))","v":0},1011,null,7,"A068","C095","MONROY BAROJA MARIA FERNANDA","CANELO",{"$f":"IF(Y13=\"\",\"\",IFERROR(VLOOKUP(Y13,'BINO FEI'!$D$7:$AG$456,27,FALSE),0))","v":0},{"$f":"IF(W13=\"\",\"\",VLOOKUP(Y13,'BINOMIOS N'!$D$7:$AZ$400,46,FALSE)+Z13)","v":865}]
[8,"A106","A060","RECALDE JUAN JOSE",{"$f":"IF(C14=\"\",\"\",IF(MID(C14,1,1)=\"A\",VLOOKUP(D14,'V C AB'!$C$7:$AY$457,49,FALSE),VLOOKUP(D14,'V C JUV'!$C$7:$AY$435,49,FALSE)))","v":440},{"$f":"IF(C14=\"\",\"\",IF(MID(C14,1,1)=\"A\",VLOOKUP(D14,'V L AB'!$C$7:$AY$455,48,FALSE),VLOOKUP(D14,'V L JUV'!$C$7:$AY$438,48,FALSE)))","v":847},null,{"$f":"IF(D14=\"\",\"\",IFERROR(VLOOKUP(D14,'J FEI'!$C$7:$AG$454,30,FALSE),0))","v":240},1527,null,8,null,"C072","QUITA PENAS","ILIANA RUIZ",{"$f":"IF(M14=\"\",\"\",VLOOKUP(N14,'V C CAB'!$C$7:$AZ$518,50,FALSE))","v":353},{"$f":"IF(M14=\"\",\"\",VLOOKUP(N14,'V L CAB'!$C$7:$AY$524,49,FALSE))","v":306},{"$f":"IF(N14=\"\",\"\",IFERROR(VLOOKUP(N14,'C FEI'!$C$7:$AG$456,28,FALSE),0))","v":320},979,null,8,"A060","C098","JUAN JOSE RECALDE","BOM BOM",{"$f":"IF(Y14=\"\",\"\",IFERROR(VLOOKUP(Y14,'BINO FEI'!$D$7:$AG$456,27,FALSE),0))","v":160},{"$f":"IF(W14=\"\",\"\",VLOOKUP(Y14,'BINOMIOS N'!$D$7:$AZ$400,46,FALSE)+Z14)","v":818}]
[9,"J002","J025","MORENO CORDOVEZ DANIELA",{"$f":"IF(C15=\"\",\"\",IF(MID(C15,1,1)=\"A\",VLOOKUP(D15,'V C AB'!$C$7:$AY$457,49,FALSE),VLOOKUP(D15,'V C JUV'!$C$7:$AY$435,49,FALSE)))","v":350},{"$f":"IF(C15=\"\",\"\",IF(MID(C15,1,1)=\"A\",VLOOKUP(D15,'V L AB'!$C$7:$AY$455,48,FALSE),VLOOKUP(D15,'V L JUV'!$C$7:$AY$438,48,FALSE)))","v":346},null,{"$f":"IF(D15=\"\",\"\",IFERROR(VLOOKUP(D15,'J FEI'!$C$7:$AG$454,30,FALSE),0))","v":800},1496,null,9,"C007","C111","GITANILLO","MONROY BAROJA MARIA",{"$f":"IF(M15=\"\",\"\",VLOOKUP(N15,'V C CAB'!$C$7:$AZ$518,50,FALSE))","v":234},{"$f":"IF(M15=\"\",\"\",VLOOKUP(N15,'V L CAB'!$C$7:$AY$524,49,FALSE))","v":683},{"$f":"IF(N15=\"\",\"\",IFERROR(VLOOKUP(N15,'C FEI'!$C$7:$AG$456,28,FALSE),0))","v":0},917,null,9,"A067","C126","CANDO MARIO","BRUMA",{"$f":"IF(Y15=\"\",\"\",IFERROR(VLOOKUP(Y15,'BINO FEI'!$D$7:$AG$456,27,FALSE),0))","v":0},{"$f":"IF(W15=\"\",\"\",VLOOKUP(Y15,'BINOMIOS N'!$D$7:$AZ$400,46,FALSE)+Z15)","v":720}]
[10,"A121","A056","MORILLO MAURICIO",{"$f":"IF(C16=\"\",\"\",IF(MID(C16,1,1)=\"A\",VLOOKUP(D16,'V C AB'!$C$7:$AY$457,49,FALSE),VLOOKUP(D16,'V C JUV'!$C$7:$AY$435,49,FALSE)))","v":291},{"$f":"IF(C16=\"\",\"\",IF(MID(C16,1,1)=\"A\",VLOOKUP(D16,'V L AB'!$C$7:$AY$455,48,FALSE),VLOOKUP(D16,'V L JUV'!$C$7:$AY$438,48,FALSE)))","v":868},null,{"$f":"IF(D16=\"\",\"\",IFERROR(VLOOKUP(D16,'J FEI'!$C$7:$AG$454,30,FALSE),0))","v":320},1479,null,10,null,"C126","BRUMA","CANDO MARIO",{"$f":"IF(M16=\"\",\"\",VLOOKUP(N16,'V C CAB'!$C$7:$AZ$518,50,FALSE))","v":505},{"$f":"IF(M16=\"\",\"\",VLOOKUP(N16,'V L CAB'!$C$7:$AY$524,49,FALSE))","v":387},{"$f":"IF(N16=\"\",\"\",IFERROR(VLOOKUP(N16,'C FEI'!$C$7:$AG$456,28,FALSE),0))","v":0},892,null,10,"J008","C112","GOMEZ MICHILENA ROMMEL","FELIPE",{"$f":"IF(Y16=\"\",\"\",IFERROR(VLOOKUP(Y16,'BINO FEI'!$D$7:$AG$456,27,FALSE),0))","v":0},{"$f":"IF(W16=\"\",\"\",VLOOKUP(Y16,'BINOMIOS N'!$D$7:$AZ$400,46,FALSE)+Z16)","v":711}]
[11,"A004","J028","WRAY VINUEZA MATEO",{"$f":"IF(C17=\"\",\"\",IF(MID(C17,1,1)=\"A\",VLOOKUP(D17,'V C AB'!$C$7:$AY$457,49,FALSE),VLOOKUP(D17,'V C JUV'!$C$7:$AY$435,49,FALSE)))","v":226},{"$f":"IF(C17=\"\",\"\",IF(MID(C17,1,1)=\"A\",VLOOKUP(D17,'V L AB'!$C$7:$AY$455,48,FALSE),VLOOKUP(D17,'V L JUV'!$C$7:$AY$438,48,FALSE)))","v":368},null,{"$f":"IF(D17=\"\",\"\",IFERROR(VLOOKUP(D17,'J FEI'!$C$7:$AG$454,30,FALSE),0))","v":880},1474,null,11,"C005","C074","WISKY","MAURICIO NOBOA",{"$f":"IF(M17=\"\",\"\",VLOOKUP(N17,'V C CAB'!$C$7:$AZ$518,50,FALSE))","v":275},{"$f":"IF(M17=\"\",\"\",VLOOKUP(N17,'V L CAB'!$C$7:$AY$524,49,FALSE))","v":521},{"$f":"IF(N17=\"\",\"\",IFERROR(VLOOKUP(N17,'C FEI'!$C$7:$AG$456,28,FALSE),0))","v":80},876,null,11,"J055","C197","LOYOLA VINTIMILLA MARIA CLAUDIA","PATACON",{"$f":"IF(Y17=\"\",\"\",IFERROR(VLOOKUP(Y17,'BINO FEI'!$D$7:$AG$456,27,FALSE),0))","v":80},{"$f":"IF(W17=\"\",\"\",VLOOKUP(Y17,'BINOMIOS N'!$D$7:$AZ$400,46,FALSE)+Z17)","v":673}]
[12,"A119","A068","MONROY BAROJA MARIA FERNANDA",{"$f":"IF(C18=\"\",\"\",IF(MID(C18,1,1)=\"A\",VLOOKUP(D18,'V C AB'!$C$7:$AY$457,49,FALSE),VLOOKUP(D18,'V C JUV'!$C$7:$AY$435,49,FALSE)))","v":542},{"$f":"IF(C18=\"\",\"\",IF(MID(C18,1,1)=\"A\",VLOOKUP(D18,'V L AB'!$C$7:$AY$455,48,FALSE),VLOOKUP(D18,'V L JUV'!$C$7:$AY$438,48,FALSE)))","v":902},null,{"$f":"IF(D18=\"\",\"\",IFERROR(VLOOKUP(D18,'J FEI'!$C$7:$AG$454,30,FALSE),0))","v":0},1444,null,12,null,"C095","CANELO","FERNANDA MONROY",{"$f":"IF(M18=\"\",\"\",VLOOKUP(N18,'V C CAB'!$C$7:$AZ$518,50,FALSE))","v":371},{"$f":"IF(M18=\"\",\"\",VLOOKUP(N18,'V L CAB'!$C$7:$AY$524,49,FALSE))","v":494},{"$f":"IF(N18=\"\",\"\",IFERROR(VLOOKUP(N18,'C FEI'!$C$7:$AG$456,28,FALSE),0))","v":0},865,null,12,"J026","C092","NICOLAS MORENO","DAMASCO",{"$f":"IF(Y18=\"\",\"\",IFERROR(VLOOKUP(Y18,'BINO FEI'!$D$7:$AG$456,27,FALSE),0))","v":0},{"$f":"IF(W18=\"\",\"\",VLOOKUP(Y18,'BINOMIOS N'!$D$7:$AZ$400,46,FALSE)+Z18)","v":662}]
[13,"A010","A052","DARQUEA BERNARDO",{"$f":"IF(C19=\"\",\"\",IF(MID(C19,1,1)=\"A\",VLOOKUP(D19,'V C AB'!$C$7:$AY$457,49,FALSE),VLOOKUP(D19,'V C JUV'!$C$7:$AY$435,49,FALSE)))","v":330},{"$f":"IF(C19=\"\",\"\",IF(MID(C19,1,1)=\"A\",VLOOKUP(D19,'V L AB'!$C$7:$AY$455,48,FALSE),VLOOKUP(D19,'V L JUV'!$C$7:$AY$438,48,FALSE)))","v":793},null,{"$f":"IF(D19=\"\",\"\",IFERROR(VLOOKUP(D19,'J FEI'!$C$7:$AG$454,30,FALSE),0))","v":320},1443,null,13,null,"C","ZEUS LL","MAURICIO MORILLO",{"$f":"IF(M19=\"\",\"\",VLOOKUP(N19,'V C CAB'!$C$7:$AZ$518,50,FALSE))","v":334},{"$f":"IF(M19=\"\",\"\",VLOOKUP(N19,'V L CAB'!$C$7:$AY$524,49,FALSE))","v":447},{"$f":"IF(N19=\"\",\"\",IFERROR(VLOOKUP(N19,'C FEI'!$C$7:$AG$456,28,FALSE),0))","v":0},781,null,13,"J021","C135","CORNEJO BURNEO MANUEL","CARAGUAY CM",{"$f":"IF(Y19=\"\",\"\",IFERROR(VLOOKUP(Y19,'BINO FEI'!$D$7:$AG$456,27,FALSE),0))","v":0},{"$f":"IF(W19=\"\",\"\",VLOOKUP(Y19,'BINOMIOS N'!$D$7:$AZ$400,46,FALSE)+Z19)","v":567}]
[14,"A013","A058","RIBADENEIRA ARTURO",{"$f":"IF(C20=\"\",\"\",IF(MID(C20,1,1)=\"A\",VLOOKUP(D20,'V C AB'!$C$7:$AY$457,49,FALSE),VLOOKUP(D20,'V C JUV'!$C$7:$AY$435,49,FALSE)))","v":321},{"$f":"IF(C20=\"\",\"\",IF(MID(C20,1,1)=\"A\",VLOOKUP(D20,'V L AB'!$C$7:$AY$455,48,FALSE),VLOOKUP(D20,'V L JUV'!$C$7:$AY$438,48,FALSE)))","v":904},null,{"$f":"IF(D20=\"\",\"\",IFERROR(VLOOKUP(D20,'J FEI'!$C$7:$AG$454,30,FALSE),0))","v":200},1425,null,14,null,"C197","PATACON","LOYOLA VINTIMILLA MARIA CLAUDIA",{"$f":"IF(M20=\"\",\"\",VLOOKUP(N20,'V C CAB'!$C$7:$AZ$518,50,FALSE))","v":240},{"$f":"IF(M20=\"\",\"\",VLOOKUP(N20,'V L CAB'!$C$7:$AY$524,49,FALSE))","v":435},{"$f":"IF(N20=\"\",\"\",IFERROR(VLOOKUP(N20,'C FEI'!$C$7:$AG$456,28,FALSE),0))","v":80},755,null,14,"A019","C071","WLADIMIRO TORRES","SARA",{"$f":"IF(Y20=\"\",\"\",IFERROR(VLOOKUP(Y20,'BINO FEI'!$D$7:$AG$456,27,FALSE),0))","v":0},{"$f":"IF(W20=\"\",\"\",VLOOKUP(Y20,'BINOMIOS N'!$D$7:$AZ$400,46,FALSE)+Z20)","v":506}]
[15,"J038","J008","GOMEZ MICHILENA ALEXANDER",{"$f":"IF(C21=\"\",\"\",IF(MID(C21,1,1)=\"A\",VLOOKUP(D21,'V C AB'!$C$7:$AY$457,49,FALSE),VLOOKUP(D21,'V C JUV'!$C$7:$AY$435,49,FALSE)))","v":789},{"$f":"IF(C21=\"\",\"\",IF(MID(C21,1,1)=\"A\",VLOOKUP(D21,'V L AB'!$C$7:$AY$455,48,FALSE),VLOOKUP(D21,'V L JUV'!$C$7:$AY$438,48,FALSE)))","v":408},null,{"$f":"IF(D21=\"\",\"\",IFERROR(VLOOKUP(D21,'J FEI'!$C$7:$AG$454,30,FALSE),0))","v":160},1357,null,15,null,"C082","JEQUE LL","MARÍA FERNANDA BRAUER",{"$f":"IF(M21=\"\",\"\",VLOOKUP(N21,'V C CAB'!$C$7:$AZ$518,50,FALSE))","v":537},{"$f":"IF(M21=\"\",\"\",VLOOKUP(N21,'V L CAB'!$C$7:$AY$524,49,FALSE))","v":212},{"$f":"IF(N21=\"\",\"\",IFERROR(VLOOKUP(N21,'C FEI'!$C$7:$AG$456,28,FALSE),0))","v":0},749,null,15,"J027","C100","MIÑO JOSE IGNACIO","ALELI ",{"$f":"IF(Y21=\"\",\"\",IFERROR(VLOOKUP(Y21,'BINO FEI'!$D$7:$AG$456,27,FALSE),0))","v":0},{"$f":"IF(W21=\"\",\"\",VLOOKUP(Y21,'BINOMIOS N'!$D$7:$AZ$400,46,FALSE)+Z21)","v":419}]
[16,"A039","A046","NOBOA MAURICIO",{"$f":"IF(C22=\"\",\"\",IF(MID(C22,1,1)=\"A\",VLOOKUP(D22,'V C AB'!$C$7:$AY$457,49,FALSE),VLOOKUP(D22,'V C JUV'!$C$7:$AY$435,49,FALSE)))","v":551},{"$f":"IF(C22=\"\",\"\",IF(MID(C22,1,1)=\"A\",VLOOKUP(D22,'V L AB'!$C$7:$AY$455,48,FALSE),VLOOKUP(D22,'V L JUV'!$C$7:$AY$438,48,FALSE)))","v":625},null,{"$f":"IF(D22=\"\",\"\",IFERROR(VLOOKUP(D22,'J FEI'!$C$7:$AG$454,30,FALSE),0))","v":0},1176,null,16,"C111","C100","ALELI ","JOSE IGNACIO MIÑOI",{"$f":"IF(M22=\"\",\"\",VLOOKUP(N22,'V C CAB'!$C$7:$AZ$518,50,FALSE))","v":418},{"$f":"IF(M22=\"\",\"\",VLOOKUP(N22,'V L CAB'!$C$7:$AY$524,49,FALSE))","v":315},{"$f":"IF(N22=\"\",\"\",IFERROR(VLOOKUP(N22,'C FEI'!$C$7:$AG$456,28,FALSE),0))","v":0},733,null,16,"A068","C111","MONROY BAROJA MARIA FERNANDA","GITANILLO",{"$f":"IF(Y22=\"\",\"\",IFERROR(VLOOKUP(Y22,'BINO FEI'!$D$7:$AG$456,27,FALSE),0))","v":0},{"$f":"IF(W22=\"\",\"\",VLOOKUP(Y22,'BINOMIOS N'!$D$7:$AZ$400,46,FALSE)+Z22)","v":417}]
[17,"C","J063","GONZALEZ BERNARDA",{"$f":"IF(C23=\"\",\"\",IF(MID(C23,1,1)=\"A\",VLOOKUP(D23,'V C AB'!$C$7:$AY$457,49,FALSE),VLOOKUP(D23,'V C JUV'!$C$7:$AY$435,49,FALSE)))","v":701},{"$f":"IF(C23=\"\",\"\",IF(MID(C23,1,1)=\"A\",VLOOKUP(D23,'V L AB'!$C$7:$AY$455,48,FALSE),VLOOKUP(D23,'V L JUV'!$C$7:$AY$438,48,FALSE)))","v":228},null,{"$f":"IF(D23=\"\",\"\",IFERROR(VLOOKUP(D23,'J FEI'!$C$7:$AG$454,30,FALSE),0))","v":160},1089,null,17,null,"C112","FELIPE GR","GOMEZ MICHILENA ROMMEL",{"$f":"IF(M23=\"\",\"\",VLOOKUP(N23,'V C CAB'!$C$7:$AZ$518,50,FALSE))","v":351},{"$f":"IF(M23=\"\",\"\",VLOOKUP(N23,'V L CAB'!$C$7:$AY$524,49,FALSE))","v":280},{"$f":"IF(N23=\"\",\"\",IFERROR(VLOOKUP(N23,'C FEI'!$C$7:$AG$456,28,FALSE),0))","v":80},711,null,17,null,null,null,null,0,{"$f":"IF(W23=\"\",\"\",VLOOKUP(Y23,'BINOMIOS N'!$D$7:$AZ$400,46,FALSE)+Z23)","v":""}]
[18,"J026","J021","CORNEJO BURNEO MANUEL",{"$f":"IF(C24=\"\",\"\",IF(MID(C24,1,1)=\"A\",VLOOKUP(D24,'V C AB'!$C$7:$AY$457,49,FALSE),VLOOKUP(D24,'V C JUV'!$C$7:$AY$435,49,FALSE)))","v":594},{"$f":"IF(C24=\"\",\"\",IF(MID(C24,1,1)=\"A\",VLOOKUP(D24,'V L AB'!$C$7:$AY$455,48,FALSE),VLOOKUP(D24,'V L JUV'!$C$7:$AY$438,48,FALSE)))","v":434},null,{"$f":"IF(D24=\"\",\"\",IFERROR(VLOOKUP(D24,'J FEI'!$C$7:$AG$454,30,FALSE),0))","v":0},1028,null,18,"C171","C086","GHAFIL","MARCEL ROBERTO",{"$f":"IF(M24=\"\",\"\",VLOOKUP(N24,'V C CAB'!$C$7:$AZ$518,50,FALSE))","v":286},{"$f":"IF(M24=\"\",\"\",VLOOKUP(N24,'V L CAB'!$C$7:$AY$524,49,FALSE))","v":424},{"$f":"IF(N24=\"\",\"\",IFERROR(VLOOKUP(N24,'C FEI'!$C$7:$AG$456,28,FALSE),0))","v":0},710,null,18,null,null,null,null,{"$f":"IF(Y24=\"\",\"\",IFERROR(VLOOKUP(Y24,'BINO FEI'!$D$7:$AG$456,27,FALSE),0))","v":""},{"$f":"IF(W24=\"\",\"\",VLOOKUP(Y24,'BINOMIOS N'!$D$7:$AZ$400,46,FALSE)+Z24)","v":""}]
[19,"C","A081","KOPPEL OSWALDO",{"$f":"IF(C25=\"\",\"\",IF(MID(C25,1,1)=\"A\",VLOOKUP(D25,'V C AB'!$C$7:$AY$457,49,FALSE),VLOOKUP(D25,'V C JUV'!$C$7:$AY$435,49,FALSE)))","v":543},{"$f":"IF(C25=\"\",\"\",IF(MID(C25,1,1)=\"A\",VLOOKUP(D25,'V L AB'!$C$7:$AY$455,48,FALSE),VLOOKUP(D25,'V L JUV'!$C$7:$AY$438,48,FALSE)))","v":242},40,{"$f":"IF(D25=\"\",\"\",IFERROR(VLOOKUP(D25,'J FEI'!$C$7:$AG$454,30,FALSE),0))","v":200},1025,null,19,"C051","C103","AR AMIRA","ARTURO RIBADENEIRA",{"$f":"IF(M25=\"\",\"\",VLOOKUP(N25,'V C CAB'!$C$7:$AZ$518,50,FALSE))","v":353},{"$f":"IF(M25=\"\",\"\",VLOOKUP(N25,'V L CAB'!$C$7:$AY$524,49,FALSE))","v":346},{"$f":"IF(N25=\"\",\"\",IFERROR(VLOOKUP(N25,'C FEI'!$C$7:$AG$456,28,FALSE),0))","v":0},699,null,19,null,null,null,null,{"$f":"IF(Y25=\"\",\"\",IFERROR(VLOOKUP(Y25,'BINO FEI'!$D$7:$AG$456,27,FALSE),0))","v":""},{"$f":"IF(W25=\"\",\"\",VLOOKUP(Y25,'BINOMIOS N'!$D$7:$AZ$400,46,FALSE)+Z25)","v":""}]
[20,"I043","J034","ANDRADE JOSE DANIEL",{"$f":"IF(C26=\"\",\"\",IF(MID(C26,1,1)=\"A\",VLOOKUP(D26,'V C AB'!$C$7:$AY$457,49,FALSE),VLOOKUP(D26,'V C JUV'!$C$7:$AY$435,49,FALSE)))","v":502},{"$f":"IF(C26=\"\",\"\",IF(MID(C26,1,1)=\"A\",VLOOKUP(D26,'V L AB'!$C$7:$AY$455,48,FALSE),VLOOKUP(D26,'V L JUV'!$C$7:$AY$438,48,FALSE)))","v":493},null,{"$f":"IF(D26=\"\",\"\",IFERROR(VLOOKUP(D26,'J FEI'!$C$7:$AG$454,30,FALSE),0))","v":0},995,null,20,null,"C070","GR NURIA","JUAN JOSE RECALDE",{"$f":"IF(M26=\"\",\"\",VLOOKUP(N26,'V C CAB'!$C$7:$AZ$518,50,FALSE))","v":373},{"$f":"IF(M26=\"\",\"\",VLOOKUP(N26,'V L CAB'!$C$7:$AY$524,49,FALSE))","v":313},{"$f":"IF(N26=\"\",\"\",IFERROR(VLOOKUP(N26,'C FEI'!$C$7:$AG$456,28,FALSE),0))","v":0},686,null,20,null,null,null,null,{"$f":"IF(Y26=\"\",\"\",IFERROR(VLOOKUP(Y26,'BINO FEI'!$D$7:$AG$456,27,FALSE),0))","v":""},{"$f":"IF(W26=\"\",\"\",VLOOKUP(Y26,'BINOMIOS N'!$D$7:$AZ$400,46,FALSE)+Z26)","v":""}]
[21,"A004","A","WRAY VINUEZA ROBERTO",{"$f":"IF(C27=\"\",\"\",IF(MID(C27,1,1)=\"A\",VLOOKUP(D27,'V C AB'!$C$7:$AY$457,49,FALSE),VLOOKUP(D27,'V C JUV'!$C$7:$AY$435,49,FALSE)))","v":292},{"$f":"IF(C27=\"\",\"\",IF(MID(C27,1,1)=\"A\",VLOOKUP(D27,'V L AB'!$C$7:$AY$455,48,FALSE),VLOOKUP(D27,'V L JUV'!$C$7:$AY$438,48,FALSE)))","v":320},null,{"$f":"IF(D27=\"\",\"\",IFERROR(VLOOKUP(D27,'J FEI'!$C$7:$AG$454,30,FALSE),0))","v":320},932,null,21,null,"C071","SARA","WLADIMIRO TORRES",{"$f":"IF(M27=\"\",\"\",VLOOKUP(N27,'V C CAB'!$C$7:$AZ$518,50,FALSE))","v":367},{"$f":"IF(M27=\"\",\"\",VLOOKUP(N27,'V L CAB'!$C$7:$AY$524,49,FALSE))","v":304},{"$f":"IF(N27=\"\",\"\",IFERROR(VLOOKUP(N27,'C FEI'!$C$7:$AG$456,28,FALSE),0))","v":0},671]
[22,"J046","J013","MORILLO SERGIO",{"$f":"IF(C28=\"\",\"\",IF(MID(C28,1,1)=\"A\",VLOOKUP(D28,'V C AB'!$C$7:$AY$457,49,FALSE),VLOOKUP(D28,'V C JUV'!$C$7:$AY$435,49,FALSE)))","v":389},{"$f":"IF(C28=\"\",\"\",IF(MID(C28,1,1)=\"A\",VLOOKUP(D28,'V L AB'!$C$7:$AY$455,48,FALSE),VLOOKUP(D28,'V L JUV'!$C$7:$AY$438,48,FALSE)))","v":218},null,{"$f":"IF(D28=\"\",\"\",IFERROR(VLOOKUP(D28,'J FEI'!$C$7:$AG$454,30,FALSE),0))","v":320},927,null,22,null,"C092","DAMASCO","NICOLAS MORENO",{"$f":"IF(M28=\"\",\"\",VLOOKUP(N28,'V C CAB'!$C$7:$AZ$518,50,FALSE))","v":286},{"$f":"IF(M28=\"\",\"\",VLOOKUP(N28,'V L CAB'!$C$7:$AY$524,49,FALSE))","v":376},{"$f":"IF(N28=\"\",\"\",IFERROR(VLOOKUP(N28,'C FEI'!$C$7:$AG$456,28,FALSE),0))","v":0},662]
[23,"A113","A066","MONROY BUITRON LUIS EDUARDO",{"$f":"IF(C29=\"\",\"\",IF(MID(C29,1,1)=\"A\",VLOOKUP(D29,'V C AB'!$C$7:$AY$457,49,FALSE),VLOOKUP(D29,'V C JUV'!$C$7:$AY$435,49,FALSE)))","v":540},{"$f":"IF(C29=\"\",\"\",IF(MID(C29,1,1)=\"A\",VLOOKUP(D29,'V L AB'!$C$7:$AY$455,48,FALSE),VLOOKUP(D29,'V L JUV'!$C$7:$AY$438,48,FALSE)))","v":353},null,{"$f":"IF(D29=\"\",\"\",IFERROR(VLOOKUP(D29,'J FEI'!$C$7:$AG$454,30,FALSE),0))","v":0},893,null,23,null,"C083","ALI  BABA","MARIA CECILIA ALZAMORA",{"$f":"IF(M29=\"\",\"\",VLOOKUP(N29,'V C CAB'!$C$7:$AZ$518,50,FALSE))","v":411},{"$f":"IF(M29=\"\",\"\",VLOOKUP(N29,'V L CAB'!$C$7:$AY$524,49,FALSE))","v":216},{"$f":"IF(N29=\"\",\"\",IFERROR(VLOOKUP(N29,'C FEI'!$C$7:$AG$456,28,FALSE),0))","v":0},627]
[24,"A021","A045","MORABOWEN CESAR",{"$f":"IF(C30=\"\",\"\",IF(MID(C30,1,1)=\"A\",VLOOKUP(D30,'V C AB'!$C$7:$AY$457,49,FALSE),VLOOKUP(D30,'V C JUV'!$C$7:$AY$435,49,FALSE)))","v":694},{"$f":"IF(C30=\"\",\"\",IF(MID(C30,1,1)=\"A\",VLOOKUP(D30,'V L AB'!$C$7:$AY$455,48,FALSE),VLOOKUP(D30,'V L JUV'!$C$7:$AY$438,48,FALSE)))","v":162},null,{"$f":"IF(D30=\"\",\"\",IFERROR(VLOOKUP(D30,'J FEI'!$C$7:$AG$454,30,FALSE),0))","v":0},856,null,24,null,"C084","KADAFI",null,{"$f":"IF(M30=\"\",\"\",VLOOKUP(N30,'V C CAB'!$C$7:$AZ$518,50,FALSE))","v":478},{"$f":"IF(M30=\"\",\"\",VLOOKUP(N30,'V L CAB'!$C$7:$AY$524,49,FALSE))","v":59},{"$f":"IF(N30=\"\",\"\",IFERROR(VLOOKUP(N30,'C FEI'!$C$7:$AG$456,28,FALSE),0))","v":80},617]
[25,"A023","A024","LANDAZURI MORA LUIS ENRIQUE",{"$f":"IF(C31=\"\",\"\",IF(MID(C31,1,1)=\"A\",VLOOKUP(D31,'V C AB'!$C$7:$AY$457,49,FALSE),VLOOKUP(D31,'V C JUV'!$C$7:$AY$435,49,FALSE)))","v":602},{"$f":"IF(C31=\"\",\"\",IF(MID(C31,1,1)=\"A\",VLOOKUP(D31,'V L AB'!$C$7:$AY$455,48,FALSE),VLOOKUP(D31,'V L JUV'!$C$7:$AY$438,48,FALSE)))","v":247},null,{"$f":"IF(D31=\"\",\"\",IFERROR(VLOOKUP(D31,'J FEI'!$C$7:$AG$454,30,FALSE),0))","v":0},849,null,25,null,"C135","CARAGUAY CM","MANUEL CORNEJO",{"$f":"IF(M31=\"\",\"\",VLOOKUP(N31,'V C CAB'!$C$7:$AZ$518,50,FALSE))","v":311},{"$f":"IF(M31=\"\",\"\",VLOOKUP(N31,'V L CAB'!$C$7:$AY$524,49,FALSE))","v":305},{"$f":"IF(N31=\"\",\"\",IFERROR(VLOOKUP(N31,'C FEI'!$C$7:$AG$456,28,FALSE),0))","v":0},616]
[26,"A046","A067","CANDO MARIO",{"$f":"IF(C32=\"\",\"\",IF(MID(C32,1,1)=\"A\",VLOOKUP(D32,'V C AB'!$C$7:$AY$457,49,FALSE),VLOOKUP(D32,'V C JUV'!$C$7:$AY$435,49,FALSE)))","v":333},{"$f":"IF(C32=\"\",\"\",IF(MID(C32,1,1)=\"A\",VLOOKUP(D32,'V L AB'!$C$7:$AY$455,48,FALSE),VLOOKUP(D32,'V L JUV'!$C$7:$AY$438,48,FALSE)))","v":508},null,{"$f":"IF(D32=\"\",\"\",IFERROR(VLOOKUP(D32,'J FEI'!$C$7:$AG$454,30,FALSE),0))","v":0},841,null,26,null,"C090","SHALEA","RAFAELA DARQUEA",{"$f":"IF(M32=\"\",\"\",VLOOKUP(N32,'V C CAB'!$C$7:$AZ$518,50,FALSE))","v":290},{"$f":"IF(M32=\"\",\"\",VLOOKUP(N32,'V L CAB'!$C$7:$AY$524,49,FALSE))","v":291},{"$f":"IF(N32=\"\",\"\",IFERROR(VLOOKUP(N32,'C FEI'!$C$7:$AG$456,28,FALSE),0))","v":0},581]
[27,"A104","A057","DAVILA GORDILLO JUAN DIEGO",{"$f":"IF(C33=\"\",\"\",IF(MID(C33,1,1)=\"A\",VLOOKUP(D33,'V C AB'!$C$7:$AY$457,49,FALSE),VLOOKUP(D33,'V C JUV'!$C$7:$AY$435,49,FALSE)))","v":501},{"$f":"IF(C33=\"\",\"\",IF(MID(C33,1,1)=\"A\",VLOOKUP(D33,'V L AB'!$C$7:$AY$455,48,FALSE),VLOOKUP(D33,'V L JUV'!$C$7:$AY$438,48,FALSE)))","v":244},null,{"$f":"IF(D33=\"\",\"\",IFERROR(VLOOKUP(D33,'J FEI'!$C$7:$AG$454,30,FALSE),0))","v":80},825,null,27,null,"C232","ASRAEL","BERNARDA GONZALEZ",{"$f":"IF(M33=\"\",\"\",VLOOKUP(N33,'V C CAB'!$C$7:$AZ$518,50,FALSE))","v":292},{"$f":"IF(M33=\"\",\"\",VLOOKUP(N33,'V L CAB'!$C$7:$AY$524,49,FALSE))","v":168},{"$f":"IF(N33=\"\",\"\",IFERROR(VLOOKUP(N33,'C FEI'!$C$7:$AG$456,28,FALSE),0))","v":80},540]
[28,"J032","J020","SERRANO VALLEJO FELIPE",{"$f":"IF(C34=\"\",\"\",IF(MID(C34,1,1)=\"A\",VLOOKUP(D34,'V C AB'!$C$7:$AY$457,49,FALSE),VLOOKUP(D34,'V C JUV'!$C$7:$AY$435,49,FALSE)))","v":415},{"$f":"IF(C34=\"\",\"\",IF(MID(C34,1,1)=\"A\",VLOOKUP(D34,'V L AB'!$C$7:$AY$455,48,FALSE),VLOOKUP(D34,'V L JUV'!$C$7:$AY$438,48,FALSE)))","v":122},null,{"$f":"IF(D34=\"\",\"\",IFERROR(VLOOKUP(D34,'J FEI'!$C$7:$AG$454,30,FALSE),0))","v":280},817,null,28,null,"C089","GR COMPADRE PN","MARÍA FERNANDA BRAUER",{"$f":"IF(M34=\"\",\"\",VLOOKUP(N34,'V C CAB'!$C$7:$AZ$518,50,FALSE))","v":333},{"$f":"IF(M34=\"\",\"\",VLOOKUP(N34,'V L CAB'!$C$7:$AY$524,49,FALSE))","v":203},{"$f":"IF(N34=\"\",\"\",IFERROR(VLOOKUP(N34,'C FEI'!$C$7:$AG$456,28,FALSE),0))","v":0},536]
[29,"A117","A061","MIÑO BENALCAZAR ROBERTO",{"$f":"IF(C35=\"\",\"\",IF(MID(C35,1,1)=\"A\",VLOOKUP(D35,'V C AB'!$C$7:$AY$457,49,FALSE),VLOOKUP(D35,'V C JUV'!$C$7:$AY$435,49,FALSE)))","v":355},{"$f":"IF(C35=\"\",\"\",IF(MID(C35,1,1)=\"A\",VLOOKUP(D35,'V L AB'!$C$7:$AY$455,48,FALSE),VLOOKUP(D35,'V L JUV'!$C$7:$AY$438,48,FALSE)))","v":445},null,{"$f":"IF(D35=\"\",\"\",IFERROR(VLOOKUP(D35,'J FEI'!$C$7:$AG$454,30,FALSE),0))","v":0},800,null,29,null,"C","ISIS","DAVILA GORDILLO JUAN DIEGO",{"$f":"IF(M35=\"\",\"\",VLOOKUP(N35,'V C CAB'!$C$7:$AZ$518,50,FALSE))","v":415},{"$f":"IF(M35=\"\",\"\",VLOOKUP(N35,'V L CAB'!$C$7:$AY$524,49,FALSE))","v":120},{"$f":"IF(N35=\"\",\"\",IFERROR(VLOOKUP(N35,'C FEI'!$C$7:$AG$456,28,FALSE),0))","v":0},535]
[30,"J009","J019","DARQUEA RICARDO",{"$f":"IF(C36=\"\",\"\",IF(MID(C36,1,1)=\"A\",VLOOKUP(D36,'V C AB'!$C$7:$AY$457,49,FALSE),VLOOKUP(D36,'V C JUV'!$C$7:$AY$435,49,FALSE)))","v":670},{"$f":"IF(C36=\"\",\"\",IF(MID(C36,1,1)=\"A\",VLOOKUP(D36,'V L AB'!$C$7:$AY$455,48,FALSE),VLOOKUP(D36,'V L JUV'!$C$7:$AY$438,48,FALSE)))","v":85},null,{"$f":"IF(D36=\"\",\"\",IFERROR(VLOOKUP(D36,'J FEI'!$C$7:$AG$454,30,FALSE),0))","v":0},755,null,30,"C114","C319","SUCO",null,{"$f":"IF(M36=\"\",\"\",VLOOKUP(N36,'V C CAB'!$C$7:$AZ$518,50,FALSE))","v":325},{"$f":"IF(M36=\"\",\"\",VLOOKUP(N36,'V L CAB'!$C$7:$AY$524,49,FALSE))","v":189},{"$f":"IF(N36=\"\",\"\",IFERROR(VLOOKUP(N36,'C FEI'!$C$7:$AG$456,28,FALSE),0))","v":0},514]
[31,"J052","J054","VINTIMILLA CORDERO PABLO",{"$f":"IF(C37=\"\",\"\",IF(MID(C37,1,1)=\"A\",VLOOKUP(D37,'V C AB'!$C$7:$AY$457,49,FALSE),VLOOKUP(D37,'V C JUV'!$C$7:$AY$435,49,FALSE)))","v":479},{"$f":"IF(C37=\"\",\"\",IF(MID(C37,1,1)=\"A\",VLOOKUP(D37,'V L AB'!$C$7:$AY$455,48,FALSE),VLOOKUP(D37,'V L JUV'!$C$7:$AY$438,48,FALSE)))","v":269},null,{"$f":"IF(D37=\"\",\"\",IFERROR(VLOOKUP(D37,'J FEI'!$C$7:$AG$454,30,FALSE),0))","v":0},748,null,31,"CC","C","LLUVIA CMB","CESAR MORABOWEN",{"$f":"IF(M37=\"\",\"\",VLOOKUP(N37,'V C CAB'!$C$7:$AZ$518,50,FALSE))","v":231},{"$f":"IF(M37=\"\",\"\",VLOOKUP(N37,'V L CAB'!$C$7:$AY$524,49,FALSE))","v":254},{"$f":"IF(N37=\"\",\"\",IFERROR(VLOOKUP(N37,'C FEI'!$C$7:$AG$456,28,FALSE),0))","v":0},485]
[32,"A110","A026","LETORT MENA JOSÉ",{"$f":"IF(C38=\"\",\"\",IF(MID(C38,1,1)=\"A\",VLOOKUP(D38,'V C AB'!$C$7:$AY$457,49,FALSE),VLOOKUP(D38,'V C JUV'!$C$7:$AY$435,49,FALSE)))","v":403},{"$f":"IF(C38=\"\",\"\",IF(MID(C38,1,1)=\"A\",VLOOKUP(D38,'V L AB'!$C$7:$AY$455,48,FALSE),VLOOKUP(D38,'V L JUV'!$C$7:$AY$438,48,FALSE)))","v":331},null,{"$f":"IF(D38=\"\",\"\",IFERROR(VLOOKUP(D38,'J FEI'!$C$7:$AG$454,30,FALSE),0))","v":0},734,null,32,"C251","C079","SHAMIR SOLIN","JUAN CARLOS SERRANO",{"$f":"IF(M38=\"\",\"\",VLOOKUP(N38,'V C CAB'!$C$7:$AZ$518,50,FALSE))","v":164},{"$f":"IF(M38=\"\",\"\",VLOOKUP(N38,'V L CAB'!$C$7:$AY$524,49,FALSE))","v":300},{"$f":"IF(N38=\"\",\"\",IFERROR(VLOOKUP(N38,'C FEI'!$C$7:$AG$456,28,FALSE),0))","v":0},464]
[33,"C","A092","VITIMILLA SERRANO PABLO",{"$f":"IF(C39=\"\",\"\",IF(MID(C39,1,1)=\"A\",VLOOKUP(D39,'V C AB'!$C$7:$AY$457,49,FALSE),VLOOKUP(D39,'V C JUV'!$C$7:$AY$435,49,FALSE)))","v":534},{"$f":"IF(C39=\"\",\"\",IF(MID(C39,1,1)=\"A\",VLOOKUP(D39,'V L AB'!$C$7:$AY$455,48,FALSE),VLOOKUP(D39,'V L JUV'!$C$7:$AY$438,48,FALSE)))","v":173},null,{"$f":"IF(D39=\"\",\"\",IFERROR(VLOOKUP(D39,'J FEI'!$C$7:$AG$454,30,FALSE),0))","v":0},{"$f":"IF(C39=\"\",\"\",+F39+E39+H39+G39)","v":707},null,33,"CC","C","MANOLO",null,{"$f":"IF(M39=\"\",\"\",VLOOKUP(N39,'V C CAB'!$C$7:$AZ$518,50,FALSE))","v":395},{"$f":"IF(M39=\"\",\"\",VLOOKUP(N39,'V L CAB'!$C$7:$AY$524,49,FALSE))","v":42},{"$f":"IF(N39=\"\",\"\",IFERROR(VLOOKUP(N39,'C FEI'!$C$7:$AG$456,28,FALSE),0))","v":0},437]
[45,"J036","J027","MIÑO JOSE IGNACIO",{"$f":"IF(C40=\"\",\"\",IF(MID(C40,1,1)=\"A\",VLOOKUP(D40,'V C AB'!$C$7:$AY$457,49,FALSE),VLOOKUP(D40,'V C JUV'!$C$7:$AY$435,49,FALSE)))","v":422},{"$f":"IF(C40=\"\",\"\",IF(MID(C40,1,1)=\"A\",VLOOKUP(D40,'V L AB'!$C$7:$AY$455,48,FALSE),VLOOKUP(D40,'V L JUV'!$C$7:$AY$438,48,FALSE)))","v":276},null,{"$f":"IF(D40=\"\",\"\",IFERROR(VLOOKUP(D40,'J FEI'!$C$7:$AG$454,30,FALSE),0))","v":0},698,null,34,"C043","C075","JR NARA","KARINA NEUMAN ",{"$f":"IF(M40=\"\",\"\",VLOOKUP(N40,'V C CAB'!$C$7:$AZ$518,50,FALSE))","v":232},{"$f":"IF(M40=\"\",\"\",VLOOKUP(N40,'V L CAB'!$C$7:$AY$524,49,FALSE))","v":162},{"$f":"IF(N40=\"\",\"\",IFERROR(VLOOKUP(N40,'C FEI'!$C$7:$AG$456,28,FALSE),0))","v":0},394]
[34,"C","A135","DONOSO LOYOLA SEBASTIAN FERNANDO",{"$f":"IF(C41=\"\",\"\",IF(MID(C41,1,1)=\"A\",VLOOKUP(D41,'V C AB'!$C$7:$AY$457,49,FALSE),VLOOKUP(D41,'V C JUV'!$C$7:$AY$435,49,FALSE)))","v":444},{"$f":"IF(C41=\"\",\"\",IF(MID(C41,1,1)=\"A\",VLOOKUP(D41,'V L AB'!$C$7:$AY$455,48,FALSE),VLOOKUP(D41,'V L JUV'!$C$7:$AY$438,48,FALSE)))","v":240},null,{"$f":"IF(D41=\"\",\"\",IFERROR(VLOOKUP(D41,'J FEI'!$C$7:$AG$454,30,FALSE),0))","v":0},684,null,35,null,null,null,null,{"$f":"IF(M41=\"\",\"\",VLOOKUP(N41,'V C CAB'!$C$7:$AZ$518,50,FALSE))","v":""},{"$f":"IF(M41=\"\",\"\",VLOOKUP(N41,'V L CAB'!$C$7:$AY$524,49,FALSE))","v":""},{"$f":"IF(N41=\"\",\"\",IFERROR(VLOOKUP(N41,'C FEI'!$C$7:$AG$456,28,FALSE),0))","v":""},{"$f":"IF(M41=\"\",\"\",+Q41+P41+R41)","v":""}]
[35,"C","J055","LOYOLA VINTIMILLA MARIA CLAUDIA",{"$f":"IF(C42=\"\",\"\",IF(MID(C42,1,1)=\"A\",VLOOKUP(D42,'V C AB'!$C$7:$AY$457,49,FALSE),VLOOKUP(D42,'V C JUV'!$C$7:$AY$435,49,FALSE)))","v":240},{"$f":"IF(C42=\"\",\"\",IF(MID(C42,1,1)=\"A\",VLOOKUP(D42,'V L AB'!$C$7:$AY$455,48,FALSE),VLOOKUP(D42,'V L JUV'!$C$7:$AY$438,48,FALSE)))","v":435},null,{"$f":"IF(D42=\"\",\"\",IFERROR(VLOOKUP(D42,'J FEI'!$C$7:$AG$454,30,FALSE),0))","v":0},675,null,36,null,null,null,null,{"$f":"IF(M42=\"\",\"\",VLOOKUP(N42,'V C CAB'!$C$7:$AZ$518,50,FALSE))","v":""},{"$f":"IF(M42=\"\",\"\",VLOOKUP(N42,'V L CAB'!$C$7:$AY$524,49,FALSE))","v":""},{"$f":"IF(N42=\"\",\"\",IFERROR(VLOOKUP(N42,'C FEI'!$C$7:$AG$456,28,FALSE),0))","v":""},""]
[36,"J041","J026","MORENO NICOLAS JUAN",{"$f":"IF(C43=\"\",\"\",IF(MID(C43,1,1)=\"A\",VLOOKUP(D43,'V C AB'!$C$7:$AY$457,49,FALSE),VLOOKUP(D43,'V C JUV'!$C$7:$AY$435,49,FALSE)))","v":286},{"$f":"IF(C43=\"\",\"\",IF(MID(C43,1,1)=\"A\",VLOOKUP(D43,'V L AB'!$C$7:$AY$455,48,FALSE),VLOOKUP(D43,'V L JUV'!$C$7:$AY$438,48,FALSE)))","v":376},null,{"$f":"IF(D43=\"\",\"\",IFERROR(VLOOKUP(D43,'J FEI'!$C$7:$AG$454,30,FALSE),0))","v":0},662,null,37,null,null,null,null,{"$f":"IF(M43=\"\",\"\",VLOOKUP(N43,'V C CAB'!$C$7:$AZ$518,50,FALSE))","v":""},{"$f":"IF(M43=\"\",\"\",VLOOKUP(N43,'V L CAB'!$C$7:$AY$524,49,FALSE))","v":""},{"$f":"IF(N43=\"\",\"\",IFERROR(VLOOKUP(N43,'C FEI'!$C$7:$AG$456,28,FALSE),0))","v":""},""]
[37,"M004","A021","ALVEAR JUAN CARLOS",{"$f":"IF(C44=\"\",\"\",IF(MID(C44,1,1)=\"A\",VLOOKUP(D44,'V C AB'!$C$7:$AY$457,49,FALSE),VLOOKUP(D44,'V C JUV'!$C$7:$AY$435,49,FALSE)))","v":533},{"$f":"IF(C44=\"\",\"\",IF(MID(C44,1,1)=\"A\",VLOOKUP(D44,'V L AB'!$C$7:$AY$455,48,FALSE),VLOOKUP(D44,'V L JUV'!$C$7:$AY$438,48,FALSE)))","v":86},null,{"$f":"IF(D44=\"\",\"\",IFERROR(VLOOKUP(D44,'J FEI'!$C$7:$AG$454,30,FALSE),0))","v":0},619,null,38,null,null,null,null,null,null,{"$f":"IF(N44=\"\",\"\",IFERROR(VLOOKUP(N44,'C FEI'!$C$7:$AG$456,28,FALSE),0))","v":""}]
[38,null,"J014","GUARDERAS PEDRO JOSE",{"$f":"IF(C45=\"\",\"\",IF(MID(C45,1,1)=\"A\",VLOOKUP(D45,'V C AB'!$C$7:$AY$457,49,FALSE),VLOOKUP(D45,'V C JUV'!$C$7:$AY$435,49,FALSE)))","v":391},{"$f":"IF(C45=\"\",\"\",IF(MID(C45,1,1)=\"A\",VLOOKUP(D45,'V L AB'!$C$7:$AY$455,48,FALSE),VLOOKUP(D45,'V L JUV'!$C$7:$AY$438,48,FALSE)))","v":136},null,{"$f":"IF(D45=\"\",\"\",IFERROR(VLOOKUP(D45,'J FEI'!$C$7:$AG$454,30,FALSE),0))","v":80},607,null,39,null,null,null,null,null,null,{"$f":"IF(N45=\"\",\"\",IFERROR(VLOOKUP(N45,'C FEI'!$C$7:$AG$456,28,FALSE),0))","v":""}]
[39,null,"J056","MATUTE PEDRO FERMIN",{"$f":"IF(C46=\"\",\"\",IF(MID(C46,1,1)=\"A\",VLOOKUP(D46,'V C AB'!$C$7:$AY$457,49,FALSE),VLOOKUP(D46,'V C JUV'!$C$7:$AY$435,49,FALSE)))","v":315},{"$f":"IF(C46=\"\",\"\",IF(MID(C46,1,1)=\"A\",VLOOKUP(D46,'V L AB'!$C$7:$AY$455,48,FALSE),VLOOKUP(D46,'V L JUV'!$C$7:$AY$438,48,FALSE)))","v":289},null,{"$f":"IF(D46=\"\",\"\",IFERROR(VLOOKUP(D46,'J FEI'!$C$7:$AG$454,30,FALSE),0))","v":0},604,null,40,null,null,null,null,null,null,{"$f":"IF(N46=\"\",\"\",IFERROR(VLOOKUP(N46,'C FEI'!$C$7:$AG$456,28,FALSE),0))","v":""}]
[40,"A003","A092","SERRANO JUAN CARLOS",{"$f":"IF(C47=\"\",\"\",IF(MID(C47,1,1)=\"A\",VLOOKUP(D47,'V C AB'!$C$7:$AY$457,49,FALSE),VLOOKUP(D47,'V C JUV'!$C$7:$AY$435,49,FALSE)))","v":277},{"$f":"IF(C47=\"\",\"\",IF(MID(C47,1,1)=\"A\",VLOOKUP(D47,'V L AB'!$C$7:$AY$455,48,FALSE),VLOOKUP(D47,'V L JUV'!$C$7:$AY$438,48,FALSE)))","v":240},null,{"$f":"IF(D47=\"\",\"\",IFERROR(VLOOKUP(D47,'J FEI'!$C$7:$AG$454,30,FALSE),0))","v":80},597,null,41,null,null,null,null,null,null,{"$f":"IF(N47=\"\",\"\",IFERROR(VLOOKUP(N47,'C FEI'!$C$7:$AG$456,28,FALSE),0))","v":""}]
[41,"A041","A053","MARCEL ROBERTO",{"$f":"IF(C48=\"\",\"\",IF(MID(C48,1,1)=\"A\",VLOOKUP(D48,'V C AB'!$C$7:$AY$457,49,FALSE),VLOOKUP(D48,'V C JUV'!$C$7:$AY$435,49,FALSE)))","v":432},{"$f":"IF(C48=\"\",\"\",IF(MID(C48,1,1)=\"A\",VLOOKUP(D48,'V L AB'!$C$7:$AY$455,48,FALSE),VLOOKUP(D48,'V L JUV'!$C$7:$AY$438,48,FALSE)))","v":160},null,{"$f":"IF(D48=\"\",\"\",IFERROR(VLOOKUP(D48,'J FEI'!$C$7:$AG$454,30,FALSE),0))","v":0},592,null,42,null,null,null,null,null,null,{"$f":"IF(N48=\"\",\"\",IFERROR(VLOOKUP(N48,'C FEI'!$C$7:$AG$456,28,FALSE),0))","v":""}]
[42,"A016","A019","TORRES VLADIMIRO",{"$f":"IF(C49=\"\",\"\",IF(MID(C49,1,1)=\"A\",VLOOKUP(D49,'V C AB'!$C$7:$AY$457,49,FALSE),VLOOKUP(D49,'V C JUV'!$C$7:$AY$435,49,FALSE)))","v":366},{"$f":"IF(C49=\"\",\"\",IF(MID(C49,1,1)=\"A\",VLOOKUP(D49,'V L AB'!$C$7:$AY$455,48,FALSE),VLOOKUP(D49,'V L JUV'!$C$7:$AY$438,48,FALSE)))","v":223},null,{"$f":"IF(D49=\"\",\"\",IFERROR(VLOOKUP(D49,'J FEI'!$C$7:$AG$454,30,FALSE),0))","v":0},589,null,43,null,null,null,null,{"$f":"IF(M49=\"\",\"\",VLOOKUP(N49,'V C CAB'!$C$7:$AZ$518,50,FALSE))","v":""},{"$f":"IF(M49=\"\",\"\",VLOOKUP(N49,'V L CAB'!$C$7:$AY$524,49,FALSE))","v":""},{"$f":"IF(N49=\"\",\"\",IFERROR(VLOOKUP(N49,'C FEI'!$C$7:$AG$456,28,FALSE),0))","v":""},{"$f":"IF(M49=\"\",\"\",+Q49+P49)","v":""}]
[43,"A006","A073","PÉREZ CARMEN ALICIA",{"$f":"IF(C50=\"\",\"\",IF(MID(C50,1,1)=\"A\",VLOOKUP(D50,'V C AB'!$C$7:$AY$457,49,FALSE),VLOOKUP(D50,'V C JUV'!$C$7:$AY$435,49,FALSE)))","v":376},{"$f":"IF(C50=\"\",\"\",IF(MID(C50,1,1)=\"A\",VLOOKUP(D50,'V L AB'!$C$7:$AY$455,48,FALSE),VLOOKUP(D50,'V L JUV'!$C$7:$AY$438,48,FALSE)))","v":202},null,{"$f":"IF(D50=\"\",\"\",IFERROR(VLOOKUP(D50,'J FEI'!$C$7:$AG$454,30,FALSE),0))","v":0},578,null,44,null,null,null,null,{"$f":"IF(M50=\"\",\"\",VLOOKUP(N50,'V C CAB'!$C$7:$AZ$518,50,FALSE))","v":""},{"$f":"IF(M50=\"\",\"\",VLOOKUP(N50,'V L CAB'!$C$7:$AY$524,49,FALSE))","v":""},{"$f":"IF(N50=\"\",\"\",IFERROR(VLOOKUP(N50,'C FEI'!$C$7:$AG$456,28,FALSE),0))","v":""},{"$f":"IF(M50=\"\",\"\",+Q50+P50)","v":""}]
[44,"J013","J007","ESPINOZA TOMAS",{"$f":"IF(C51=\"\",\"\",IF(MID(C51,1,1)=\"A\",VLOOKUP(D51,'V C AB'!$C$7:$AY$457,49,FALSE),VLOOKUP(D51,'V C JUV'!$C$7:$AY$435,49,FALSE)))","v":484},{"$f":"IF(C51=\"\",\"\",IF(MID(C51,1,1)=\"A\",VLOOKUP(D51,'V L AB'!$C$7:$AY$455,48,FALSE),VLOOKUP(D51,'V L JUV'!$C$7:$AY$438,48,FALSE)))","v":88},null,{"$f":"IF(D51=\"\",\"\",IFERROR(VLOOKUP(D51,'J FEI'!$C$7:$AG$454,30,FALSE),0))","v":0},572]
[46,"J004","J012","MIÑO SANTIAGO",{"$f":"IF(C52=\"\",\"\",IF(MID(C52,1,1)=\"A\",VLOOKUP(D52,'V C AB'!$C$7:$AY$457,49,FALSE),VLOOKUP(D52,'V C JUV'!$C$7:$AY$435,49,FALSE)))","v":223},{"$f":"IF(C52=\"\",\"\",IF(MID(C52,1,1)=\"A\",VLOOKUP(D52,'V L AB'!$C$7:$AY$455,48,FALSE),VLOOKUP(D52,'V L JUV'!$C$7:$AY$438,48,FALSE)))","v":262},null,{"$f":"IF(D52=\"\",\"\",IFERROR(VLOOKUP(D52,'J FEI'!$C$7:$AG$454,30,FALSE),0))","v":80},565]
[47,null,"A149","MUÑOZ CALDERON RAUL ALBERTO",{"$f":"IF(C53=\"\",\"\",IF(MID(C53,1,1)=\"A\",VLOOKUP(D53,'V C AB'!$C$7:$AY$457,49,FALSE),VLOOKUP(D53,'V C JUV'!$C$7:$AY$435,49,FALSE)))","v":303},{"$f":"IF(C53=\"\",\"\",IF(MID(C53,1,1)=\"A\",VLOOKUP(D53,'V L AB'!$C$7:$AY$455,48,FALSE),VLOOKUP(D53,'V L JUV'!$C$7:$AY$438,48,FALSE)))","v":260},null,{"$f":"IF(D53=\"\",\"\",IFERROR(VLOOKUP(D53,'J FEI'!$C$7:$AG$454,30,FALSE),0))","v":0},563]
[48,"J034","J047","LETORT DUEÑAS JOSE",{"$f":"IF(C54=\"\",\"\",IF(MID(C54,1,1)=\"A\",VLOOKUP(D54,'V C AB'!$C$7:$AY$457,49,FALSE),VLOOKUP(D54,'V C JUV'!$C$7:$AY$435,49,FALSE)))","v":298},{"$f":"IF(C54=\"\",\"\",IF(MID(C54,1,1)=\"A\",VLOOKUP(D54,'V L AB'!$C$7:$AY$455,48,FALSE),VLOOKUP(D54,'V L JUV'!$C$7:$AY$438,48,FALSE)))","v":253},null,{"$f":"IF(D54=\"\",\"\",IFERROR(VLOOKUP(D54,'J FEI'!$C$7:$AG$454,30,FALSE),0))","v":0},551]
[49,"A112","A048","BARAHONA ANDRES",{"$f":"IF(C55=\"\",\"\",IF(MID(C55,1,1)=\"A\",VLOOKUP(D55,'V C AB'!$C$7:$AY$457,49,FALSE),VLOOKUP(D55,'V C JUV'!$C$7:$AY$435,49,FALSE)))","v":333},{"$f":"IF(C55=\"\",\"\",IF(MID(C55,1,1)=\"A\",VLOOKUP(D55,'V L AB'!$C$7:$AY$455,48,FALSE),VLOOKUP(D55,'V L JUV'!$C$7:$AY$438,48,FALSE)))","v":160},null,{"$f":"IF(D55=\"\",\"\",IFERROR(VLOOKUP(D55,'J FEI'!$C$7:$AG$454,30,FALSE),0))","v":0},493]
[50,null,"A146","MALO MARIBEL",{"$f":"IF(C56=\"\",\"\",IF(MID(C56,1,1)=\"A\",VLOOKUP(D56,'V C AB'!$C$7:$AY$457,49,FALSE),VLOOKUP(D56,'V C JUV'!$C$7:$AY$435,49,FALSE)))","v":80},{"$f":"IF(C56=\"\",\"\",IF(MID(C56,1,1)=\"A\",VLOOKUP(D56,'V L AB'!$C$7:$AY$455,48,FALSE),VLOOKUP(D56,'V L JUV'!$C$7:$AY$438,48,FALSE)))","v":411},null,{"$f":"IF(D56=\"\",\"\",IFERROR(VLOOKUP(D56,'J FEI'!$C$7:$AG$454,30,FALSE),0))","v":0},491]
[51,"A013","A063","QUIROZ ORLANDO",{"$f":"IF(C57=\"\",\"\",IF(MID(C57,1,1)=\"A\",VLOOKUP(D57,'V C AB'!$C$7:$AY$457,49,FALSE),VLOOKUP(D57,'V C JUV'!$C$7:$AY$435,49,FALSE)))","v":293},{"$f":"IF(C57=\"\",\"\",IF(MID(C57,1,1)=\"A\",VLOOKUP(D57,'V L AB'!$C$7:$AY$455,48,FALSE),VLOOKUP(D57,'V L JUV'!$C$7:$AY$438,48,FALSE)))","v":184},null,{"$f":"IF(D57=\"\",\"\",IFERROR(VLOOKUP(D57,'J FEI'!$C$7:$AG$454,30,FALSE),0))","v":0},477]
[52,"A0159","A049","BRAUER MARIA FERNANDA",{"$f":"IF(C58=\"\",\"\",IF(MID(C58,1,1)=\"A\",VLOOKUP(D58,'V C AB'!$C$7:$AY$457,49,FALSE),VLOOKUP(D58,'V C JUV'!$C$7:$AY$435,49,FALSE)))","v":296},{"$f":"IF(C58=\"\",\"\",IF(MID(C58,1,1)=\"A\",VLOOKUP(D58,'V L AB'!$C$7:$AY$455,48,FALSE),VLOOKUP(D58,'V L JUV'!$C$7:$AY$438,48,FALSE)))","v":164},null,{"$f":"IF(D58=\"\",\"\",IFERROR(VLOOKUP(D58,'J FEI'!$C$7:$AG$454,30,FALSE),0))","v":0},460]
[53,"J012","J023","MOLESTINA NICOLAS",{"$f":"IF(C59=\"\",\"\",IF(MID(C59,1,1)=\"A\",VLOOKUP(D59,'V C AB'!$C$7:$AY$457,49,FALSE),VLOOKUP(D59,'V C JUV'!$C$7:$AY$435,49,FALSE)))","v":325},{"$f":"IF(C59=\"\",\"\",IF(MID(C59,1,1)=\"A\",VLOOKUP(D59,'V L AB'!$C$7:$AY$455,48,FALSE),VLOOKUP(D59,'V L JUV'!$C$7:$AY$438,48,FALSE)))","v":134},null,{"$f":"IF(D59=\"\",\"\",IFERROR(VLOOKUP(D59,'J FEI'!$C$7:$AG$454,30,FALSE),0))","v":0},459]
[54,"C","J069","DONOSO CARRASCO MARIA DANIELA",{"$f":"IF(C60=\"\",\"\",IF(MID(C60,1,1)=\"A\",VLOOKUP(D60,'V C AB'!$C$7:$AY$457,49,FALSE),VLOOKUP(D60,'V C JUV'!$C$7:$AY$435,49,FALSE)))","v":160},{"$f":"IF(C60=\"\",\"\",IF(MID(C60,1,1)=\"A\",VLOOKUP(D60,'V L AB'!$C$7:$AY$455,48,FALSE),VLOOKUP(D60,'V L JUV'!$C$7:$AY$438,48,FALSE)))","v":288},null,{"$f":"IF(D60=\"\",\"\",IFERROR(VLOOKUP(D60,'J FEI'!$C$7:$AG$454,30,FALSE),0))","v":0},448]
[62,null,"J043","MORENO DANIEL",{"$f":"IF(C61=\"\",\"\",IF(MID(C61,1,1)=\"A\",VLOOKUP(D61,'V C AB'!$C$7:$AY$457,49,FALSE),VLOOKUP(D61,'V C JUV'!$C$7:$AY$435,49,FALSE)))","v":302},{"$f":"IF(C61=\"\",\"\",IF(MID(C61,1,1)=\"A\",VLOOKUP(D61,'V L AB'!$C$7:$AY$455,48,FALSE),VLOOKUP(D61,'V L JUV'!$C$7:$AY$438,48,FALSE)))","v":59},null,{"$f":"IF(D61=\"\",\"\",IFERROR(VLOOKUP(D61,'J FEI'!$C$7:$AG$454,30,FALSE),0))","v":80},441]
[55,"J032","A044","RUIZ ILIANA",{"$f":"IF(C62=\"\",\"\",IF(MID(C62,1,1)=\"A\",VLOOKUP(D62,'V C AB'!$C$7:$AY$457,49,FALSE),VLOOKUP(D62,'V C JUV'!$C$7:$AY$435,49,FALSE)))","v":190},{"$f":"IF(C62=\"\",\"\",IF(MID(C62,1,1)=\"A\",VLOOKUP(D62,'V L AB'!$C$7:$AY$455,48,FALSE),VLOOKUP(D62,'V L JUV'!$C$7:$AY$438,48,FALSE)))","v":245},null,{"$f":"IF(D62=\"\",\"\",IFERROR(VLOOKUP(D62,'J FEI'!$C$7:$AG$454,30,FALSE),0))","v":0},435]
[56,"A069","A064","CASTILLO DIEGO",{"$f":"IF(C63=\"\",\"\",IF(MID(C63,1,1)=\"A\",VLOOKUP(D63,'V C AB'!$C$7:$AY$457,49,FALSE),VLOOKUP(D63,'V C JUV'!$C$7:$AY$435,49,FALSE)))","v":168},{"$f":"IF(C63=\"\",\"\",IF(MID(C63,1,1)=\"A\",VLOOKUP(D63,'V L AB'!$C$7:$AY$455,48,FALSE),VLOOKUP(D63,'V L JUV'!$C$7:$AY$438,48,FALSE)))","v":264},null,{"$f":"IF(D63=\"\",\"\",IFERROR(VLOOKUP(D63,'J FEI'!$C$7:$AG$454,30,FALSE),0))","v":0},432]
[57,"A060","A024","RECALDE GALO",{"$f":"IF(C64=\"\",\"\",IF(MID(C64,1,1)=\"A\",VLOOKUP(D64,'V C AB'!$C$7:$AY$457,49,FALSE),VLOOKUP(D64,'V C JUV'!$C$7:$AY$435,49,FALSE)))","v":170},{"$f":"IF(C64=\"\",\"\",IF(MID(C64,1,1)=\"A\",VLOOKUP(D64,'V L AB'!$C$7:$AY$455,48,FALSE),VLOOKUP(D64,'V L JUV'!$C$7:$AY$438,48,FALSE)))","v":255},null,{"$f":"IF(D64=\"\",\"\",IFERROR(VLOOKUP(D64,'J FEI'!$C$7:$AG$454,30,FALSE),0))","v":0},425]
[58,"A042","A025","JARAMILLO BENITO",{"$f":"IF(C65=\"\",\"\",IF(MID(C65,1,1)=\"A\",VLOOKUP(D65,'V C AB'!$C$7:$AY$457,49,FALSE),VLOOKUP(D65,'V C JUV'!$C$7:$AY$435,49,FALSE)))","v":173},{"$f":"IF(C65=\"\",\"\",IF(MID(C65,1,1)=\"A\",VLOOKUP(D65,'V L AB'!$C$7:$AY$455,48,FALSE),VLOOKUP(D65,'V L JUV'!$C$7:$AY$438,48,FALSE)))","v":224},null,{"$f":"IF(D65=\"\",\"\",IFERROR(VLOOKUP(D65,'J FEI'!$C$7:$AG$454,30,FALSE),0))","v":0},397]
[59,null,"A085","URIBE CARLOS JOSE",{"$f":"IF(C66=\"\",\"\",IF(MID(C66,1,1)=\"A\",VLOOKUP(D66,'V C AB'!$C$7:$AY$457,49,FALSE),VLOOKUP(D66,'V C JUV'!$C$7:$AY$435,49,FALSE)))","v":270},{"$f":"IF(C66=\"\",\"\",IF(MID(C66,1,1)=\"A\",VLOOKUP(D66,'V L AB'!$C$7:$AY$455,48,FALSE),VLOOKUP(D66,'V L JUV'!$C$7:$AY$438,48,FALSE)))","v":81},null,{"$f":"IF(D66=\"\",\"\",IFERROR(VLOOKUP(D66,'J FEI'!$C$7:$AG$454,30,FALSE),0))","v":0},351]
[60,"J049","J022","JIJON JUAN ESTEBAN",{"$f":"IF(C67=\"\",\"\",IF(MID(C67,1,1)=\"A\",VLOOKUP(D67,'V C AB'!$C$7:$AY$457,49,FALSE),VLOOKUP(D67,'V C JUV'!$C$7:$AY$435,49,FALSE)))","v":302},{"$f":"IF(C67=\"\",\"\",IF(MID(C67,1,1)=\"A\",VLOOKUP(D67,'V L AB'!$C$7:$AY$455,48,FALSE),VLOOKUP(D67,'V L JUV'!$C$7:$AY$438,48,FALSE)))","v":44},null,{"$f":"IF(D67=\"\",\"\",IFERROR(VLOOKUP(D67,'J FEI'!$C$7:$AG$454,30,FALSE),0))","v":0},346]
[61,null,"A005","MALDONADO JOSE",{"$f":"IF(C68=\"\",\"\",IF(MID(C68,1,1)=\"A\",VLOOKUP(D68,'V C AB'!$C$7:$AY$457,49,FALSE),VLOOKUP(D68,'V C JUV'!$C$7:$AY$435,49,FALSE)))","v":180},{"$f":"IF(C68=\"\",\"\",IF(MID(C68,1,1)=\"A\",VLOOKUP(D68,'V L AB'!$C$7:$AY$455,48,FALSE),VLOOKUP(D68,'V L JUV'!$C$7:$AY$438,48,FALSE)))","v":127},null,{"$f":"IF(D68=\"\",\"\",IFERROR(VLOOKUP(D68,'J FEI'!$C$7:$AG$454,30,FALSE),0))","v":0},307]
[63,null,null,null,{"$f":"IF(C69=\"\",\"\",IF(MID(C69,1,1)=\"A\",VLOOKUP(D69,'V C AB'!$C$7:$AY$457,49,FALSE),VLOOKUP(D69,'V C JUV'!$C$7:$AY$435,49,FALSE)))","v":""},{"$f":"IF(C69=\"\",\"\",IF(MID(C69,1,1)=\"A\",VLOOKUP(D69,'V L AB'!$C$7:$AY$455,48,FALSE),VLOOKUP(D69,'V L JUV'!$C$7:$AY$438,48,FALSE)))","v":""},null,{"$f":"IF(D69=\"\",\"\",IFERROR(VLOOKUP(D69,'J FEI'!$C$7:$AG$454,30,FALSE),0))","v":""},{"$f":"IF(C69=\"\",\"\",+F69+E69+H69+G69)","v":""}]
[64,null,null,null,{"$f":"IF(C70=\"\",\"\",IF(MID(C70,1,1)=\"A\",VLOOKUP(D70,'V C AB'!$C$7:$AY$457,49,FALSE),VLOOKUP(D70,'V C JUV'!$C$7:$AY$435,49,FALSE)))","v":""},{"$f":"IF(C70=\"\",\"\",IF(MID(C70,1,1)=\"A\",VLOOKUP(D70,'V L AB'!$C$7:$AY$455,48,FALSE),VLOOKUP(D70,'V L JUV'!$C$7:$AY$438,48,FALSE)))","v":""},null,{"$f":"IF(D70=\"\",\"\",IFERROR(VLOOKUP(D70,'J FEI'!$C$7:$AG$454,30,FALSE),0))","v":""},""]
[65,null,null,null,{"$f":"IF(C71=\"\",\"\",IF(MID(C71,1,1)=\"A\",VLOOKUP(D71,'V C AB'!$C$7:$AY$457,49,FALSE),VLOOKUP(D71,'V C JUV'!$C$7:$AY$435,49,FALSE)))","v":""},{"$f":"IF(C71=\"\",\"\",IF(MID(C71,1,1)=\"A\",VLOOKUP(D71,'V L AB'!$C$7:$AY$455,48,FALSE),VLOOKUP(D71,'V L JUV'!$C$7:$AY$438,48,FALSE)))","v":""},null,{"$f":"IF(D71=\"\",\"\",IFERROR(VLOOKUP(D71,'J FEI'!$C$7:$AG$454,30,FALSE),0))","v":""},{"$f":"IF(C71=\"\",\"\",+F71+E71+H71+G71)","v":""}]
[66,null,null,null,{"$f":"IF(C72=\"\",\"\",IF(MID(C72,1,1)=\"A\",VLOOKUP(D72,'V C AB'!$C$7:$AY$457,49,FALSE),VLOOKUP(D72,'V C JUV'!$C$7:$AY$435,49,FALSE)))","v":""},{"$f":"IF(C72=\"\",\"\",IF(MID(C72,1,1)=\"A\",VLOOKUP(D72,'V L AB'!$C$7:$AY$455,48,FALSE),VLOOKUP(D72,'V L JUV'!$C$7:$AY$438,48,FALSE)))","v":""},null,{"$f":"IF(D72=\"\",\"\",IFERROR(VLOOKUP(D72,'J FEI'!$C$7:$AG$454,30,FALSE),0))","v":""},{"$f":"IF(C72=\"\",\"\",+F72+E72+H72+G72)","v":""}]
[67,null,null,null,{"$f":"IF(C73=\"\",\"\",IF(MID(C73,1,1)=\"A\",VLOOKUP(D73,'V C AB'!$C$7:$AY$457,49,FALSE),VLOOKUP(D73,'V C JUV'!$C$7:$AY$435,49,FALSE)))","v":""},{"$f":"IF(C73=\"\",\"\",IF(MID(C73,1,1)=\"A\",VLOOKUP(D73,'V L AB'!$C$7:$AY$455,48,FALSE),VLOOKUP(D73,'V L JUV'!$C$7:$AY$438,48,FALSE)))","v":""},null,{"$f":"IF(D73=\"\",\"\",IFERROR(VLOOKUP(D73,'J FEI'!$C$7:$AG$454,30,FALSE),0))","v":""},""]
[68,null,null,null,{"$f":"IF(C74=\"\",\"\",IF(MID(C74,1,1)=\"A\",VLOOKUP(D74,'V C AB'!$C$7:$AY$457,49,FALSE),VLOOKUP(D74,'V C JUV'!$C$7:$AY$435,49,FALSE)))","v":""},{"$f":"IF(C74=\"\",\"\",IF(MID(C74,1,1)=\"A\",VLOOKUP(D74,'V L AB'!$C$7:$AY$455,48,FALSE),VLOOKUP(D74,'V L JUV'!$C$7:$AY$438,48,FALSE)))","v":""},null,{"$f":"IF(D74=\"\",\"\",IFERROR(VLOOKUP(D74,'J FEI'!$C$7:$AG$454,30,FALSE),0))","v":""},""]
[69,null,null,null,{"$f":"IF(C75=\"\",\"\",IF(MID(C75,1,1)=\"A\",VLOOKUP(D75,'V C AB'!$C$7:$AY$457,49,FALSE),VLOOKUP(D75,'V C JUV'!$C$7:$AY$435,49,FALSE)))","v":""},{"$f":"IF(C75=\"\",\"\",IF(MID(C75,1,1)=\"A\",VLOOKUP(D75,'V L AB'!$C$7:$AY$455,48,FALSE),VLOOKUP(D75,'V L JUV'!$C$7:$AY$438,48,FALSE)))","v":""},null,{"$f":"IF(D75=\"\",\"\",IFERROR(VLOOKUP(D75,'J FEI'!$C$7:$AG$454,30,FALSE),0))","v":""},""]
[70,null,null,null,{"$f":"IF(C76=\"\",\"\",IF(MID(C76,1,1)=\"A\",VLOOKUP(D76,'V C AB'!$C$7:$AY$457,49,FALSE),VLOOKUP(D76,'V C JUV'!$C$7:$AY$435,49,FALSE)))","v":""},{"$f":"IF(C76=\"\",\"\",IF(MID(C76,1,1)=\"A\",VLOOKUP(D76,'V L AB'!$C$7:$AY$455,48,FALSE),VLOOKUP(D76,'V L JUV'!$C$7:$AY$438,48,FALSE)))","v":""},null,{"$f":"IF(D76=\"\",\"\",IFERROR(VLOOKUP(D76,'J FEI'!$C$7:$AG$454,30,FALSE),0))","v":""},""]
[71,null,null,null,{"$f":"IF(C77=\"\",\"\",IF(MID(C77,1,1)=\"A\",VLOOKUP(D77,'V C AB'!$C$7:$AY$457,49,FALSE),VLOOKUP(D77,'V C JUV'!$C$7:$AY$435,49,FALSE)))","v":""},{"$f":"IF(C77=\"\",\"\",IF(MID(C77,1,1)=\"A\",VLOOKUP(D77,'V L AB'!$C$7:$AY$455,48,FALSE),VLOOKUP(D77,'V L JUV'!$C$7:$AY$438,48,FALSE)))","v":""},null,{"$f":"IF(D77=\"\",\"\",IFERROR(VLOOKUP(D77,'J FEI'!$C$7:$AG$454,30,FALSE),0))","v":""},""]
[72,null,null,null,{"$f":"IF(C78=\"\",\"\",IF(MID(C78,1,1)=\"A\",VLOOKUP(D78,'V C AB'!$C$7:$AY$457,49,FALSE),VLOOKUP(D78,'V C JUV'!$C$7:$AY$435,49,FALSE)))","v":""},{"$f":"IF(C78=\"\",\"\",IF(MID(C78,1,1)=\"A\",VLOOKUP(D78,'V L AB'!$C$7:$AY$455,48,FALSE),VLOOKUP(D78,'V L JUV'!$C$7:$AY$438,48,FALSE)))","v":""},null,{"$f":"IF(D78=\"\",\"\",IFERROR(VLOOKUP(D78,'J FEI'!$C$7:$AG$454,30,FALSE),0))","v":""},""]
[73,null,null,null,{"$f":"IF(C79=\"\",\"\",IF(MID(C79,1,1)=\"A\",VLOOKUP(D79,'V C AB'!$C$7:$AY$457,49,FALSE),VLOOKUP(D79,'V C JUV'!$C$7:$AY$435,49,FALSE)))","v":""},{"$f":"IF(C79=\"\",\"\",IF(MID(C79,1,1)=\"A\",VLOOKUP(D79,'V L AB'!$C$7:$AY$455,48,FALSE),VLOOKUP(D79,'V L JUV'!$C$7:$AY$438,48,FALSE)))","v":""},null,{"$f":"IF(D79=\"\",\"\",IFERROR(VLOOKUP(D79,'J FEI'!$C$7:$AG$454,30,FALSE),0))","v":""},""]
[74,null,null,null,{"$f":"IF(C80=\"\",\"\",IF(MID(C80,1,1)=\"A\",VLOOKUP(D80,'V C AB'!$C$7:$AY$457,49,FALSE),VLOOKUP(D80,'V C JUV'!$C$7:$AY$435,49,FALSE)))","v":""},{"$f":"IF(C80=\"\",\"\",IF(MID(C80,1,1)=\"A\",VLOOKUP(D80,'V L AB'!$C$7:$AY$455,48,FALSE),VLOOKUP(D80,'V L JUV'!$C$7:$AY$438,48,FALSE)))","v":""},null,{"$f":"IF(D80=\"\",\"\",IFERROR(VLOOKUP(D80,'J FEI'!$C$7:$AG$454,30,FALSE),0))","v":""},""]
[75,null,null,null,{"$f":"IF(C81=\"\",\"\",IF(MID(C81,1,1)=\"A\",VLOOKUP(D81,'V C AB'!$C$7:$AY$457,49,FALSE),VLOOKUP(D81,'V C JUV'!$C$7:$AY$435,49,FALSE)))","v":""},{"$f":"IF(C81=\"\",\"\",IF(MID(C81,1,1)=\"A\",VLOOKUP(D81,'V L AB'!$C$7:$AY$455,48,FALSE),VLOOKUP(D81,'V L JUV'!$C$7:$AY$438,48,FALSE)))","v":""},null,{"$f":"IF(D81=\"\",\"\",IFERROR(VLOOKUP(D81,'J FEI'!$C$7:$AG$454,30,FALSE),0))","v":""},""]
[76,null,null,null,{"$f":"IF(C82=\"\",\"\",IF(MID(C82,1,1)=\"A\",VLOOKUP(D82,'V C AB'!$C$7:$AY$457,49,FALSE),VLOOKUP(D82,'V C JUV'!$C$7:$AY$435,49,FALSE)))","v":""},{"$f":"IF(C82=\"\",\"\",IF(MID(C82,1,1)=\"A\",VLOOKUP(D82,'V L AB'!$C$7:$AY$455,48,FALSE),VLOOKUP(D82,'V L JUV'!$C$7:$AY$438,48,FALSE)))","v":""},null,{"$f":"IF(D82=\"\",\"\",IFERROR(VLOOKUP(D82,'J FEI'!$C$7:$AG$454,30,FALSE),0))","v":""},""]

{"sheet":"J FEI","index":7,"n_rows":83,"n_cols":32,"rows_kept":83,"cut":false,"hidden":false,"merged":[[1,0,1,8],[4,20,4,26],[3,0,3,1],[4,0,4,1],[4,11,4,14],[4,15,4,16],[4,5,4,10],[4,17,4,19],[4,3,4,4],[3,2,3,4]]}
[]
["JINETES, COMPETENCIAS INTERNACIONALES FEI"]
[]
[null,null,"JINETES"]
["CODIGO",null,null,2009,null,2010,null,null,null,null,null,2011,null,null,null,2012,null,2013,null,null,2014]
["INTERNACIONAL","LOCAL","JINETE",null,null,null,null,null,null,null,null,null,null,null,null,null,null,null,null,null,null,null,null,null,null,null,null,">80<120",">120<140",">140>160",">160","ACUMULADO"]
[null,null,{"$f":"+C8","v":"MEDINA FERNANDO "},null,null,"2010-04-24","2010-05-29","2010-08-07","2010-10-23","2010-11-20","2010-12-11","2011-03-26","2011-05-06","2011-07-02","2011-09-03",null,null,"2013-04-19",null,null,null,null,null,null,null,null,null,null,null,null,null,{"$f":"+AF8","v":1280}]
["10067213",null,"MEDINA FERNANDO ",null,null,80,120,80,120,120,120,120,120,120,120,null,null,160,null,null,null,null,null,null,null,null,null,{"$f":"COUNTIF(F8:AA8,\"<120\")","v":2},{"$f":"COUNTIF(F8:AA8,\"<140\")-AB8","v":8},{"$f":"COUNTIF(F8:AA8,\"<160\")-AB8-AC8","v":0},{"$f":"COUNTIF(F8:AA8,\">159\")","v":1},{"$f":"SUM(F8:AA8)","v":1280}]
[null,null,{"$f":"+C10","v":"NEUMANN KARINA"},null,null,"2010-04-24","2010-08-07","2010-10-23","2010-11-20","2010-12-18",null,"2011-04-30",null,null,null,"2012-03-10","2012-08-25","2013-07-05",null,null,null,null,null,null,"2014-06-15",null,null,null,null,null,null,{"$f":"+AF10","v":1260}]
["10066919","A047","NEUMANN KARINA",null,null,80,120,120,120,120,null,120,null,null,null,160,140,120,null,null,null,null,null,null,160,null,null,{"$f":"COUNTIF(F10:AA10,\"<120\")","v":1},{"$f":"COUNTIF(F10:AA10,\"<140\")-AB10","v":6},{"$f":"COUNTIF(F10:AA10,\"<160\")-AB10-AC10","v":1},{"$f":"COUNTIF(F10:AA10,\">159\")","v":2},{"$f":"SUM(F10:AA10)","v":1260}]
[null,null,{"$f":"+C12","v":"DARQUEA RAFAELA"},null,null,"2010-10-23","2010-12-03","2010-12-18",null,null,null,"2011-06-04","2011-12-10",null,null,"2012-06-23","2012-12-15","2013-11-08",null,null,"2014-05-03",null,null,null,null,null,null,null,null,null,null,{"$f":"+AF12","v":1160}]
["10071903","J024","DARQUEA RAFAELA",null,null,80,120,120,null,null,null,120,120,null,null,160,120,160,null,null,160,null,null,null,null,null,null,{"$f":"COUNTIF(F12:AA12,\"<120\")","v":1},{"$f":"COUNTIF(F12:AA12,\"<140\")-AB12","v":5},{"$f":"COUNTIF(F12:AA12,\"<160\")-AB12-AC12","v":0},{"$f":"COUNTIF(F12:AA12,\">159\")","v":3},{"$f":"SUM(F12:AA12)","v":1160}]
[null,null,{"$f":"+C14","v":"RIBADENEIRA SOFIA"},null,null,"2010-12-03",null,null,null,null,null,"2011-03-26","2011-04-30","2011-07-02","2011-10-22","2012-04-13","2012-06-23","2013-05-17","2013-11-09","2014-05-03",null,null,null,null,null,null,null,null,null,null,null,{"$f":"+AF14","v":1160}]
["10040096","J031","RIBADENEIRA SOFIA",null,null,80,null,null,null,null,null,120,120,120,120,80,120,120,120,160,null,null,null,null,null,null,null,{"$f":"COUNTIF(F14:AA14,\"<120\")","v":2},{"$f":"COUNTIF(F14:AA14,\"<140\")-AB14","v":7},{"$f":"COUNTIF(F14:AA14,\"<160\")-AB14-AC14","v":0},{"$f":"COUNTIF(F14:AA14,\">159\")","v":1},{"$f":"SUM(F14:AA14)","v":1160}]
[null,null,{"$f":"+C16","v":"WEEMAELS NATHALIE"},null,null,null,null,null,null,null,null,null,null,null,null,"2012-04-28","2012-07-28","2013-05-25","2013-11-09",null,"2014-03-14","2014-04-12","2014-05-02","2014-05-03","2014-05-17",null,null,null,null,null,null,{"$f":"+AF16","v":880}]
["10067665","A055","WEEMAELS NATHALIE",null,null,null,null,null,null,null,null,null,null,null,null,80,120,120,80,null,80,80,120,80,120,null,null,{"$f":"COUNTIF(F16:AA16,\"<120\")","v":5},{"$f":"COUNTIF(F16:AA16,\"<140\")-AB16","v":4},{"$f":"COUNTIF(F16:AA16,\"<160\")-AB16-AC16","v":0},{"$f":"COUNTIF(F16:AA16,\">159\")","v":0},{"$f":"SUM(F16:AA16)","v":880}]
[null,null,{"$f":"+C18","v":"WRAY VINUEZA MATEO"},null,null,"2010-08-07","2010-10-23","2010-11-20","2010-12-03",null,null,"2011-04-30","2011-07-02","2011-10-22",null,null,null,"2013-11-09",null,null,null,null,null,null,null,null,null,null,null,null,null,{"$f":"+AF18","v":880}]
["10066918","J028","WRAY VINUEZA MATEO",null,null,80,120,120,120,null,null,120,120,120,null,null,null,80,null,null,null,null,null,null,null,null,null,{"$f":"COUNTIF(F18:AA18,\"<120\")","v":2},{"$f":"COUNTIF(F18:AA18,\"<140\")-AB18","v":6},{"$f":"COUNTIF(F18:AA18,\"<160\")-AB18-AC18","v":0},{"$f":"COUNTIF(F18:AA18,\">159\")","v":0},{"$f":"SUM(F18:AA18)","v":880}]
[null,null,{"$f":"+C20","v":"MORENO CORDOVEZ DANIELA"},null,null,"2010-10-23",null,null,null,null,null,"2011-03-26","2011-04-30","2011-07-02","2011-10-22","2012-08-11","2012-10-19",null,null,null,null,null,null,null,null,null,null,null,null,null,null,{"$f":"+AF20","v":800}]
["10066922","J025","MORENO CORDOVEZ DANIELA",null,null,80,null,null,null,null,null,120,120,120,120,120,120,null,null,null,null,null,null,null,null,null,null,{"$f":"COUNTIF(F20:AA20,\"<120\")","v":1},{"$f":"COUNTIF(F20:AA20,\"<140\")-AB20","v":6},{"$f":"COUNTIF(F20:AA20,\"<160\")-AB20-AC20","v":0},{"$f":"COUNTIF(F20:AA20,\">159\")","v":0},{"$f":"SUM(F20:AA20)","v":800}]
[null,null,{"$f":"+C22","v":"LETORT DUEÑAS BERNARDA"},null,null,"2010-12-03",null,null,null,null,null,"2011-03-26","2011-04-30","2011-06-04",null,"2012-06-23","2012-10-19",null,null,null,null,null,null,null,null,null,null,null,null,null,null,{"$f":"+AF22","v":680}]
["10071904","J011","LETORT DUEÑAS BERNARDA",null,null,80,null,null,null,null,null,120,120,120,null,120,120,null,null,null,null,null,null,null,null,null,null,{"$f":"COUNTIF(F22:AA22,\"<120\")","v":1},{"$f":"COUNTIF(F22:AA22,\"<140\")-AB22","v":5},{"$f":"COUNTIF(F22:AA22,\"<160\")-AB22-AC22","v":0},{"$f":"COUNTIF(F22:AA22,\">159\")","v":0},{"$f":"SUM(F22:AA22)","v":680}]
[null,null,{"$f":"+C24","v":"GUARDERAS BARAHONA SEBASTIAN"},null,null,"2010-04-24","2010-10-23","2010-12-18",null,null,null,null,null,null,null,41012,null,null,null,null,null,null,null,null,null,null,null,null,null,null,null,{"$f":"+AF24","v":400}]
["10066920","A051","GUARDERAS BARAHONA SEBASTIAN",null,null,80,120,120,null,null,null,null,null,null,null,80,null,null,null,null,null,null,null,null,null,null,null,{"$f":"COUNTIF(F24:AA24,\"<120\")","v":2},{"$f":"COUNTIF(F24:AA24,\"<140\")-AB24","v":2},{"$f":"COUNTIF(F24:AA24,\"<160\")-AB24-AC24","v":0},{"$f":"COUNTIF(F24:AA24,\">159\")","v":0},{"$f":"SUM(F24:AA24)","v":400}]
[null,null,{"$f":"+C26","v":"WRAY VINUEZA ROBERTO"},null,null,"2010-04-24","2010-11-20",null,null,null,null,"2011-04-30",null,null,null,null,null,null,null,null,null,null,null,null,null,null,null,null,null,null,null,{"$f":"+AF26","v":320}]
["10066917","A","WRAY VINUEZA ROBERTO",null,null,80,120,null,null,null,null,120,null,null,null,null,null,null,null,null,null,null,null,null,null,null,null,{"$f":"COUNTIF(F26:AA26,\"<120\")","v":1},{"$f":"COUNTIF(F26:AA26,\"<140\")-AB26","v":2},{"$f":"COUNTIF(F26:AA26,\"<160\")-AB26-AC26","v":0},{"$f":"COUNTIF(F26:AA26,\">159\")","v":0},{"$f":"SUM(F26:AA26)","v":320}]
[null,null,{"$f":"+C28","v":"ALMEIDA AYALA HECTOR"},null,null,null,null,null,null,null,null,null,null,null,null,"2012-04-13",null,"2013-11-09",null,null,null,null,null,null,null,"2014-09-27",null,null,null,null,null,{"$f":"+AF28","v":320}]
["10085864","A059","ALMEIDA AYALA HECTOR",null,null,null,null,null,null,null,null,null,null,null,null,80,null,120,null,null,null,null,null,null,null,120,null,{"$f":"COUNTIF(F28:AA28,\"<120\")","v":1},{"$f":"COUNTIF(F28:AA28,\"<140\")-AB28","v":2},{"$f":"COUNTIF(F28:AA28,\"<160\")-AB28-AC28","v":0},{"$f":"COUNTIF(F28:AA28,\">159\")","v":0},{"$f":"SUM(F28:AA28)","v":320}]
[null,null,{"$f":"+C30","v":"DARQUEA BERNARDO"},null,null,null,null,null,null,null,null,null,null,null,null,null,null,"2013-11-09",null,null,null,null,null,null,"2014-05-17","2014-09-27",null,null,null,null,null,{"$f":"+AF30","v":320}]
["10071902","A052","DARQUEA BERNARDO",null,null,null,null,null,null,null,null,null,null,null,null,null,null,80,null,null,null,null,null,null,120,120,null,{"$f":"COUNTIF(F30:AA30,\"<120\")","v":1},{"$f":"COUNTIF(F30:AA30,\"<140\")-AB30","v":2},{"$f":"COUNTIF(F30:AA30,\"<160\")-AB30-AC30","v":0},{"$f":"COUNTIF(F30:AA30,\">159\")","v":0},{"$f":"SUM(F30:AA30)","v":320}]
[null,null,{"$f":"+C32","v":"MORILLO MAURICIO"},null,null,null,null,null,null,null,null,null,null,null,null,"2012-04-13",null,"2013-11-09",null,null,null,null,null,null,null,"2014-09-27",null,null,null,null,null,{"$f":"+AF32","v":320}]
["10082085","A056","MORILLO MAURICIO",null,null,null,null,null,null,null,null,null,null,null,null,80,null,120,null,null,null,null,null,null,null,120,null,{"$f":"COUNTIF(F32:AA32,\"<120\")","v":1},{"$f":"COUNTIF(F32:AA32,\"<140\")-AB32","v":2},{"$f":"COUNTIF(F32:AA32,\"<160\")-AB32-AC32","v":0},{"$f":"COUNTIF(F32:AA32,\">159\")","v":0},{"$f":"SUM(F32:AA32)","v":320}]
[null,null,{"$f":"+C34","v":"MORILLO SERGIO"},null,null,null,null,null,null,null,null,null,null,null,null,null,null,"2013-11-09",null,null,null,null,null,null,"2014-05-17","2014-09-27",null,null,null,null,null,{"$f":"+AF34","v":320}]
["10102301","J013","MORILLO SERGIO",null,null,null,null,null,null,null,null,null,null,null,null,null,null,80,null,null,null,null,null,null,120,120,null,{"$f":"COUNTIF(F34:AA34,\"<120\")","v":1},{"$f":"COUNTIF(F34:AA34,\"<140\")-AB34","v":2},{"$f":"COUNTIF(F34:AA34,\"<160\")-AB34-AC34","v":0},{"$f":"COUNTIF(F34:AA34,\">159\")","v":0},{"$f":"SUM(F34:AA34)","v":320}]
[null,null,{"$f":"+C36","v":"RIBADENEIRA ARTURO"},null,null,null,null,null,null,null,null,null,null,null,null,null,null,"2013-11-09",null,null,null,null,null,null,"2014-05-17",null,null,null,null,null,null,{"$f":"+AF36","v":200}]
["10040095","A058","RIBADENEIRA ARTURO",null,null,null,null,null,null,null,null,null,null,null,null,null,null,80,null,null,null,null,null,null,120,null,null,{"$f":"COUNTIF(F36:AA36,\"<120\")","v":1},{"$f":"COUNTIF(F36:AA36,\"<140\")-AB36","v":1},{"$f":"COUNTIF(F36:AA36,\"<160\")-AB36-AC36","v":0},{"$f":"COUNTIF(F36:AA36,\">159\")","v":0},{"$f":"SUM(F36:AA36)","v":200}]
[null,null,{"$f":"+C38","v":"GOMEZ MICHILENA ALEXANDER"},null,null,null,null,null,null,null,null,null,null,null,null,"2012-04-13",null,null,null,null,null,null,null,null,"2014-05-17",null,null,null,null,null,null,{"$f":"+AF38","v":160}]
["10085862","J008","GOMEZ MICHILENA ALEXANDER",null,null,null,null,null,null,null,null,null,null,null,null,80,null,null,null,null,null,null,null,null,80,null,null,{"$f":"COUNTIF(F38:AA38,\"<120\")","v":2},{"$f":"COUNTIF(F38:AA38,\"<140\")-AB38","v":0},{"$f":"COUNTIF(F38:AA38,\"<160\")-AB38-AC38","v":0},{"$f":"COUNTIF(F38:AA38,\">159\")","v":0},{"$f":"SUM(F38:AA38)","v":160}]
[null,null,{"$f":"+C40","v":"GONZALEZ BERNARDA"},null,null,null,null,null,null,null,null,null,null,null,null,null,null,"2013-11-09",null,null,null,null,null,null,"2014-05-17",null,null,null,null,null,null,{"$f":"+AF40","v":160}]
["10102303","J063","GONZALEZ BERNARDA",null,null,null,null,null,null,null,null,null,null,null,null,null,null,80,null,null,null,null,null,null,80,null,null,{"$f":"COUNTIF(F40:AA40,\"<120\")","v":2},{"$f":"COUNTIF(F40:AA40,\"<140\")-AB40","v":0},{"$f":"COUNTIF(F40:AA40,\"<160\")-AB40-AC40","v":0},{"$f":"COUNTIF(F40:AA40,\">159\")","v":0},{"$f":"SUM(F40:AA40)","v":160}]
[null,null,{"$f":"+C42","v":"RECALDE JUAN JOSE"},null,null,null,null,null,null,null,null,"2011-07-02",null,null,null,null,null,"2013-11-09",null,null,null,null,null,null,null,"2014-09-27",null,null,null,null,null,{"$f":"+AF42","v":240}]
["10079020","A060","RECALDE JUAN JOSE",null,null,null,null,null,null,null,null,80,null,null,null,null,null,80,null,null,null,null,null,null,null,80,null,{"$f":"COUNTIF(F42:AA42,\"<120\")","v":3},{"$f":"COUNTIF(F42:AA42,\"<140\")-AB42","v":0},{"$f":"COUNTIF(F42:AA42,\"<160\")-AB42-AC42","v":0},{"$f":"COUNTIF(F42:AA42,\">159\")","v":0},{"$f":"SUM(F42:AA42)","v":240}]
[null,null,{"$f":"+C44","v":"SERRANO VALLEJO FELIPE"},null,null,null,null,null,null,null,null,null,null,null,null,null,null,null,null,null,"2014-05-04",null,null,null,"2014-05-17","2014-09-27",null,null,null,null,null,{"$f":"+AF44","v":280}]
["10102306","J020","SERRANO VALLEJO FELIPE",null,null,null,null,null,null,null,null,null,null,null,null,null,null,null,null,null,80,null,null,null,80,120,null,{"$f":"COUNTIF(F44:AA44,\"<120\")","v":2},{"$f":"COUNTIF(F44:AA44,\"<140\")-AB44","v":1},{"$f":"COUNTIF(F44:AA44,\"<160\")-AB44-AC44","v":0},{"$f":"COUNTIF(F44:AA44,\">159\")","v":0},{"$f":"SUM(F44:AA44)","v":280}]
[null,null,{"$f":"+C46","v":"DAVILA GORDILLO JUAN DIEGO"},null,null,null,null,null,null,null,null,null,null,null,null,null,null,"2013-03-09",null,null,null,null,null,null,null,null,null,null,null,null,null,{"$f":"+AF46","v":80}]
["10085953","A057","DAVILA GORDILLO JUAN DIEGO",null,null,null,null,null,null,null,null,null,null,null,null,null,null,80,null,null,null,null,null,null,null,null,null,{"$f":"COUNTIF(F46:AA46,\"<120\")","v":1},{"$f":"COUNTIF(F46:AA46,\"<140\")-AB46","v":0},{"$f":"COUNTIF(F46:AA46,\"<160\")-AB46-AC46","v":0},{"$f":"COUNTIF(F46:AA46,\">159\")","v":0},{"$f":"SUM(F46:AA46)","v":80}]
[null,null,{"$f":"+C48","v":"GUARDERAS PEDRO JOSE"},null,null,null,null,null,null,null,null,null,null,null,null,null,null,"2013-07-05",null,null,null,null,null,null,null,null,null,null,null,null,null,{"$f":"+AF48","v":80}]
["10099388","J014","GUARDERAS PEDRO JOSE",null,null,null,null,null,null,null,null,null,null,null,null,null,null,80,null,null,null,null,null,null,null,null,null,{"$f":"COUNTIF(F48:AA48,\"<120\")","v":1},{"$f":"COUNTIF(F48:AA48,\"<140\")-AB48","v":0},{"$f":"COUNTIF(F48:AA48,\"<160\")-AB48-AC48","v":0},{"$f":"COUNTIF(F48:AA48,\">159\")","v":0},{"$f":"SUM(F48:AA48)","v":80}]
[null,null,{"$f":"+C50","v":"KOPPEL OSWALDO"},null,null,null,null,null,null,null,null,null,null,null,null,null,null,null,null,null,null,null,null,null,"2014-05-17","2014-09-27",null,null,null,null,null,{"$f":"+AF50","v":200}]
["10108280","A081","KOPPEL OSWALDO",null,null,null,null,null,null,null,null,null,null,null,null,null,null,null,null,null,null,null,null,null,80,120,null,{"$f":"COUNTIF(F50:AA50,\"<120\")","v":1},{"$f":"COUNTIF(F50:AA50,\"<140\")-AB50","v":1},{"$f":"COUNTIF(F50:AA50,\"<160\")-AB50-AC50","v":0},{"$f":"COUNTIF(F50:AA50,\">159\")","v":0},{"$f":"SUM(F50:AA50)","v":200}]
[null,null,{"$f":"+C52","v":"LOYOLA CLAUDIA MARIA"},null,null,null,null,null,null,null,null,null,null,null,null,null,null,null,null,null,null,null,null,null,"2014-05-17",null,null,null,null,null,null,{"$f":"+AF52","v":80}]
["10108276","J055","LOYOLA CLAUDIA MARIA",null,null,null,null,null,null,null,null,null,null,null,null,null,null,null,null,null,null,null,null,null,80,null,null,{"$f":"COUNTIF(F52:AA52,\"<120\")","v":1},{"$f":"COUNTIF(F52:AA52,\"<140\")-AB52","v":0},{"$f":"COUNTIF(F52:AA52,\"<160\")-AB52-AC52","v":0},{"$f":"COUNTIF(F52:AA52,\">159\")","v":0},{"$f":"SUM(F52:AA52)","v":80}]
[null,null,{"$f":"+C54","v":"MALO TORAL DAVID"},null,null,null,null,null,null,null,null,null,null,null,null,null,null,null,null,null,null,null,null,null,"2014-05-17","2014-09-27",null,null,null,null,null,{"$f":"+AF54","v":160}]
["10108275","J087","MALO TORAL DAVID",null,null,null,null,null,null,null,null,null,null,null,null,null,null,null,null,null,null,null,null,null,80,80,null,{"$f":"COUNTIF(F54:AA54,\"<120\")","v":2},{"$f":"COUNTIF(F54:AA54,\"<140\")-AB54","v":0},{"$f":"COUNTIF(F54:AA54,\"<160\")-AB54-AC54","v":0},{"$f":"COUNTIF(F54:AA54,\">159\")","v":0},{"$f":"SUM(F54:AA54)","v":160}]
[null,null,{"$f":"+C56","v":"MIÑO SANTIAGO"},null,null,"2010-12-03",null,null,null,null,null,null,null,null,null,null,null,null,null,null,null,null,null,null,null,null,null,null,null,null,null,{"$f":"+AF56","v":80}]
["10072559","J012","MIÑO SANTIAGO",null,null,80,null,null,null,null,null,null,null,null,null,null,null,null,null,null,null,null,null,null,null,null,null,{"$f":"COUNTIF(F56:AA56,\"<120\")","v":1},{"$f":"COUNTIF(F56:AA56,\"<140\")-AB56","v":0},{"$f":"COUNTIF(F56:AA56,\"<160\")-AB56-AC56","v":0},{"$f":"COUNTIF(F56:AA56,\">159\")","v":0},{"$f":"SUM(F56:AA56)","v":80}]
[null,null,{"$f":"+C58","v":"MORENO DANIEL"},null,null,null,null,null,null,null,null,null,null,null,null,null,null,null,null,null,"2014-05-04",null,null,null,null,null,null,null,null,null,null,{"$f":"+AF58","v":80}]
["10107818","J043","MORENO DANIEL",null,null,null,null,null,null,null,null,null,null,null,null,null,null,null,null,null,80,null,null,null,null,null,null,{"$f":"COUNTIF(F58:AA58,\"<120\")","v":1},{"$f":"COUNTIF(F58:AA58,\"<140\")-AB58","v":0},{"$f":"COUNTIF(F58:AA58,\"<160\")-AB58-AC58","v":0},{"$f":"COUNTIF(F58:AA58,\">159\")","v":0},{"$f":"SUM(F58:AA58)","v":80}]
[null,null,{"$f":"+C60","v":"SERRANO JUAN CARLOS"},null,null,"2010-10-23",null,null,null,null,null,null,null,null,null,null,null,null,null,null,null,null,null,null,null,null,null,null,null,null,null,{"$f":"+AF60","v":80}]
["10071901","A023","SERRANO JUAN CARLOS",null,null,80,null,null,null,null,null,null,null,null,null,null,null,null,null,null,null,null,null,null,null,null,null,{"$f":"COUNTIF(F60:AA60,\"<120\")","v":1},{"$f":"COUNTIF(F60:AA60,\"<140\")-AB60","v":0},{"$f":"COUNTIF(F60:AA60,\"<160\")-AB60-AC60","v":0},{"$f":"COUNTIF(F60:AA60,\">159\")","v":0},{"$f":"SUM(F60:AA60)","v":80}]
[null,null,{"$f":"+C62","v":"VINTIMILLA CORDERO PABLO JOSÉ"},null,null,null,null,null,null,null,null,null,null,null,null,null,null,null,null,null,null,null,null,null,"2014-06-22",null,null,null,null,null,null,{"$f":"+AF62","v":80}]
["10109308","J054","VINTIMILLA CORDERO PABLO JOSÉ",null,null,null,null,null,null,null,null,null,null,null,null,null,null,null,null,null,null,null,null,null,80,null,null,{"$f":"COUNTIF(F62:AA62,\"<120\")","v":1},{"$f":"COUNTIF(F62:AA62,\"<140\")-AB62","v":0},{"$f":"COUNTIF(F62:AA62,\"<160\")-AB62-AC62","v":0},{"$f":"COUNTIF(F62:AA62,\">159\")","v":0},{"$f":"SUM(F62:AA62)","v":80}]
[null,null,{"$f":"+C64","v":"VINTIMILLA PABLO XAVIER"},null,null,null,null,null,null,null,null,null,null,null,null,null,null,null,null,null,null,null,null,null,"2014-05-17",null,null,null,null,null,null,{"$f":"+AF64","v":80}]
["10108279","A092","VINTIMILLA PABLO XAVIER",null,null,null,null,null,null,null,null,null,null,null,null,null,null,null,null,null,null,null,null,null,80,null,null,{"$f":"COUNTIF(F64:AA64,\"<120\")","v":1},{"$f":"COUNTIF(F64:AA64,\"<140\")-AB64","v":0},{"$f":"COUNTIF(F64:AA64,\"<160\")-AB64-AC64","v":0},{"$f":"COUNTIF(F64:AA64,\">159\")","v":0},{"$f":"SUM(F64:AA64)","v":80}]
[null,null,{"$f":"+C66","v":"CORNEJO MANUEL"},null,null,null,null,null,null,null,null,null,null,null,null,null,null,null,null,null,null,null,null,null,null,"2014-09-27",null,null,null,null,null,{"$f":"+AF66","v":80}]
["10054515","J021","CORNEJO MANUEL",null,null,null,null,null,null,null,null,null,null,null,null,null,null,null,null,null,null,null,null,null,null,80,null,{"$f":"COUNTIF(F66:AA66,\"<120\")","v":1},{"$f":"COUNTIF(F66:AA66,\"<140\")-AB66","v":0},{"$f":"COUNTIF(F66:AA66,\"<160\")-AB66-AC66","v":0},{"$f":"COUNTIF(F66:AA66,\">159\")","v":0},{"$f":"SUM(F66:AA66)","v":80}]
[null,null,{"$f":"+C68","v":"LETORT JOSE IGNACIO"},null,null,null,null,null,null,null,null,null,null,null,null,null,null,null,null,null,null,null,null,null,null,"2014-09-27",null,null,null,null,null,{"$f":"+AF68","v":80}]
["10108281","J047","LETORT JOSE IGNACIO",null,null,null,null,null,null,null,null,null,null,null,null,null,null,null,null,null,null,null,null,null,null,80,null,{"$f":"COUNTIF(F68:AA68,\"<120\")","v":1},{"$f":"COUNTIF(F68:AA68,\"<140\")-AB68","v":0},{"$f":"COUNTIF(F68:AA68,\"<160\")-AB68-AC68","v":0},{"$f":"COUNTIF(F68:AA68,\">159\")","v":0},{"$f":"SUM(F68:AA68)","v":80}]
[null,null,{"$f":"+C70","v":0},null,null,null,null,null,null,null,null,null,null,null,null,null,null,null,null,null,null,null,null,null,null,null,null,null,null,null,null,{"$f":"+AF70","v":0}]
[null,null,null,null,null,null,null,null,null,null,null,null,null,null,null,null,null,null,null,null,null,null,null,null,null,null,null,{"$f":"COUNTIF(F70:AA70,\"<120\")","v":0},{"$f":"COUNTIF(F70:AA70,\"<140\")-AB70","v":0},{"$f":"COUNTIF(F70:AA70,\"<160\")-AB70-AC70","v":0},{"$f":"COUNTIF(F70:AA70,\">159\")","v":0},{"$f":"SUM(F70:AA70)","v":0}]
[null,null,{"$f":"+C72","v":0},null,null,null,null,null,null,null,null,null,null,null,null,null,null,null,null,null,null,null,null,null,null,null,null,null,null,null,null,{"$f":"+AF72","v":0}]
[null,null,null,null,null,null,null,null,null,null,null,null,null,null,null,null,null,null,null,null,null,null,null,null,null,null,null,{"$f":"COUNTIF(F72:AA72,\"<120\")","v":0},{"$f":"COUNTIF(F72:AA72,\"<140\")-AB72","v":0},{"$f":"COUNTIF(F72:AA72,\"<160\")-AB72-AC72","v":0},{"$f":"COUNTIF(F72:AA72,\">159\")","v":0},{"$f":"SUM(F72:AA72)","v":0}]
[null,null,{"$f":"+C74","v":0},null,null,null,null,null,null,null,null,null,null,null,null,null,null,null,null,null,null,null,null,null,null,null,null,null,null,null,null,{"$f":"+AF74","v":0}]
[null,null,null,null,null,null,null,null,null,null,null,null,null,null,null,null,null,null,null,null,null,null,null,null,null,null,null,{"$f":"COUNTIF(F74:AA74,\"<120\")","v":0},{"$f":"COUNTIF(F74:AA74,\"<140\")-AB74","v":0},{"$f":"COUNTIF(F74:AA74,\"<160\")-AB74-AC74","v":0},{"$f":"COUNTIF(F74:AA74,\">159\")","v":0},{"$f":"SUM(F74:AA74)","v":0}]
[null,null,{"$f":"+C76","v":0},null,null,null,null,null,null,null,null,null,null,null,null,null,null,null,null,null,null,null,null,null,null,null,null,null,null,null,null,{"$f":"+AF76","v":0}]
[null,null,null,null,null,null,null,null,null,null,null,null,null,null,null,null,null,null,null,null,null,null,null,null,null,null,null,{"$f":"COUNTIF(F76:AA76,\"<120\")","v":0},{"$f":"COUNTIF(F76:AA76,\"<140\")-AB76","v":0},{"$f":"COUNTIF(F76:AA76,\"<160\")-AB76-AC76","v":0},{"$f":"COUNTIF(F76:AA76,\">159\")","v":0},{"$f":"SUM(F76:AA76)","v":0}]
[null,null,{"$f":"+C78","v":0},null,null,null,null,null,null,null,null,null,null,null,null,null,null,null,null,null,null,null,null,null,null,null,null,null,null,null,null,{"$f":"+AF78","v":0}]
[null,null,null,null,null,null,null,null,null,null,null,null,null,null,null,null,null,null,null,null,null,null,null,null,null,null,null,{"$f":"COUNTIF(F78:AA78,\"<120\")","v":0},{"$f":"COUNTIF(F78:AA78,\"<140\")-AB78","v":0},{"$f":"COUNTIF(F78:AA78,\"<160\")-AB78-AC78","v":0},{"$f":"COUNTIF(F78:AA78,\">159\")","v":0},{"$f":"SUM(F78:AA78)","v":0}]
[null,null,{"$f":"+C80","v":0},null,null,null,null,null,null,null,null,null,null,null,null,null,null,null,null,null,null,null,null,null,null,null,null,null,null,null,null,{"$f":"+AF80","v":0}]
[null,null,null,null,null,null,null,null,null,null,null,null,null,null,null,null,null,null,null,null,null,null,null,null,null,null,null,{"$f":"COUNTIF(F80:AA80,\"<120\")","v":0},{"$f":"COUNTIF(F80:AA80,\"<140\")-AB80","v":0},{"$f":"COUNTIF(F80:AA80,\"<160\")-AB80-AC80","v":0},{"$f":"COUNTIF(F80:AA80,\">159\")","v":0},{"$f":"SUM(F80:AA80)","v":0}]
[null,null,{"$f":"+C82","v":"ZZZZZZZ"}]
[1000,1000,"ZZZZZZZ",null,null,null,null,null,null,null,null,{"$f":"IFERROR(#REF!,\"\")","v":""},"","","","",null,"",{"$f":"IFERROR(#REF!,\"\")","v":""}]
[null,null,null,null,null,null,null,null,null,null,null,null,null,null,null,null,null,null,{"$f":"IFERROR(#REF!,\"\")","v":""}]

{"sheet":"C FEI","index":8,"n_rows":83,"n_cols":30,"rows_kept":83,"cut":false,"hidden":false,"merged":[[1,1,1,13],[4,17,4,18],[4,19,4,24],[3,0,3,1],[4,0,4,1],[4,15,4,16],[3,2,3,3],[4,11,4,14],[4,5,4,10]]}
[]
[null,"CABALLOS, COMPETENCIAS INTERNACIONALES FEI"]
[]
[null,null,"CABALLOS"]
["CODIGO",null,null,null,2009,2010,null,null,null,null,null,2011,null,null,null,2012,null,2013,null,2014]
["INTERNACIONAL","LOCAL","CABALLO","PROPIETARI/JINETE",null,null,null,null,null,null,null,null,null,null,null,null,null,null,null,null,null,null,null,null,null,">80<120",">120<140",">140>160",">160","ACUMULADO"]
[null,null,"FRODO",null,"2009-12-19","2010-04-24","2010-10-23",null,null,null,null,"2011-04-30","2011-07-02","2011-10-22",null,null,null,"2013-11-09",null,"2014-05-17",null,null,null,null,null,null,null,null,null,{"$f":"+AD8","v":840}]
["102UE17","C188","FRODO","RIBADENEIRA ARTURO",80,80,120,null,null,null,null,120,120,120,null,null,null,80,null,120,null,null,null,null,null,{"$f":"COUNTIF(E8:Y8,\"<120\")","v":3},{"$f":"COUNTIF(E8:Y8,\"<140\")-Z8","v":5},{"$f":"COUNTIF(E8:Y8,\"<160\")-Z8-AA8","v":0},{"$f":"COUNTIF(E8:Y8,\">160\")","v":0},{"$f":"SUM(E8:Y8)","v":840}]
[null,null,"AR FAISAN &\"A\"",null,null,null,null,null,null,null,null,null,null,null,null,"2012-04-13",null,"2013-11-09",null,null,null,null,null,null,null,null,null,null,null,{"$f":"+AD10","v":200}]
["103OQ69","C096","AR FAISAN","ARTURO RIBADENEIRA",null,null,null,null,null,null,null,null,null,null,null,80,null,120,null,null,null,null,null,null,null,{"$f":"COUNTIF(E10:Y10,\"<120\")","v":1},{"$f":"COUNTIF(E10:Y10,\"<140\")-Z10","v":1},{"$f":"COUNTIF(E10:Y10,\"<160\")-Z10-AA10","v":0},{"$f":"COUNTIF(E10:Y10,\">160\")","v":0},{"$f":"SUM(E10:Y10)","v":200}]
[null,null,"CENTAURO",null,null,null,null,null,null,null,null,null,null,null,null,"2012-04-13",null,"2013-11-09",null,null,null,null,null,"2014-09-27",null,null,null,null,null,{"$f":"+AD12","v":320}]
["103OQ90","C097","CENTAURO","HECTOR ALMEIDA",null,null,null,null,null,null,null,null,null,null,null,80,null,120,null,null,null,null,null,120,null,{"$f":"COUNTIF(E12:Y12,\"<120\")","v":1},{"$f":"COUNTIF(E12:Y12,\"<140\")-Z12","v":2},{"$f":"COUNTIF(E12:Y12,\"<160\")-Z12-AA12","v":0},{"$f":"COUNTIF(E12:Y12,\">160\")","v":0},{"$f":"SUM(E12:Y12)","v":320}]
[null,null,"CG ALLASKI",null,null,null,null,null,null,null,null,null,null,null,null,null,null,"2013-11-09",null,"2014-05-17",null,null,null,null,null,null,null,null,null,{"$f":"+AD14","v":200}]
["104DT56","C093","CG ALLASKI","WEEMAELS NATHALIE",null,null,null,null,null,null,null,null,null,null,null,null,null,80,null,120,null,null,null,null,null,{"$f":"COUNTIF(E14:Y14,\"<120\")","v":1},{"$f":"COUNTIF(E14:Y14,\"<140\")-Z14","v":1},{"$f":"COUNTIF(E14:Y14,\"<160\")-Z14-AA14","v":0},{"$f":"COUNTIF(E14:Y14,\">160\")","v":0},{"$f":"SUM(E14:Y14)","v":200}]
[null,null,"FHARA CONEJA",null,null,null,null,null,null,null,null,null,null,null,null,null,null,"2013-11-09",null,"2014-05-17",null,null,null,"2014-09-27",null,null,null,null,null,{"$f":"+AD16","v":320}]
["104DQ52","C136","FHARA CONEJA","DARQUEA BERNARDO",null,null,null,null,null,null,null,null,null,null,null,null,null,80,null,120,null,null,null,120,null,{"$f":"COUNTIF(E16:Y16,\"<120\")","v":1},{"$f":"COUNTIF(E16:Y16,\"<140\")-Z16","v":2},{"$f":"COUNTIF(E16:Y16,\"<160\")-Z16-AA16","v":0},{"$f":"COUNTIF(E16:Y16,\">160\")","v":0},{"$f":"SUM(E16:Y16)","v":320}]
[null,null,"MISTERIO",null,null,null,null,null,null,null,null,null,null,null,null,"2012-04-13",null,"2013-11-09",null,null,null,null,null,"2014-09-27",null,null,null,null,null,{"$f":"+AD18","v":320}]
["103OK01","C094","MISTERIO","MAURICIO MORILLO",null,null,null,null,null,null,null,null,null,null,null,80,null,120,null,null,null,null,null,120,null,{"$f":"COUNTIF(E18:Y18,\"<120\")","v":1},{"$f":"COUNTIF(E18:Y18,\"<140\")-Z18","v":2},{"$f":"COUNTIF(E18:Y18,\"<160\")-Z18-AA18","v":0},{"$f":"COUNTIF(E18:Y18,\">160\")","v":0},{"$f":"SUM(E18:Y18)","v":320}]
[null,null,"QUITA PENAS",null,null,null,null,null,null,null,null,null,null,null,null,null,null,"2013-11-09",null,"2014-05-17",null,null,null,"2014-09-27",null,null,null,null,null,{"$f":"+AD20","v":320}]
["104DT55","C072","QUITA PENAS","MAURICIO MORILLO",null,null,null,null,null,null,null,null,null,null,null,null,null,80,null,120,null,null,null,120,null,{"$f":"COUNTIF(E20:Y20,\"<120\")","v":1},{"$f":"COUNTIF(E20:Y20,\"<140\")-Z20","v":2},{"$f":"COUNTIF(E20:Y20,\"<160\")-Z20-AA20","v":0},{"$f":"COUNTIF(E20:Y20,\">160\")","v":0},{"$f":"SUM(E20:Y20)","v":320}]
[null,null,"AMARETO",null,null,null,null,null,null,null,null,null,null,null,null,null,null,"2013-11-09",null,null,null,null,null,null,null,null,null,null,null,{"$f":"+AD22","v":80}]
["104DU88","C046","AMARETO","JOSE LETORT",null,null,null,null,null,null,null,null,null,null,null,null,null,80,null,null,null,null,null,null,null,{"$f":"COUNTIF(E22:Y22,\"<120\")","v":1},{"$f":"COUNTIF(E22:Y22,\"<140\")-Z22","v":0},{"$f":"COUNTIF(E22:Y22,\"<160\")-Z22-AA22","v":0},{"$f":"COUNTIF(E22:Y22,\">160\")","v":0},{"$f":"SUM(E22:Y22)","v":80}]
[null,null,"ARAGON",null,null,null,null,null,null,null,null,null,null,null,null,null,null,null,null,"2014-05-17",null,null,null,null,null,null,null,null,null,{"$f":"+AD24","v":80}]
["104JS66","C208","ARAGON","MALO TORAL DAVID",null,null,null,null,null,null,null,null,null,null,null,null,null,null,null,80,null,null,null,null,null,{"$f":"COUNTIF(E24:Y24,\"<120\")","v":1},{"$f":"COUNTIF(E24:Y24,\"<140\")-Z24","v":0},{"$f":"COUNTIF(E24:Y24,\"<160\")-Z24-AA24","v":0},{"$f":"COUNTIF(E24:Y24,\">160\")","v":0},{"$f":"SUM(E24:Y24)","v":80}]
[null,null,"ASRAEL",null,null,null,null,null,null,null,null,null,null,null,null,null,null,null,null,"2014-05-17",null,null,null,null,null,null,null,null,null,{"$f":"+AD26","v":80}]
["104JS91","C232","ASRAEL","GONZALEZ BERNARDA",null,null,null,null,null,null,null,null,null,null,null,null,null,null,null,80,null,null,null,null,null,{"$f":"COUNTIF(E26:Y26,\"<120\")","v":1},{"$f":"COUNTIF(E26:Y26,\"<140\")-Z26","v":0},{"$f":"COUNTIF(E26:Y26,\"<160\")-Z26-AA26","v":0},{"$f":"COUNTIF(E26:Y26,\">160\")","v":0},{"$f":"SUM(E26:Y26)","v":80}]
[null,null,"AVENTURERO",null,null,null,null,null,null,null,null,null,null,null,null,null,null,null,null,"2014-05-17",null,null,null,null,null,null,null,null,null,{"$f":"+AD28","v":80}]
["104JS72","C115","AVENTURERO","HECTOR ALMEIDA",null,null,null,null,null,null,null,null,null,null,null,null,null,null,null,80,null,null,null,null,null,{"$f":"COUNTIF(E28:Y28,\"<120\")","v":1},{"$f":"COUNTIF(E28:Y28,\"<140\")-Z28","v":0},{"$f":"COUNTIF(E28:Y28,\"<160\")-Z28-AA28","v":0},{"$f":"COUNTIF(E28:Y28,\">160\")","v":0},{"$f":"SUM(E28:Y28)","v":80}]
[null,null,"BOM BOM",null,null,null,null,null,null,null,null,null,null,null,null,"2012-04-13",null,null,null,null,null,null,null,"2014-09-27",null,null,null,null,null,{"$f":"+AD30","v":160}]
["103OQ85","C098","BOM BOM","JUAN JOSE RECALDE",null,null,null,null,null,null,null,null,null,null,null,80,null,null,null,null,null,null,null,80,null,{"$f":"COUNTIF(E30:Y30,\"<120\")","v":2},{"$f":"COUNTIF(E30:Y30,\"<140\")-Z30","v":0},{"$f":"COUNTIF(E30:Y30,\"<160\")-Z30-AA30","v":0},{"$f":"COUNTIF(E30:Y30,\">160\")","v":0},{"$f":"SUM(E30:Y30)","v":160}]
[null,null,"FELIPE GR",null,null,null,null,null,null,null,null,null,null,null,null,"2012-04-13",null,null,null,null,null,null,null,null,null,null,null,null,null,{"$f":"+AD32","v":80}]
["103OQ70","C112","FELIPE GR","GOMEZ MICHILENA ROMMEL",null,null,null,null,null,null,null,null,null,null,null,80,null,null,null,null,null,null,null,null,null,{"$f":"COUNTIF(E32:Y32,\"<120\")","v":1},{"$f":"COUNTIF(E32:Y32,\"<140\")-Z32","v":0},{"$f":"COUNTIF(E32:Y32,\"<160\")-Z32-AA32","v":0},{"$f":"COUNTIF(E32:Y32,\">160\")","v":0},{"$f":"SUM(E32:Y32)","v":80}]
[null,null,"FUERTE CSJ",null,null,null,null,null,null,null,null,null,null,null,null,null,null,null,null,"2014-05-17",null,null,null,null,null,null,null,null,null,{"$f":"+AD34","v":80}]
["104JV09","C148","FUERTE CSJ","GOMEZ ALEXANDER",null,null,null,null,null,null,null,null,null,null,null,null,null,null,null,80,null,null,null,null,null,{"$f":"COUNTIF(E34:Y34,\"<120\")","v":1},{"$f":"COUNTIF(E34:Y34,\"<140\")-Z34","v":0},{"$f":"COUNTIF(E34:Y34,\"<160\")-Z34-AA34","v":0},{"$f":"COUNTIF(E34:Y34,\">160\")","v":0},{"$f":"SUM(E34:Y34)","v":80}]
[null,null,"KADAFI",null,null,null,null,null,null,null,null,null,null,null,null,"2012-04-13",null,null,null,null,null,null,null,null,null,null,null,null,null,{"$f":"+AD36","v":80}]
["103OG09","C084","KADAFI","DANIEL MORENO",null,null,null,null,null,null,null,null,null,null,null,80,null,null,null,null,null,null,null,null,null,{"$f":"COUNTIF(E36:Y36,\"<120\")","v":1},{"$f":"COUNTIF(E36:Y36,\"<140\")-Z36","v":0},{"$f":"COUNTIF(E36:Y36,\"<160\")-Z36-AA36","v":0},{"$f":"COUNTIF(E36:Y36,\">160\")","v":0},{"$f":"SUM(E36:Y36)","v":80}]
[null,null,"KAFIR HA",null,null,null,null,null,null,null,null,null,null,null,null,null,null,"2013-11-09",null,null,null,null,null,"2014-09-27",null,null,null,null,null,{"$f":"+AD38","v":200}]
["104DT58","C114","KAFIR HA","HECTOR ALMEIDA",null,null,null,null,null,null,null,null,null,null,null,null,null,80,null,null,null,null,null,120,null,{"$f":"COUNTIF(E38:Y38,\"<120\")","v":1},{"$f":"COUNTIF(E38:Y38,\"<140\")-Z38","v":1},{"$f":"COUNTIF(E38:Y38,\"<160\")-Z38-AA38","v":0},{"$f":"COUNTIF(E38:Y38,\">160\")","v":0},{"$f":"SUM(E38:Y38)","v":200}]
[null,null,"PATACON",null,null,null,null,null,null,null,null,null,null,null,null,null,null,null,null,"2014-05-17",null,null,null,null,null,null,null,null,null,{"$f":"+AD40","v":80}]
["104JS67","C197","PATACON","LOYOLA CLAUDIA MARIA",null,null,null,null,null,null,null,null,null,null,null,null,null,null,null,80,null,null,null,null,null,{"$f":"COUNTIF(E40:Y40,\"<120\")","v":1},{"$f":"COUNTIF(E40:Y40,\"<140\")-Z40","v":0},{"$f":"COUNTIF(E40:Y40,\"<160\")-Z40-AA40","v":0},{"$f":"COUNTIF(E40:Y40,\">160\")","v":0},{"$f":"SUM(E40:Y40)","v":80}]
[null,null,"WISKY",null,null,null,null,null,null,null,null,null,null,null,null,null,null,null,null,"2014-05-17",null,null,null,null,null,null,null,null,null,{"$f":"+AD42","v":80}]
["104JS71","C074","WISKY","VINTIMILLA PABLO",null,null,null,null,null,null,null,null,null,null,null,null,null,null,null,80,null,null,null,null,null,{"$f":"COUNTIF(E42:Y42,\"<120\")","v":1},{"$f":"COUNTIF(E42:Y42,\"<140\")-Z42","v":0},{"$f":"COUNTIF(E42:Y42,\"<160\")-Z42-AA42","v":0},{"$f":"COUNTIF(E42:Y42,\">160\")","v":0},{"$f":"SUM(E42:Y42)","v":80}]
[null,null,{"$f":"+C44","v":"ZUCO"},null,null,null,null,null,null,null,null,null,null,null,null,null,null,null,null,"2014-05-17",null,null,null,"2014-09-27",null,null,null,null,null,{"$f":"+AD44","v":200}]
["104DU87","C041","ZUCO","SERRANO FELIPE",null,null,null,null,null,null,null,null,null,null,null,null,null,null,null,80,null,null,null,120,null,{"$f":"COUNTIF(E44:Y44,\"<120\")","v":1},{"$f":"COUNTIF(E44:Y44,\"<140\")-Z44","v":1},{"$f":"COUNTIF(E44:Y44,\"<160\")-Z44-AA44","v":0},{"$f":"COUNTIF(E44:Y44,\">160\")","v":0},{"$f":"SUM(E44:Y44)","v":200}]
[null,null,{"$f":"+C46","v":"MD KABUL"},null,null,null,null,null,null,null,null,null,null,null,null,null,null,null,null,null,null,null,null,"2014-09-27",null,null,null,null,null,{"$f":"+AD46","v":80}]
["104JS69","C120","MD KABUL","FELIPE ANDRADE",null,null,null,null,null,null,null,null,null,null,null,null,null,null,null,null,null,null,null,80,null,{"$f":"COUNTIF(E46:Y46,\"<120\")","v":1},{"$f":"COUNTIF(E46:Y46,\"<140\")-Z46","v":0},{"$f":"COUNTIF(E46:Y46,\"<160\")-Z46-AA46","v":0},{"$f":"COUNTIF(E46:Y46,\">160\")","v":0},{"$f":"SUM(E46:Y46)","v":80}]
[null,null,{"$f":"+C48","v":"GS HAAKIM"},null,null,null,null,null,null,null,null,null,null,null,null,null,null,null,null,null,null,null,null,"2014-09-27",null,null,null,null,null,{"$f":"+AD48","v":80}]
["104JW31","C189","GS HAAKIM","CORNEJO MANUEL",null,null,null,null,null,null,null,null,null,null,null,null,null,null,null,null,null,null,null,80,null,{"$f":"COUNTIF(E48:Y48,\"<120\")","v":1},{"$f":"COUNTIF(E48:Y48,\"<140\")-Z48","v":0},{"$f":"COUNTIF(E48:Y48,\"<160\")-Z48-AA48","v":0},{"$f":"COUNTIF(E48:Y48,\">160\")","v":0},80]
[null,null,{"$f":"+C50","v":"SHAKIRA"},null,null,null,null,null,null,null,null,null,null,null,null,null,null,null,null,null,null,null,null,"2014-09-27",null,null,null,null,null,{"$f":"+AD50","v":80}]
["104JW32","C154","SHAKIRA","LETORT JOSE IGNACIO",null,null,null,null,null,null,null,null,null,null,null,null,null,null,null,null,null,null,null,80,null,{"$f":"COUNTIF(E50:Y50,\"<120\")","v":1},{"$f":"COUNTIF(E50:Y50,\"<140\")-Z50","v":0},{"$f":"COUNTIF(E50:Y50,\"<160\")-Z50-AA50","v":0},{"$f":"COUNTIF(E50:Y50,\">160\")","v":0},80]
[null,null,{"$f":"+C52","v":0},null,null,null,null,null,null,null,null,null,null,null,null,null,null,null,null,null,null,null,null,null,null,null,null,null,null,{"$f":"+AD52","v":0}]
[null,null,null,null,null,null,null,null,null,null,null,null,null,null,null,null,null,null,null,null,null,null,null,null,null,{"$f":"COUNTIF(E52:Y52,\"<120\")","v":0},{"$f":"COUNTIF(E52:Y52,\"<140\")-Z52","v":0},{"$f":"COUNTIF(E52:Y52,\"<160\")-Z52-AA52","v":0},{"$f":"COUNTIF(E52:Y52,\">160\")","v":0},0]
[null,null,{"$f":"+C54","v":0},null,null,null,null,null,null,null,null,null,null,null,null,null,null,null,null,null,null,null,null,null,null,null,null,null,null,{"$f":"+AD54","v":0}]
[null,null,null,null,null,null,null,null,null,null,null,null,null,null,null,null,null,null,null,null,null,null,null,null,null,{"$f":"COUNTIF(E54:Y54,\"<120\")","v":0},{"$f":"COUNTIF(E54:Y54,\"<140\")-Z54","v":0},{"$f":"COUNTIF(E54:Y54,\"<160\")-Z54-AA54","v":0},{"$f":"COUNTIF(E54:Y54,\">160\")","v":0},0]
[null,null,{"$f":"+C56","v":0},null,null,null,null,null,null,null,null,null,null,null,null,null,null,null,null,null,null,null,null,null,null,null,null,null,null,{"$f":"+AD56","v":0}]
[null,null,null,null,null,null,null,null,null,null,null,null,null,null,null,null,null,null,null,null,null,null,null,null,null,{"$f":"COUNTIF(E56:Y56,\"<120\")","v":0},{"$f":"COUNTIF(E56:Y56,\"<140\")-Z56","v":0},{"$f":"COUNTIF(E56:Y56,\"<160\")-Z56-AA56","v":0},{"$f":"COUNTIF(E56:Y56,\">160\")","v":0},0]
[null,null,{"$f":"+C58","v":0},null,null,null,null,null,null,null,null,null,null,null,null,null,null,null,null,null,null,null,null,null,null,null,null,null,null,{"$f":"+AD58","v":0}]
[null,null,null,null,null,null,null,null,null,null,null,null,null,null,null,null,null,null,null,null,null,null,null,null,null,{"$f":"COUNTIF(E58:Y58,\"<120\")","v":0},{"$f":"COUNTIF(E58:Y58,\"<140\")-Z58","v":0},{"$f":"COUNTIF(E58:Y58,\"<160\")-Z58-AA58","v":0},{"$f":"COUNTIF(E58:Y58,\">160\")","v":0},0]
[null,null,{"$f":"+C60","v":0},null,null,null,null,null,null,null,null,null,null,null,null,null,null,null,null,null,null,null,null,null,null,null,null,null,null,{"$f":"+AD60","v":0}]
[null,null,null,null,null,null,null,null,null,null,null,null,null,null,null,null,null,null,null,null,null,null,null,null,null,{"$f":"COUNTIF(E60:Y60,\"<120\")","v":0},{"$f":"COUNTIF(E60:Y60,\"<140\")-Z60","v":0},{"$f":"COUNTIF(E60:Y60,\"<160\")-Z60-AA60","v":0},{"$f":"COUNTIF(E60:Y60,\">160\")","v":0},0]
[null,null,{"$f":"+C62","v":0},null,null,null,null,null,null,null,null,null,null,null,null,null,null,null,null,null,null,null,null,null,null,null,null,null,null,{"$f":"+AD62","v":0}]
[null,null,null,null,null,null,null,null,null,null,null,null,null,null,null,null,null,null,null,null,null,null,null,null,null,{"$f":"COUNTIF(E62:Y62,\"<120\")","v":0},{"$f":"COUNTIF(E62:Y62,\"<140\")-Z62","v":0},{"$f":"COUNTIF(E62:Y62,\"<160\")-Z62-AA62","v":0},{"$f":"COUNTIF(E62:Y62,\">160\")","v":0},0]
[null,null,{"$f":"+C64","v":0},null,null,null,null,null,null,null,null,null,null,null,null,null,null,null,null,null,null,null,null,null,null,null,null,null,null,{"$f":"+AD64","v":0}]
[null,null,null,null,null,null,null,null,null,null,null,null,null,null,null,null,null,null,null,null,null,null,null,null,null,{"$f":"COUNTIF(E64:Y64,\"<120\")","v":0},{"$f":"COUNTIF(E64:Y64,\"<140\")-Z64","v":0},{"$f":"COUNTIF(E64:Y64,\"<160\")-Z64-AA64","v":0},{"$f":"COUNTIF(E64:Y64,\">160\")","v":0},0]
[null,null,{"$f":"+C66","v":0},null,null,null,null,null,null,null,null,null,null,null,null,null,null,null,null,null,null,null,null,null,null,null,null,null,null,{"$f":"+AD66","v":0}]
[null,null,null,null,null,null,null,null,null,null,null,null,null,null,null,null,null,null,null,null,null,null,null,null,null,{"$f":"COUNTIF(E66:Y66,\"<120\")","v":0},{"$f":"COUNTIF(E66:Y66,\"<140\")-Z66","v":0},{"$f":"COUNTIF(E66:Y66,\"<160\")-Z66-AA66","v":0},{"$f":"COUNTIF(E66:Y66,\">160\")","v":0},0]
[null,null,{"$f":"+C68","v":0},null,null,null,null,null,null,null,null,null,null,null,null,null,null,null,null,null,null,null,null,null,null,null,null,null,null,{"$f":"+AD68","v":0}]
[null,null,null,null,null,null,null,null,null,null,null,null,null,null,null,null,null,null,null,null,null,null,null,null,null,{"$f":"COUNTIF(E68:Y68,\"<120\")","v":0},{"$f":"COUNTIF(E68:Y68,\"<140\")-Z68","v":0},{"$f":"COUNTIF(E68:Y68,\"<160\")-Z68-AA68","v":0},{"$f":"COUNTIF(E68:Y68,\">160\")","v":0},0]
[null,null,{"$f":"+C70","v":0},null,null,null,null,null,null,null,null,null,null,null,null,null,null,null,null,null,null,null,null,null,null,null,null,null,null,{"$f":"+AD70","v":0}]
[null,null,null,null,null,null,null,null,null,null,null,null,null,null,null,null,null,null,null,null,null,null,null,null,null,{"$f":"COUNTIF(E70:Y70,\"<120\")","v":0},{"$f":"COUNTIF(E70:Y70,\"<140\")-Z70","v":0},{"$f":"COUNTIF(E70:Y70,\"<160\")-Z70-AA70","v":0},{"$f":"COUNTIF(E70:Y70,\">160\")","v":0},0]
[null,null,{"$f":"+C72","v":0},null,null,null,null,null,null,null,null,null,null,null,null,null,null,null,null,null,null,null,null,null,null,null,null,null,null,{"$f":"+AD72","v":0}]
[null,null,null,null,null,null,null,null,null,null,null,null,null,null,null,null,null,null,null,null,null,null,null,null,null,{"$f":"COUNTIF(E72:Y72,\"<120\")","v":0},{"$f":"COUNTIF(E72:Y72,\"<140\")-Z72","v":0},{"$f":"COUNTIF(E72:Y72,\"<160\")-Z72-AA72","v":0},{"$f":"COUNTIF(E72:Y72,\">160\")","v":0},0]
[null,null,{"$f":"+C74","v":0},null,null,null,null,null,null,null,null,null,null,null,null,null,null,null,null,null,null,null,null,null,null,null,null,null,null,{"$f":"+AD74","v":0}]
[null,null,null,null,null,null,null,null,null,null,null,null,null,null,null,null,null,null,null,null,null,null,null,null,null,{"$f":"COUNTIF(E74:Y74,\"<120\")","v":0},{"$f":"COUNTIF(E74:Y74,\"<140\")-Z74","v":0},{"$f":"COUNTIF(E74:Y74,\"<160\")-Z74-AA74","v":0},{"$f":"COUNTIF(E74:Y74,\">160\")","v":0},0]
[null,null,{"$f":"+C76","v":0},null,null,null,null,null,null,null,null,null,null,null,null,null,null,null,null,null,null,null,null,null,null,null,null,null,null,{"$f":"+AD76","v":0}]
[null,null,null,null,null,null,null,null,null,null,null,null,null,null,null,null,null,null,null,null,null,null,null,null,null,{"$f":"COUNTIF(E76:Y76,\"<120\")","v":0},{"$f":"COUNTIF(E76:Y76,\"<140\")-Z76","v":0},{"$f":"COUNTIF(E76:Y76,\"<160\")-Z76-AA76","v":0},{"$f":"COUNTIF(E76:Y76,\">160\")","v":0},0]
[null,null,{"$f":"+C78","v":0},null,null,null,null,null,null,null,null,null,null,null,null,null,null,null,null,null,null,null,null,null,null,null,null,null,null,{"$f":"+AD78","v":0}]
[null,null,null,null,null,null,null,null,null,null,null,null,null,null,null,null,null,null,null,null,null,null,null,null,null,{"$f":"COUNTIF(E78:Y78,\"<120\")","v":0},{"$f":"COUNTIF(E78:Y78,\"<140\")-Z78","v":0},{"$f":"COUNTIF(E78:Y78,\"<160\")-Z78-AA78","v":0},{"$f":"COUNTIF(E78:Y78,\">160\")","v":0},0]
[null,null,{"$f":"+C80","v":0},null,null,null,null,null,null,null,null,null,null,null,null,null,null,null,null,null,null,null,null,null,null,null,null,null,null,{"$f":"+AD80","v":0}]
[null,null,null,null,null,null,null,null,null,null,null,null,null,null,null,null,null,null,null,null,null,null,null,null,null,{"$f":"COUNTIF(E80:Y80,\"<120\")","v":0},{"$f":"COUNTIF(E80:Y80,\"<140\")-Z80","v":0},{"$f":"COUNTIF(E80:Y80,\"<160\")-Z80-AA80","v":0},{"$f":"COUNTIF(E80:Y80,\">160\")","v":0},0]
[null,null,{"$f":"+C82","v":"ZZZZZZZ"},null,null,null,null,null,null,null,null,null,null,null,null,null,null,null,null,null,null,null,null,null,null,null,null,null,null,{"$f":"+AD82","v":0}]
[1000,1000,"ZZZZZZZ",null,null,null,null,null,null,null,null,{"$f":"IFERROR(#REF!,\"\")","v":""},"","",null,"",null,"",{"$f":"IFERROR(#REF!,\"\")","v":""},null,null,null,null,null,null,{"$f":"COUNTIF(E82:Y82,\"<120\")","v":0},{"$f":"COUNTIF(E82:Y82,\"<140\")-Z82","v":0},{"$f":"COUNTIF(E82:Y82,\"<160\")-Z82-AA82","v":0},{"$f":"COUNTIF(E82:Y82,\">160\")","v":0},0]
[null,null,null,null,null,null,null,null,null,null,null,null,null,null,null,null,null,null,{"$f":"IFERROR(#REF!,\"\")","v":""}]

{"sheet":"BINO FEI","index":9,"n_rows":83,"n_cols":30,"rows_kept":83,"cut":false,"hidden":false,"merged":[[4,15,4,16],[4,17,4,18],[4,19,4,24],[1,1,1,13],[3,0,3,1],[3,2,3,3],[4,0,4,1],[4,5,4,10],[4,11,4,14]]}
[]
[null,"BINOMIOS, COMPETENCIAS INTERNACIONALES FEI"]
[]
[null,null,"BINOMIOS"]
["CODIGO",null,null,null,2009,2010,null,null,null,null,null,2011,null,null,null,2012,null,2013,null,2014]
["JINETE","CABALLO","JINETE","CABALLO",null,null,null,null,null,null,null,null,null,null,null,null,null,null,null,null,null,null,null,null,null,">80<120",">120<140",">140>160",">160","ACUMULADO"]
[null,null,{"$f":"+C8","v":"RIBADENEIRA SOFIA"},null,null,null,null,null,null,null,null,"2011-04-30","2011-07-02","2011-10-22",null,null,null,null,null,null,null,null,null,null,null,null,null,null,null,{"$f":"+AD8","v":360}]
["10040096","102UE17","RIBADENEIRA SOFIA","FRODO",null,null,null,null,null,null,null,120,120,120,null,null,null,null,null,null,null,null,null,null,null,{"$f":"COUNTIF(E8:Y8,\"<120\")","v":0},{"$f":"COUNTIF(E8:Y8,\"<140\")-Z8","v":3},{"$f":"COUNTIF(E8:Y8,\"<160\")-Z8-AA8","v":0},{"$f":"COUNTIF(E8:Y8,\">160\")","v":0},{"$f":"SUM(E8:Y8)","v":360}]
[null,null,{"$f":"+C10","v":"RIBADENEIRA SOFIA"},null,null,null,null,null,null,null,null,null,null,null,null,"2012-04-13",null,"2013-11-09",null,null,null,null,null,null,null,null,null,null,null,{"$f":"+AD10","v":200}]
["10040096","103OQ69","RIBADENEIRA SOFIA","AR FAISAN",null,null,null,null,null,null,null,null,null,null,null,80,null,120,null,null,null,null,null,null,null,{"$f":"COUNTIF(E10:Y10,\"<120\")","v":1},{"$f":"COUNTIF(E10:Y10,\"<140\")-Z10","v":1},{"$f":"COUNTIF(E10:Y10,\"<160\")-Z10-AA10","v":0},{"$f":"COUNTIF(E10:Y10,\">160\")","v":0},{"$f":"SUM(E10:Y10)","v":200}]
[null,null,{"$f":"+C12","v":"ALMEIDA AYALA HECTOR"},null,null,null,null,null,null,null,null,null,null,null,null,"2012-04-13",null,"2013-11-09",null,null,null,null,null,"2014-09-27",null,null,null,null,null,{"$f":"+AD12","v":320}]
["10085864","103OQ90","ALMEIDA AYALA HECTOR","CENTAURO",null,null,null,null,null,null,null,null,null,null,null,80,null,120,null,null,null,null,null,120,null,{"$f":"COUNTIF(E12:Y12,\"<120\")","v":1},{"$f":"COUNTIF(E12:Y12,\"<140\")-Z12","v":2},{"$f":"COUNTIF(E12:Y12,\"<160\")-Z12-AA12","v":0},{"$f":"COUNTIF(E12:Y12,\">160\")","v":0},{"$f":"SUM(E12:Y12)","v":320}]
[null,null,{"$f":"+C14","v":"WEEMAELS NATHALIE"},null,null,null,null,null,null,null,null,null,null,null,null,null,null,"2013-11-09",null,"2014-05-17",null,null,null,null,null,null,null,null,null,{"$f":"+AD14","v":200}]
["10067665","104DT56","WEEMAELS NATHALIE","CG ALLASKI",null,null,null,null,null,null,null,null,null,null,null,null,null,80,null,120,null,null,null,null,null,{"$f":"COUNTIF(E14:Y14,\"<120\")","v":1},{"$f":"COUNTIF(E14:Y14,\"<140\")-Z14","v":1},{"$f":"COUNTIF(E14:Y14,\"<160\")-Z14-AA14","v":0},{"$f":"COUNTIF(E14:Y14,\">160\")","v":0},{"$f":"SUM(E14:Y14)","v":200}]
[null,null,{"$f":"+C16","v":"DARQUEA BERNARDO"},null,null,null,null,null,null,null,null,null,null,null,null,null,null,"2013-11-09",null,"2014-05-17",null,null,null,"2014-09-27",null,null,null,null,null,{"$f":"+AD16","v":320}]
["10071902","104DQ52","DARQUEA BERNARDO","FHARA CONEJA",null,null,null,null,null,null,null,null,null,null,null,null,null,80,null,120,null,null,null,120,null,{"$f":"COUNTIF(E16:Y16,\"<120\")","v":1},{"$f":"COUNTIF(E16:Y16,\"<140\")-Z16","v":2},{"$f":"COUNTIF(E16:Y16,\"<160\")-Z16-AA16","v":0},{"$f":"COUNTIF(E16:Y16,\">160\")","v":0},{"$f":"SUM(E16:Y16)","v":320}]
[null,null,{"$f":"+C18","v":"MORILLO MAURICIO"},null,null,null,null,null,null,null,null,null,null,null,null,"2012-04-13",null,"2013-11-09",null,null,null,null,null,"2014-09-27",null,null,null,null,null,{"$f":"+AD18","v":320}]
["10082085","103OK01","MORILLO MAURICIO","MISTERIO",null,null,null,null,null,null,null,null,null,null,null,80,null,120,null,null,null,null,null,120,null,{"$f":"COUNTIF(E18:Y18,\"<120\")","v":1},{"$f":"COUNTIF(E18:Y18,\"<140\")-Z18","v":2},{"$f":"COUNTIF(E18:Y18,\"<160\")-Z18-AA18","v":0},{"$f":"COUNTIF(E18:Y18,\">160\")","v":0},{"$f":"SUM(E18:Y18)","v":320}]
[null,null,{"$f":"+C20","v":"MORILLO SERGIO"},null,null,null,null,null,null,null,null,null,null,null,null,null,null,"2013-11-09",null,"2014-05-17",null,null,null,"2014-09-27",null,null,null,null,null,{"$f":"+AD20","v":320}]
["10102301","104DT55","MORILLO SERGIO","QUITA PENAS",null,null,null,null,null,null,null,null,null,null,null,null,null,80,null,120,null,null,null,120,null,{"$f":"COUNTIF(E20:Y20,\"<120\")","v":1},{"$f":"COUNTIF(E20:Y20,\"<140\")-Z20","v":2},{"$f":"COUNTIF(E20:Y20,\"<160\")-Z20-AA20","v":0},{"$f":"COUNTIF(E20:Y20,\">160\")","v":0},{"$f":"SUM(E20:Y20)","v":320}]
[null,null,{"$f":"+C22","v":"RIBADENEIRA ARTURO"},null,null,null,null,null,null,null,null,null,null,null,null,null,null,"2013-11-09",null,"2014-05-17",null,null,null,null,null,null,null,null,null,{"$f":"+AD22","v":200}]
["10040095","102UE17","RIBADENEIRA ARTURO","FRODO",null,null,null,null,null,null,null,null,null,null,null,null,null,80,null,120,null,null,null,null,null,{"$f":"COUNTIF(E22:Y22,\"<120\")","v":1},{"$f":"COUNTIF(E22:Y22,\"<140\")-Z22","v":1},{"$f":"COUNTIF(E22:Y22,\"<160\")-Z22-AA22","v":0},{"$f":"COUNTIF(E22:Y22,\">160\")","v":0},{"$f":"SUM(E22:Y22)","v":200}]
[null,null,{"$f":"+C24","v":"WRAY MATEO"},null,null,null,null,null,null,null,null,null,null,null,null,null,null,"2013-11-09",null,null,null,null,null,null,null,null,null,null,null,{"$f":"+AD24","v":80}]
["10066918","104DU88","WRAY MATEO","AMARETO","",null,null,null,null,null,null,null,null,null,null,null,null,80,null,null,null,null,null,null,null,{"$f":"COUNTIF(E24:Y24,\"<120\")","v":1},{"$f":"COUNTIF(E24:Y24,\"<140\")-Z24","v":0},{"$f":"COUNTIF(E24:Y24,\"<160\")-Z24-AA24","v":0},{"$f":"COUNTIF(E24:Y24,\">160\")","v":0},{"$f":"SUM(E24:Y24)","v":80}]
[null,null,{"$f":"+C26","v":"JUAN JOSE RECALDE"},null,null,null,null,null,null,null,null,null,null,null,null,"2012-04-13",null,null,null,null,null,null,null,"2014-09-27",null,null,null,null,null,{"$f":"+AD26","v":160}]
["10079020","103OQ85","JUAN JOSE RECALDE","BOM BOM",null,null,null,null,null,null,null,null,null,null,null,80,null,null,null,null,null,null,null,80,null,{"$f":"COUNTIF(E26:Y26,\"<120\")","v":2},{"$f":"COUNTIF(E26:Y26,\"<140\")-Z26","v":0},{"$f":"COUNTIF(E26:Y26,\"<160\")-Z26-AA26","v":0},{"$f":"COUNTIF(E26:Y26,\">160\")","v":0},{"$f":"SUM(E26:Y26)","v":160}]
[null,null,{"$f":"+C28","v":"GOMEZ MICHILENA ROMMEL"},null,null,null,null,null,null,null,null,null,null,null,null,"2012-04-13",null,null,null,null,null,null,null,null,null,null,null,null,null,{"$f":"+AD28","v":80}]
["10085862","103OQ70","GOMEZ MICHILENA ROMMEL","FELIPE GR",null,null,null,null,null,null,null,null,null,null,null,80,null,null,null,null,null,null,null,null,null,{"$f":"COUNTIF(E28:Y28,\"<120\")","v":1},{"$f":"COUNTIF(E28:Y28,\"<140\")-Z28","v":0},{"$f":"COUNTIF(E28:Y28,\"<160\")-Z28-AA28","v":0},{"$f":"COUNTIF(E28:Y28,\">160\")","v":0},{"$f":"SUM(E28:Y28)","v":80}]
[null,null,{"$f":"+C30","v":"GUARDERAS BARAHONA SEBASTIAN"},null,null,null,null,null,null,null,null,null,null,null,null,"2012-04-13",null,null,null,null,null,null,null,null,null,null,null,null,null,{"$f":"+AD30","v":80}]
["10066920","103OG09","GUARDERAS BARAHONA SEBASTIAN","KADAFI",null,null,null,null,null,null,null,null,null,null,null,80,null,null,null,null,null,null,null,null,null,{"$f":"COUNTIF(E30:Y30,\"<120\")","v":1},{"$f":"COUNTIF(E30:Y30,\"<140\")-Z30","v":0},{"$f":"COUNTIF(E30:Y30,\"<160\")-Z30-AA30","v":0},{"$f":"COUNTIF(E30:Y30,\">160\")","v":0},{"$f":"SUM(E30:Y30)","v":80}]
[null,null,{"$f":"+C32","v":"GONZALEZ BERNARDA"},null,null,null,null,null,null,null,null,null,null,null,null,null,null,"2013-11-09",null,null,null,null,null,null,null,null,null,null,null,{"$f":"+AD32","v":80}]
["10102303","104DT58","GONZALEZ BERNARDA","KAFIR HA",null,null,null,null,null,null,null,null,null,null,null,null,null,80,null,null,null,null,null,null,null,{"$f":"COUNTIF(E32:Y32,\"<120\")","v":1},{"$f":"COUNTIF(E32:Y32,\"<140\")-Z32","v":0},{"$f":"COUNTIF(E32:Y32,\"<160\")-Z32-AA32","v":0},{"$f":"COUNTIF(E32:Y32,\">160\")","v":0},{"$f":"SUM(E32:Y32)","v":80}]
[null,null,{"$f":"+C34","v":"KOPPEL OSWALDO"},null,null,null,null,null,null,null,null,null,null,null,null,null,null,null,null,"2014-05-17",null,null,null,null,null,null,null,null,null,{"$f":"+AD34","v":80}]
["10108280","104JS72","KOPPEL OSWALDO","AVENTURERO",null,null,null,null,null,null,null,null,null,null,null,null,null,null,null,80,null,null,null,null,null,{"$f":"COUNTIF(E34:Y34,\"<120\")","v":1},{"$f":"COUNTIF(E34:Y34,\"<140\")-Z34","v":0},{"$f":"COUNTIF(E34:Y34,\"<160\")-Z34-AA34","v":0},{"$f":"COUNTIF(E34:Y34,\">160\")","v":0},{"$f":"SUM(E34:Y34)","v":80}]
[null,null,{"$f":"+C36","v":"VINTIMILLA PABLO"},null,null,null,null,null,null,null,null,null,null,null,null,null,null,null,null,"2014-05-17",null,null,null,null,null,null,null,null,null,{"$f":"+AD36","v":80}]
["10108279","104JS71","VINTIMILLA PABLO","WISKY",null,null,null,null,null,null,null,null,null,null,null,null,null,null,null,80,null,null,null,null,null,{"$f":"COUNTIF(E36:Y36,\"<120\")","v":1},{"$f":"COUNTIF(E36:Y36,\"<140\")-Z36","v":0},{"$f":"COUNTIF(E36:Y36,\"<160\")-Z36-AA36","v":0},{"$f":"COUNTIF(E36:Y36,\">160\")","v":0},{"$f":"SUM(E36:Y36)","v":80}]
[null,null,{"$f":"+C38","v":"GONZALEZ BERNARDA"},null,null,null,null,null,null,null,null,null,null,null,null,null,null,null,null,"2014-05-17",null,null,null,null,null,null,null,null,null,{"$f":"+AD38","v":80}]
["10102303","104JS91","GONZALEZ BERNARDA","ASRAEL",null,null,null,null,null,null,null,null,null,null,null,null,null,null,null,80,null,null,null,null,null,{"$f":"COUNTIF(E38:Y38,\"<120\")","v":1},{"$f":"COUNTIF(E38:Y38,\"<140\")-Z38","v":0},{"$f":"COUNTIF(E38:Y38,\"<160\")-Z38-AA38","v":0},{"$f":"COUNTIF(E38:Y38,\">160\")","v":0},{"$f":"SUM(E38:Y38)","v":80}]
[null,null,{"$f":"+C40","v":"LOYOLA CLAUDIA MARIA"},null,null,null,null,null,null,null,null,null,null,null,null,null,null,null,null,"2014-05-17",null,null,null,null,null,null,null,null,null,{"$f":"+AD40","v":80}]
["10108276","104JS67","LOYOLA CLAUDIA MARIA","PATACON",null,null,null,null,null,null,null,null,null,null,null,null,null,null,null,80,null,null,null,null,null,{"$f":"COUNTIF(E40:Y40,\"<120\")","v":1},{"$f":"COUNTIF(E40:Y40,\"<140\")-Z40","v":0},{"$f":"COUNTIF(E40:Y40,\"<160\")-Z40-AA40","v":0},{"$f":"COUNTIF(E40:Y40,\">160\")","v":0},{"$f":"SUM(E40:Y40)","v":80}]
[null,null,{"$f":"+C42","v":"SERRANO FELIPE"},null,null,null,null,null,null,null,null,null,null,null,null,null,null,null,null,"2014-05-17",null,null,null,"2014-09-27",null,null,null,null,null,{"$f":"+AD42","v":200}]
["10102306","104DU87","SERRANO FELIPE","ZUCO",null,null,null,null,null,null,null,null,null,null,null,null,null,null,null,80,null,null,null,120,null,{"$f":"COUNTIF(E42:Y42,\"<120\")","v":1},{"$f":"COUNTIF(E42:Y42,\"<140\")-Z42","v":1},{"$f":"COUNTIF(E42:Y42,\"<160\")-Z42-AA42","v":0},{"$f":"COUNTIF(E42:Y42,\">160\")","v":0},{"$f":"SUM(E42:Y42)","v":200}]
[null,null,{"$f":"+C44","v":"MALO TORAL DAVID"},null,null,null,null,null,null,null,null,null,null,null,null,null,null,null,null,"2014-05-17",null,null,null,null,null,null,null,null,null,{"$f":"+AD44","v":80}]
["10108275","104JS66","MALO TORAL DAVID","ARAGON",null,null,null,null,null,null,null,null,null,null,null,null,null,null,null,80,null,null,null,null,null,{"$f":"COUNTIF(E44:Y44,\"<120\")","v":1},{"$f":"COUNTIF(E44:Y44,\"<140\")-Z44","v":0},{"$f":"COUNTIF(E44:Y44,\"<160\")-Z44-AA44","v":0},{"$f":"COUNTIF(E44:Y44,\">160\")","v":0},{"$f":"SUM(E44:Y44)","v":80}]
[null,null,{"$f":"+C46","v":"GOMEZ ALEXANDER"},null,null,null,null,null,null,null,null,null,null,null,null,null,null,null,null,"2014-05-17",null,null,null,null,null,null,null,null,null,{"$f":"+AD46","v":80}]
["10085862","104JV09","GOMEZ ALEXANDER","FUERTE",null,null,null,null,null,null,null,null,null,null,null,null,null,null,null,80,null,null,null,null,null,{"$f":"COUNTIF(E46:Y46,\"<120\")","v":1},{"$f":"COUNTIF(E46:Y46,\"<140\")-Z46","v":0},{"$f":"COUNTIF(E46:Y46,\"<160\")-Z46-AA46","v":0},{"$f":"COUNTIF(E46:Y46,\">160\")","v":0},{"$f":"SUM(E46:Y46)","v":80}]
[null,null,{"$f":"+C48","v":"KOPPEL OSWALDO"},null,null,null,null,null,null,null,null,null,null,null,null,null,null,null,null,null,null,null,null,"2014-09-27",null,null,null,null,null,{"$f":"+AD48","v":120}]
["10108280","104DT58","KOPPEL OSWALDO","KAFIR HA",null,null,null,null,null,null,null,null,null,null,null,null,null,null,null,null,null,null,null,120,null,{"$f":"COUNTIF(E48:Y48,\"<120\")","v":0},{"$f":"COUNTIF(E48:Y48,\"<140\")-Z48","v":1},{"$f":"COUNTIF(E48:Y48,\"<160\")-Z48-AA48","v":0},{"$f":"COUNTIF(E48:Y48,\">160\")","v":0},{"$f":"SUM(E48:Y48)","v":120}]
[null,null,{"$f":"+C50","v":"MALO TORAL DAVID"},null,null,null,null,null,null,null,null,null,null,null,null,null,null,null,null,null,null,null,null,"2014-09-27",null,null,null,null,null,{"$f":"+AD50","v":80}]
["10108275","104JS69","MALO TORAL DAVID","MD KABUL",null,null,null,null,null,null,null,null,null,null,null,null,null,null,null,null,null,null,null,80,null,{"$f":"COUNTIF(E50:Y50,\"<120\")","v":1},{"$f":"COUNTIF(E50:Y50,\"<140\")-Z50","v":0},{"$f":"COUNTIF(E50:Y50,\"<160\")-Z50-AA50","v":0},{"$f":"COUNTIF(E50:Y50,\">160\")","v":0},80]
[null,null,{"$f":"+C52","v":"CORNEJO MANUEL"},null,null,null,null,null,null,null,null,null,null,null,null,null,null,null,null,null,null,null,null,"2014-09-27",null,null,null,null,null,{"$f":"+AD52","v":80}]
["10054515","104JW31","CORNEJO MANUEL","GS HAAKIM",null,null,null,null,null,null,null,null,null,null,null,null,null,null,null,null,null,null,null,80,null,{"$f":"COUNTIF(E52:Y52,\"<120\")","v":1},{"$f":"COUNTIF(E52:Y52,\"<140\")-Z52","v":0},{"$f":"COUNTIF(E52:Y52,\"<160\")-Z52-AA52","v":0},{"$f":"COUNTIF(E52:Y52,\">160\")","v":0},80]
[null,null,{"$f":"+C54","v":"LETORT JOSE IGNACIO"},null,null,null,null,null,null,null,null,null,null,null,null,null,null,null,null,null,null,null,null,"2014-09-27",null,null,null,null,null,{"$f":"+AD54","v":80}]
["10108281","104JW32","LETORT JOSE IGNACIO","SHAKIRA",null,null,null,null,null,null,null,null,null,null,null,null,null,null,null,null,null,null,null,80,null,{"$f":"COUNTIF(E54:Y54,\"<120\")","v":1},{"$f":"COUNTIF(E54:Y54,\"<140\")-Z54","v":0},{"$f":"COUNTIF(E54:Y54,\"<160\")-Z54-AA54","v":0},{"$f":"COUNTIF(E54:Y54,\">160\")","v":0},80]
[null,null,{"$f":"+C56","v":0},null,null,null,null,null,null,null,null,null,null,null,null,null,null,null,null,null,null,null,null,null,null,null,null,null,null,{"$f":"+AD56","v":0}]
[null,null,null,null,null,null,null,null,null,null,null,null,null,null,null,null,null,null,null,null,null,null,null,null,null,{"$f":"COUNTIF(E56:Y56,\"<120\")","v":0},{"$f":"COUNTIF(E56:Y56,\"<140\")-Z56","v":0},{"$f":"COUNTIF(E56:Y56,\"<160\")-Z56-AA56","v":0},{"$f":"COUNTIF(E56:Y56,\">160\")","v":0},0]
[null,null,{"$f":"+C58","v":0},null,null,null,null,null,null,null,null,null,null,null,null,null,null,null,null,null,null,null,null,null,null,null,null,null,null,{"$f":"+AD58","v":0}]
[null,null,null,null,null,null,null,null,null,null,null,null,null,null,null,null,null,null,null,null,null,null,null,null,null,{"$f":"COUNTIF(E58:Y58,\"<120\")","v":0},{"$f":"COUNTIF(E58:Y58,\"<140\")-Z58","v":0},{"$f":"COUNTIF(E58:Y58,\"<160\")-Z58-AA58","v":0},{"$f":"COUNTIF(E58:Y58,\">160\")","v":0},0]
[null,null,{"$f":"+C60","v":0},null,null,null,null,null,null,null,null,null,null,null,null,null,null,null,null,null,null,null,null,null,null,null,null,null,null,{"$f":"+AD60","v":0}]
[null,null,null,null,null,null,null,null,null,null,null,null,null,null,null,null,null,null,null,null,null,null,null,null,null,{"$f":"COUNTIF(E60:Y60,\"<120\")","v":0},{"$f":"COUNTIF(E60:Y60,\"<140\")-Z60","v":0},{"$f":"COUNTIF(E60:Y60,\"<160\")-Z60-AA60","v":0},{"$f":"COUNTIF(E60:Y60,\">160\")","v":0},0]
[null,null,{"$f":"+C62","v":0},null,null,null,null,null,null,null,null,null,null,null,null,null,null,null,null,null,null,null,null,null,null,null,null,null,null,{"$f":"+AD62","v":0}]
[null,null,null,null,null,null,null,null,null,null,null,null,null,null,null,null,null,null,null,null,null,null,null,null,null,{"$f":"COUNTIF(E62:Y62,\"<120\")","v":0},{"$f":"COUNTIF(E62:Y62,\"<140\")-Z62","v":0},{"$f":"COUNTIF(E62:Y62,\"<160\")-Z62-AA62","v":0},{"$f":"COUNTIF(E62:Y62,\">160\")","v":0},0]
[null,null,{"$f":"+C64","v":0},null,null,null,null,null,null,null,null,null,null,null,null,null,null,null,null,null,null,null,null,null,null,null,null,null,null,{"$f":"+AD64","v":0}]
[null,null,null,null,null,null,null,null,null,null,null,null,null,null,null,null,null,null,null,null,null,null,null,null,null,{"$f":"COUNTIF(E64:Y64,\"<120\")","v":0},{"$f":"COUNTIF(E64:Y64,\"<140\")-Z64","v":0},{"$f":"COUNTIF(E64:Y64,\"<160\")-Z64-AA64","v":0},{"$f":"COUNTIF(E64:Y64,\">160\")","v":0},0]
[null,null,{"$f":"+C66","v":0},null,null,null,null,null,null,null,null,null,null,null,null,null,null,null,null,null,null,null,null,null,null,null,null,null,null,{"$f":"+AD66","v":0}]
[null,null,null,null,null,null,null,null,null,null,null,null,null,null,null,null,null,null,null,null,null,null,null,null,null,{"$f":"COUNTIF(E66:Y66,\"<120\")","v":0},{"$f":"COUNTIF(E66:Y66,\"<140\")-Z66","v":0},{"$f":"COUNTIF(E66:Y66,\"<160\")-Z66-AA66","v":0},{"$f":"COUNTIF(E66:Y66,\">160\")","v":0},0]
[null,null,{"$f":"+C68","v":0},null,null,null,null,null,null,null,null,null,null,null,null,null,null,null,null,null,null,null,null,null,null,null,null,null,null,{"$f":"+AD68","v":0}]
[null,null,null,null,null,null,null,null,null,null,null,null,null,null,null,null,null,null,null,null,null,null,null,null,null,{"$f":"COUNTIF(E68:Y68,\"<120\")","v":0},{"$f":"COUNTIF(E68:Y68,\"<140\")-Z68","v":0},{"$f":"COUNTIF(E68:Y68,\"<160\")-Z68-AA68","v":0},{"$f":"COUNTIF(E68:Y68,\">160\")","v":0},0]
[null,null,{"$f":"+C70","v":0},null,null,null,null,null,null,null,null,null,null,null,null,null,null,null,null,null,null,null,null,null,null,null,null,null,null,{"$f":"+AD70","v":0}]
[null,null,null,null,null,null,null,null,null,null,null,null,null,null,null,null,null,null,null,null,null,null,null,null,null,{"$f":"COUNTIF(E70:Y70,\"<120\")","v":0},{"$f":"COUNTIF(E70:Y70,\"<140\")-Z70","v":0},{"$f":"COUNTIF(E70:Y70,\"<160\")-Z70-AA70","v":0},{"$f":"COUNTIF(E70:Y70,\">160\")","v":0},0]
[null,null,{"$f":"+C72","v":0},null,null,null,null,null,null,null,null,null,null,null,null,null,null,null,null,null,null,null,null,null,null,null,null,null,null,{"$f":"+AD72","v":0}]
[null,null,null,null,null,null,null,null,null,null,null,null,null,null,null,null,null,null,null,null,null,null,null,null,null,{"$f":"COUNTIF(E72:Y72,\"<120\")","v":0},{"$f":"COUNTIF(E72:Y72,\"<140\")-Z72","v":0},{"$f":"COUNTIF(E72:Y72,\"<160\")-Z72-AA72","v":0},{"$f":"COUNTIF(E72:Y72,\">160\")","v":0},0]
[null,null,{"$f":"+C74","v":0},null,null,null,null,null,null,null,null,null,null,null,null,null,null,null,null,null,null,null,null,null,null,null,null,null,null,{"$f":"+AD74","v":0}]
[null,null,null,null,null,null,null,null,null,null,null,null,null,null,null,null,null,null,null,null,null,null,null,null,null,{"$f":"COUNTIF(E74:Y74,\"<120\")","v":0},{"$f":"COUNTIF(E74:Y74,\"<140\")-Z74","v":0},{"$f":"COUNTIF(E74:Y74,\"<160\")-Z74-AA74","v":0},{"$f":"COUNTIF(E74:Y74,\">160\")","v":0},0]
[null,null,{"$f":"+C76","v":0},null,null,null,null,null,null,null,null,null,null,null,null,null,null,null,null,null,null,null,null,null,null,null,null,null,null,{"$f":"+AD76","v":0}]
[null,null,null,null,null,null,null,null,null,null,null,null,null,null,null,null,null,null,null,null,null,null,null,null,null,{"$f":"COUNTIF(E76:Y76,\"<120\")","v":0},{"$f":"COUNTIF(E76:Y76,\"<140\")-Z76","v":0},{"$f":"COUNTIF(E76:Y76,\"<160\")-Z76-AA76","v":0},{"$f":"COUNTIF(E76:Y76,\">160\")","v":0},0]
[null,null,{"$f":"+C78","v":0},null,null,null,null,null,null,null,null,null,null,null,null,null,null,null,null,null,null,null,null,null,null,null,null,null,null,{"$f":"+AD78","v":0}]
[null,null,null,null,null,null,null,null,null,null,null,null,null,null,null,null,null,null,null,null,null,null,null,null,null,{"$f":"COUNTIF(E78:Y78,\"<120\")","v":0},{"$f":"COUNTIF(E78:Y78,\"<140\")-Z78","v":0},{"$f":"COUNTIF(E78:Y78,\"<160\")-Z78-AA78","v":0},{"$f":"COUNTIF(E78:Y78,\">160\")","v":0},0]
[null,null,{"$f":"+C80","v":0},null,null,null,null,null,null,null,null,null,null,null,null,null,null,null,null,null,null,null,null,null,null,null,null,null,null,{"$f":"+AD80","v":0}]
[null,null,null,null,null,null,null,null,null,null,null,null,null,null,null,null,null,null,null,null,null,null,null,null,null,{"$f":"COUNTIF(E80:Y80,\"<120\")","v":0},{"$f":"COUNTIF(E80:Y80,\"<140\")-Z80","v":0},{"$f":"COUNTIF(E80:Y80,\"<160\")-Z80-AA80","v":0},{"$f":"COUNTIF(E80:Y80,\">160\")","v":0},0]
[null,null,{"$f":"+C82","v":"ZZZZZZZ"},null,null,null,null,null,null,null,null,null,null,null,null,null,null,null,null,null,null,null,null,null,null,null,null,null,null,{"$f":"+AD82","v":0}]
[1000,1000,"ZZZZZZZ",null,null,null,null,null,null,null,null,{"$f":"IFERROR(#REF!,\"\")","v":""},"","",null,"",null,"",{"$f":"IFERROR(#REF!,\"\")","v":""},null,null,null,null,null,null,{"$f":"COUNTIF(E82:Y82,\"<120\")","v":0},{"$f":"COUNTIF(E82:Y82,\"<140\")-Z82","v":0},{"$f":"COUNTIF(E82:Y82,\"<160\")-Z82-AA82","v":0},{"$f":"COUNTIF(E82:Y82,\">160\")","v":0},0]
[null,null,null,null,null,null,null,null,null,null,null,null,null,null,null,null,null,null,{"$f":"IFERROR(#REF!,\"\")","v":""}]

{"sheet":"BINOMIOS N","index":10,"n_rows":32,"n_cols":49,"rows_kept":32,"cut":false,"hidden":false,"merged":[[4,38,4,47],[0,6,1,47],[3,0,3,1],[3,4,3,19],[3,20,3,47],[4,0,4,1],[4,4,4,9],[4,10,4,14],[4,15,4,20],[4,21,4,27],[4,28,4,37],[1,1,1,5]]}
[]
[null,"BINOMIOS CON MAYOR KILOMETRAJE CLASIFICADO"]
[null,null,null,null,null,null,null,null,null,null,null,null,null,null,null,null,null,null,null,null,null,{"$f":"IFERROR(#REF!,\"\")","v":""},null,{"$f":"IFERROR(#REF!,\"\")","v":""},{"$f":"IFERROR(#REF!,\"\")","v":""},{"$f":"IFERROR(#REF!,\"\")","v":""},{"$f":"IFERROR(#REF!,\"\")","v":""},{"$f":"IFERROR(#REF!,\"\")","v":""}]
[null,null,"JUVENIL",null,"KILOMETRAJE"]
["CODIGO",null,null,null,2009,null,null,null,null,null,2010,null,null,null,null,2011,null,null,null,null,null,2012,null,null,null,null,null,null,2013,null,null,null,null,null,null,null,null,null,2014]
["JINETE","CABALLO","JINETE","CABALLO","I CHONE","II CHONE","III CHONE","IV CHONE","V CHONE","VI CHONE","I CHONE","II CHONE","III CHONE","IV CHONE","V CHONE","I CHONE","II CHONE","III CHONE","IV CHONE","V CHONE","VI CHONE","I CHONE","CUENCA","II CHONE","III CHONE","IV CHONE","V CHONE","VI CHONE","I CHONE","II CHONE","III CHONE","IV CHONE","V CHONE","VI CHONE","VII CHONE","VIII CHONE","IX CHONE","X CHONE","I CHONE","II CHONE","III CHONE","IV CHONE","V CHONE","VI CHONE","VII CHONE","VIII CHONE","IX CHONE","X CHONE","ACUMULADO"]
["A059","C097","HECTOR ALMEIDA","CENTAURO","",40,40,60,60,40,"","",66,"",83,81,82,87,"",80,"",81,"","","",80,"","",80,"",99,"","",83,"","","","","","",84,"","","","","","","",{"$f":"SUM(E7:AV7)","v":1226}]
["A052","C136","DARQUEA BERNARDO","FHARA CONEJA",40,"",40,60,60,"","",80,88,"","",81,82,"",87,80,"","","","","",80,"",52,"","",82,"",81,"","","","","","","",49,null,"","","","","","",{"$f":"SUM(E8:AV8)","v":1042}]
["A055","C093","WEEMAELS NATHALIE","CG ALLASKI","","","","","","","","","","","","",41,44,44,62,63,81,"",81,81,80,"",82,"","",99,"","","","","","",82,"","",84,null,"","","","","","",924]
["A056","C094","MORILLO MAURICIO","MISTERIO","","","","","","","","","","","",62,62,87,"",80,84,81,"","","",80,90,82,80,"",82,"","","","","","",82,43,"","",null,"","","","","","",995]
["J031","C096","RIBADENEIRA SOFIA","AR FAISAN","","",60,"","","","","","",80,83,81,82,"",87,"",84,"","","","",80,"",82,"","",99,"",81,"","","","",82,"","","",null,"","","","","","",981]
["A068","C095","MONROY BAROJA MARIA FERNANDA","CANELO","","",40,60,60,60,81,"","",80,83,62,62,87,65,62,63,"","","","","","","","","","","","","","","","","","","","",null,"","","","","","",865]
["A046","C074","NOBOA MAURICIO","WISKY","","","","","","","","","","","",44,41,44,44,43,42,62,"",81,"",80,"",52,80,"",62,"","","","",68,53,"","","","",null,"","","","","","",796]
["A067","C126","CANDO MARIO","BRUMA","","","","","","","","","","",42,44,"",65,"",62,"",81,"",81,"","","",82,80,"",99,"","","","","","","","","",84,null,"","","","","","",720]
["J008","C112","GOMEZ MICHILENA ROMMEL","FELIPE","","","","","","",54,40,66,60,62,81,82,"",87,"","","","",80,"","","","","","",99,"","","","","","","","","","",null,"","","","","","",711]
["J055","C197","LOYOLA VINTIMILLA MARIA CLAUDIA","PATACON","","","","","","","","","","","",40,40,40,40,"","","",80,"","","","","","",58,"",63,"","","",68,"","",80,"",84,null,"","","","","","",593]
["J026","C092","NICOLAS MORENO","DAMASCO","","","","","","","",40,44,"",42,"",62,"","",62,"",81,"",81,"",80,90,"",80,"","","","","","","","","","","","","","","","","","","",662]
["A060","C098","JUAN JOSE RECALDE","BOM BOM","","","","","","",54,40,"",60,"","","","",87,"",84,81,"","","",80,90,82,"","","","","","","","","","","","","","","","","","","","",658]
["J021","C135","CORNEJO BURNEO MANUEL","CARAGUAY CM","","","","","","","",40,44,40,42,44,41,65,"","","","","","",81,80,"","","","","","","","","","",90,"","","","","","","","","","","",567]
["A019","C071","WLADIMIRO TORRES","SARA",40,"","",40,40,40,"","","",60,"",81,"","","",80,63,62,"","","","","","","","","","","","","","","","","","","","","","","","","","",506]
["J027","C100","MIÑO JOSE IGNACIO","ALELI ","","","","","","","",40,"","",42,"",82,87,87,"","",81,"","","","","","","","","","","","","","","","","","","","","","","","","","",419]
["A068","C111","MONROY BAROJA MARIA FERNANDA","GITANILLO","","","","","","","","","","","","","","","","","","","","","","",90,82,80,"","","","",83,"","","",82,"","","","","","","","","","",417]
[null,null,null,null,null,null,null,null,null,null,null,null,null,null,null,null,null,null,null,null,null,null,null,null,null,null,null,null,null,null,null,null,null,null,null,null,null,null,null,null,null,null,null,null,null,null,null,null,{"$f":"SUM(E23:AV23)","v":0}]
[null,null,null,null,null,null,null,null,null,null,null,null,null,null,null,null,null,null,null,null,null,null,null,null,null,null,null,null,null,null,null,null,null,null,null,null,null,null,null,null,null,null,null,null,null,null,null,null,{"$f":"SUM(E24:AV24)","v":0}]
[null,null,null,null,{"$f":"IF(AND('V L AB'!D133>0,'V L CAB'!E161>0,'V L AB'!D133='V L CAB'!E161),'V L AB'!D133,IF(AND('V C AB'!D133>0,'V C CAB'!E161>0,'V C CAB'!E161='V C AB'!D133),'V C AB'!D133,\"\"))","v":""},null,null,null,null,null,null,null,null,null,null,null,null,null,null,null,null,null,null,null,null,null,null,null,null,null,null,null,null,null,null,null,null,null,null,null,null,null,null,null,null,null,null,null,{"$f":"SUM(E25:AV25)","v":0}]
[null,null,null,null,{"$f":"IF(AND('V L AB'!D134>0,'V L CAB'!E162>0,'V L AB'!D134='V L CAB'!E162),'V L AB'!D134,IF(AND('V C AB'!D134>0,'V C CAB'!E162>0,'V C CAB'!E162='V C AB'!D134),'V C AB'!D134,\"\"))","v":""},null,null,null,null,null,null,null,null,null,null,null,null,null,null,null,null,null,null,null,null,null,null,null,null,null,null,null,null,null,null,null,null,null,null,null,null,null,null,null,null,null,null,null,0]
[null,null,null,null,{"$f":"IF(AND('V L AB'!D135>0,'V L CAB'!E163>0,'V L AB'!D135='V L CAB'!E163),'V L AB'!D135,IF(AND('V C AB'!D135>0,'V C CAB'!E163>0,'V C CAB'!E163='V C AB'!D135),'V C AB'!D135,\"\"))","v":""},null,null,null,null,null,null,null,null,null,null,null,null,null,null,null,null,null,null,null,null,null,null,null,null,null,null,null,null,null,null,null,null,null,null,null,null,null,null,null,null,null,null,null,0]
[null,null,null,null,{"$f":"IF(AND('V L AB'!D136>0,'V L CAB'!E164>0,'V L AB'!D136='V L CAB'!E164),'V L AB'!D136,IF(AND('V C AB'!D136>0,'V C CAB'!E164>0,'V C CAB'!E164='V C AB'!D136),'V C AB'!D136,\"\"))","v":""},null,null,null,null,null,null,null,null,null,null,null,null,null,null,null,null,null,null,null,null,null,null,null,null,null,null,null,null,null,null,null,null,null,null,null,null,null,null,null,null,null,null,null,0]
[null,null,null,null,{"$f":"IF('V L AB'!D207=\"\",IF(AND('V C AB'!D207>0,'V C CAB'!E324>0,'V C CAB'!E324='V C AB'!D207),'V C AB'!D207,\"\"),IF(AND('V L CAB'!E324>0,'V L AB'!D207='V L CAB'!E324),'V L AB'!D207,\"\"))","v":""},null,null,null,null,null,null,null,null,null,null,null,null,null,null,null,null,null,null,null,null,null,null,null,null,null,null,null,null,null,null,null,null,null,null,null,null,null,null,null,null,null,null,null,0]
[null,null,null,null,{"$f":"IF('V L JUV'!D86=\"\",IF(AND('V C JUV'!D86>0,'V C CAB'!E301>0,'V C CAB'!E301='V C JUV'!D86),'V C JUV'!D86,\"\"),IF(AND('V L CAB'!E301>0,'V L JUV'!D86='V L CAB'!E301),'V L JUV'!D86,\"\"))","v":""},null,null,null,null,null,null,null,null,null,null,null,null,null,null,null,null,null,null,null,null,null,null,null,null,null,null,null,null,null,null,null,null,null,null,null,null,null,null,null,null,null,null,null,0]
[1000,1000,"ZZZZZZZ",null,{"$f":"IF(AND('V L AB'!D140>0,'V L CAB'!E168>0),'V L AB'!D140,IF(AND('V C AB'!D140>0,'V C CAB'!E168>0),'V C AB'!D140,\"\"))","v":""},null,null,null,null,null,null,null,null,null,null,{"$f":"IFERROR(#REF!,\"\")","v":""},"","","",{"$f":"IFERROR(#REF!,\"\")","v":""},{"$f":"IFERROR(#REF!,\"\")","v":""},"",null,null,{"$f":"IFERROR(#REF!,\"\")","v":""},"","",{"$f":"IFERROR(#REF!,\"\")","v":""},"",{"$f":"IFERROR(#REF!,\"\")","v":""},"",{"$f":"IFERROR(#REF!,\"\")","v":""},{"$f":"IFERROR(#REF!,\"\")","v":""},{"$f":"IFERROR(#REF!,\"\")","v":""},{"$f":"IFERROR(#REF!,\"\")","v":""},{"$f":"IFERROR(#REF!,\"\")","v":""},{"$f":"IFERROR(#REF!,\"\")","v":""},{"$f":"IFERROR(#REF!,\"\")","v":""},null,null,null,null,null,null,null,null,null,null,0]
[null,null,null,null,{"$f":"IF(AND('V L AB'!D141>0,'V L CAB'!E169>0),'V L AB'!D141,IF(AND('V C AB'!D141>0,'V C CAB'!E169>0),'V C AB'!D141,\"\"))","v":""},null,null,null,null,null,null,null,null,null,null,null,null,null,null,null,null,null,null,null,null,null,null,null,null,{"$f":"IFERROR(#REF!,\"\")","v":""},"",{"$f":"IFERROR(#REF!,\"\")","v":""},{"$f":"IFERROR(#REF!,\"\")","v":""},{"$f":"IFERROR(#REF!,\"\")","v":""},{"$f":"IFERROR(#REF!,\"\")","v":""},{"$f":"IFERROR(#REF!,\"\")","v":""},{"$f":"IFERROR(#REF!,\"\")","v":""},{"$f":"IFERROR(#REF!,\"\")","v":""},null,null,null,null,null,null,null,null,null,null,0]

{"sheet":"CLAS JUV","index":11,"n_rows":117,"n_cols":6,"rows_kept":117,"cut":false,"hidden":false,"merged":[[3,0,3,1],[4,0,4,1]]}
[null,"DERECHO ADQUIRIDO"]
[null,null,null,null,"COPETENCIAS FEI"]
[]
[null,null,"JUVENIL",null,"ESTADO DE CLASIFICIÓN","HABILITADO 24 MESES"]
[null,null,"KILOMETROS","NOVICIOS"]
["ANTERIOR","NUEVO","JINETE"]
[{"$f":"IF('V C JUV'!A7=\"\",\"\",'V C JUV'!A7)","v":"J021"},{"$f":"IF('V C JUV'!B7=\"\",\"\",'V C JUV'!B7)","v":"J"},{"$f":"IF('V C JUV'!C7=\"\",\"\",'V C JUV'!C7)","v":"ALARCON MONCA ESTEBAN ANDRES"},{"$f":"IF(OR('V C JUV'!AV93+'V C JUV'!AW93>=2,AND('V C JUV'!AV93+'V C JUV'!AW93>=1,'V L JUV'!AW93>=40),'V C JUV'!AX93>1),\"CLASIFICADO A 80 Km NOVICIOS\",\"\")","v":""},{"$f":"IF(C7='V C JUV'!C7,IF(OR('V C JUV'!AZ7=\"\",'V C JUV'!AZ7=\"HABILITADO  TEMPORALMENTE A COMPETENCIAS FEI\"),\"\",+'V C JUV'!AZ7),\"ERROR\")","v":"NO INICIA SU CLASIFICACIÓN"},{"$f":"IF(B7='V C JUV'!B7,IF(+'V C JUV'!AZ7=\"HABILITADO  TEMPORALMENTE A COMPETENCIAS FEI\",\"HABILITADO  TEMPORALMENTE A COMPETENCIAS FEI\",\"\"),\"ERROR\")","v":""}]
[{"$f":"IF('V C JUV'!A8=\"\",\"\",'V C JUV'!A8)","v":""},{"$f":"IF('V C JUV'!B8=\"\",\"\",'V C JUV'!B8)","v":"I012"},{"$f":"IF('V C JUV'!C8=\"\",\"\",'V C JUV'!C8)","v":"ALZAMORA CAROLINA"},{"$f":"IF(OR('V C JUV'!AV94+'V C JUV'!AW94>=2,AND('V C JUV'!AV94+'V C JUV'!AW94>=1,'V L JUV'!AW94>=40),'V C JUV'!AX94>1),\"CLASIFICADO A 80 Km NOVICIOS\",\"\")","v":""},{"$f":"IF(C8='V C JUV'!C8,IF(OR('V C JUV'!AZ8=\"\",'V C JUV'!AZ8=\"HABILITADO  TEMPORALMENTE A COMPETENCIAS FEI\"),\"\",+'V C JUV'!AZ8),\"ERROR\")","v":"INICIO SU CLASIFICACIÓN"},{"$f":"IF(B8='V C JUV'!B8,IF(+'V C JUV'!AZ8=\"HABILITADO  TEMPORALMENTE A COMPETENCIAS FEI\",\"HABILITADO  TEMPORALMENTE A COMPETENCIAS FEI\",\"\"),\"ERROR\")","v":""}]
[{"$f":"IF('V C JUV'!A9=\"\",\"\",'V C JUV'!A9)","v":""},{"$f":"IF('V C JUV'!B9=\"\",\"\",'V C JUV'!B9)","v":"J082"},{"$f":"IF('V C JUV'!C9=\"\",\"\",'V C JUV'!C9)","v":"ANDRADE ANDRADE EMILIA"},{"$f":"IF(OR('V C JUV'!AV95+'V C JUV'!AW95>=2,AND('V C JUV'!AV95+'V C JUV'!AW95>=1,'V L JUV'!AW95>=40),'V C JUV'!AX95>1),\"CLASIFICADO A 80 Km NOVICIOS\",\"\")","v":""},{"$f":"IF(C9='V C JUV'!C9,IF(OR('V C JUV'!AZ9=\"\",'V C JUV'!AZ9=\"HABILITADO  TEMPORALMENTE A COMPETENCIAS FEI\"),\"\",+'V C JUV'!AZ9),\"ERROR\")","v":"HABILITADO A 80KM VELOCIDAD CONTROLADA"},{"$f":"IF(B9='V C JUV'!B9,IF(+'V C JUV'!AZ9=\"HABILITADO  TEMPORALMENTE A COMPETENCIAS FEI\",\"HABILITADO  TEMPORALMENTE A COMPETENCIAS FEI\",\"\"),\"ERROR\")","v":""}]
[{"$f":"IF('V C JUV'!A10=\"\",\"\",'V C JUV'!A10)","v":""},{"$f":"IF('V C JUV'!B10=\"\",\"\",'V C JUV'!B10)","v":"J083"},{"$f":"IF('V C JUV'!C10=\"\",\"\",'V C JUV'!C10)","v":"ANDRADE ANDRADE PAULA"},{"$f":"IF(OR('V C JUV'!AV96+'V C JUV'!AW96>=2,AND('V C JUV'!AV96+'V C JUV'!AW96>=1,'V L JUV'!AW96>=40),'V C JUV'!AX96>1),\"CLASIFICADO A 80 Km NOVICIOS\",\"\")","v":""},{"$f":"IF(C10='V C JUV'!C10,IF(OR('V C JUV'!AZ10=\"\",'V C JUV'!AZ10=\"HABILITADO  TEMPORALMENTE A COMPETENCIAS FEI\"),\"\",+'V C JUV'!AZ10),\"ERROR\")","v":"INICIO SU CLASIFICACIÓN"},{"$f":"IF(B10='V C JUV'!B10,IF(+'V C JUV'!AZ10=\"HABILITADO  TEMPORALMENTE A COMPETENCIAS FEI\",\"HABILITADO  TEMPORALMENTE A COMPETENCIAS FEI\",\"\"),\"ERROR\")","v":""}]
[{"$f":"IF('V C JUV'!A11=\"\",\"\",'V C JUV'!A11)","v":"I043"},{"$f":"IF('V C JUV'!B11=\"\",\"\",'V C JUV'!B11)","v":"J034"},{"$f":"IF('V C JUV'!C11=\"\",\"\",'V C JUV'!C11)","v":"ANDRADE JOSE DANIEL"},{"$f":"IF(OR('V C JUV'!AV97+'V C JUV'!AW97>=2,AND('V C JUV'!AV97+'V C JUV'!AW97>=1,'V L JUV'!AW97>=40),'V C JUV'!AX97>1),\"CLASIFICADO A 80 Km NOVICIOS\",\"\")","v":"CLASIFICADO A 80 Km NOVICIOS"},{"$f":"IF(C11='V C JUV'!C11,IF(OR('V C JUV'!AZ11=\"\",'V C JUV'!AZ11=\"HABILITADO  TEMPORALMENTE A COMPETENCIAS FEI\"),\"\",+'V C JUV'!AZ11),\"ERROR\")","v":""},{"$f":"IF(B11='V C JUV'!B11,IF(+'V C JUV'!AZ11=\"HABILITADO  TEMPORALMENTE A COMPETENCIAS FEI\",\"HABILITADO  TEMPORALMENTE A COMPETENCIAS FEI\",\"\"),\"ERROR\")","v":"HABILITADO  TEMPORALMENTE A COMPETENCIAS FEI"}]
[{"$f":"IF('V C JUV'!A12=\"\",\"\",'V C JUV'!A12)","v":"J008"},{"$f":"IF('V C JUV'!B12=\"\",\"\",'V C JUV'!B12)","v":"J"},{"$f":"IF('V C JUV'!C12=\"\",\"\",'V C JUV'!C12)","v":"ASTUDILLO ESTALIN"},{"$f":"IF(OR('V C JUV'!AV98+'V C JUV'!AW98>=2,AND('V C JUV'!AV98+'V C JUV'!AW98>=1,'V L JUV'!AW98>=40),'V C JUV'!AX98>1),\"CLASIFICADO A 80 Km NOVICIOS\",\"\")","v":""},{"$f":"IF(C12='V C JUV'!C12,IF(OR('V C JUV'!AZ12=\"\",'V C JUV'!AZ12=\"HABILITADO  TEMPORALMENTE A COMPETENCIAS FEI\"),\"\",+'V C JUV'!AZ12),\"ERROR\")","v":"NO INICIA SU CLASIFICACIÓN"},{"$f":"IF(B12='V C JUV'!B12,IF(+'V C JUV'!AZ12=\"HABILITADO  TEMPORALMENTE A COMPETENCIAS FEI\",\"HABILITADO  TEMPORALMENTE A COMPETENCIAS FEI\",\"\"),\"ERROR\")","v":""}]
[{"$f":"IF('V C JUV'!A13=\"\",\"\",'V C JUV'!A13)","v":"I054"},{"$f":"IF('V C JUV'!B13=\"\",\"\",'V C JUV'!B13)","v":"J018"},{"$f":"IF('V C JUV'!C13=\"\",\"\",'V C JUV'!C13)","v":"BACA PEDRO JOSE"},{"$f":"IF(OR('V C JUV'!AV99+'V C JUV'!AW99>=2,AND('V C JUV'!AV99+'V C JUV'!AW99>=1,'V L JUV'!AW99>=40),'V C JUV'!AX99>1),\"CLASIFICADO A 80 Km NOVICIOS\",\"\")","v":"CLASIFICADO A 80 Km NOVICIOS"},{"$f":"IF(C13='V C JUV'!C13,IF(OR('V C JUV'!AZ13=\"\",'V C JUV'!AZ13=\"HABILITADO  TEMPORALMENTE A COMPETENCIAS FEI\"),\"\",+'V C JUV'!AZ13),\"ERROR\")","v":"HABILITADO A 80KM VELOCIDAD CONTROLADA"},{"$f":"IF(B13='V C JUV'!B13,IF(+'V C JUV'!AZ13=\"HABILITADO  TEMPORALMENTE A COMPETENCIAS FEI\",\"HABILITADO  TEMPORALMENTE A COMPETENCIAS FEI\",\"\"),\"ERROR\")","v":""}]
[{"$f":"IF('V C JUV'!A14=\"\",\"\",'V C JUV'!A14)","v":"C"},{"$f":"IF('V C JUV'!B14=\"\",\"\",'V C JUV'!B14)","v":"J058"},{"$f":"IF('V C JUV'!C14=\"\",\"\",'V C JUV'!C14)","v":"BERNAL MARTIN"},{"$f":"IF(OR('V C JUV'!AV100+'V C JUV'!AW100>=2,AND('V C JUV'!AV100+'V C JUV'!AW100>=1,'V L JUV'!AW100>=40),'V C JUV'!AX100>1),\"CLASIFICADO A 80 Km NOVICIOS\",\"\")","v":""},{"$f":"IF(C14='V C JUV'!C14,IF(OR('V C JUV'!AZ14=\"\",'V C JUV'!AZ14=\"HABILITADO  TEMPORALMENTE A COMPETENCIAS FEI\"),\"\",+'V C JUV'!AZ14),\"ERROR\")","v":"INICIO SU CLASIFICACIÓN"},{"$f":"IF(B14='V C JUV'!B14,IF(+'V C JUV'!AZ14=\"HABILITADO  TEMPORALMENTE A COMPETENCIAS FEI\",\"HABILITADO  TEMPORALMENTE A COMPETENCIAS FEI\",\"\"),\"ERROR\")","v":""}]
[{"$f":"IF('V C JUV'!A15=\"\",\"\",'V C JUV'!A15)","v":""},{"$f":"IF('V C JUV'!B15=\"\",\"\",'V C JUV'!B15)","v":"J091"},{"$f":"IF('V C JUV'!C15=\"\",\"\",'V C JUV'!C15)","v":"BERREZUETA DELGADO PABLO SANTI"},{"$f":"IF(OR('V C JUV'!AV101+'V C JUV'!AW101>=2,AND('V C JUV'!AV101+'V C JUV'!AW101>=1,'V L JUV'!AW101>=40),'V C JUV'!AX101>1),\"CLASIFICADO A 80 Km NOVICIOS\",\"\")","v":"CLASIFICADO A 80 Km NOVICIOS"},{"$f":"IF(C15='V C JUV'!C15,IF(OR('V C JUV'!AZ15=\"\",'V C JUV'!AZ15=\"HABILITADO  TEMPORALMENTE A COMPETENCIAS FEI\"),\"\",+'V C JUV'!AZ15),\"ERROR\")","v":"HABILITADO A 80KM VELOCIDAD CONTROLADA"},{"$f":"IF(B15='V C JUV'!B15,IF(+'V C JUV'!AZ15=\"HABILITADO  TEMPORALMENTE A COMPETENCIAS FEI\",\"HABILITADO  TEMPORALMENTE A COMPETENCIAS FEI\",\"\"),\"ERROR\")","v":""}]
[{"$f":"IF('V C JUV'!A16=\"\",\"\",'V C JUV'!A16)","v":""},{"$f":"IF('V C JUV'!B16=\"\",\"\",'V C JUV'!B16)","v":"C"},{"$f":"IF('V C JUV'!C16=\"\",\"\",'V C JUV'!C16)","v":"BOADA ABAD DOMENICA"},{"$f":"IF(OR('V C JUV'!AV102+'V C JUV'!AW102>=2,AND('V C JUV'!AV102+'V C JUV'!AW102>=1,'V L JUV'!AW102>=40),'V C JUV'!AX102>1),\"CLASIFICADO A 80 Km NOVICIOS\",\"\")","v":"CLASIFICADO A 80 Km NOVICIOS"},{"$f":"IF(C16='V C JUV'!C16,IF(OR('V C JUV'!AZ16=\"\",'V C JUV'!AZ16=\"HABILITADO  TEMPORALMENTE A COMPETENCIAS FEI\"),\"\",+'V C JUV'!AZ16),\"ERROR\")","v":"HABILITADO A 80KM VELOCIDAD CONTROLADA"},{"$f":"IF(B16='V C JUV'!B16,IF(+'V C JUV'!AZ16=\"HABILITADO  TEMPORALMENTE A COMPETENCIAS FEI\",\"HABILITADO  TEMPORALMENTE A COMPETENCIAS FEI\",\"\"),\"ERROR\")","v":""}]
[{"$f":"IF('V C JUV'!A17=\"\",\"\",'V C JUV'!A17)","v":"J016"},{"$f":"IF('V C JUV'!B17=\"\",\"\",'V C JUV'!B17)","v":"J"},{"$f":"IF('V C JUV'!C17=\"\",\"\",'V C JUV'!C17)","v":"BUITRON DANIEL"},{"$f":"IF(OR('V C JUV'!AV103+'V C JUV'!AW103>=2,AND('V C JUV'!AV103+'V C JUV'!AW103>=1,'V L JUV'!AW103>=40),'V C JUV'!AX103>1),\"CLASIFICADO A 80 Km NOVICIOS\",\"\")","v":"CLASIFICADO A 80 Km NOVICIOS"},{"$f":"IF(C17='V C JUV'!C17,IF(OR('V C JUV'!AZ17=\"\",'V C JUV'!AZ17=\"HABILITADO  TEMPORALMENTE A COMPETENCIAS FEI\"),\"\",+'V C JUV'!AZ17),\"ERROR\")","v":"NO INICIA SU CLASIFICACIÓN"},{"$f":"IF(B17='V C JUV'!B17,IF(+'V C JUV'!AZ17=\"HABILITADO  TEMPORALMENTE A COMPETENCIAS FEI\",\"HABILITADO  TEMPORALMENTE A COMPETENCIAS FEI\",\"\"),\"ERROR\")","v":""}]
[{"$f":"IF('V C JUV'!A18=\"\",\"\",'V C JUV'!A18)","v":"C"},{"$f":"IF('V C JUV'!B18=\"\",\"\",'V C JUV'!B18)","v":"C"},{"$f":"IF('V C JUV'!C18=\"\",\"\",'V C JUV'!C18)","v":"BURBANO  PEZANTES PEDRO JOSE"},{"$f":"IF(OR('V C JUV'!AV104+'V C JUV'!AW104>=2,AND('V C JUV'!AV104+'V C JUV'!AW104>=1,'V L JUV'!AW104>=40),'V C JUV'!AX104>1),\"CLASIFICADO A 80 Km NOVICIOS\",\"\")","v":"CLASIFICADO A 80 Km NOVICIOS"},{"$f":"IF(C18='V C JUV'!C18,IF(OR('V C JUV'!AZ18=\"\",'V C JUV'!AZ18=\"HABILITADO  TEMPORALMENTE A COMPETENCIAS FEI\"),\"\",+'V C JUV'!AZ18),\"ERROR\")","v":"NO INICIA SU CLASIFICACIÓN"},{"$f":"IF(B18='V C JUV'!B18,IF(+'V C JUV'!AZ18=\"HABILITADO  TEMPORALMENTE A COMPETENCIAS FEI\",\"HABILITADO  TEMPORALMENTE A COMPETENCIAS FEI\",\"\"),\"ERROR\")","v":""}]
[{"$f":"IF('V C JUV'!A19=\"\",\"\",'V C JUV'!A19)","v":"C"},{"$f":"IF('V C JUV'!B19=\"\",\"\",'V C JUV'!B19)","v":"C"},{"$f":"IF('V C JUV'!C19=\"\",\"\",'V C JUV'!C19)","v":"BURBANO SERRANO JAIME SEBASTIAN"},{"$f":"IF(OR('V C JUV'!AV105+'V C JUV'!AW105>=2,AND('V C JUV'!AV105+'V C JUV'!AW105>=1,'V L JUV'!AW105>=40),'V C JUV'!AX105>1),\"CLASIFICADO A 80 Km NOVICIOS\",\"\")","v":"CLASIFICADO A 80 Km NOVICIOS"},{"$f":"IF(C19='V C JUV'!C19,IF(OR('V C JUV'!AZ19=\"\",'V C JUV'!AZ19=\"HABILITADO  TEMPORALMENTE A COMPETENCIAS FEI\"),\"\",+'V C JUV'!AZ19),\"ERROR\")","v":"HABILITADO A 80KM VELOCIDAD CONTROLADA"},{"$f":"IF(B19='V C JUV'!B19,IF(+'V C JUV'!AZ19=\"HABILITADO  TEMPORALMENTE A COMPETENCIAS FEI\",\"HABILITADO  TEMPORALMENTE A COMPETENCIAS FEI\",\"\"),\"ERROR\")","v":""}]
[{"$f":"IF('V C JUV'!A20=\"\",\"\",'V C JUV'!A20)","v":"C"},{"$f":"IF('V C JUV'!B20=\"\",\"\",'V C JUV'!B20)","v":"J067"},{"$f":"IF('V C JUV'!C20=\"\",\"\",'V C JUV'!C20)","v":"BURBANO VILLAVICENCIO JAIME SEBASTIAN"},{"$f":"IF(OR('V C JUV'!AV106+'V C JUV'!AW106>=2,AND('V C JUV'!AV106+'V C JUV'!AW106>=1,'V L JUV'!AW106>=40),'V C JUV'!AX106>1),\"CLASIFICADO A 80 Km NOVICIOS\",\"\")","v":""},{"$f":"IF(C20='V C JUV'!C20,IF(OR('V C JUV'!AZ20=\"\",'V C JUV'!AZ20=\"HABILITADO  TEMPORALMENTE A COMPETENCIAS FEI\"),\"\",+'V C JUV'!AZ20),\"ERROR\")","v":"HABILITADO A 80KM VELOCIDAD CONTROLADA"},{"$f":"IF(B20='V C JUV'!B20,IF(+'V C JUV'!AZ20=\"HABILITADO  TEMPORALMENTE A COMPETENCIAS FEI\",\"HABILITADO  TEMPORALMENTE A COMPETENCIAS FEI\",\"\"),\"ERROR\")","v":""}]
[{"$f":"IF('V C JUV'!A21=\"\",\"\",'V C JUV'!A21)","v":""},{"$f":"IF('V C JUV'!B21=\"\",\"\",'V C JUV'!B21)","v":"I007"},{"$f":"IF('V C JUV'!C21=\"\",\"\",'V C JUV'!C21)","v":"CHIRIBOGA ALFREDO"},{"$f":"IF(OR('V C JUV'!AV107+'V C JUV'!AW107>=2,AND('V C JUV'!AV107+'V C JUV'!AW107>=1,'V L JUV'!AW107>=40),'V C JUV'!AX107>1),\"CLASIFICADO A 80 Km NOVICIOS\",\"\")","v":""},{"$f":"IF(C21='V C JUV'!C21,IF(OR('V C JUV'!AZ21=\"\",'V C JUV'!AZ21=\"HABILITADO  TEMPORALMENTE A COMPETENCIAS FEI\"),\"\",+'V C JUV'!AZ21),\"ERROR\")","v":"INICIO SU CLASIFICACIÓN"},{"$f":"IF(B21='V C JUV'!B21,IF(+'V C JUV'!AZ21=\"HABILITADO  TEMPORALMENTE A COMPETENCIAS FEI\",\"HABILITADO  TEMPORALMENTE A COMPETENCIAS FEI\",\"\"),\"ERROR\")","v":""}]
[{"$f":"IF('V C JUV'!A22=\"\",\"\",'V C JUV'!A22)","v":"I049"},{"$f":"IF('V C JUV'!B22=\"\",\"\",'V C JUV'!B22)","v":"J"},{"$f":"IF('V C JUV'!C22=\"\",\"\",'V C JUV'!C22)","v":"CHIRIBOGA DANIEL"},{"$f":"IF(OR('V C JUV'!AV108+'V C JUV'!AW108>=2,AND('V C JUV'!AV108+'V C JUV'!AW108>=1,'V L JUV'!AW108>=40),'V C JUV'!AX108>1),\"CLASIFICADO A 80 Km NOVICIOS\",\"\")","v":""},{"$f":"IF(C22='V C JUV'!C22,IF(OR('V C JUV'!AZ22=\"\",'V C JUV'!AZ22=\"HABILITADO  TEMPORALMENTE A COMPETENCIAS FEI\"),\"\",+'V C JUV'!AZ22),\"ERROR\")","v":"INICIO SU CLASIFICACIÓN"},{"$f":"IF(B22='V C JUV'!B22,IF(+'V C JUV'!AZ22=\"HABILITADO  TEMPORALMENTE A COMPETENCIAS FEI\",\"HABILITADO  TEMPORALMENTE A COMPETENCIAS FEI\",\"\"),\"ERROR\")","v":""}]
[{"$f":"IF('V C JUV'!A23=\"\",\"\",'V C JUV'!A23)","v":"I031"},{"$f":"IF('V C JUV'!B23=\"\",\"\",'V C JUV'!B23)","v":"J048"},{"$f":"IF('V C JUV'!C23=\"\",\"\",'V C JUV'!C23)","v":"CONTRERAS MARIA ALICIA"},{"$f":"IF(OR('V C JUV'!AV109+'V C JUV'!AW109>=2,AND('V C JUV'!AV109+'V C JUV'!AW109>=1,'V L JUV'!AW109>=40),'V C JUV'!AX109>1),\"CLASIFICADO A 80 Km NOVICIOS\",\"\")","v":""},{"$f":"IF(C23='V C JUV'!C23,IF(OR('V C JUV'!AZ23=\"\",'V C JUV'!AZ23=\"HABILITADO  TEMPORALMENTE A COMPETENCIAS FEI\"),\"\",+'V C JUV'!AZ23),\"ERROR\")","v":"HABILITADO A 80KM VELOCIDAD CONTROLADA"},{"$f":"IF(B23='V C JUV'!B23,IF(+'V C JUV'!AZ23=\"HABILITADO  TEMPORALMENTE A COMPETENCIAS FEI\",\"HABILITADO  TEMPORALMENTE A COMPETENCIAS FEI\",\"\"),\"ERROR\")","v":""}]
[{"$f":"IF('V C JUV'!A24=\"\",\"\",'V C JUV'!A24)","v":""},{"$f":"IF('V C JUV'!B24=\"\",\"\",'V C JUV'!B24)","v":"J084"},{"$f":"IF('V C JUV'!C24=\"\",\"\",'V C JUV'!C24)","v":"CORDOVA MUÑOZ SUSANA MICHELLE"},{"$f":"IF(OR('V C JUV'!AV110+'V C JUV'!AW110>=2,AND('V C JUV'!AV110+'V C JUV'!AW110>=1,'V L JUV'!AW110>=40),'V C JUV'!AX110>1),\"CLASIFICADO A 80 Km NOVICIOS\",\"\")","v":""},{"$f":"IF(C24='V C JUV'!C24,IF(OR('V C JUV'!AZ24=\"\",'V C JUV'!AZ24=\"HABILITADO  TEMPORALMENTE A COMPETENCIAS FEI\"),\"\",+'V C JUV'!AZ24),\"ERROR\")","v":"INICIO SU CLASIFICACIÓN"},{"$f":"IF(B24='V C JUV'!B24,IF(+'V C JUV'!AZ24=\"HABILITADO  TEMPORALMENTE A COMPETENCIAS FEI\",\"HABILITADO  TEMPORALMENTE A COMPETENCIAS FEI\",\"\"),\"ERROR\")","v":""}]
[{"$f":"IF('V C JUV'!A25=\"\",\"\",'V C JUV'!A25)","v":"J026"},{"$f":"IF('V C JUV'!B25=\"\",\"\",'V C JUV'!B25)","v":"J021"},{"$f":"IF('V C JUV'!C25=\"\",\"\",'V C JUV'!C25)","v":"CORNEJO BURNEO MANUEL"},{"$f":"IF(OR('V C JUV'!AV116+'V C JUV'!AW116>=2,AND('V C JUV'!AV116+'V C JUV'!AW116>=1,'V L JUV'!AW116>=40),'V C JUV'!AX116>1),\"CLASIFICADO A 80 Km NOVICIOS\",\"\")","v":""},{"$f":"IF(C25='V C JUV'!C25,IF(OR('V C JUV'!AZ25=\"\",'V C JUV'!AZ25=\"HABILITADO  TEMPORALMENTE A COMPETENCIAS FEI\"),\"\",+'V C JUV'!AZ25),\"ERROR\")","v":""},{"$f":"IF(B25='V C JUV'!B25,IF(+'V C JUV'!AZ25=\"HABILITADO  TEMPORALMENTE A COMPETENCIAS FEI\",\"HABILITADO  TEMPORALMENTE A COMPETENCIAS FEI\",\"\"),\"ERROR\")","v":"HABILITADO  TEMPORALMENTE A COMPETENCIAS FEI"}]
[{"$f":"IF('V C JUV'!A26=\"\",\"\",'V C JUV'!A26)","v":"J019"},{"$f":"IF('V C JUV'!B26=\"\",\"\",'V C JUV'!B26)","v":"J015"},{"$f":"IF('V C JUV'!C26=\"\",\"\",'V C JUV'!C26)","v":"DARQUEA ANDRES"},{"$f":"IF(OR('V C JUV'!AV117+'V C JUV'!AW117>=2,AND('V C JUV'!AV117+'V C JUV'!AW117>=1,'V L JUV'!AW117>=40),'V C JUV'!AX117>1),\"CLASIFICADO A 80 Km NOVICIOS\",\"\")","v":""},{"$f":"IF(C26='V C JUV'!C26,IF(OR('V C JUV'!AZ26=\"\",'V C JUV'!AZ26=\"HABILITADO  TEMPORALMENTE A COMPETENCIAS FEI\"),\"\",+'V C JUV'!AZ26),\"ERROR\")","v":"HABILITADO A 80KM VELOCIDAD CONTROLADA"},{"$f":"IF(B26='V C JUV'!B26,IF(+'V C JUV'!AZ26=\"HABILITADO  TEMPORALMENTE A COMPETENCIAS FEI\",\"HABILITADO  TEMPORALMENTE A COMPETENCIAS FEI\",\"\"),\"ERROR\")","v":""}]
[{"$f":"IF('V C JUV'!A27=\"\",\"\",'V C JUV'!A27)","v":""},{"$f":"IF('V C JUV'!B27=\"\",\"\",'V C JUV'!B27)","v":"J089"},{"$f":"IF('V C JUV'!C27=\"\",\"\",'V C JUV'!C27)","v":"DARQUEA DAVALOS ANA MARIA"},{"$f":"IF(OR('V C JUV'!AV118+'V C JUV'!AW118>=2,AND('V C JUV'!AV118+'V C JUV'!AW118>=1,'V L JUV'!AW118>=40),'V C JUV'!AX118>1),\"CLASIFICADO A 80 Km NOVICIOS\",\"\")","v":""},{"$f":"IF(C27='V C JUV'!C27,IF(OR('V C JUV'!AZ27=\"\",'V C JUV'!AZ27=\"HABILITADO  TEMPORALMENTE A COMPETENCIAS FEI\"),\"\",+'V C JUV'!AZ27),\"ERROR\")","v":"HABILITADO A 80KM VELOCIDAD CONTROLADA"},{"$f":"IF(B27='V C JUV'!B27,IF(+'V C JUV'!AZ27=\"HABILITADO  TEMPORALMENTE A COMPETENCIAS FEI\",\"HABILITADO  TEMPORALMENTE A COMPETENCIAS FEI\",\"\"),\"ERROR\")","v":""}]
[{"$f":"IF('V C JUV'!A28=\"\",\"\",'V C JUV'!A28)","v":""},{"$f":"IF('V C JUV'!B28=\"\",\"\",'V C JUV'!B28)","v":"J040"},{"$f":"IF('V C JUV'!C28=\"\",\"\",'V C JUV'!C28)","v":"DARQUEA GABRIEL IGNACIO"},{"$f":"IF(OR('V C JUV'!AV119+'V C JUV'!AW119>=2,AND('V C JUV'!AV119+'V C JUV'!AW119>=1,'V L JUV'!AW119>=40),'V C JUV'!AX119>1),\"CLASIFICADO A 80 Km NOVICIOS\",\"\")","v":""},{"$f":"IF(C28='V C JUV'!C28,IF(OR('V C JUV'!AZ28=\"\",'V C JUV'!AZ28=\"HABILITADO  TEMPORALMENTE A COMPETENCIAS FEI\"),\"\",+'V C JUV'!AZ28),\"ERROR\")","v":"INICIO SU CLASIFICACIÓN"},{"$f":"IF(B28='V C JUV'!B28,IF(+'V C JUV'!AZ28=\"HABILITADO  TEMPORALMENTE A COMPETENCIAS FEI\",\"HABILITADO  TEMPORALMENTE A COMPETENCIAS FEI\",\"\"),\"ERROR\")","v":""}]
[{"$f":"IF('V C JUV'!A29=\"\",\"\",'V C JUV'!A29)","v":"J031"},{"$f":"IF('V C JUV'!B29=\"\",\"\",'V C JUV'!B29)","v":"J"},{"$f":"IF('V C JUV'!C29=\"\",\"\",'V C JUV'!C29)","v":"DARQUEA JIJON ANDRES"},{"$f":"IF(OR('V C JUV'!AV120+'V C JUV'!AW120>=2,AND('V C JUV'!AV120+'V C JUV'!AW120>=1,'V L JUV'!AW120>=40),'V C JUV'!AX120>1),\"CLASIFICADO A 80 Km NOVICIOS\",\"\")","v":""},{"$f":"IF(C29='V C JUV'!C29,IF(OR('V C JUV'!AZ29=\"\",'V C JUV'!AZ29=\"HABILITADO  TEMPORALMENTE A COMPETENCIAS FEI\"),\"\",+'V C JUV'!AZ29),\"ERROR\")","v":"NO INICIA SU CLASIFICACIÓN"},{"$f":"IF(B29='V C JUV'!B29,IF(+'V C JUV'!AZ29=\"HABILITADO  TEMPORALMENTE A COMPETENCIAS FEI\",\"HABILITADO  TEMPORALMENTE A COMPETENCIAS FEI\",\"\"),\"ERROR\")","v":""}]
[{"$f":"IF('V C JUV'!A30=\"\",\"\",'V C JUV'!A30)","v":"J003"},{"$f":"IF('V C JUV'!B30=\"\",\"\",'V C JUV'!B30)","v":"J024"},{"$f":"IF('V C JUV'!C30=\"\",\"\",'V C JUV'!C30)","v":"DARQUEA RAFAELA"},{"$f":"IF(OR('V C JUV'!AV121+'V C JUV'!AW121>=2,AND('V C JUV'!AV121+'V C JUV'!AW121>=1,'V L JUV'!AW121>=40),'V C JUV'!AX121>1),\"CLASIFICADO A 80 Km NOVICIOS\",\"\")","v":""},{"$f":"IF(C30='V C JUV'!C30,IF(OR('V C JUV'!AZ30=\"\",'V C JUV'!AZ30=\"HABILITADO  TEMPORALMENTE A COMPETENCIAS FEI\"),\"\",+'V C JUV'!AZ30),\"ERROR\")","v":""},{"$f":"IF(B30='V C JUV'!B30,IF(+'V C JUV'!AZ30=\"HABILITADO  TEMPORALMENTE A COMPETENCIAS FEI\",\"HABILITADO  TEMPORALMENTE A COMPETENCIAS FEI\",\"\"),\"ERROR\")","v":"HABILITADO  TEMPORALMENTE A COMPETENCIAS FEI"}]
[{"$f":"IF('V C JUV'!A31=\"\",\"\",'V C JUV'!A31)","v":"J009"},{"$f":"IF('V C JUV'!B31=\"\",\"\",'V C JUV'!B31)","v":"J019"},{"$f":"IF('V C JUV'!C31=\"\",\"\",'V C JUV'!C31)","v":"DARQUEA RICARDO"},{"$f":"IF(OR('V C JUV'!AV122+'V C JUV'!AW122>=2,AND('V C JUV'!AV122+'V C JUV'!AW122>=1,'V L JUV'!AW122>=40),'V C JUV'!AX122>1),\"CLASIFICADO A 80 Km NOVICIOS\",\"\")","v":""},{"$f":"IF(C31='V C JUV'!C31,IF(OR('V C JUV'!AZ31=\"\",'V C JUV'!AZ31=\"HABILITADO  TEMPORALMENTE A COMPETENCIAS FEI\"),\"\",+'V C JUV'!AZ31),\"ERROR\")","v":""},{"$f":"IF(B31='V C JUV'!B31,IF(+'V C JUV'!AZ31=\"HABILITADO  TEMPORALMENTE A COMPETENCIAS FEI\",\"HABILITADO  TEMPORALMENTE A COMPETENCIAS FEI\",\"\"),\"ERROR\")","v":"HABILITADO  TEMPORALMENTE A COMPETENCIAS FEI"}]
[{"$f":"IF('V C JUV'!A32=\"\",\"\",'V C JUV'!A32)","v":"C"},{"$f":"IF('V C JUV'!B32=\"\",\"\",'V C JUV'!B32)","v":"J068"},{"$f":"IF('V C JUV'!C32=\"\",\"\",'V C JUV'!C32)","v":"DAVALOS LARIVA MARIA EMILIA"},{"$f":"IF(OR('V C JUV'!AV123+'V C JUV'!AW123>=2,AND('V C JUV'!AV123+'V C JUV'!AW123>=1,'V L JUV'!AW123>=40),'V C JUV'!AX123>1),\"CLASIFICADO A 80 Km NOVICIOS\",\"\")","v":""},{"$f":"IF(C32='V C JUV'!C32,IF(OR('V C JUV'!AZ32=\"\",'V C JUV'!AZ32=\"HABILITADO  TEMPORALMENTE A COMPETENCIAS FEI\"),\"\",+'V C JUV'!AZ32),\"ERROR\")","v":"HABILITADO A 80KM VELOCIDAD CONTROLADA"},{"$f":"IF(B32='V C JUV'!B32,IF(+'V C JUV'!AZ32=\"HABILITADO  TEMPORALMENTE A COMPETENCIAS FEI\",\"HABILITADO  TEMPORALMENTE A COMPETENCIAS FEI\",\"\"),\"ERROR\")","v":""}]
[{"$f":"IF('V C JUV'!A33=\"\",\"\",'V C JUV'!A33)","v":""},{"$f":"IF('V C JUV'!B33=\"\",\"\",'V C JUV'!B33)","v":"J009"},{"$f":"IF('V C JUV'!C33=\"\",\"\",'V C JUV'!C33)","v":"DEL POZO MARTINA"},{"$f":"IF(OR('V C JUV'!AV124+'V C JUV'!AW124>=2,AND('V C JUV'!AV124+'V C JUV'!AW124>=1,'V L JUV'!AW124>=40),'V C JUV'!AX124>1),\"CLASIFICADO A 80 Km NOVICIOS\",\"\")","v":""},{"$f":"IF(C33='V C JUV'!C33,IF(OR('V C JUV'!AZ33=\"\",'V C JUV'!AZ33=\"HABILITADO  TEMPORALMENTE A COMPETENCIAS FEI\"),\"\",+'V C JUV'!AZ33),\"ERROR\")","v":"HABILITADO A 80KM VELOCIDAD CONTROLADA"},{"$f":"IF(B33='V C JUV'!B33,IF(+'V C JUV'!AZ33=\"HABILITADO  TEMPORALMENTE A COMPETENCIAS FEI\",\"HABILITADO  TEMPORALMENTE A COMPETENCIAS FEI\",\"\"),\"ERROR\")","v":""}]
[{"$f":"IF('V C JUV'!A34=\"\",\"\",'V C JUV'!A34)","v":"J017"},{"$f":"IF('V C JUV'!B34=\"\",\"\",'V C JUV'!B34)","v":"J032"},{"$f":"IF('V C JUV'!C34=\"\",\"\",'V C JUV'!C34)","v":"DELGADO JUAN "},{"$f":"IF(OR('V C JUV'!AV125+'V C JUV'!AW125>=2,AND('V C JUV'!AV125+'V C JUV'!AW125>=1,'V L JUV'!AW125>=40),'V C JUV'!AX125>1),\"CLASIFICADO A 80 Km NOVICIOS\",\"\")","v":""},{"$f":"IF(C34='V C JUV'!C34,IF(OR('V C JUV'!AZ34=\"\",'V C JUV'!AZ34=\"HABILITADO  TEMPORALMENTE A COMPETENCIAS FEI\"),\"\",+'V C JUV'!AZ34),\"ERROR\")","v":"INICIO SU CLASIFICACIÓN"},{"$f":"IF(B34='V C JUV'!B34,IF(+'V C JUV'!AZ34=\"HABILITADO  TEMPORALMENTE A COMPETENCIAS FEI\",\"HABILITADO  TEMPORALMENTE A COMPETENCIAS FEI\",\"\"),\"ERROR\")","v":""}]
[{"$f":"IF('V C JUV'!A35=\"\",\"\",'V C JUV'!A35)","v":"C"},{"$f":"IF('V C JUV'!B35=\"\",\"\",'V C JUV'!B35)","v":"J069"},{"$f":"IF('V C JUV'!C35=\"\",\"\",'V C JUV'!C35)","v":"DONOSO CARRASCO MARIA DANIELA"},{"$f":"IF(OR('V C JUV'!AV126+'V C JUV'!AW126>=2,AND('V C JUV'!AV126+'V C JUV'!AW126>=1,'V L JUV'!AW126>=40),'V C JUV'!AX126>1),\"CLASIFICADO A 80 Km NOVICIOS\",\"\")","v":""},{"$f":"IF(C35='V C JUV'!C35,IF(OR('V C JUV'!AZ35=\"\",'V C JUV'!AZ35=\"HABILITADO  TEMPORALMENTE A COMPETENCIAS FEI\"),\"\",+'V C JUV'!AZ35),\"ERROR\")","v":"HABILITADO A 80KM VELOCIDAD CONTROLADA"},{"$f":"IF(B35='V C JUV'!B35,IF(+'V C JUV'!AZ35=\"HABILITADO  TEMPORALMENTE A COMPETENCIAS FEI\",\"HABILITADO  TEMPORALMENTE A COMPETENCIAS FEI\",\"\"),\"ERROR\")","v":""}]
[{"$f":"IF('V C JUV'!A36=\"\",\"\",'V C JUV'!A36)","v":""},{"$f":"IF('V C JUV'!B36=\"\",\"\",'V C JUV'!B36)","v":"J059"},{"$f":"IF('V C JUV'!C36=\"\",\"\",'V C JUV'!C36)","v":"DUBACH CAROLINA"},{"$f":"IF(OR('V C JUV'!AV127+'V C JUV'!AW127>=2,AND('V C JUV'!AV127+'V C JUV'!AW127>=1,'V L JUV'!AW127>=40),'V C JUV'!AX127>1),\"CLASIFICADO A 80 Km NOVICIOS\",\"\")","v":""},{"$f":"IF(C36='V C JUV'!C36,IF(OR('V C JUV'!AZ36=\"\",'V C JUV'!AZ36=\"HABILITADO  TEMPORALMENTE A COMPETENCIAS FEI\"),\"\",+'V C JUV'!AZ36),\"ERROR\")","v":"HABILITADO A 80KM VELOCIDAD CONTROLADA"},{"$f":"IF(B36='V C JUV'!B36,IF(+'V C JUV'!AZ36=\"HABILITADO  TEMPORALMENTE A COMPETENCIAS FEI\",\"HABILITADO  TEMPORALMENTE A COMPETENCIAS FEI\",\"\"),\"ERROR\")","v":""}]
[{"$f":"IF('V C JUV'!A37=\"\",\"\",'V C JUV'!A37)","v":""},{"$f":"IF('V C JUV'!B37=\"\",\"\",'V C JUV'!B37)","v":"J042"},{"$f":"IF('V C JUV'!C37=\"\",\"\",'V C JUV'!C37)","v":"DUEÑAS GONZALO"},{"$f":"IF(OR('V C JUV'!AV128+'V C JUV'!AW128>=2,AND('V C JUV'!AV128+'V C JUV'!AW128>=1,'V L JUV'!AW128>=40),'V C JUV'!AX128>1),\"CLASIFICADO A 80 Km NOVICIOS\",\"\")","v":""},{"$f":"IF(C37='V C JUV'!C37,IF(OR('V C JUV'!AZ37=\"\",'V C JUV'!AZ37=\"HABILITADO  TEMPORALMENTE A COMPETENCIAS FEI\"),\"\",+'V C JUV'!AZ37),\"ERROR\")","v":"INICIO SU CLASIFICACIÓN"},{"$f":"IF(B37='V C JUV'!B37,IF(+'V C JUV'!AZ37=\"HABILITADO  TEMPORALMENTE A COMPETENCIAS FEI\",\"HABILITADO  TEMPORALMENTE A COMPETENCIAS FEI\",\"\"),\"ERROR\")","v":""}]
[{"$f":"IF('V C JUV'!A38=\"\",\"\",'V C JUV'!A38)","v":"C"},{"$f":"IF('V C JUV'!B38=\"\",\"\",'V C JUV'!B38)","v":"J070"},{"$f":"IF('V C JUV'!C38=\"\",\"\",'V C JUV'!C38)","v":"ESPINOZA ALVARADO JUAN SEBASTIAN"},{"$f":"IF(OR('V C JUV'!AV129+'V C JUV'!AW129>=2,AND('V C JUV'!AV129+'V C JUV'!AW129>=1,'V L JUV'!AW129>=40),'V C JUV'!AX129>1),\"CLASIFICADO A 80 Km NOVICIOS\",\"\")","v":""},{"$f":"IF(C38='V C JUV'!C38,IF(OR('V C JUV'!AZ38=\"\",'V C JUV'!AZ38=\"HABILITADO  TEMPORALMENTE A COMPETENCIAS FEI\"),\"\",+'V C JUV'!AZ38),\"ERROR\")","v":"HABILITADO A 80KM VELOCIDAD CONTROLADA"},{"$f":"IF(B38='V C JUV'!B38,IF(+'V C JUV'!AZ38=\"HABILITADO  TEMPORALMENTE A COMPETENCIAS FEI\",\"HABILITADO  TEMPORALMENTE A COMPETENCIAS FEI\",\"\"),\"ERROR\")","v":""}]
[{"$f":"IF('V C JUV'!A39=\"\",\"\",'V C JUV'!A39)","v":""},{"$f":"IF('V C JUV'!B39=\"\",\"\",'V C JUV'!B39)","v":"J065"},{"$f":"IF('V C JUV'!C39=\"\",\"\",'V C JUV'!C39)","v":"ESPINOZA BARBARA"},{"$f":"IF(OR('V C JUV'!AV130+'V C JUV'!AW130>=2,AND('V C JUV'!AV130+'V C JUV'!AW130>=1,'V L JUV'!AW130>=40),'V C JUV'!AX130>1),\"CLASIFICADO A 80 Km NOVICIOS\",\"\")","v":"CLASIFICADO A 80 Km NOVICIOS"},{"$f":"IF(C39='V C JUV'!C39,IF(OR('V C JUV'!AZ39=\"\",'V C JUV'!AZ39=\"HABILITADO  TEMPORALMENTE A COMPETENCIAS FEI\"),\"\",+'V C JUV'!AZ39),\"ERROR\")","v":"LE FALTA UNA DE 80 A 90 CONTROLADA"},{"$f":"IF(B39='V C JUV'!B39,IF(+'V C JUV'!AZ39=\"HABILITADO  TEMPORALMENTE A COMPETENCIAS FEI\",\"HABILITADO  TEMPORALMENTE A COMPETENCIAS FEI\",\"\"),\"ERROR\")","v":""}]
[{"$f":"IF('V C JUV'!A40=\"\",\"\",'V C JUV'!A40)","v":"J005"},{"$f":"IF('V C JUV'!B40=\"\",\"\",'V C JUV'!B40)","v":"J"},{"$f":"IF('V C JUV'!C40=\"\",\"\",'V C JUV'!C40)","v":"ESPINOZA JUAN FERNANDO"},{"$f":"IF(OR('V C JUV'!AV131+'V C JUV'!AW131>=2,AND('V C JUV'!AV131+'V C JUV'!AW131>=1,'V L JUV'!AW131>=40),'V C JUV'!AX131>1),\"CLASIFICADO A 80 Km NOVICIOS\",\"\")","v":""},{"$f":"IF(C40='V C JUV'!C40,IF(OR('V C JUV'!AZ40=\"\",'V C JUV'!AZ40=\"HABILITADO  TEMPORALMENTE A COMPETENCIAS FEI\"),\"\",+'V C JUV'!AZ40),\"ERROR\")","v":"HABILITADO A 80KM VELOCIDAD CONTROLADA"},{"$f":"IF(B40='V C JUV'!B40,IF(+'V C JUV'!AZ40=\"HABILITADO  TEMPORALMENTE A COMPETENCIAS FEI\",\"HABILITADO  TEMPORALMENTE A COMPETENCIAS FEI\",\"\"),\"ERROR\")","v":""}]
[{"$f":"IF('V C JUV'!A41=\"\",\"\",'V C JUV'!A41)","v":"J013"},{"$f":"IF('V C JUV'!B41=\"\",\"\",'V C JUV'!B41)","v":"J007"},{"$f":"IF('V C JUV'!C41=\"\",\"\",'V C JUV'!C41)","v":"ESPINOZA TOMAS"},{"$f":"IF(OR('V C JUV'!AV132+'V C JUV'!AW132>=2,AND('V C JUV'!AV132+'V C JUV'!AW132>=1,'V L JUV'!AW132>=40),'V C JUV'!AX132>1),\"CLASIFICADO A 80 Km NOVICIOS\",\"\")","v":""},{"$f":"IF(C41='V C JUV'!C41,IF(OR('V C JUV'!AZ41=\"\",'V C JUV'!AZ41=\"HABILITADO  TEMPORALMENTE A COMPETENCIAS FEI\"),\"\",+'V C JUV'!AZ41),\"ERROR\")","v":""},{"$f":"IF(B41='V C JUV'!B41,IF(+'V C JUV'!AZ41=\"HABILITADO  TEMPORALMENTE A COMPETENCIAS FEI\",\"HABILITADO  TEMPORALMENTE A COMPETENCIAS FEI\",\"\"),\"ERROR\")","v":"HABILITADO  TEMPORALMENTE A COMPETENCIAS FEI"}]
[{"$f":"IF('V C JUV'!A42=\"\",\"\",'V C JUV'!A42)","v":""},{"$f":"IF('V C JUV'!B42=\"\",\"\",'V C JUV'!B42)","v":"M010"},{"$f":"IF('V C JUV'!C42=\"\",\"\",'V C JUV'!C42)","v":"FRITZ JULIANA"},{"$f":"IF(OR('V C JUV'!AV133+'V C JUV'!AW133>=2,AND('V C JUV'!AV133+'V C JUV'!AW133>=1,'V L JUV'!AW133>=40),'V C JUV'!AX133>1),\"CLASIFICADO A 80 Km NOVICIOS\",\"\")","v":""},{"$f":"IF(C42='V C JUV'!C42,IF(OR('V C JUV'!AZ42=\"\",'V C JUV'!AZ42=\"HABILITADO  TEMPORALMENTE A COMPETENCIAS FEI\"),\"\",+'V C JUV'!AZ42),\"ERROR\")","v":"INICIO SU CLASIFICACIÓN"},{"$f":"IF(B42='V C JUV'!B42,IF(+'V C JUV'!AZ42=\"HABILITADO  TEMPORALMENTE A COMPETENCIAS FEI\",\"HABILITADO  TEMPORALMENTE A COMPETENCIAS FEI\",\"\"),\"ERROR\")","v":""}]
[{"$f":"IF('V C JUV'!A43=\"\",\"\",'V C JUV'!A43)","v":""},{"$f":"IF('V C JUV'!B43=\"\",\"\",'V C JUV'!B43)","v":"J050"},{"$f":"IF('V C JUV'!C43=\"\",\"\",'V C JUV'!C43)","v":"FRITZ PAULA"},{"$f":"IF(OR('V C JUV'!AV134+'V C JUV'!AW134>=2,AND('V C JUV'!AV134+'V C JUV'!AW134>=1,'V L JUV'!AW134>=40),'V C JUV'!AX134>1),\"CLASIFICADO A 80 Km NOVICIOS\",\"\")","v":""},{"$f":"IF(C43='V C JUV'!C43,IF(OR('V C JUV'!AZ43=\"\",'V C JUV'!AZ43=\"HABILITADO  TEMPORALMENTE A COMPETENCIAS FEI\"),\"\",+'V C JUV'!AZ43),\"ERROR\")","v":""},{"$f":"IF(B43='V C JUV'!B43,IF(+'V C JUV'!AZ43=\"HABILITADO  TEMPORALMENTE A COMPETENCIAS FEI\",\"HABILITADO  TEMPORALMENTE A COMPETENCIAS FEI\",\"\"),\"ERROR\")","v":"HABILITADO  TEMPORALMENTE A COMPETENCIAS FEI"}]
[{"$f":"IF('V C JUV'!A44=\"\",\"\",'V C JUV'!A44)","v":""},{"$f":"IF('V C JUV'!B44=\"\",\"\",'V C JUV'!B44)","v":"J049"},{"$f":"IF('V C JUV'!C44=\"\",\"\",'V C JUV'!C44)","v":"FRITZ SEBASTIAN"},{"$f":"IF(OR('V C JUV'!AV135+'V C JUV'!AW135>=2,AND('V C JUV'!AV135+'V C JUV'!AW135>=1,'V L JUV'!AW135>=40),'V C JUV'!AX135>1),\"CLASIFICADO A 80 Km NOVICIOS\",\"\")","v":""},{"$f":"IF(C44='V C JUV'!C44,IF(OR('V C JUV'!AZ44=\"\",'V C JUV'!AZ44=\"HABILITADO  TEMPORALMENTE A COMPETENCIAS FEI\"),\"\",+'V C JUV'!AZ44),\"ERROR\")","v":"LE FALTA UNA DE 80 A 90 CONTROLADA"},{"$f":"IF(B44='V C JUV'!B44,IF(+'V C JUV'!AZ44=\"HABILITADO  TEMPORALMENTE A COMPETENCIAS FEI\",\"HABILITADO  TEMPORALMENTE A COMPETENCIAS FEI\",\"\"),\"ERROR\")","v":""}]
[{"$f":"IF('V C JUV'!A45=\"\",\"\",'V C JUV'!A45)","v":"J038"},{"$f":"IF('V C JUV'!B45=\"\",\"\",'V C JUV'!B45)","v":"J008"},{"$f":"IF('V C JUV'!C45=\"\",\"\",'V C JUV'!C45)","v":"GOMEZ MICHILENA ALEXANDER"},{"$f":"IF(OR('V C JUV'!AV136+'V C JUV'!AW136>=2,AND('V C JUV'!AV136+'V C JUV'!AW136>=1,'V L JUV'!AW136>=40),'V C JUV'!AX136>1),\"CLASIFICADO A 80 Km NOVICIOS\",\"\")","v":""},{"$f":"IF(C45='V C JUV'!C45,IF(OR('V C JUV'!AZ45=\"\",'V C JUV'!AZ45=\"HABILITADO  TEMPORALMENTE A COMPETENCIAS FEI\"),\"\",+'V C JUV'!AZ45),\"ERROR\")","v":""},{"$f":"IF(B45='V C JUV'!B45,IF(+'V C JUV'!AZ45=\"HABILITADO  TEMPORALMENTE A COMPETENCIAS FEI\",\"HABILITADO  TEMPORALMENTE A COMPETENCIAS FEI\",\"\"),\"ERROR\")","v":"HABILITADO  TEMPORALMENTE A COMPETENCIAS FEI"}]
[{"$f":"IF('V C JUV'!A46=\"\",\"\",'V C JUV'!A46)","v":""},{"$f":"IF('V C JUV'!B46=\"\",\"\",'V C JUV'!B46)","v":"J063"},{"$f":"IF('V C JUV'!C46=\"\",\"\",'V C JUV'!C46)","v":"GONZALEZ BERNARDA"},{"$f":"IF(OR('V C JUV'!AV137+'V C JUV'!AW137>=2,AND('V C JUV'!AV137+'V C JUV'!AW137>=1,'V L JUV'!AW137>=40),'V C JUV'!AX137>1),\"CLASIFICADO A 80 Km NOVICIOS\",\"\")","v":""},{"$f":"IF(C46='V C JUV'!C46,IF(OR('V C JUV'!AZ46=\"\",'V C JUV'!AZ46=\"HABILITADO  TEMPORALMENTE A COMPETENCIAS FEI\"),\"\",+'V C JUV'!AZ46),\"ERROR\")","v":""},{"$f":"IF(B46='V C JUV'!B46,IF(+'V C JUV'!AZ46=\"HABILITADO  TEMPORALMENTE A COMPETENCIAS FEI\",\"HABILITADO  TEMPORALMENTE A COMPETENCIAS FEI\",\"\"),\"ERROR\")","v":"HABILITADO  TEMPORALMENTE A COMPETENCIAS FEI"}]
[{"$f":"IF('V C JUV'!A47=\"\",\"\",'V C JUV'!A47)","v":""},{"$f":"IF('V C JUV'!B47=\"\",\"\",'V C JUV'!B47)","v":"J002"},{"$f":"IF('V C JUV'!C47=\"\",\"\",'V C JUV'!C47)","v":"GUARDERAS BELEN"},{"$f":"IF(OR('V C JUV'!AV138+'V C JUV'!AW138>=2,AND('V C JUV'!AV138+'V C JUV'!AW138>=1,'V L JUV'!AW138>=40),'V C JUV'!AX138>1),\"CLASIFICADO A 80 Km NOVICIOS\",\"\")","v":""},{"$f":"IF(C47='V C JUV'!C47,IF(OR('V C JUV'!AZ47=\"\",'V C JUV'!AZ47=\"HABILITADO  TEMPORALMENTE A COMPETENCIAS FEI\"),\"\",+'V C JUV'!AZ47),\"ERROR\")","v":"INICIO SU CLASIFICACIÓN"},{"$f":"IF(B47='V C JUV'!B47,IF(+'V C JUV'!AZ47=\"HABILITADO  TEMPORALMENTE A COMPETENCIAS FEI\",\"HABILITADO  TEMPORALMENTE A COMPETENCIAS FEI\",\"\"),\"ERROR\")","v":""}]
[{"$f":"IF('V C JUV'!A48=\"\",\"\",'V C JUV'!A48)","v":""},{"$f":"IF('V C JUV'!B48=\"\",\"\",'V C JUV'!B48)","v":"J057"},{"$f":"IF('V C JUV'!C48=\"\",\"\",'V C JUV'!C48)","v":"GUARDERAS JOSE GABRIEL"},{"$f":"IF(OR('V C JUV'!AV139+'V C JUV'!AW139>=2,AND('V C JUV'!AV139+'V C JUV'!AW139>=1,'V L JUV'!AW139>=40),'V C JUV'!AX139>1),\"CLASIFICADO A 80 Km NOVICIOS\",\"\")","v":""},{"$f":"IF(C48='V C JUV'!C48,IF(OR('V C JUV'!AZ48=\"\",'V C JUV'!AZ48=\"HABILITADO  TEMPORALMENTE A COMPETENCIAS FEI\"),\"\",+'V C JUV'!AZ48),\"ERROR\")","v":"LE FALTA UNA DE 80 A 90 CONTROLADA"},{"$f":"IF(B48='V C JUV'!B48,IF(+'V C JUV'!AZ48=\"HABILITADO  TEMPORALMENTE A COMPETENCIAS FEI\",\"HABILITADO  TEMPORALMENTE A COMPETENCIAS FEI\",\"\"),\"ERROR\")","v":""}]
[{"$f":"IF('V C JUV'!A49=\"\",\"\",'V C JUV'!A49)","v":""},{"$f":"IF('V C JUV'!B49=\"\",\"\",'V C JUV'!B49)","v":"J014"},{"$f":"IF('V C JUV'!C49=\"\",\"\",'V C JUV'!C49)","v":"GUARDERAS PEDRO JOSE"},{"$f":"IF(OR('V C JUV'!AV140+'V C JUV'!AW140>=2,AND('V C JUV'!AV140+'V C JUV'!AW140>=1,'V L JUV'!AW140>=40),'V C JUV'!AX140>1),\"CLASIFICADO A 80 Km NOVICIOS\",\"\")","v":""},{"$f":"IF(C49='V C JUV'!C49,IF(OR('V C JUV'!AZ49=\"\",'V C JUV'!AZ49=\"HABILITADO  TEMPORALMENTE A COMPETENCIAS FEI\"),\"\",+'V C JUV'!AZ49),\"ERROR\")","v":""},{"$f":"IF(B49='V C JUV'!B49,IF(+'V C JUV'!AZ49=\"HABILITADO  TEMPORALMENTE A COMPETENCIAS FEI\",\"HABILITADO  TEMPORALMENTE A COMPETENCIAS FEI\",\"\"),\"ERROR\")","v":"HABILITADO  TEMPORALMENTE A COMPETENCIAS FEI"}]
[{"$f":"IF('V C JUV'!A50=\"\",\"\",'V C JUV'!A50)","v":""},{"$f":"IF('V C JUV'!B50=\"\",\"\",'V C JUV'!B50)","v":"J003"},{"$f":"IF('V C JUV'!C50=\"\",\"\",'V C JUV'!C50)","v":"GUARDERAS SANTIAGO"},{"$f":"IF(OR('V C JUV'!AV141+'V C JUV'!AW141>=2,AND('V C JUV'!AV141+'V C JUV'!AW141>=1,'V L JUV'!AW141>=40),'V C JUV'!AX141>1),\"CLASIFICADO A 80 Km NOVICIOS\",\"\")","v":""},{"$f":"IF(C50='V C JUV'!C50,IF(OR('V C JUV'!AZ50=\"\",'V C JUV'!AZ50=\"HABILITADO  TEMPORALMENTE A COMPETENCIAS FEI\"),\"\",+'V C JUV'!AZ50),\"ERROR\")","v":"HABILITADO A 80KM VELOCIDAD CONTROLADA"},{"$f":"IF(B50='V C JUV'!B50,IF(+'V C JUV'!AZ50=\"HABILITADO  TEMPORALMENTE A COMPETENCIAS FEI\",\"HABILITADO  TEMPORALMENTE A COMPETENCIAS FEI\",\"\"),\"ERROR\")","v":""}]
[{"$f":"IF('V C JUV'!A51=\"\",\"\",'V C JUV'!A51)","v":"I005"},{"$f":"IF('V C JUV'!B51=\"\",\"\",'V C JUV'!B51)","v":"I006"},{"$f":"IF('V C JUV'!C51=\"\",\"\",'V C JUV'!C51)","v":"HERRERA JUAN DIEGO"},{"$f":"IF(OR('V C JUV'!AV142+'V C JUV'!AW142>=2,AND('V C JUV'!AV142+'V C JUV'!AW142>=1,'V L JUV'!AW142>=40),'V C JUV'!AX142>1),\"CLASIFICADO A 80 Km NOVICIOS\",\"\")","v":""},{"$f":"IF(C51='V C JUV'!C51,IF(OR('V C JUV'!AZ51=\"\",'V C JUV'!AZ51=\"HABILITADO  TEMPORALMENTE A COMPETENCIAS FEI\"),\"\",+'V C JUV'!AZ51),\"ERROR\")","v":"HABILITADO A 80KM VELOCIDAD CONTROLADA"},{"$f":"IF(B51='V C JUV'!B51,IF(+'V C JUV'!AZ51=\"HABILITADO  TEMPORALMENTE A COMPETENCIAS FEI\",\"HABILITADO  TEMPORALMENTE A COMPETENCIAS FEI\",\"\"),\"ERROR\")","v":""}]
[{"$f":"IF('V C JUV'!A52=\"\",\"\",'V C JUV'!A52)","v":""},{"$f":"IF('V C JUV'!B52=\"\",\"\",'V C JUV'!B52)","v":"J053"},{"$f":"IF('V C JUV'!C52=\"\",\"\",'V C JUV'!C52)","v":"INGUILLAY LUIS FERNANDO"},{"$f":"IF(OR('V C JUV'!AV143+'V C JUV'!AW143>=2,AND('V C JUV'!AV143+'V C JUV'!AW143>=1,'V L JUV'!AW143>=40),'V C JUV'!AX143>1),\"CLASIFICADO A 80 Km NOVICIOS\",\"\")","v":""},{"$f":"IF(C52='V C JUV'!C52,IF(OR('V C JUV'!AZ52=\"\",'V C JUV'!AZ52=\"HABILITADO  TEMPORALMENTE A COMPETENCIAS FEI\"),\"\",+'V C JUV'!AZ52),\"ERROR\")","v":"HABILITADO A 80KM VELOCIDAD CONTROLADA"},{"$f":"IF(B52='V C JUV'!B52,IF(+'V C JUV'!AZ52=\"HABILITADO  TEMPORALMENTE A COMPETENCIAS FEI\",\"HABILITADO  TEMPORALMENTE A COMPETENCIAS FEI\",\"\"),\"ERROR\")","v":""}]
[{"$f":"IF('V C JUV'!A53=\"\",\"\",'V C JUV'!A53)","v":""},{"$f":"IF('V C JUV'!B53=\"\",\"\",'V C JUV'!B53)","v":"J"},{"$f":"IF('V C JUV'!C53=\"\",\"\",'V C JUV'!C53)","v":"JACOME ESPINOZA MARCO"},{"$f":"IF(OR('V C JUV'!AV144+'V C JUV'!AW144>=2,AND('V C JUV'!AV144+'V C JUV'!AW144>=1,'V L JUV'!AW144>=40),'V C JUV'!AX144>1),\"CLASIFICADO A 80 Km NOVICIOS\",\"\")","v":""},{"$f":"IF(C53='V C JUV'!C53,IF(OR('V C JUV'!AZ53=\"\",'V C JUV'!AZ53=\"HABILITADO  TEMPORALMENTE A COMPETENCIAS FEI\"),\"\",+'V C JUV'!AZ53),\"ERROR\")","v":"NO INICIA SU CLASIFICACIÓN"},{"$f":"IF(B53='V C JUV'!B53,IF(+'V C JUV'!AZ53=\"HABILITADO  TEMPORALMENTE A COMPETENCIAS FEI\",\"HABILITADO  TEMPORALMENTE A COMPETENCIAS FEI\",\"\"),\"ERROR\")","v":""}]
[{"$f":"IF('V C JUV'!A54=\"\",\"\",'V C JUV'!A54)","v":""},{"$f":"IF('V C JUV'!B54=\"\",\"\",'V C JUV'!B54)","v":"M013"},{"$f":"IF('V C JUV'!C54=\"\",\"\",'V C JUV'!C54)","v":"JARAMILLO BENITO"},{"$f":"IF(OR('V C JUV'!AV145+'V C JUV'!AW145>=2,AND('V C JUV'!AV145+'V C JUV'!AW145>=1,'V L JUV'!AW145>=40),'V C JUV'!AX145>1),\"CLASIFICADO A 80 Km NOVICIOS\",\"\")","v":""},{"$f":"IF(C54='V C JUV'!C54,IF(OR('V C JUV'!AZ54=\"\",'V C JUV'!AZ54=\"HABILITADO  TEMPORALMENTE A COMPETENCIAS FEI\"),\"\",+'V C JUV'!AZ54),\"ERROR\")","v":"HABILITADO A 80KM VELOCIDAD CONTROLADA"},{"$f":"IF(B54='V C JUV'!B54,IF(+'V C JUV'!AZ54=\"HABILITADO  TEMPORALMENTE A COMPETENCIAS FEI\",\"HABILITADO  TEMPORALMENTE A COMPETENCIAS FEI\",\"\"),\"ERROR\")","v":""}]
[{"$f":"IF('V C JUV'!A55=\"\",\"\",'V C JUV'!A55)","v":""},{"$f":"IF('V C JUV'!B55=\"\",\"\",'V C JUV'!B55)","v":"J079"},{"$f":"IF('V C JUV'!C55=\"\",\"\",'V C JUV'!C55)","v":"JARAMILLO MANUELA"},{"$f":"IF(OR('V C JUV'!AV146+'V C JUV'!AW146>=2,AND('V C JUV'!AV146+'V C JUV'!AW146>=1,'V L JUV'!AW146>=40),'V C JUV'!AX146>1),\"CLASIFICADO A 80 Km NOVICIOS\",\"\")","v":""},{"$f":"IF(C55='V C JUV'!C55,IF(OR('V C JUV'!AZ55=\"\",'V C JUV'!AZ55=\"HABILITADO  TEMPORALMENTE A COMPETENCIAS FEI\"),\"\",+'V C JUV'!AZ55),\"ERROR\")","v":""},{"$f":"IF(B55='V C JUV'!B55,IF(+'V C JUV'!AZ55=\"HABILITADO  TEMPORALMENTE A COMPETENCIAS FEI\",\"HABILITADO  TEMPORALMENTE A COMPETENCIAS FEI\",\"\"),\"ERROR\")","v":"HABILITADO  TEMPORALMENTE A COMPETENCIAS FEI"}]
[{"$f":"IF('V C JUV'!A56=\"\",\"\",'V C JUV'!A56)","v":""},{"$f":"IF('V C JUV'!B56=\"\",\"\",'V C JUV'!B56)","v":"J030"},{"$f":"IF('V C JUV'!C56=\"\",\"\",'V C JUV'!C56)","v":"JARAMILLO MARTIN"},{"$f":"IF(OR('V C JUV'!AV147+'V C JUV'!AW147>=2,AND('V C JUV'!AV147+'V C JUV'!AW147>=1,'V L JUV'!AW147>=40),'V C JUV'!AX147>1),\"CLASIFICADO A 80 Km NOVICIOS\",\"\")","v":""},{"$f":"IF(C56='V C JUV'!C56,IF(OR('V C JUV'!AZ56=\"\",'V C JUV'!AZ56=\"HABILITADO  TEMPORALMENTE A COMPETENCIAS FEI\"),\"\",+'V C JUV'!AZ56),\"ERROR\")","v":"HABILITADO A 80KM VELOCIDAD CONTROLADA"},{"$f":"IF(B56='V C JUV'!B56,IF(+'V C JUV'!AZ56=\"HABILITADO  TEMPORALMENTE A COMPETENCIAS FEI\",\"HABILITADO  TEMPORALMENTE A COMPETENCIAS FEI\",\"\"),\"ERROR\")","v":""}]
[{"$f":"IF('V C JUV'!A57=\"\",\"\",'V C JUV'!A57)","v":""},{"$f":"IF('V C JUV'!B57=\"\",\"\",'V C JUV'!B57)","v":"J096"},{"$f":"IF('V C JUV'!C57=\"\",\"\",'V C JUV'!C57)","v":"JIJON ANA FRANCISCA"},{"$f":"IF(OR('V C JUV'!AV148+'V C JUV'!AW148>=2,AND('V C JUV'!AV148+'V C JUV'!AW148>=1,'V L JUV'!AW148>=40),'V C JUV'!AX148>1),\"CLASIFICADO A 80 Km NOVICIOS\",\"\")","v":""},{"$f":"IF(C57='V C JUV'!C57,IF(OR('V C JUV'!AZ57=\"\",'V C JUV'!AZ57=\"HABILITADO  TEMPORALMENTE A COMPETENCIAS FEI\"),\"\",+'V C JUV'!AZ57),\"ERROR\")","v":"INICIO SU CLASIFICACIÓN"},{"$f":"IF(B57='V C JUV'!B57,IF(+'V C JUV'!AZ57=\"HABILITADO  TEMPORALMENTE A COMPETENCIAS FEI\",\"HABILITADO  TEMPORALMENTE A COMPETENCIAS FEI\",\"\"),\"ERROR\")","v":""}]
[{"$f":"IF('V C JUV'!A58=\"\",\"\",'V C JUV'!A58)","v":"J049"},{"$f":"IF('V C JUV'!B58=\"\",\"\",'V C JUV'!B58)","v":"J022"},{"$f":"IF('V C JUV'!C58=\"\",\"\",'V C JUV'!C58)","v":"JIJON JUAN ESTEBAN"},{"$f":"IF(OR('V C JUV'!AV149+'V C JUV'!AW149>=2,AND('V C JUV'!AV149+'V C JUV'!AW149>=1,'V L JUV'!AW149>=40),'V C JUV'!AX149>1),\"CLASIFICADO A 80 Km NOVICIOS\",\"\")","v":""},{"$f":"IF(C58='V C JUV'!C58,IF(OR('V C JUV'!AZ58=\"\",'V C JUV'!AZ58=\"HABILITADO  TEMPORALMENTE A COMPETENCIAS FEI\"),\"\",+'V C JUV'!AZ58),\"ERROR\")","v":"LE FALTA UNA DE 80 A 90 CONTROLADA"},{"$f":"IF(B58='V C JUV'!B58,IF(+'V C JUV'!AZ58=\"HABILITADO  TEMPORALMENTE A COMPETENCIAS FEI\",\"HABILITADO  TEMPORALMENTE A COMPETENCIAS FEI\",\"\"),\"ERROR\")","v":""}]
[{"$f":"IF('V C JUV'!A59=\"\",\"\",'V C JUV'!A59)","v":""},{"$f":"IF('V C JUV'!B59=\"\",\"\",'V C JUV'!B59)","v":"J005"},{"$f":"IF('V C JUV'!C59=\"\",\"\",'V C JUV'!C59)","v":"JIJON MARÍA PAULA"},{"$f":"IF(OR('V C JUV'!AV150+'V C JUV'!AW150>=2,AND('V C JUV'!AV150+'V C JUV'!AW150>=1,'V L JUV'!AW150>=40),'V C JUV'!AX150>1),\"CLASIFICADO A 80 Km NOVICIOS\",\"\")","v":""},{"$f":"IF(C59='V C JUV'!C59,IF(OR('V C JUV'!AZ59=\"\",'V C JUV'!AZ59=\"HABILITADO  TEMPORALMENTE A COMPETENCIAS FEI\"),\"\",+'V C JUV'!AZ59),\"ERROR\")","v":"HABILITADO A 80KM VELOCIDAD CONTROLADA"},{"$f":"IF(B59='V C JUV'!B59,IF(+'V C JUV'!AZ59=\"HABILITADO  TEMPORALMENTE A COMPETENCIAS FEI\",\"HABILITADO  TEMPORALMENTE A COMPETENCIAS FEI\",\"\"),\"ERROR\")","v":""}]
[{"$f":"IF('V C JUV'!A60=\"\",\"\",'V C JUV'!A60)","v":""},{"$f":"IF('V C JUV'!B60=\"\",\"\",'V C JUV'!B60)","v":"J017"},{"$f":"IF('V C JUV'!C60=\"\",\"\",'V C JUV'!C60)","v":"KAKABADSE MANUEL"},{"$f":"IF(OR('V C JUV'!AV151+'V C JUV'!AW151>=2,AND('V C JUV'!AV151+'V C JUV'!AW151>=1,'V L JUV'!AW151>=40),'V C JUV'!AX151>1),\"CLASIFICADO A 80 Km NOVICIOS\",\"\")","v":""},{"$f":"IF(C60='V C JUV'!C60,IF(OR('V C JUV'!AZ60=\"\",'V C JUV'!AZ60=\"HABILITADO  TEMPORALMENTE A COMPETENCIAS FEI\"),\"\",+'V C JUV'!AZ60),\"ERROR\")","v":"HABILITADO A 80KM VELOCIDAD CONTROLADA"},{"$f":"IF(B60='V C JUV'!B60,IF(+'V C JUV'!AZ60=\"HABILITADO  TEMPORALMENTE A COMPETENCIAS FEI\",\"HABILITADO  TEMPORALMENTE A COMPETENCIAS FEI\",\"\"),\"ERROR\")","v":""}]
[{"$f":"IF('V C JUV'!A61=\"\",\"\",'V C JUV'!A61)","v":"C"},{"$f":"IF('V C JUV'!B61=\"\",\"\",'V C JUV'!B61)","v":"C"},{"$f":"IF('V C JUV'!C61=\"\",\"\",'V C JUV'!C61)","v":"LARRIVA JUAN FRANCISCO"},{"$f":"IF(OR('V C JUV'!AV152+'V C JUV'!AW152>=2,AND('V C JUV'!AV152+'V C JUV'!AW152>=1,'V L JUV'!AW152>=40),'V C JUV'!AX152>1),\"CLASIFICADO A 80 Km NOVICIOS\",\"\")","v":""},{"$f":"IF(C61='V C JUV'!C61,IF(OR('V C JUV'!AZ61=\"\",'V C JUV'!AZ61=\"HABILITADO  TEMPORALMENTE A COMPETENCIAS FEI\"),\"\",+'V C JUV'!AZ61),\"ERROR\")","v":"NO INICIA SU CLASIFICACIÓN"},{"$f":"IF(B61='V C JUV'!B61,IF(+'V C JUV'!AZ61=\"HABILITADO  TEMPORALMENTE A COMPETENCIAS FEI\",\"HABILITADO  TEMPORALMENTE A COMPETENCIAS FEI\",\"\"),\"ERROR\")","v":""}]
[{"$f":"IF('V C JUV'!A62=\"\",\"\",'V C JUV'!A62)","v":"C"},{"$f":"IF('V C JUV'!B62=\"\",\"\",'V C JUV'!B62)","v":"J071"},{"$f":"IF('V C JUV'!C62=\"\",\"\",'V C JUV'!C62)","v":"LARRIVA LOYOLA CAROLINA"},{"$f":"IF(OR('V C JUV'!AV153+'V C JUV'!AW153>=2,AND('V C JUV'!AV153+'V C JUV'!AW153>=1,'V L JUV'!AW153>=40),'V C JUV'!AX153>1),\"CLASIFICADO A 80 Km NOVICIOS\",\"\")","v":""},{"$f":"IF(C62='V C JUV'!C62,IF(OR('V C JUV'!AZ62=\"\",'V C JUV'!AZ62=\"HABILITADO  TEMPORALMENTE A COMPETENCIAS FEI\"),\"\",+'V C JUV'!AZ62),\"ERROR\")","v":"HABILITADO A 80KM VELOCIDAD CONTROLADA"},{"$f":"IF(B62='V C JUV'!B62,IF(+'V C JUV'!AZ62=\"HABILITADO  TEMPORALMENTE A COMPETENCIAS FEI\",\"HABILITADO  TEMPORALMENTE A COMPETENCIAS FEI\",\"\"),\"ERROR\")","v":""}]
[{"$f":"IF('V C JUV'!A63=\"\",\"\",'V C JUV'!A63)","v":"J037"},{"$f":"IF('V C JUV'!B63=\"\",\"\",'V C JUV'!B63)","v":"J001"},{"$f":"IF('V C JUV'!C63=\"\",\"\",'V C JUV'!C63)","v":"LEON ARAUJO CESAR ANDRES"},{"$f":"IF(OR('V C JUV'!AV154+'V C JUV'!AW154>=2,AND('V C JUV'!AV154+'V C JUV'!AW154>=1,'V L JUV'!AW154>=40),'V C JUV'!AX154>1),\"CLASIFICADO A 80 Km NOVICIOS\",\"\")","v":""},{"$f":"IF(C63='V C JUV'!C63,IF(OR('V C JUV'!AZ63=\"\",'V C JUV'!AZ63=\"HABILITADO  TEMPORALMENTE A COMPETENCIAS FEI\"),\"\",+'V C JUV'!AZ63),\"ERROR\")","v":"NO INICIA SU CLASIFICACIÓN"},{"$f":"IF(B63='V C JUV'!B63,IF(+'V C JUV'!AZ63=\"HABILITADO  TEMPORALMENTE A COMPETENCIAS FEI\",\"HABILITADO  TEMPORALMENTE A COMPETENCIAS FEI\",\"\"),\"ERROR\")","v":""}]
[{"$f":"IF('V C JUV'!A64=\"\",\"\",'V C JUV'!A64)","v":"J039"},{"$f":"IF('V C JUV'!B64=\"\",\"\",'V C JUV'!B64)","v":"J011"},{"$f":"IF('V C JUV'!C64=\"\",\"\",'V C JUV'!C64)","v":"LETORT DUEÑAS BERNARDA"},{"$f":"IF(OR('V C JUV'!AV155+'V C JUV'!AW155>=2,AND('V C JUV'!AV155+'V C JUV'!AW155>=1,'V L JUV'!AW155>=40),'V C JUV'!AX155>1),\"CLASIFICADO A 80 Km NOVICIOS\",\"\")","v":""},{"$f":"IF(C64='V C JUV'!C64,IF(OR('V C JUV'!AZ64=\"\",'V C JUV'!AZ64=\"HABILITADO  TEMPORALMENTE A COMPETENCIAS FEI\"),\"\",+'V C JUV'!AZ64),\"ERROR\")","v":""},{"$f":"IF(B64='V C JUV'!B64,IF(+'V C JUV'!AZ64=\"HABILITADO  TEMPORALMENTE A COMPETENCIAS FEI\",\"HABILITADO  TEMPORALMENTE A COMPETENCIAS FEI\",\"\"),\"ERROR\")","v":"HABILITADO  TEMPORALMENTE A COMPETENCIAS FEI"}]
[{"$f":"IF('V C JUV'!A65=\"\",\"\",'V C JUV'!A65)","v":"J034"},{"$f":"IF('V C JUV'!B65=\"\",\"\",'V C JUV'!B65)","v":"J047"},{"$f":"IF('V C JUV'!C65=\"\",\"\",'V C JUV'!C65)","v":"LETORT DUEÑAS JOSE"},{"$f":"IF(OR('V C JUV'!AV156+'V C JUV'!AW156>=2,AND('V C JUV'!AV156+'V C JUV'!AW156>=1,'V L JUV'!AW156>=40),'V C JUV'!AX156>1),\"CLASIFICADO A 80 Km NOVICIOS\",\"\")","v":""},{"$f":"IF(C65='V C JUV'!C65,IF(OR('V C JUV'!AZ65=\"\",'V C JUV'!AZ65=\"HABILITADO  TEMPORALMENTE A COMPETENCIAS FEI\"),\"\",+'V C JUV'!AZ65),\"ERROR\")","v":""},{"$f":"IF(B65='V C JUV'!B65,IF(+'V C JUV'!AZ65=\"HABILITADO  TEMPORALMENTE A COMPETENCIAS FEI\",\"HABILITADO  TEMPORALMENTE A COMPETENCIAS FEI\",\"\"),\"ERROR\")","v":"HABILITADO  TEMPORALMENTE A COMPETENCIAS FEI"}]
[{"$f":"IF('V C JUV'!A66=\"\",\"\",'V C JUV'!A66)","v":""},{"$f":"IF('V C JUV'!B66=\"\",\"\",'V C JUV'!B66)","v":"J010"},{"$f":"IF('V C JUV'!C66=\"\",\"\",'V C JUV'!C66)","v":"LLUMIQUINGA JONATHAN"},{"$f":"IF(OR('V C JUV'!AV157+'V C JUV'!AW157>=2,AND('V C JUV'!AV157+'V C JUV'!AW157>=1,'V L JUV'!AW157>=40),'V C JUV'!AX157>1),\"CLASIFICADO A 80 Km NOVICIOS\",\"\")","v":""},{"$f":"IF(C66='V C JUV'!C66,IF(OR('V C JUV'!AZ66=\"\",'V C JUV'!AZ66=\"HABILITADO  TEMPORALMENTE A COMPETENCIAS FEI\"),\"\",+'V C JUV'!AZ66),\"ERROR\")","v":"NO INICIA SU CLASIFICACIÓN"},{"$f":"IF(B66='V C JUV'!B66,IF(+'V C JUV'!AZ66=\"HABILITADO  TEMPORALMENTE A COMPETENCIAS FEI\",\"HABILITADO  TEMPORALMENTE A COMPETENCIAS FEI\",\"\"),\"ERROR\")","v":""}]
[{"$f":"IF('V C JUV'!A67=\"\",\"\",'V C JUV'!A67)","v":""},{"$f":"IF('V C JUV'!B67=\"\",\"\",'V C JUV'!B67)","v":"J"},{"$f":"IF('V C JUV'!C67=\"\",\"\",'V C JUV'!C67)","v":"LÓPEZ CORDERO JOAQUIN"},{"$f":"IF(OR('V C JUV'!AV158+'V C JUV'!AW158>=2,AND('V C JUV'!AV158+'V C JUV'!AW158>=1,'V L JUV'!AW158>=40),'V C JUV'!AX158>1),\"CLASIFICADO A 80 Km NOVICIOS\",\"\")","v":""},{"$f":"IF(C67='V C JUV'!C67,IF(OR('V C JUV'!AZ67=\"\",'V C JUV'!AZ67=\"HABILITADO  TEMPORALMENTE A COMPETENCIAS FEI\"),\"\",+'V C JUV'!AZ67),\"ERROR\")","v":"NO INICIA SU CLASIFICACIÓN"},{"$f":"IF(B67='V C JUV'!B67,IF(+'V C JUV'!AZ67=\"HABILITADO  TEMPORALMENTE A COMPETENCIAS FEI\",\"HABILITADO  TEMPORALMENTE A COMPETENCIAS FEI\",\"\"),\"ERROR\")","v":""}]
[{"$f":"IF('V C JUV'!A68=\"\",\"\",'V C JUV'!A68)","v":""},{"$f":"IF('V C JUV'!B68=\"\",\"\",'V C JUV'!B68)","v":"J093"},{"$f":"IF('V C JUV'!C68=\"\",\"\",'V C JUV'!C68)","v":"LOPEZ EMILIA"},{"$f":"IF(OR('V C JUV'!AV159+'V C JUV'!AW159>=2,AND('V C JUV'!AV159+'V C JUV'!AW159>=1,'V L JUV'!AW159>=40),'V C JUV'!AX159>1),\"CLASIFICADO A 80 Km NOVICIOS\",\"\")","v":""},{"$f":"IF(C68='V C JUV'!C68,IF(OR('V C JUV'!AZ68=\"\",'V C JUV'!AZ68=\"HABILITADO  TEMPORALMENTE A COMPETENCIAS FEI\"),\"\",+'V C JUV'!AZ68),\"ERROR\")","v":"HABILITADO A 80KM VELOCIDAD CONTROLADA"},{"$f":"IF(B68='V C JUV'!B68,IF(+'V C JUV'!AZ68=\"HABILITADO  TEMPORALMENTE A COMPETENCIAS FEI\",\"HABILITADO  TEMPORALMENTE A COMPETENCIAS FEI\",\"\"),\"ERROR\")","v":""}]
[{"$f":"IF('V C JUV'!A69=\"\",\"\",'V C JUV'!A69)","v":""},{"$f":"IF('V C JUV'!B69=\"\",\"\",'V C JUV'!B69)","v":"J094"},{"$f":"IF('V C JUV'!C69=\"\",\"\",'V C JUV'!C69)","v":"LOPEZ MIRANDA"},{"$f":"IF(OR('V C JUV'!AV160+'V C JUV'!AW160>=2,AND('V C JUV'!AV160+'V C JUV'!AW160>=1,'V L JUV'!AW160>=40),'V C JUV'!AX160>1),\"CLASIFICADO A 80 Km NOVICIOS\",\"\")","v":""},{"$f":"IF(C69='V C JUV'!C69,IF(OR('V C JUV'!AZ69=\"\",'V C JUV'!AZ69=\"HABILITADO  TEMPORALMENTE A COMPETENCIAS FEI\"),\"\",+'V C JUV'!AZ69),\"ERROR\")","v":"INICIO SU CLASIFICACIÓN"},{"$f":"IF(B69='V C JUV'!B69,IF(+'V C JUV'!AZ69=\"HABILITADO  TEMPORALMENTE A COMPETENCIAS FEI\",\"HABILITADO  TEMPORALMENTE A COMPETENCIAS FEI\",\"\"),\"ERROR\")","v":""}]
[{"$f":"IF('V C JUV'!A70=\"\",\"\",'V C JUV'!A70)","v":""},{"$f":"IF('V C JUV'!B70=\"\",\"\",'V C JUV'!B70)","v":"J055"},{"$f":"IF('V C JUV'!C70=\"\",\"\",'V C JUV'!C70)","v":"LOYOLA VINTIMILLA MARIA CLAUDIA"},{"$f":"IF(OR('V C JUV'!AV161+'V C JUV'!AW161>=2,AND('V C JUV'!AV161+'V C JUV'!AW161>=1,'V L JUV'!AW161>=40),'V C JUV'!AX161>1),\"CLASIFICADO A 80 Km NOVICIOS\",\"\")","v":""},{"$f":"IF(C70='V C JUV'!C70,IF(OR('V C JUV'!AZ70=\"\",'V C JUV'!AZ70=\"HABILITADO  TEMPORALMENTE A COMPETENCIAS FEI\"),\"\",+'V C JUV'!AZ70),\"ERROR\")","v":""},{"$f":"IF(B70='V C JUV'!B70,IF(+'V C JUV'!AZ70=\"HABILITADO  TEMPORALMENTE A COMPETENCIAS FEI\",\"HABILITADO  TEMPORALMENTE A COMPETENCIAS FEI\",\"\"),\"ERROR\")","v":"HABILITADO  TEMPORALMENTE A COMPETENCIAS FEI"}]
[{"$f":"IF('V C JUV'!A71=\"\",\"\",'V C JUV'!A71)","v":""},{"$f":"IF('V C JUV'!B71=\"\",\"\",'V C JUV'!B71)","v":"J090"},{"$f":"IF('V C JUV'!C71=\"\",\"\",'V C JUV'!C71)","v":"LOYOLA VINTIMILLA TEODORO ANDRES"},{"$f":"IF(OR('V C JUV'!AV162+'V C JUV'!AW162>=2,AND('V C JUV'!AV162+'V C JUV'!AW162>=1,'V L JUV'!AW162>=40),'V C JUV'!AX162>1),\"CLASIFICADO A 80 Km NOVICIOS\",\"\")","v":""},{"$f":"IF(C71='V C JUV'!C71,IF(OR('V C JUV'!AZ71=\"\",'V C JUV'!AZ71=\"HABILITADO  TEMPORALMENTE A COMPETENCIAS FEI\"),\"\",+'V C JUV'!AZ71),\"ERROR\")","v":"HABILITADO A 80KM VELOCIDAD CONTROLADA"},{"$f":"IF(B71='V C JUV'!B71,IF(+'V C JUV'!AZ71=\"HABILITADO  TEMPORALMENTE A COMPETENCIAS FEI\",\"HABILITADO  TEMPORALMENTE A COMPETENCIAS FEI\",\"\"),\"ERROR\")","v":""}]
[{"$f":"IF('V C JUV'!A72=\"\",\"\",'V C JUV'!A72)","v":""},{"$f":"IF('V C JUV'!B72=\"\",\"\",'V C JUV'!B72)","v":"J085"},{"$f":"IF('V C JUV'!C72=\"\",\"\",'V C JUV'!C72)","v":"MALO GONZALEZ JOSE"},{"$f":"IF(OR('V C JUV'!AV163+'V C JUV'!AW163>=2,AND('V C JUV'!AV163+'V C JUV'!AW163>=1,'V L JUV'!AW163>=40),'V C JUV'!AX163>1),\"CLASIFICADO A 80 Km NOVICIOS\",\"\")","v":""},{"$f":"IF(C72='V C JUV'!C72,IF(OR('V C JUV'!AZ72=\"\",'V C JUV'!AZ72=\"HABILITADO  TEMPORALMENTE A COMPETENCIAS FEI\"),\"\",+'V C JUV'!AZ72),\"ERROR\")","v":"INICIO SU CLASIFICACIÓN"},{"$f":"IF(B72='V C JUV'!B72,IF(+'V C JUV'!AZ72=\"HABILITADO  TEMPORALMENTE A COMPETENCIAS FEI\",\"HABILITADO  TEMPORALMENTE A COMPETENCIAS FEI\",\"\"),\"ERROR\")","v":""}]
[{"$f":"IF('V C JUV'!A73=\"\",\"\",'V C JUV'!A73)","v":"C"},{"$f":"IF('V C JUV'!B73=\"\",\"\",'V C JUV'!B73)","v":"J072"},{"$f":"IF('V C JUV'!C73=\"\",\"\",'V C JUV'!C73)","v":"MALO MALO MARIA JOSE"},{"$f":"IF(OR('V C JUV'!AV164+'V C JUV'!AW164>=2,AND('V C JUV'!AV164+'V C JUV'!AW164>=1,'V L JUV'!AW164>=40),'V C JUV'!AX164>1),\"CLASIFICADO A 80 Km NOVICIOS\",\"\")","v":""},{"$f":"IF(C73='V C JUV'!C73,IF(OR('V C JUV'!AZ73=\"\",'V C JUV'!AZ73=\"HABILITADO  TEMPORALMENTE A COMPETENCIAS FEI\"),\"\",+'V C JUV'!AZ73),\"ERROR\")","v":"HABILITADO A 80KM VELOCIDAD CONTROLADA"},{"$f":"IF(B73='V C JUV'!B73,IF(+'V C JUV'!AZ73=\"HABILITADO  TEMPORALMENTE A COMPETENCIAS FEI\",\"HABILITADO  TEMPORALMENTE A COMPETENCIAS FEI\",\"\"),\"ERROR\")","v":""}]
[{"$f":"IF('V C JUV'!A74=\"\",\"\",'V C JUV'!A74)","v":""},{"$f":"IF('V C JUV'!B74=\"\",\"\",'V C JUV'!B74)","v":"J087"},{"$f":"IF('V C JUV'!C74=\"\",\"\",'V C JUV'!C74)","v":"MALO TORAL DAVID"},{"$f":"IF(OR('V C JUV'!AV165+'V C JUV'!AW165>=2,AND('V C JUV'!AV165+'V C JUV'!AW165>=1,'V L JUV'!AW165>=40),'V C JUV'!AX165>1),\"CLASIFICADO A 80 Km NOVICIOS\",\"\")","v":""},{"$f":"IF(C74='V C JUV'!C74,IF(OR('V C JUV'!AZ74=\"\",'V C JUV'!AZ74=\"HABILITADO  TEMPORALMENTE A COMPETENCIAS FEI\"),\"\",+'V C JUV'!AZ74),\"ERROR\")","v":""},{"$f":"IF(B74='V C JUV'!B74,IF(+'V C JUV'!AZ74=\"HABILITADO  TEMPORALMENTE A COMPETENCIAS FEI\",\"HABILITADO  TEMPORALMENTE A COMPETENCIAS FEI\",\"\"),\"ERROR\")","v":"HABILITADO  TEMPORALMENTE A COMPETENCIAS FEI"}]
[{"$f":"IF('V C JUV'!A75=\"\",\"\",'V C JUV'!A75)","v":""},{"$f":"IF('V C JUV'!B75=\"\",\"\",'V C JUV'!B75)","v":"J056"},{"$f":"IF('V C JUV'!C75=\"\",\"\",'V C JUV'!C75)","v":"MATUTE PEDRO FERMIN"},{"$f":"IF(OR('V C JUV'!AV166+'V C JUV'!AW166>=2,AND('V C JUV'!AV166+'V C JUV'!AW166>=1,'V L JUV'!AW166>=40),'V C JUV'!AX166>1),\"CLASIFICADO A 80 Km NOVICIOS\",\"\")","v":""},{"$f":"IF(C75='V C JUV'!C75,IF(OR('V C JUV'!AZ75=\"\",'V C JUV'!AZ75=\"HABILITADO  TEMPORALMENTE A COMPETENCIAS FEI\"),\"\",+'V C JUV'!AZ75),\"ERROR\")","v":"LE FALTA UNA DE 80 A 90 CONTROLADA"},{"$f":"IF(B75='V C JUV'!B75,IF(+'V C JUV'!AZ75=\"HABILITADO  TEMPORALMENTE A COMPETENCIAS FEI\",\"HABILITADO  TEMPORALMENTE A COMPETENCIAS FEI\",\"\"),\"ERROR\")","v":""}]
[{"$f":"IF('V C JUV'!A76=\"\",\"\",'V C JUV'!A76)","v":""},{"$f":"IF('V C JUV'!B76=\"\",\"\",'V C JUV'!B76)","v":"M012"},{"$f":"IF('V C JUV'!C76=\"\",\"\",'V C JUV'!C76)","v":"MAZAPANTA KEVIN"},{"$f":"IF(OR('V C JUV'!AV167+'V C JUV'!AW167>=2,AND('V C JUV'!AV167+'V C JUV'!AW167>=1,'V L JUV'!AW167>=40),'V C JUV'!AX167>1),\"CLASIFICADO A 80 Km NOVICIOS\",\"\")","v":""},{"$f":"IF(C76='V C JUV'!C76,IF(OR('V C JUV'!AZ76=\"\",'V C JUV'!AZ76=\"HABILITADO  TEMPORALMENTE A COMPETENCIAS FEI\"),\"\",+'V C JUV'!AZ76),\"ERROR\")","v":"HABILITADO A 80KM VELOCIDAD CONTROLADA"},{"$f":"IF(B76='V C JUV'!B76,IF(+'V C JUV'!AZ76=\"HABILITADO  TEMPORALMENTE A COMPETENCIAS FEI\",\"HABILITADO  TEMPORALMENTE A COMPETENCIAS FEI\",\"\"),\"ERROR\")","v":""}]
[{"$f":"IF('V C JUV'!A77=\"\",\"\",'V C JUV'!A77)","v":""},{"$f":"IF('V C JUV'!B77=\"\",\"\",'V C JUV'!B77)","v":"J081"},{"$f":"IF('V C JUV'!C77=\"\",\"\",'V C JUV'!C77)","v":"MEDINA DAVALOS JORGE"},{"$f":"IF(OR('V C JUV'!AV168+'V C JUV'!AW168>=2,AND('V C JUV'!AV168+'V C JUV'!AW168>=1,'V L JUV'!AW168>=40),'V C JUV'!AX168>1),\"CLASIFICADO A 80 Km NOVICIOS\",\"\")","v":""},{"$f":"IF(C77='V C JUV'!C77,IF(OR('V C JUV'!AZ77=\"\",'V C JUV'!AZ77=\"HABILITADO  TEMPORALMENTE A COMPETENCIAS FEI\"),\"\",+'V C JUV'!AZ77),\"ERROR\")","v":"HABILITADO A 80KM VELOCIDAD CONTROLADA"},{"$f":"IF(B77='V C JUV'!B77,IF(+'V C JUV'!AZ77=\"HABILITADO  TEMPORALMENTE A COMPETENCIAS FEI\",\"HABILITADO  TEMPORALMENTE A COMPETENCIAS FEI\",\"\"),\"ERROR\")","v":""}]
[{"$f":"IF('V C JUV'!A78=\"\",\"\",'V C JUV'!A78)","v":""},{"$f":"IF('V C JUV'!B78=\"\",\"\",'V C JUV'!B78)","v":"J"},{"$f":"IF('V C JUV'!C78=\"\",\"\",'V C JUV'!C78)","v":"MIÑO CHIRIBOGA JOSÉ"},{"$f":"IF(OR('V C JUV'!AV169+'V C JUV'!AW169>=2,AND('V C JUV'!AV169+'V C JUV'!AW169>=1,'V L JUV'!AW169>=40),'V C JUV'!AX169>1),\"CLASIFICADO A 80 Km NOVICIOS\",\"\")","v":""},{"$f":"IF(C78='V C JUV'!C78,IF(OR('V C JUV'!AZ78=\"\",'V C JUV'!AZ78=\"HABILITADO  TEMPORALMENTE A COMPETENCIAS FEI\"),\"\",+'V C JUV'!AZ78),\"ERROR\")","v":"INICIO SU CLASIFICACIÓN"},{"$f":"IF(B78='V C JUV'!B78,IF(+'V C JUV'!AZ78=\"HABILITADO  TEMPORALMENTE A COMPETENCIAS FEI\",\"HABILITADO  TEMPORALMENTE A COMPETENCIAS FEI\",\"\"),\"ERROR\")","v":""}]
[{"$f":"IF('V C JUV'!A79=\"\",\"\",'V C JUV'!A79)","v":"J036"},{"$f":"IF('V C JUV'!B79=\"\",\"\",'V C JUV'!B79)","v":"J027"},{"$f":"IF('V C JUV'!C79=\"\",\"\",'V C JUV'!C79)","v":"MIÑO JOSE IGNACIO"},{"$f":"IF(OR('V C JUV'!AV170+'V C JUV'!AW170>=2,AND('V C JUV'!AV170+'V C JUV'!AW170>=1,'V L JUV'!AW170>=40),'V C JUV'!AX170>1),\"CLASIFICADO A 80 Km NOVICIOS\",\"\")","v":""},{"$f":"IF(C79='V C JUV'!C79,IF(OR('V C JUV'!AZ79=\"\",'V C JUV'!AZ79=\"HABILITADO  TEMPORALMENTE A COMPETENCIAS FEI\"),\"\",+'V C JUV'!AZ79),\"ERROR\")","v":""},{"$f":"IF(B79='V C JUV'!B79,IF(+'V C JUV'!AZ79=\"HABILITADO  TEMPORALMENTE A COMPETENCIAS FEI\",\"HABILITADO  TEMPORALMENTE A COMPETENCIAS FEI\",\"\"),\"ERROR\")","v":"HABILITADO  TEMPORALMENTE A COMPETENCIAS FEI"}]
[{"$f":"IF('V C JUV'!A80=\"\",\"\",'V C JUV'!A80)","v":""},{"$f":"IF('V C JUV'!B80=\"\",\"\",'V C JUV'!B80)","v":"J016"},{"$f":"IF('V C JUV'!C80=\"\",\"\",'V C JUV'!C80)","v":"MIÑO JOSE RICARDO"},{"$f":"IF(OR('V C JUV'!AV171+'V C JUV'!AW171>=2,AND('V C JUV'!AV171+'V C JUV'!AW171>=1,'V L JUV'!AW171>=40),'V C JUV'!AX171>1),\"CLASIFICADO A 80 Km NOVICIOS\",\"\")","v":""},{"$f":"IF(C80='V C JUV'!C80,IF(OR('V C JUV'!AZ80=\"\",'V C JUV'!AZ80=\"HABILITADO  TEMPORALMENTE A COMPETENCIAS FEI\"),\"\",+'V C JUV'!AZ80),\"ERROR\")","v":"HABILITADO A 80KM VELOCIDAD CONTROLADA"},{"$f":"IF(B80='V C JUV'!B80,IF(+'V C JUV'!AZ80=\"HABILITADO  TEMPORALMENTE A COMPETENCIAS FEI\",\"HABILITADO  TEMPORALMENTE A COMPETENCIAS FEI\",\"\"),\"ERROR\")","v":""}]
[{"$f":"IF('V C JUV'!A81=\"\",\"\",'V C JUV'!A81)","v":"J004"},{"$f":"IF('V C JUV'!B81=\"\",\"\",'V C JUV'!B81)","v":"J012"},{"$f":"IF('V C JUV'!C81=\"\",\"\",'V C JUV'!C81)","v":"MIÑO SANTIAGO"},{"$f":"IF(OR('V C JUV'!AV172+'V C JUV'!AW172>=2,AND('V C JUV'!AV172+'V C JUV'!AW172>=1,'V L JUV'!AW172>=40),'V C JUV'!AX172>1),\"CLASIFICADO A 80 Km NOVICIOS\",\"\")","v":""},{"$f":"IF(C81='V C JUV'!C81,IF(OR('V C JUV'!AZ81=\"\",'V C JUV'!AZ81=\"HABILITADO  TEMPORALMENTE A COMPETENCIAS FEI\"),\"\",+'V C JUV'!AZ81),\"ERROR\")","v":"INICIO SU CLASIFICACIÓN"},{"$f":"IF(B81='V C JUV'!B81,IF(+'V C JUV'!AZ81=\"HABILITADO  TEMPORALMENTE A COMPETENCIAS FEI\",\"HABILITADO  TEMPORALMENTE A COMPETENCIAS FEI\",\"\"),\"ERROR\")","v":""}]
[{"$f":"IF('V C JUV'!A82=\"\",\"\",'V C JUV'!A82)","v":"J018"},{"$f":"IF('V C JUV'!B82=\"\",\"\",'V C JUV'!B82)","v":"J"},{"$f":"IF('V C JUV'!C82=\"\",\"\",'V C JUV'!C82)","v":"MOLESTINA FRANCISCO"},{"$f":"IF(OR('V C JUV'!AV173+'V C JUV'!AW173>=2,AND('V C JUV'!AV173+'V C JUV'!AW173>=1,'V L JUV'!AW173>=40),'V C JUV'!AX173>1),\"CLASIFICADO A 80 Km NOVICIOS\",\"\")","v":""},{"$f":"IF(C82='V C JUV'!C82,IF(OR('V C JUV'!AZ82=\"\",'V C JUV'!AZ82=\"HABILITADO  TEMPORALMENTE A COMPETENCIAS FEI\"),\"\",+'V C JUV'!AZ82),\"ERROR\")","v":"NO INICIA SU CLASIFICACIÓN"},{"$f":"IF(B82='V C JUV'!B82,IF(+'V C JUV'!AZ82=\"HABILITADO  TEMPORALMENTE A COMPETENCIAS FEI\",\"HABILITADO  TEMPORALMENTE A COMPETENCIAS FEI\",\"\"),\"ERROR\")","v":""}]
[{"$f":"IF('V C JUV'!A83=\"\",\"\",'V C JUV'!A83)","v":"J012"},{"$f":"IF('V C JUV'!B83=\"\",\"\",'V C JUV'!B83)","v":"J023"},{"$f":"IF('V C JUV'!C83=\"\",\"\",'V C JUV'!C83)","v":"MOLESTINA NICOLAS"},{"$f":"IF(OR('V C JUV'!AV174+'V C JUV'!AW174>=2,AND('V C JUV'!AV174+'V C JUV'!AW174>=1,'V L JUV'!AW174>=40),'V C JUV'!AX174>1),\"CLASIFICADO A 80 Km NOVICIOS\",\"\")","v":""},{"$f":"IF(C83='V C JUV'!C83,IF(OR('V C JUV'!AZ83=\"\",'V C JUV'!AZ83=\"HABILITADO  TEMPORALMENTE A COMPETENCIAS FEI\"),\"\",+'V C JUV'!AZ83),\"ERROR\")","v":""},{"$f":"IF(B83='V C JUV'!B83,IF(+'V C JUV'!AZ83=\"HABILITADO  TEMPORALMENTE A COMPETENCIAS FEI\",\"HABILITADO  TEMPORALMENTE A COMPETENCIAS FEI\",\"\"),\"ERROR\")","v":"HABILITADO  TEMPORALMENTE A COMPETENCIAS FEI"}]
[{"$f":"IF('V C JUV'!A84=\"\",\"\",'V C JUV'!A84)","v":"A119"},{"$f":"IF('V C JUV'!B84=\"\",\"\",'V C JUV'!B84)","v":"JO33"},{"$f":"IF('V C JUV'!C84=\"\",\"\",'V C JUV'!C84)","v":"MONROY BAROJA MARIA"},{"$f":"IF(OR('V C JUV'!AV175+'V C JUV'!AW175>=2,AND('V C JUV'!AV175+'V C JUV'!AW175>=1,'V L JUV'!AW175>=40),'V C JUV'!AX175>1),\"CLASIFICADO A 80 Km NOVICIOS\",\"\")","v":""},{"$f":"IF(C84='V C JUV'!C84,IF(OR('V C JUV'!AZ84=\"\",'V C JUV'!AZ84=\"HABILITADO  TEMPORALMENTE A COMPETENCIAS FEI\"),\"\",+'V C JUV'!AZ84),\"ERROR\")","v":""},{"$f":"IF(B84='V C JUV'!B84,IF(+'V C JUV'!AZ84=\"HABILITADO  TEMPORALMENTE A COMPETENCIAS FEI\",\"HABILITADO  TEMPORALMENTE A COMPETENCIAS FEI\",\"\"),\"ERROR\")","v":"HABILITADO  TEMPORALMENTE A COMPETENCIAS FEI"}]
[{"$f":"IF('V C JUV'!A85=\"\",\"\",'V C JUV'!A85)","v":""},{"$f":"IF('V C JUV'!B85=\"\",\"\",'V C JUV'!B85)","v":"JO36"},{"$f":"IF('V C JUV'!C85=\"\",\"\",'V C JUV'!C85)","v":"MORAN KEVIN GUILLERMO"},{"$f":"IF(OR('V C JUV'!AV176+'V C JUV'!AW176>=2,AND('V C JUV'!AV176+'V C JUV'!AW176>=1,'V L JUV'!AW176>=40),'V C JUV'!AX176>1),\"CLASIFICADO A 80 Km NOVICIOS\",\"\")","v":""},{"$f":"IF(C85='V C JUV'!C85,IF(OR('V C JUV'!AZ85=\"\",'V C JUV'!AZ85=\"HABILITADO  TEMPORALMENTE A COMPETENCIAS FEI\"),\"\",+'V C JUV'!AZ85),\"ERROR\")","v":"INICIO SU CLASIFICACIÓN"},{"$f":"IF(B85='V C JUV'!B85,IF(+'V C JUV'!AZ85=\"HABILITADO  TEMPORALMENTE A COMPETENCIAS FEI\",\"HABILITADO  TEMPORALMENTE A COMPETENCIAS FEI\",\"\"),\"ERROR\")","v":""}]
[{"$f":"IF('V C JUV'!A86=\"\",\"\",'V C JUV'!A86)","v":"J002"},{"$f":"IF('V C JUV'!B86=\"\",\"\",'V C JUV'!B86)","v":"J025"},{"$f":"IF('V C JUV'!C86=\"\",\"\",'V C JUV'!C86)","v":"MORENO CORDOVEZ DANIELA"},{"$f":"IF(OR('V C JUV'!AV177+'V C JUV'!AW177>=2,AND('V C JUV'!AV177+'V C JUV'!AW177>=1,'V L JUV'!AW177>=40),'V C JUV'!AX177>1),\"CLASIFICADO A 80 Km NOVICIOS\",\"\")","v":""},{"$f":"IF(C86='V C JUV'!C86,IF(OR('V C JUV'!AZ86=\"\",'V C JUV'!AZ86=\"HABILITADO  TEMPORALMENTE A COMPETENCIAS FEI\"),\"\",+'V C JUV'!AZ86),\"ERROR\")","v":""},{"$f":"IF(B86='V C JUV'!B86,IF(+'V C JUV'!AZ86=\"HABILITADO  TEMPORALMENTE A COMPETENCIAS FEI\",\"HABILITADO  TEMPORALMENTE A COMPETENCIAS FEI\",\"\"),\"ERROR\")","v":"HABILITADO  TEMPORALMENTE A COMPETENCIAS FEI"}]
[{"$f":"IF('V C JUV'!A87=\"\",\"\",'V C JUV'!A87)","v":""},{"$f":"IF('V C JUV'!B87=\"\",\"\",'V C JUV'!B87)","v":"J043"},{"$f":"IF('V C JUV'!C87=\"\",\"\",'V C JUV'!C87)","v":"MORENO DANIEL"},{"$f":"IF(OR('V C JUV'!AV178+'V C JUV'!AW178>=2,AND('V C JUV'!AV178+'V C JUV'!AW178>=1,'V L JUV'!AW178>=40),'V C JUV'!AX178>1),\"CLASIFICADO A 80 Km NOVICIOS\",\"\")","v":""},{"$f":"IF(C87='V C JUV'!C87,IF(OR('V C JUV'!AZ87=\"\",'V C JUV'!AZ87=\"HABILITADO  TEMPORALMENTE A COMPETENCIAS FEI\"),\"\",+'V C JUV'!AZ87),\"ERROR\")","v":""},{"$f":"IF(B87='V C JUV'!B87,IF(+'V C JUV'!AZ87=\"HABILITADO  TEMPORALMENTE A COMPETENCIAS FEI\",\"HABILITADO  TEMPORALMENTE A COMPETENCIAS FEI\",\"\"),\"ERROR\")","v":"HABILITADO  TEMPORALMENTE A COMPETENCIAS FEI"}]
[{"$f":"IF('V C JUV'!A88=\"\",\"\",'V C JUV'!A88)","v":"J041"},{"$f":"IF('V C JUV'!B88=\"\",\"\",'V C JUV'!B88)","v":"J026"},{"$f":"IF('V C JUV'!C88=\"\",\"\",'V C JUV'!C88)","v":"MORENO NICOLAS JUAN"},{"$f":"IF(OR('V C JUV'!AV179+'V C JUV'!AW179>=2,AND('V C JUV'!AV179+'V C JUV'!AW179>=1,'V L JUV'!AW179>=40),'V C JUV'!AX179>1),\"CLASIFICADO A 80 Km NOVICIOS\",\"\")","v":""},{"$f":"IF(C88='V C JUV'!C88,IF(OR('V C JUV'!AZ88=\"\",'V C JUV'!AZ88=\"HABILITADO  TEMPORALMENTE A COMPETENCIAS FEI\"),\"\",+'V C JUV'!AZ88),\"ERROR\")","v":""},{"$f":"IF(B88='V C JUV'!B88,IF(+'V C JUV'!AZ88=\"HABILITADO  TEMPORALMENTE A COMPETENCIAS FEI\",\"HABILITADO  TEMPORALMENTE A COMPETENCIAS FEI\",\"\"),\"ERROR\")","v":"HABILITADO  TEMPORALMENTE A COMPETENCIAS FEI"}]
[{"$f":"IF('V C JUV'!A89=\"\",\"\",'V C JUV'!A89)","v":"J046"},{"$f":"IF('V C JUV'!B89=\"\",\"\",'V C JUV'!B89)","v":"J013"},{"$f":"IF('V C JUV'!C89=\"\",\"\",'V C JUV'!C89)","v":"MORILLO SERGIO"},{"$f":"IF(OR('V C JUV'!AV180+'V C JUV'!AW180>=2,AND('V C JUV'!AV180+'V C JUV'!AW180>=1,'V L JUV'!AW180>=40),'V C JUV'!AX180>1),\"CLASIFICADO A 80 Km NOVICIOS\",\"\")","v":""},{"$f":"IF(C89='V C JUV'!C89,IF(OR('V C JUV'!AZ89=\"\",'V C JUV'!AZ89=\"HABILITADO  TEMPORALMENTE A COMPETENCIAS FEI\"),\"\",+'V C JUV'!AZ89),\"ERROR\")","v":""},{"$f":"IF(B89='V C JUV'!B89,IF(+'V C JUV'!AZ89=\"HABILITADO  TEMPORALMENTE A COMPETENCIAS FEI\",\"HABILITADO  TEMPORALMENTE A COMPETENCIAS FEI\",\"\"),\"ERROR\")","v":"HABILITADO  TEMPORALMENTE A COMPETENCIAS FEI"}]
[{"$f":"IF('V C JUV'!A90=\"\",\"\",'V C JUV'!A90)","v":"C"},{"$f":"IF('V C JUV'!B90=\"\",\"\",'V C JUV'!B90)","v":"J073"},{"$f":"IF('V C JUV'!C90=\"\",\"\",'V C JUV'!C90)","v":"MUÑOZ LOAIZA PAUL ESTEBAN"},{"$f":"IF(OR('V C JUV'!AV181+'V C JUV'!AW181>=2,AND('V C JUV'!AV181+'V C JUV'!AW181>=1,'V L JUV'!AW181>=40),'V C JUV'!AX181>1),\"CLASIFICADO A 80 Km NOVICIOS\",\"\")","v":""},{"$f":"IF(C90='V C JUV'!C90,IF(OR('V C JUV'!AZ90=\"\",'V C JUV'!AZ90=\"HABILITADO  TEMPORALMENTE A COMPETENCIAS FEI\"),\"\",+'V C JUV'!AZ90),\"ERROR\")","v":"HABILITADO A 80KM VELOCIDAD CONTROLADA"},{"$f":"IF(B90='V C JUV'!B90,IF(+'V C JUV'!AZ90=\"HABILITADO  TEMPORALMENTE A COMPETENCIAS FEI\",\"HABILITADO  TEMPORALMENTE A COMPETENCIAS FEI\",\"\"),\"ERROR\")","v":""}]
[{"$f":"IF('V C JUV'!A91=\"\",\"\",'V C JUV'!A91)","v":""},{"$f":"IF('V C JUV'!B91=\"\",\"\",'V C JUV'!B91)","v":"J086"},{"$f":"IF('V C JUV'!C91=\"\",\"\",'V C JUV'!C91)","v":"NICOLE WILLIAMS"},{"$f":"IF(OR('V C JUV'!AV182+'V C JUV'!AW182>=2,AND('V C JUV'!AV182+'V C JUV'!AW182>=1,'V L JUV'!AW182>=40),'V C JUV'!AX182>1),\"CLASIFICADO A 80 Km NOVICIOS\",\"\")","v":""},{"$f":"IF(C91='V C JUV'!C91,IF(OR('V C JUV'!AZ91=\"\",'V C JUV'!AZ91=\"HABILITADO  TEMPORALMENTE A COMPETENCIAS FEI\"),\"\",+'V C JUV'!AZ91),\"ERROR\")","v":"INICIO SU CLASIFICACIÓN"},{"$f":"IF(B91='V C JUV'!B91,IF(+'V C JUV'!AZ91=\"HABILITADO  TEMPORALMENTE A COMPETENCIAS FEI\",\"HABILITADO  TEMPORALMENTE A COMPETENCIAS FEI\",\"\"),\"ERROR\")","v":""}]
[{"$f":"IF('V C JUV'!A92=\"\",\"\",'V C JUV'!A92)","v":"J045"},{"$f":"IF('V C JUV'!B92=\"\",\"\",'V C JUV'!B92)","v":"J"},{"$f":"IF('V C JUV'!C92=\"\",\"\",'V C JUV'!C92)","v":"NIETO JOSE LUIS"},{"$f":"IF(OR('V C JUV'!AV183+'V C JUV'!AW183>=2,AND('V C JUV'!AV183+'V C JUV'!AW183>=1,'V L JUV'!AW183>=40),'V C JUV'!AX183>1),\"CLASIFICADO A 80 Km NOVICIOS\",\"\")","v":""},{"$f":"IF(C92='V C JUV'!C92,IF(OR('V C JUV'!AZ92=\"\",'V C JUV'!AZ92=\"HABILITADO  TEMPORALMENTE A COMPETENCIAS FEI\"),\"\",+'V C JUV'!AZ92),\"ERROR\")","v":"NO INICIA SU CLASIFICACIÓN"},{"$f":"IF(B92='V C JUV'!B92,IF(+'V C JUV'!AZ92=\"HABILITADO  TEMPORALMENTE A COMPETENCIAS FEI\",\"HABILITADO  TEMPORALMENTE A COMPETENCIAS FEI\",\"\"),\"ERROR\")","v":""}]
[{"$f":"IF('V C JUV'!A93=\"\",\"\",'V C JUV'!A93)","v":"J015"},{"$f":"IF('V C JUV'!B93=\"\",\"\",'V C JUV'!B93)","v":"J"},{"$f":"IF('V C JUV'!C93=\"\",\"\",'V C JUV'!C93)","v":"ORTIZ JOSE FRANCISCO"},{"$f":"IF(OR('V C JUV'!AV184+'V C JUV'!AW184>=2,AND('V C JUV'!AV184+'V C JUV'!AW184>=1,'V L JUV'!AW184>=40),'V C JUV'!AX184>1),\"CLASIFICADO A 80 Km NOVICIOS\",\"\")","v":""},{"$f":"IF(C93='V C JUV'!C93,IF(OR('V C JUV'!AZ93=\"\",'V C JUV'!AZ93=\"HABILITADO  TEMPORALMENTE A COMPETENCIAS FEI\"),\"\",+'V C JUV'!AZ93),\"ERROR\")","v":"NO INICIA SU CLASIFICACIÓN"},{"$f":"IF(B93='V C JUV'!B93,IF(+'V C JUV'!AZ93=\"HABILITADO  TEMPORALMENTE A COMPETENCIAS FEI\",\"HABILITADO  TEMPORALMENTE A COMPETENCIAS FEI\",\"\"),\"ERROR\")","v":""}]
[{"$f":"IF('V C JUV'!A94=\"\",\"\",'V C JUV'!A94)","v":"C"},{"$f":"IF('V C JUV'!B94=\"\",\"\",'V C JUV'!B94)","v":"J074"},{"$f":"IF('V C JUV'!C94=\"\",\"\",'V C JUV'!C94)","v":"PEÑA CORDERO SOFIA CAROLINA"},{"$f":"IF(OR('V C JUV'!AV185+'V C JUV'!AW185>=2,AND('V C JUV'!AV185+'V C JUV'!AW185>=1,'V L JUV'!AW185>=40),'V C JUV'!AX185>1),\"CLASIFICADO A 80 Km NOVICIOS\",\"\")","v":""},{"$f":"IF(C94='V C JUV'!C94,IF(OR('V C JUV'!AZ94=\"\",'V C JUV'!AZ94=\"HABILITADO  TEMPORALMENTE A COMPETENCIAS FEI\"),\"\",+'V C JUV'!AZ94),\"ERROR\")","v":"NO INICIA SU CLASIFICACIÓN"},{"$f":"IF(B94='V C JUV'!B94,IF(+'V C JUV'!AZ94=\"HABILITADO  TEMPORALMENTE A COMPETENCIAS FEI\",\"HABILITADO  TEMPORALMENTE A COMPETENCIAS FEI\",\"\"),\"ERROR\")","v":""}]
[{"$f":"IF('V C JUV'!A95=\"\",\"\",'V C JUV'!A95)","v":""},{"$f":"IF('V C JUV'!B95=\"\",\"\",'V C JUV'!B95)","v":"J051"},{"$f":"IF('V C JUV'!C95=\"\",\"\",'V C JUV'!C95)","v":"POLIT JULIA"},{"$f":"IF(OR('V C JUV'!AV186+'V C JUV'!AW186>=2,AND('V C JUV'!AV186+'V C JUV'!AW186>=1,'V L JUV'!AW186>=40),'V C JUV'!AX186>1),\"CLASIFICADO A 80 Km NOVICIOS\",\"\")","v":""},{"$f":"IF(C95='V C JUV'!C95,IF(OR('V C JUV'!AZ95=\"\",'V C JUV'!AZ95=\"HABILITADO  TEMPORALMENTE A COMPETENCIAS FEI\"),\"\",+'V C JUV'!AZ95),\"ERROR\")","v":"INICIO SU CLASIFICACIÓN"},{"$f":"IF(B95='V C JUV'!B95,IF(+'V C JUV'!AZ95=\"HABILITADO  TEMPORALMENTE A COMPETENCIAS FEI\",\"HABILITADO  TEMPORALMENTE A COMPETENCIAS FEI\",\"\"),\"ERROR\")","v":""}]
[{"$f":"IF('V C JUV'!A96=\"\",\"\",'V C JUV'!A96)","v":"J006"},{"$f":"IF('V C JUV'!B96=\"\",\"\",'V C JUV'!B96)","v":"J"},{"$f":"IF('V C JUV'!C96=\"\",\"\",'V C JUV'!C96)","v":"RIBADENEIRA EMILIA"},{"$f":"IF(OR('V C JUV'!AV187+'V C JUV'!AW187>=2,AND('V C JUV'!AV187+'V C JUV'!AW187>=1,'V L JUV'!AW187>=40),'V C JUV'!AX187>1),\"CLASIFICADO A 80 Km NOVICIOS\",\"\")","v":""},{"$f":"IF(C96='V C JUV'!C96,IF(OR('V C JUV'!AZ96=\"\",'V C JUV'!AZ96=\"HABILITADO  TEMPORALMENTE A COMPETENCIAS FEI\"),\"\",+'V C JUV'!AZ96),\"ERROR\")","v":"NO INICIA SU CLASIFICACIÓN"},{"$f":"IF(B96='V C JUV'!B96,IF(+'V C JUV'!AZ96=\"HABILITADO  TEMPORALMENTE A COMPETENCIAS FEI\",\"HABILITADO  TEMPORALMENTE A COMPETENCIAS FEI\",\"\"),\"ERROR\")","v":""}]
[{"$f":"IF('V C JUV'!A97=\"\",\"\",'V C JUV'!A97)","v":"J001"},{"$f":"IF('V C JUV'!B97=\"\",\"\",'V C JUV'!B97)","v":"J031"},{"$f":"IF('V C JUV'!C97=\"\",\"\",'V C JUV'!C97)","v":"RIBADENEIRA SOFIA"},{"$f":"IF(OR('V C JUV'!AV188+'V C JUV'!AW188>=2,AND('V C JUV'!AV188+'V C JUV'!AW188>=1,'V L JUV'!AW188>=40),'V C JUV'!AX188>1),\"CLASIFICADO A 80 Km NOVICIOS\",\"\")","v":""},{"$f":"IF(C97='V C JUV'!C97,IF(OR('V C JUV'!AZ97=\"\",'V C JUV'!AZ97=\"HABILITADO  TEMPORALMENTE A COMPETENCIAS FEI\"),\"\",+'V C JUV'!AZ97),\"ERROR\")","v":""},{"$f":"IF(B97='V C JUV'!B97,IF(+'V C JUV'!AZ97=\"HABILITADO  TEMPORALMENTE A COMPETENCIAS FEI\",\"HABILITADO  TEMPORALMENTE A COMPETENCIAS FEI\",\"\"),\"ERROR\")","v":"HABILITADO  TEMPORALMENTE A COMPETENCIAS FEI"}]
[{"$f":"IF('V C JUV'!A98=\"\",\"\",'V C JUV'!A98)","v":"C"},{"$f":"IF('V C JUV'!B98=\"\",\"\",'V C JUV'!B98)","v":"C"},{"$f":"IF('V C JUV'!C98=\"\",\"\",'V C JUV'!C98)","v":"RIOS LARRIVA JUAN BERNARDO"},{"$f":"IF(OR('V C JUV'!AV189+'V C JUV'!AW189>=2,AND('V C JUV'!AV189+'V C JUV'!AW189>=1,'V L JUV'!AW189>=40),'V C JUV'!AX189>1),\"CLASIFICADO A 80 Km NOVICIOS\",\"\")","v":""},{"$f":"IF(C98='V C JUV'!C98,IF(OR('V C JUV'!AZ98=\"\",'V C JUV'!AZ98=\"HABILITADO  TEMPORALMENTE A COMPETENCIAS FEI\"),\"\",+'V C JUV'!AZ98),\"ERROR\")","v":"NO INICIA SU CLASIFICACIÓN"},{"$f":"IF(B98='V C JUV'!B98,IF(+'V C JUV'!AZ98=\"HABILITADO  TEMPORALMENTE A COMPETENCIAS FEI\",\"HABILITADO  TEMPORALMENTE A COMPETENCIAS FEI\",\"\"),\"ERROR\")","v":""}]
[{"$f":"IF('V C JUV'!A99=\"\",\"\",'V C JUV'!A99)","v":""},{"$f":"IF('V C JUV'!B99=\"\",\"\",'V C JUV'!B99)","v":"J099"},{"$f":"IF('V C JUV'!C99=\"\",\"\",'V C JUV'!C99)","v":"RODITTI CARVAJAL CRISTORO"},{"$f":"IF(OR('V C JUV'!AV190+'V C JUV'!AW190>=2,AND('V C JUV'!AV190+'V C JUV'!AW190>=1,'V L JUV'!AW190>=40),'V C JUV'!AX190>1),\"CLASIFICADO A 80 Km NOVICIOS\",\"\")","v":""},{"$f":"IF(C99='V C JUV'!C99,IF(OR('V C JUV'!AZ99=\"\",'V C JUV'!AZ99=\"HABILITADO  TEMPORALMENTE A COMPETENCIAS FEI\"),\"\",+'V C JUV'!AZ99),\"ERROR\")","v":"HABILITADO A 80KM VELOCIDAD CONTROLADA"},{"$f":"IF(B99='V C JUV'!B99,IF(+'V C JUV'!AZ99=\"HABILITADO  TEMPORALMENTE A COMPETENCIAS FEI\",\"HABILITADO  TEMPORALMENTE A COMPETENCIAS FEI\",\"\"),\"ERROR\")","v":""}]
[{"$f":"IF('V C JUV'!A100=\"\",\"\",'V C JUV'!A100)","v":""},{"$f":"IF('V C JUV'!B100=\"\",\"\",'V C JUV'!B100)","v":"J004"},{"$f":"IF('V C JUV'!C100=\"\",\"\",'V C JUV'!C100)","v":"SALAZAR EMILIA"},{"$f":"IF(OR('V C JUV'!AV191+'V C JUV'!AW191>=2,AND('V C JUV'!AV191+'V C JUV'!AW191>=1,'V L JUV'!AW191>=40),'V C JUV'!AX191>1),\"CLASIFICADO A 80 Km NOVICIOS\",\"\")","v":""},{"$f":"IF(C100='V C JUV'!C100,IF(OR('V C JUV'!AZ100=\"\",'V C JUV'!AZ100=\"HABILITADO  TEMPORALMENTE A COMPETENCIAS FEI\"),\"\",+'V C JUV'!AZ100),\"ERROR\")","v":"NO INICIA SU CLASIFICACIÓN"},{"$f":"IF(B100='V C JUV'!B100,IF(+'V C JUV'!AZ100=\"HABILITADO  TEMPORALMENTE A COMPETENCIAS FEI\",\"HABILITADO  TEMPORALMENTE A COMPETENCIAS FEI\",\"\"),\"ERROR\")","v":""}]
[{"$f":"IF('V C JUV'!A101=\"\",\"\",'V C JUV'!A101)","v":"J032"},{"$f":"IF('V C JUV'!B101=\"\",\"\",'V C JUV'!B101)","v":"J020"},{"$f":"IF('V C JUV'!C101=\"\",\"\",'V C JUV'!C101)","v":"SERRANO VALLEJO FELIPE"},{"$f":"IF(OR('V C JUV'!AV192+'V C JUV'!AW192>=2,AND('V C JUV'!AV192+'V C JUV'!AW192>=1,'V L JUV'!AW192>=40),'V C JUV'!AX192>1),\"CLASIFICADO A 80 Km NOVICIOS\",\"\")","v":""},{"$f":"IF(C101='V C JUV'!C101,IF(OR('V C JUV'!AZ101=\"\",'V C JUV'!AZ101=\"HABILITADO  TEMPORALMENTE A COMPETENCIAS FEI\"),\"\",+'V C JUV'!AZ101),\"ERROR\")","v":""},{"$f":"IF(B101='V C JUV'!B101,IF(+'V C JUV'!AZ101=\"HABILITADO  TEMPORALMENTE A COMPETENCIAS FEI\",\"HABILITADO  TEMPORALMENTE A COMPETENCIAS FEI\",\"\"),\"ERROR\")","v":"HABILITADO  TEMPORALMENTE A COMPETENCIAS FEI"}]
[{"$f":"IF('V C JUV'!A102=\"\",\"\",'V C JUV'!A102)","v":""},{"$f":"IF('V C JUV'!B102=\"\",\"\",'V C JUV'!B102)","v":"J088"},{"$f":"IF('V C JUV'!C102=\"\",\"\",'V C JUV'!C102)","v":"SIMON NICOLAS"},{"$f":"IF(OR('V C JUV'!AV193+'V C JUV'!AW193>=2,AND('V C JUV'!AV193+'V C JUV'!AW193>=1,'V L JUV'!AW193>=40),'V C JUV'!AX193>1),\"CLASIFICADO A 80 Km NOVICIOS\",\"\")","v":""},{"$f":"IF(C102='V C JUV'!C102,IF(OR('V C JUV'!AZ102=\"\",'V C JUV'!AZ102=\"HABILITADO  TEMPORALMENTE A COMPETENCIAS FEI\"),\"\",+'V C JUV'!AZ102),\"ERROR\")","v":"HABILITADO A 80KM VELOCIDAD CONTROLADA"},{"$f":"IF(B102='V C JUV'!B102,IF(+'V C JUV'!AZ102=\"HABILITADO  TEMPORALMENTE A COMPETENCIAS FEI\",\"HABILITADO  TEMPORALMENTE A COMPETENCIAS FEI\",\"\"),\"ERROR\")","v":""}]
[{"$f":"IF('V C JUV'!A103=\"\",\"\",'V C JUV'!A103)","v":"C"},{"$f":"IF('V C JUV'!B103=\"\",\"\",'V C JUV'!B103)","v":"J075"},{"$f":"IF('V C JUV'!C103=\"\",\"\",'V C JUV'!C103)","v":"SORIA VASQUEZ JUAN MANUEL"},{"$f":"IF(OR('V C JUV'!AV194+'V C JUV'!AW194>=2,AND('V C JUV'!AV194+'V C JUV'!AW194>=1,'V L JUV'!AW194>=40),'V C JUV'!AX194>1),\"CLASIFICADO A 80 Km NOVICIOS\",\"\")","v":""},{"$f":"IF(C103='V C JUV'!C103,IF(OR('V C JUV'!AZ103=\"\",'V C JUV'!AZ103=\"HABILITADO  TEMPORALMENTE A COMPETENCIAS FEI\"),\"\",+'V C JUV'!AZ103),\"ERROR\")","v":"HABILITADO A 80KM VELOCIDAD CONTROLADA"},{"$f":"IF(B103='V C JUV'!B103,IF(+'V C JUV'!AZ103=\"HABILITADO  TEMPORALMENTE A COMPETENCIAS FEI\",\"HABILITADO  TEMPORALMENTE A COMPETENCIAS FEI\",\"\"),\"ERROR\")","v":""}]
[{"$f":"IF('V C JUV'!A104=\"\",\"\",'V C JUV'!A104)","v":"C"},{"$f":"IF('V C JUV'!B104=\"\",\"\",'V C JUV'!B104)","v":"J076"},{"$f":"IF('V C JUV'!C104=\"\",\"\",'V C JUV'!C104)","v":"SORIA VAZQUEZ MARIA DANIELA"},{"$f":"IF(OR('V C JUV'!AV195+'V C JUV'!AW195>=2,AND('V C JUV'!AV195+'V C JUV'!AW195>=1,'V L JUV'!AW195>=40),'V C JUV'!AX195>1),\"CLASIFICADO A 80 Km NOVICIOS\",\"\")","v":""},{"$f":"IF(C104='V C JUV'!C104,IF(OR('V C JUV'!AZ104=\"\",'V C JUV'!AZ104=\"HABILITADO  TEMPORALMENTE A COMPETENCIAS FEI\"),\"\",+'V C JUV'!AZ104),\"ERROR\")","v":"HABILITADO A 80KM VELOCIDAD CONTROLADA"},{"$f":"IF(B104='V C JUV'!B104,IF(+'V C JUV'!AZ104=\"HABILITADO  TEMPORALMENTE A COMPETENCIAS FEI\",\"HABILITADO  TEMPORALMENTE A COMPETENCIAS FEI\",\"\"),\"ERROR\")","v":""}]
[{"$f":"IF('V C JUV'!A105=\"\",\"\",'V C JUV'!A105)","v":"C"},{"$f":"IF('V C JUV'!B105=\"\",\"\",'V C JUV'!B105)","v":"J077"},{"$f":"IF('V C JUV'!C105=\"\",\"\",'V C JUV'!C105)","v":"TAMARIZ MALO SANTIAGO"},{"$f":"IF(OR('V C JUV'!AV196+'V C JUV'!AW196>=2,AND('V C JUV'!AV196+'V C JUV'!AW196>=1,'V L JUV'!AW196>=40),'V C JUV'!AX196>1),\"CLASIFICADO A 80 Km NOVICIOS\",\"\")","v":""},{"$f":"IF(C105='V C JUV'!C105,IF(OR('V C JUV'!AZ105=\"\",'V C JUV'!AZ105=\"HABILITADO  TEMPORALMENTE A COMPETENCIAS FEI\"),\"\",+'V C JUV'!AZ105),\"ERROR\")","v":"HABILITADO A 80KM VELOCIDAD CONTROLADA"},{"$f":"IF(B105='V C JUV'!B105,IF(+'V C JUV'!AZ105=\"HABILITADO  TEMPORALMENTE A COMPETENCIAS FEI\",\"HABILITADO  TEMPORALMENTE A COMPETENCIAS FEI\",\"\"),\"ERROR\")","v":""}]
[{"$f":"IF('V C JUV'!A106=\"\",\"\",'V C JUV'!A106)","v":""},{"$f":"IF('V C JUV'!B106=\"\",\"\",'V C JUV'!B106)","v":"J060"},{"$f":"IF('V C JUV'!C106=\"\",\"\",'V C JUV'!C106)","v":"TRUEBA VICTORIA"},{"$f":"IF(OR('V C JUV'!AV197+'V C JUV'!AW197>=2,AND('V C JUV'!AV197+'V C JUV'!AW197>=1,'V L JUV'!AW197>=40),'V C JUV'!AX197>1),\"CLASIFICADO A 80 Km NOVICIOS\",\"\")","v":""},{"$f":"IF(C106='V C JUV'!C106,IF(OR('V C JUV'!AZ106=\"\",'V C JUV'!AZ106=\"HABILITADO  TEMPORALMENTE A COMPETENCIAS FEI\"),\"\",+'V C JUV'!AZ106),\"ERROR\")","v":"INICIO SU CLASIFICACIÓN"},{"$f":"IF(B106='V C JUV'!B106,IF(+'V C JUV'!AZ106=\"HABILITADO  TEMPORALMENTE A COMPETENCIAS FEI\",\"HABILITADO  TEMPORALMENTE A COMPETENCIAS FEI\",\"\"),\"ERROR\")","v":""}]
[{"$f":"IF('V C JUV'!A107=\"\",\"\",'V C JUV'!A107)","v":"C"},{"$f":"IF('V C JUV'!B107=\"\",\"\",'V C JUV'!B107)","v":"J078"},{"$f":"IF('V C JUV'!C107=\"\",\"\",'V C JUV'!C107)","v":"UGALDE ANDRADE CARLOS ESTEBAN"},{"$f":"IF(OR('V C JUV'!AV198+'V C JUV'!AW198>=2,AND('V C JUV'!AV198+'V C JUV'!AW198>=1,'V L JUV'!AW198>=40),'V C JUV'!AX198>1),\"CLASIFICADO A 80 Km NOVICIOS\",\"\")","v":""},{"$f":"IF(C107='V C JUV'!C107,IF(OR('V C JUV'!AZ107=\"\",'V C JUV'!AZ107=\"HABILITADO  TEMPORALMENTE A COMPETENCIAS FEI\"),\"\",+'V C JUV'!AZ107),\"ERROR\")","v":"INICIO SU CLASIFICACIÓN"},{"$f":"IF(B107='V C JUV'!B107,IF(+'V C JUV'!AZ107=\"HABILITADO  TEMPORALMENTE A COMPETENCIAS FEI\",\"HABILITADO  TEMPORALMENTE A COMPETENCIAS FEI\",\"\"),\"ERROR\")","v":""}]
[{"$f":"IF('V C JUV'!A108=\"\",\"\",'V C JUV'!A108)","v":""},{"$f":"IF('V C JUV'!B108=\"\",\"\",'V C JUV'!B108)","v":"M027"},{"$f":"IF('V C JUV'!C108=\"\",\"\",'V C JUV'!C108)","v":"VAZCONEZ CAMILA"},{"$f":"IF(OR('V C JUV'!AV199+'V C JUV'!AW199>=2,AND('V C JUV'!AV199+'V C JUV'!AW199>=1,'V L JUV'!AW199>=40),'V C JUV'!AX199>1),\"CLASIFICADO A 80 Km NOVICIOS\",\"\")","v":""},{"$f":"IF(C108='V C JUV'!C108,IF(OR('V C JUV'!AZ108=\"\",'V C JUV'!AZ108=\"HABILITADO  TEMPORALMENTE A COMPETENCIAS FEI\"),\"\",+'V C JUV'!AZ108),\"ERROR\")","v":"INICIO SU CLASIFICACIÓN"},{"$f":"IF(B108='V C JUV'!B108,IF(+'V C JUV'!AZ108=\"HABILITADO  TEMPORALMENTE A COMPETENCIAS FEI\",\"HABILITADO  TEMPORALMENTE A COMPETENCIAS FEI\",\"\"),\"ERROR\")","v":""}]
[{"$f":"IF('V C JUV'!A109=\"\",\"\",'V C JUV'!A109)","v":""},{"$f":"IF('V C JUV'!B109=\"\",\"\",'V C JUV'!B109)","v":"J"},{"$f":"IF('V C JUV'!C109=\"\",\"\",'V C JUV'!C109)","v":"VERA ZAMBRANO DAYANA"},{"$f":"IF(OR('V C JUV'!AV200+'V C JUV'!AW200>=2,AND('V C JUV'!AV200+'V C JUV'!AW200>=1,'V L JUV'!AW200>=40),'V C JUV'!AX200>1),\"CLASIFICADO A 80 Km NOVICIOS\",\"\")","v":""},{"$f":"IF(C109='V C JUV'!C109,IF(OR('V C JUV'!AZ109=\"\",'V C JUV'!AZ109=\"HABILITADO  TEMPORALMENTE A COMPETENCIAS FEI\"),\"\",+'V C JUV'!AZ109),\"ERROR\")","v":"NO INICIA SU CLASIFICACIÓN"},{"$f":"IF(B109='V C JUV'!B109,IF(+'V C JUV'!AZ109=\"HABILITADO  TEMPORALMENTE A COMPETENCIAS FEI\",\"HABILITADO  TEMPORALMENTE A COMPETENCIAS FEI\",\"\"),\"ERROR\")","v":""}]
[{"$f":"IF('V C JUV'!A110=\"\",\"\",'V C JUV'!A110)","v":"J029"},{"$f":"IF('V C JUV'!B110=\"\",\"\",'V C JUV'!B110)","v":"J"},{"$f":"IF('V C JUV'!C110=\"\",\"\",'V C JUV'!C110)","v":"VERGARA MARIE CLAUDE "},{"$f":"IF(OR('V C JUV'!AV201+'V C JUV'!AW201>=2,AND('V C JUV'!AV201+'V C JUV'!AW201>=1,'V L JUV'!AW201>=40),'V C JUV'!AX201>1),\"CLASIFICADO A 80 Km NOVICIOS\",\"\")","v":""},{"$f":"IF(C110='V C JUV'!C110,IF(OR('V C JUV'!AZ110=\"\",'V C JUV'!AZ110=\"HABILITADO  TEMPORALMENTE A COMPETENCIAS FEI\"),\"\",+'V C JUV'!AZ110),\"ERROR\")","v":"NO INICIA SU CLASIFICACIÓN"},{"$f":"IF(B110='V C JUV'!B110,IF(+'V C JUV'!AZ110=\"HABILITADO  TEMPORALMENTE A COMPETENCIAS FEI\",\"HABILITADO  TEMPORALMENTE A COMPETENCIAS FEI\",\"\"),\"ERROR\")","v":""}]
[{"$f":"IF('V C JUV'!A111=\"\",\"\",'V C JUV'!A111)","v":"J030"},{"$f":"IF('V C JUV'!B111=\"\",\"\",'V C JUV'!B111)","v":"J"},{"$f":"IF('V C JUV'!C111=\"\",\"\",'V C JUV'!C111)","v":"VERGARA MURIEL "},{"$f":"IF(OR('V C JUV'!AV201+'V C JUV'!AW201>=2,AND('V C JUV'!AV201+'V C JUV'!AW201>=1,'V L JUV'!AW201>=40),'V C JUV'!AX201>1),\"CLASIFICADO A 80 Km NOVICIOS\",\"\")","v":""},{"$f":"IF(C111='V C JUV'!C111,IF(OR('V C JUV'!AZ111=\"\",'V C JUV'!AZ111=\"HABILITADO  TEMPORALMENTE A COMPETENCIAS FEI\"),\"\",+'V C JUV'!AZ111),\"ERROR\")","v":"NO INICIA SU CLASIFICACIÓN"},{"$f":"IF(B111='V C JUV'!B111,IF(+'V C JUV'!AZ111=\"HABILITADO  TEMPORALMENTE A COMPETENCIAS FEI\",\"HABILITADO  TEMPORALMENTE A COMPETENCIAS FEI\",\"\"),\"ERROR\")","v":""}]
[{"$f":"IF('V C JUV'!A112=\"\",\"\",'V C JUV'!A112)","v":"J052"},{"$f":"IF('V C JUV'!B112=\"\",\"\",'V C JUV'!B112)","v":"J054"},{"$f":"IF('V C JUV'!C112=\"\",\"\",'V C JUV'!C112)","v":"VINTIMILLA CORDERO PABLO"},{"$f":"IF(OR('V C JUV'!AV201+'V C JUV'!AW201>=2,AND('V C JUV'!AV201+'V C JUV'!AW201>=1,'V L JUV'!AW201>=40),'V C JUV'!AX201>1),\"CLASIFICADO A 80 Km NOVICIOS\",\"\")","v":""},{"$f":"IF(C112='V C JUV'!C112,IF(OR('V C JUV'!AZ112=\"\",'V C JUV'!AZ112=\"HABILITADO  TEMPORALMENTE A COMPETENCIAS FEI\"),\"\",+'V C JUV'!AZ112),\"ERROR\")","v":""},{"$f":"IF(B112='V C JUV'!B112,IF(+'V C JUV'!AZ112=\"HABILITADO  TEMPORALMENTE A COMPETENCIAS FEI\",\"HABILITADO  TEMPORALMENTE A COMPETENCIAS FEI\",\"\"),\"ERROR\")","v":"HABILITADO  TEMPORALMENTE A COMPETENCIAS FEI"}]
[{"$f":"IF('V C JUV'!A113=\"\",\"\",'V C JUV'!A113)","v":"J"},{"$f":"IF('V C JUV'!B113=\"\",\"\",'V C JUV'!B113)","v":"J"},{"$f":"IF('V C JUV'!C113=\"\",\"\",'V C JUV'!C113)","v":"WILLIAMS NICOLE"},{"$f":"IF(OR('V C JUV'!AV201+'V C JUV'!AW201>=2,AND('V C JUV'!AV201+'V C JUV'!AW201>=1,'V L JUV'!AW201>=40),'V C JUV'!AX201>1),\"CLASIFICADO A 80 Km NOVICIOS\",\"\")","v":""},{"$f":"IF(C113='V C JUV'!C113,IF(OR('V C JUV'!AZ113=\"\",'V C JUV'!AZ113=\"HABILITADO  TEMPORALMENTE A COMPETENCIAS FEI\"),\"\",+'V C JUV'!AZ113),\"ERROR\")","v":"INICIO SU CLASIFICACIÓN"},{"$f":"IF(B113='V C JUV'!B113,IF(+'V C JUV'!AZ113=\"HABILITADO  TEMPORALMENTE A COMPETENCIAS FEI\",\"HABILITADO  TEMPORALMENTE A COMPETENCIAS FEI\",\"\"),\"ERROR\")","v":""}]
[{"$f":"IF('V C JUV'!A114=\"\",\"\",'V C JUV'!A114)","v":"J040"},{"$f":"IF('V C JUV'!B114=\"\",\"\",'V C JUV'!B114)","v":"J028"},{"$f":"IF('V C JUV'!C114=\"\",\"\",'V C JUV'!C114)","v":"WRAY VINUEZA MATEO"},{"$f":"IF(OR('V C JUV'!AV201+'V C JUV'!AW201>=2,AND('V C JUV'!AV201+'V C JUV'!AW201>=1,'V L JUV'!AW201>=40),'V C JUV'!AX201>1),\"CLASIFICADO A 80 Km NOVICIOS\",\"\")","v":""},{"$f":"IF(C114='V C JUV'!C114,IF(OR('V C JUV'!AZ114=\"\",'V C JUV'!AZ114=\"HABILITADO  TEMPORALMENTE A COMPETENCIAS FEI\"),\"\",+'V C JUV'!AZ114),\"ERROR\")","v":"LE FALTA UNA DE 80 A 90 CONTROLADA"},{"$f":"IF(B114='V C JUV'!B114,IF(+'V C JUV'!AZ114=\"HABILITADO  TEMPORALMENTE A COMPETENCIAS FEI\",\"HABILITADO  TEMPORALMENTE A COMPETENCIAS FEI\",\"\"),\"ERROR\")","v":""}]
[{"$f":"IF('V C JUV'!A115=\"\",\"\",'V C JUV'!A115)","v":"I057"},{"$f":"IF('V C JUV'!B115=\"\",\"\",'V C JUV'!B115)","v":"J035"},{"$f":"IF('V C JUV'!C115=\"\",\"\",'V C JUV'!C115)","v":"WRAY VINUEZA THOMAS"},{"$f":"IF(OR('V C JUV'!AV201+'V C JUV'!AW201>=2,AND('V C JUV'!AV201+'V C JUV'!AW201>=1,'V L JUV'!AW201>=40),'V C JUV'!AX201>1),\"CLASIFICADO A 80 Km NOVICIOS\",\"\")","v":""},{"$f":"IF(C115='V C JUV'!C115,IF(OR('V C JUV'!AZ115=\"\",'V C JUV'!AZ115=\"HABILITADO  TEMPORALMENTE A COMPETENCIAS FEI\"),\"\",+'V C JUV'!AZ115),\"ERROR\")","v":"HABILITADO A 80KM VELOCIDAD CONTROLADA"},{"$f":"IF(B115='V C JUV'!B115,IF(+'V C JUV'!AZ115=\"HABILITADO  TEMPORALMENTE A COMPETENCIAS FEI\",\"HABILITADO  TEMPORALMENTE A COMPETENCIAS FEI\",\"\"),\"ERROR\")","v":""}]
[{"$f":"IF('V C JUV'!A116=\"\",\"\",'V C JUV'!A116)","v":"J008"},{"$f":"IF('V C JUV'!B116=\"\",\"\",'V C JUV'!B116)","v":"J"},{"$f":"IF('V C JUV'!C116=\"\",\"\",'V C JUV'!C116)","v":"ZAMBRANO KAREN"},{"$f":"IF(OR('V C JUV'!AV202+'V C JUV'!AW202>=2,AND('V C JUV'!AV202+'V C JUV'!AW202>=1,'V L JUV'!AW202>=40),'V C JUV'!AX202>1),\"CLASIFICADO A 80 Km NOVICIOS\",\"\")","v":""},{"$f":"IF(C116='V C JUV'!C116,IF(OR('V C JUV'!AZ116=\"\",'V C JUV'!AZ116=\"HABILITADO  TEMPORALMENTE A COMPETENCIAS FEI\"),\"\",+'V C JUV'!AZ116),\"ERROR\")","v":"NO INICIA SU CLASIFICACIÓN"},{"$f":"IF(B116='V C JUV'!B116,IF(+'V C JUV'!AZ116=\"HABILITADO  TEMPORALMENTE A COMPETENCIAS FEI\",\"HABILITADO  TEMPORALMENTE A COMPETENCIAS FEI\",\"\"),\"ERROR\")","v":""}]
[{"$f":"IF('V C JUV'!A117=\"\",\"\",'V C JUV'!A117)","v":1000},{"$f":"IF('V C JUV'!B117=\"\",\"\",'V C JUV'!B117)","v":1000},{"$f":"IF('V C JUV'!C117=\"\",\"\",'V C JUV'!C117)","v":"ZZZZZZZ"},{"$f":"IF(OR('V C JUV'!AV203+'V C JUV'!AW203>=2,AND('V C JUV'!AV203+'V C JUV'!AW203>=1,'V L JUV'!AW203>=40),'V C JUV'!AX203>1),\"CLASIFICADO A 80 Km NOVICIOS\",\"\")","v":""},{"$f":"IF(C117='V C JUV'!C117,IF(OR('V C JUV'!AZ117=\"\",'V C JUV'!AZ117=\"HABILITADO  TEMPORALMENTE A COMPETENCIAS FEI\"),\"\",+'V C JUV'!AZ117),\"ERROR\")","v":"NO INICIA SU CLASIFICACIÓN"},{"$f":"IF(B117='V C JUV'!B117,IF(+'V C JUV'!AZ117=\"HABILITADO  TEMPORALMENTE A COMPETENCIAS FEI\",\"HABILITADO  TEMPORALMENTE A COMPETENCIAS FEI\",\"\"),\"ERROR\")","v":""}]

{"sheet":"CLAS AB","index":12,"n_rows":231,"n_cols":6,"rows_kept":231,"cut":false,"hidden":false,"merged":[[3,0,3,1],[4,0,4,1]]}
[null,"DERECHO ADQUIRIDO"]
[null,null,null,"NOVICIOS","COPETENCIAS FEI"]
[]
[null,null,"ABIERTA",{"$f":"IF(OR('V C AB'!AV4+'V C AB'!AW4+'V C AB'!AW4>=2,AND('V C AB'!AV4+'V C AB'!AW4+'V C AB'!AW4>=2,'V L AB'!AW4>=40),'V C AB'!AX4>=1),\"CLASIFICADO A 80 Km NOVICIOS\",\"\")","v":""},"ESTADO DE CLASIFICIÓN","HABILITADO 24 MESES"]
["CODIGO"]
["ANTERIOR","NUEVO","JINETE"]
[{"$f":"IF(+'V C AB'!A7=\"\",\"\",'V C AB'!A7)","v":"A081"},{"$f":"IF(+'V C AB'!B7=\"\",\"\",'V C AB'!B7)","v":"A"},{"$f":"IF(+'V C AB'!C7=\"\",\"\",'V C AB'!C7)","v":"ABAD ANDRE"},{"$f":"IF(OR('V C AB'!AV7+'V C AB'!AW7>=2,AND('V C AB'!AV7+'V C AB'!AW7>=1,'V L AB'!AW7>=40),'V C AB'!AX7>=1),\"CLASIFICADO A 80 Km NOVICIOS\",\"\")","v":""},{"$f":"IF(C7='V C AB'!C7,IF(OR('V C AB'!AZ7=\"\",'V C AB'!AZ7=\"HABILITADO  TEMPORALMENTE A COMPETENCIAS FEI\"),\"\",+'V C AB'!AZ7),\"ERROR\")","v":"NO INICIA SU CLASIFICACIÓN"},{"$f":"IF(B7='V C AB'!B7,IF(+'V C AB'!AZ7=\"HABILITADO  TEMPORALMENTE A COMPETENCIAS FEI\",\"HABILITADO  TEMPORALMENTE A COMPETENCIAS FEI\",\"\"),\"ERROR\")","v":""}]
[{"$f":"IF(+'V C AB'!A8=\"\",\"\",'V C AB'!A8)","v":"A080"},{"$f":"IF(+'V C AB'!B8=\"\",\"\",'V C AB'!B8)","v":"A"},{"$f":"IF(+'V C AB'!C8=\"\",\"\",'V C AB'!C8)","v":"ABAD FRANCIS"},{"$f":"IF(OR('V C AB'!AV8+'V C AB'!AW8>=2,AND('V C AB'!AV8+'V C AB'!AW8>=1,'V L AB'!AW8>=40),'V C AB'!AX8>=1),\"CLASIFICADO A 80 Km NOVICIOS\",\"\")","v":""},{"$f":"IF(C8='V C AB'!C8,IF(OR('V C AB'!AZ8=\"\",'V C AB'!AZ8=\"HABILITADO  TEMPORALMENTE A COMPETENCIAS FEI\"),\"\",+'V C AB'!AZ8),\"ERROR\")","v":"NO INICIA SU CLASIFICACIÓN"},{"$f":"IF(B8='V C AB'!B8,IF(+'V C AB'!AZ8=\"HABILITADO  TEMPORALMENTE A COMPETENCIAS FEI\",\"HABILITADO  TEMPORALMENTE A COMPETENCIAS FEI\",\"\"),\"ERROR\")","v":""}]
[{"$f":"IF(+'V C AB'!A9=\"\",\"\",'V C AB'!A9)","v":"A014"},{"$f":"IF(+'V C AB'!B9=\"\",\"\",'V C AB'!B9)","v":"A"},{"$f":"IF(+'V C AB'!C9=\"\",\"\",'V C AB'!C9)","v":"ACHANCE SEGUNDO"},{"$f":"IF(OR('V C AB'!AV9+'V C AB'!AW9>=2,AND('V C AB'!AV9+'V C AB'!AW9>=1,'V L AB'!AW9>=40),'V C AB'!AX9>=1),\"CLASIFICADO A 80 Km NOVICIOS\",\"\")","v":""},{"$f":"IF(C9='V C AB'!C9,IF(OR('V C AB'!AZ9=\"\",'V C AB'!AZ9=\"HABILITADO  TEMPORALMENTE A COMPETENCIAS FEI\"),\"\",+'V C AB'!AZ9),\"ERROR\")","v":"NO INICIA SU CLASIFICACIÓN"},{"$f":"IF(B9='V C AB'!B9,IF(+'V C AB'!AZ9=\"HABILITADO  TEMPORALMENTE A COMPETENCIAS FEI\",\"HABILITADO  TEMPORALMENTE A COMPETENCIAS FEI\",\"\"),\"ERROR\")","v":""}]
[{"$f":"IF(+'V C AB'!A10=\"\",\"\",'V C AB'!A10)","v":""},{"$f":"IF(+'V C AB'!B10=\"\",\"\",'V C AB'!B10)","v":"A"},{"$f":"IF(+'V C AB'!C10=\"\",\"\",'V C AB'!C10)","v":"ALARCON VERGARA ESTEBAN"},{"$f":"IF(OR('V C AB'!AV10+'V C AB'!AW10>=2,AND('V C AB'!AV10+'V C AB'!AW10>=1,'V L AB'!AW10>=40),'V C AB'!AX10>=1),\"CLASIFICADO A 80 Km NOVICIOS\",\"\")","v":""},{"$f":"IF(C10='V C AB'!C10,IF(OR('V C AB'!AZ10=\"\",'V C AB'!AZ10=\"HABILITADO  TEMPORALMENTE A COMPETENCIAS FEI\"),\"\",+'V C AB'!AZ10),\"ERROR\")","v":"NO INICIA SU CLASIFICACIÓN"},{"$f":"IF(B10='V C AB'!B10,IF(+'V C AB'!AZ10=\"HABILITADO  TEMPORALMENTE A COMPETENCIAS FEI\",\"HABILITADO  TEMPORALMENTE A COMPETENCIAS FEI\",\"\"),\"ERROR\")","v":""}]
[{"$f":"IF(+'V C AB'!A11=\"\",\"\",'V C AB'!A11)","v":"A120"},{"$f":"IF(+'V C AB'!B11=\"\",\"\",'V C AB'!B11)","v":"A"},{"$f":"IF(+'V C AB'!C11=\"\",\"\",'V C AB'!C11)","v":"ALBUJA FUENTES PATRICIO"},{"$f":"IF(OR('V C AB'!AV11+'V C AB'!AW11>=2,AND('V C AB'!AV11+'V C AB'!AW11>=1,'V L AB'!AW11>=40),'V C AB'!AX11>=1),\"CLASIFICADO A 80 Km NOVICIOS\",\"\")","v":""},{"$f":"IF(C11='V C AB'!C11,IF(OR('V C AB'!AZ11=\"\",'V C AB'!AZ11=\"HABILITADO  TEMPORALMENTE A COMPETENCIAS FEI\"),\"\",+'V C AB'!AZ11),\"ERROR\")","v":"INICIO SU CLASIFICACIÓN"},{"$f":"IF(B11='V C AB'!B11,IF(+'V C AB'!AZ11=\"HABILITADO  TEMPORALMENTE A COMPETENCIAS FEI\",\"HABILITADO  TEMPORALMENTE A COMPETENCIAS FEI\",\"\"),\"ERROR\")","v":""}]
[{"$f":"IF(+'V C AB'!A12=\"\",\"\",'V C AB'!A12)","v":"C"},{"$f":"IF(+'V C AB'!B12=\"\",\"\",'V C AB'!B12)","v":"C"},{"$f":"IF(+'V C AB'!C12=\"\",\"\",'V C AB'!C12)","v":"ALDAZ RAUL"},{"$f":"IF(OR('V C AB'!AV12+'V C AB'!AW12>=2,AND('V C AB'!AV12+'V C AB'!AW12>=1,'V L AB'!AW12>=40),'V C AB'!AX12>=1),\"CLASIFICADO A 80 Km NOVICIOS\",\"\")","v":""},{"$f":"IF(C12='V C AB'!C12,IF(OR('V C AB'!AZ12=\"\",'V C AB'!AZ12=\"HABILITADO  TEMPORALMENTE A COMPETENCIAS FEI\"),\"\",+'V C AB'!AZ12),\"ERROR\")","v":"NO INICIA SU CLASIFICACIÓN"},{"$f":"IF(B12='V C AB'!B12,IF(+'V C AB'!AZ12=\"HABILITADO  TEMPORALMENTE A COMPETENCIAS FEI\",\"HABILITADO  TEMPORALMENTE A COMPETENCIAS FEI\",\"\"),\"ERROR\")","v":""}]
[{"$f":"IF(+'V C AB'!A13=\"\",\"\",'V C AB'!A13)","v":""},{"$f":"IF(+'V C AB'!B13=\"\",\"\",'V C AB'!B13)","v":"A181"},{"$f":"IF(+'V C AB'!C13=\"\",\"\",'V C AB'!C13)","v":"ALLAICO CHIMBORAZO JOSE EMILIO"},{"$f":"IF(OR('V C AB'!AV13+'V C AB'!AW13>=2,AND('V C AB'!AV13+'V C AB'!AW13>=1,'V L AB'!AW13>=40),'V C AB'!AX13>=1),\"CLASIFICADO A 80 Km NOVICIOS\",\"\")","v":"CLASIFICADO A 80 Km NOVICIOS"},{"$f":"IF(C13='V C AB'!C13,IF(OR('V C AB'!AZ13=\"\",'V C AB'!AZ13=\"HABILITADO  TEMPORALMENTE A COMPETENCIAS FEI\"),\"\",+'V C AB'!AZ13),\"ERROR\")","v":"HABILITADO A 80KM VELOCIDAD CONTROLADA"},{"$f":"IF(B13='V C AB'!B13,IF(+'V C AB'!AZ13=\"HABILITADO  TEMPORALMENTE A COMPETENCIAS FEI\",\"HABILITADO  TEMPORALMENTE A COMPETENCIAS FEI\",\"\"),\"ERROR\")","v":""}]
[{"$f":"IF(+'V C AB'!A14=\"\",\"\",'V C AB'!A14)","v":"A037"},{"$f":"IF(+'V C AB'!B14=\"\",\"\",'V C AB'!B14)","v":"A059"},{"$f":"IF(+'V C AB'!C14=\"\",\"\",'V C AB'!C14)","v":"ALMEIDA AYALA HECTOR"},{"$f":"IF(OR('V C AB'!AV14+'V C AB'!AW14>=2,AND('V C AB'!AV14+'V C AB'!AW14>=1,'V L AB'!AW14>=40),'V C AB'!AX14>=1),\"CLASIFICADO A 80 Km NOVICIOS\",\"\")","v":"CLASIFICADO A 80 Km NOVICIOS"},{"$f":"IF(C14='V C AB'!C14,IF(OR('V C AB'!AZ14=\"\",'V C AB'!AZ14=\"HABILITADO  TEMPORALMENTE A COMPETENCIAS FEI\"),\"\",+'V C AB'!AZ14),\"ERROR\")","v":""},{"$f":"IF(B14='V C AB'!B14,IF(+'V C AB'!AZ14=\"HABILITADO  TEMPORALMENTE A COMPETENCIAS FEI\",\"HABILITADO  TEMPORALMENTE A COMPETENCIAS FEI\",\"\"),\"ERROR\")","v":"HABILITADO  TEMPORALMENTE A COMPETENCIAS FEI"}]
[{"$f":"IF(+'V C AB'!A15=\"\",\"\",'V C AB'!A15)","v":""},{"$f":"IF(+'V C AB'!B15=\"\",\"\",'V C AB'!B15)","v":"A011"},{"$f":"IF(+'V C AB'!C15=\"\",\"\",'V C AB'!C15)","v":"ALMEIDA PARDO DAVID"},{"$f":"IF(OR('V C AB'!AV15+'V C AB'!AW15>=2,AND('V C AB'!AV15+'V C AB'!AW15>=1,'V L AB'!AW15>=40),'V C AB'!AX15>=1),\"CLASIFICADO A 80 Km NOVICIOS\",\"\")","v":""},{"$f":"IF(C15='V C AB'!C15,IF(OR('V C AB'!AZ15=\"\",'V C AB'!AZ15=\"HABILITADO  TEMPORALMENTE A COMPETENCIAS FEI\"),\"\",+'V C AB'!AZ15),\"ERROR\")","v":"INICIO SU CLASIFICACIÓN"},{"$f":"IF(B15='V C AB'!B15,IF(+'V C AB'!AZ15=\"HABILITADO  TEMPORALMENTE A COMPETENCIAS FEI\",\"HABILITADO  TEMPORALMENTE A COMPETENCIAS FEI\",\"\"),\"ERROR\")","v":""}]
[{"$f":"IF(+'V C AB'!A16=\"\",\"\",'V C AB'!A16)","v":""},{"$f":"IF(+'V C AB'!B16=\"\",\"\",'V C AB'!B16)","v":"A012"},{"$f":"IF(+'V C AB'!C16=\"\",\"\",'V C AB'!C16)","v":"ALMEIDA PARDO HECTOR"},{"$f":"IF(OR('V C AB'!AV16+'V C AB'!AW16>=2,AND('V C AB'!AV16+'V C AB'!AW16>=1,'V L AB'!AW16>=40),'V C AB'!AX16>=1),\"CLASIFICADO A 80 Km NOVICIOS\",\"\")","v":""},{"$f":"IF(C16='V C AB'!C16,IF(OR('V C AB'!AZ16=\"\",'V C AB'!AZ16=\"HABILITADO  TEMPORALMENTE A COMPETENCIAS FEI\"),\"\",+'V C AB'!AZ16),\"ERROR\")","v":"NO INICIA SU CLASIFICACIÓN"},{"$f":"IF(B16='V C AB'!B16,IF(+'V C AB'!AZ16=\"HABILITADO  TEMPORALMENTE A COMPETENCIAS FEI\",\"HABILITADO  TEMPORALMENTE A COMPETENCIAS FEI\",\"\"),\"ERROR\")","v":""}]
[{"$f":"IF(+'V C AB'!A17=\"\",\"\",'V C AB'!A17)","v":"M004"},{"$f":"IF(+'V C AB'!B17=\"\",\"\",'V C AB'!B17)","v":"A021"},{"$f":"IF(+'V C AB'!C17=\"\",\"\",'V C AB'!C17)","v":"ALVEAR JUAN CARLOS"},{"$f":"IF(OR('V C AB'!AV17+'V C AB'!AW17>=2,AND('V C AB'!AV17+'V C AB'!AW17>=1,'V L AB'!AW17>=40),'V C AB'!AX17>=1),\"CLASIFICADO A 80 Km NOVICIOS\",\"\")","v":"CLASIFICADO A 80 Km NOVICIOS"},{"$f":"IF(C17='V C AB'!C17,IF(OR('V C AB'!AZ17=\"\",'V C AB'!AZ17=\"HABILITADO  TEMPORALMENTE A COMPETENCIAS FEI\"),\"\",+'V C AB'!AZ17),\"ERROR\")","v":"HABILITADO A 80KM VELOCIDAD CONTROLADA"},{"$f":"IF(B17='V C AB'!B17,IF(+'V C AB'!AZ17=\"HABILITADO  TEMPORALMENTE A COMPETENCIAS FEI\",\"HABILITADO  TEMPORALMENTE A COMPETENCIAS FEI\",\"\"),\"ERROR\")","v":""}]
[{"$f":"IF(+'V C AB'!A18=\"\",\"\",'V C AB'!A18)","v":"A020"},{"$f":"IF(+'V C AB'!B18=\"\",\"\",'V C AB'!B18)","v":"A088"},{"$f":"IF(+'V C AB'!C18=\"\",\"\",'V C AB'!C18)","v":"ALZAMORA GUERRERO ESTEBAN"},{"$f":"IF(OR('V C AB'!AV18+'V C AB'!AW18>=2,AND('V C AB'!AV18+'V C AB'!AW18>=1,'V L AB'!AW18>=40),'V C AB'!AX18>=1),\"CLASIFICADO A 80 Km NOVICIOS\",\"\")","v":""},{"$f":"IF(C18='V C AB'!C18,IF(OR('V C AB'!AZ18=\"\",'V C AB'!AZ18=\"HABILITADO  TEMPORALMENTE A COMPETENCIAS FEI\"),\"\",+'V C AB'!AZ18),\"ERROR\")","v":"INICIO SU CLASIFICACIÓN"},{"$f":"IF(B18='V C AB'!B18,IF(+'V C AB'!AZ18=\"HABILITADO  TEMPORALMENTE A COMPETENCIAS FEI\",\"HABILITADO  TEMPORALMENTE A COMPETENCIAS FEI\",\"\"),\"ERROR\")","v":""}]
[{"$f":"IF(+'V C AB'!A19=\"\",\"\",'V C AB'!A19)","v":"A070"},{"$f":"IF(+'V C AB'!B19=\"\",\"\",'V C AB'!B19)","v":"A050"},{"$f":"IF(+'V C AB'!C19=\"\",\"\",'V C AB'!C19)","v":"ALZAMORA MARIA CECILIA"},{"$f":"IF(OR('V C AB'!AV19+'V C AB'!AW19>=2,AND('V C AB'!AV19+'V C AB'!AW19>=1,'V L AB'!AW19>=40),'V C AB'!AX19>=1),\"CLASIFICADO A 80 Km NOVICIOS\",\"\")","v":"CLASIFICADO A 80 Km NOVICIOS"},{"$f":"IF(C19='V C AB'!C19,IF(OR('V C AB'!AZ19=\"\",'V C AB'!AZ19=\"HABILITADO  TEMPORALMENTE A COMPETENCIAS FEI\"),\"\",+'V C AB'!AZ19),\"ERROR\")","v":""},{"$f":"IF(B19='V C AB'!B19,IF(+'V C AB'!AZ19=\"HABILITADO  TEMPORALMENTE A COMPETENCIAS FEI\",\"HABILITADO  TEMPORALMENTE A COMPETENCIAS FEI\",\"\"),\"ERROR\")","v":"HABILITADO  TEMPORALMENTE A COMPETENCIAS FEI"}]
[{"$f":"IF(+'V C AB'!A20=\"\",\"\",'V C AB'!A20)","v":""},{"$f":"IF(+'V C AB'!B20=\"\",\"\",'V C AB'!B20)","v":"A178"},{"$f":"IF(+'V C AB'!C20=\"\",\"\",'V C AB'!C20)","v":"ANDRADE JUAN CARLOS"},{"$f":"IF(OR('V C AB'!AV20+'V C AB'!AW20>=2,AND('V C AB'!AV20+'V C AB'!AW20>=1,'V L AB'!AW20>=40),'V C AB'!AX20>=1),\"CLASIFICADO A 80 Km NOVICIOS\",\"\")","v":""},{"$f":"IF(C20='V C AB'!C20,IF(OR('V C AB'!AZ20=\"\",'V C AB'!AZ20=\"HABILITADO  TEMPORALMENTE A COMPETENCIAS FEI\"),\"\",+'V C AB'!AZ20),\"ERROR\")","v":"INICIO SU CLASIFICACIÓN"},{"$f":"IF(B20='V C AB'!B20,IF(+'V C AB'!AZ20=\"HABILITADO  TEMPORALMENTE A COMPETENCIAS FEI\",\"HABILITADO  TEMPORALMENTE A COMPETENCIAS FEI\",\"\"),\"ERROR\")","v":""}]
[{"$f":"IF(+'V C AB'!A21=\"\",\"\",'V C AB'!A21)","v":"J008"},{"$f":"IF(+'V C AB'!B21=\"\",\"\",'V C AB'!B21)","v":"A"},{"$f":"IF(+'V C AB'!C21=\"\",\"\",'V C AB'!C21)","v":"ASTUDILLO ESTALIN"},{"$f":"IF(OR('V C AB'!AV21+'V C AB'!AW21>=2,AND('V C AB'!AV21+'V C AB'!AW21>=1,'V L AB'!AW21>=40),'V C AB'!AX21>=1),\"CLASIFICADO A 80 Km NOVICIOS\",\"\")","v":""},{"$f":"IF(C21='V C AB'!C21,IF(OR('V C AB'!AZ21=\"\",'V C AB'!AZ21=\"HABILITADO  TEMPORALMENTE A COMPETENCIAS FEI\"),\"\",+'V C AB'!AZ21),\"ERROR\")","v":"NO INICIA SU CLASIFICACIÓN"},{"$f":"IF(B21='V C AB'!B21,IF(+'V C AB'!AZ21=\"HABILITADO  TEMPORALMENTE A COMPETENCIAS FEI\",\"HABILITADO  TEMPORALMENTE A COMPETENCIAS FEI\",\"\"),\"ERROR\")","v":""}]
[{"$f":"IF(+'V C AB'!A22=\"\",\"\",'V C AB'!A22)","v":""},{"$f":"IF(+'V C AB'!B22=\"\",\"\",'V C AB'!B22)","v":"A095"},{"$f":"IF(+'V C AB'!C22=\"\",\"\",'V C AB'!C22)","v":"AULES LUIS RAUL"},{"$f":"IF(OR('V C AB'!AV22+'V C AB'!AW22>=2,AND('V C AB'!AV22+'V C AB'!AW22>=1,'V L AB'!AW22>=40),'V C AB'!AX22>=1),\"CLASIFICADO A 80 Km NOVICIOS\",\"\")","v":""},{"$f":"IF(C22='V C AB'!C22,IF(OR('V C AB'!AZ22=\"\",'V C AB'!AZ22=\"HABILITADO  TEMPORALMENTE A COMPETENCIAS FEI\"),\"\",+'V C AB'!AZ22),\"ERROR\")","v":"INICIO SU CLASIFICACIÓN"},{"$f":"IF(B22='V C AB'!B22,IF(+'V C AB'!AZ22=\"HABILITADO  TEMPORALMENTE A COMPETENCIAS FEI\",\"HABILITADO  TEMPORALMENTE A COMPETENCIAS FEI\",\"\"),\"ERROR\")","v":""}]
[{"$f":"IF(+'V C AB'!A23=\"\",\"\",'V C AB'!A23)","v":""},{"$f":"IF(+'V C AB'!B23=\"\",\"\",'V C AB'!B23)","v":"A"},{"$f":"IF(+'V C AB'!C23=\"\",\"\",'V C AB'!C23)","v":"AYALA ANDREA"},{"$f":"IF(OR('V C AB'!AV23+'V C AB'!AW23>=2,AND('V C AB'!AV23+'V C AB'!AW23>=1,'V L AB'!AW23>=40),'V C AB'!AX23>=1),\"CLASIFICADO A 80 Km NOVICIOS\",\"\")","v":""},{"$f":"IF(C23='V C AB'!C23,IF(OR('V C AB'!AZ23=\"\",'V C AB'!AZ23=\"HABILITADO  TEMPORALMENTE A COMPETENCIAS FEI\"),\"\",+'V C AB'!AZ23),\"ERROR\")","v":"NO INICIA SU CLASIFICACIÓN"},{"$f":"IF(B23='V C AB'!B23,IF(+'V C AB'!AZ23=\"HABILITADO  TEMPORALMENTE A COMPETENCIAS FEI\",\"HABILITADO  TEMPORALMENTE A COMPETENCIAS FEI\",\"\"),\"ERROR\")","v":""}]
[{"$f":"IF(+'V C AB'!A24=\"\",\"\",'V C AB'!A24)","v":"A049"},{"$f":"IF(+'V C AB'!B24=\"\",\"\",'V C AB'!B24)","v":"A"},{"$f":"IF(+'V C AB'!C24=\"\",\"\",'V C AB'!C24)","v":"AYALA DANIEL"},{"$f":"IF(OR('V C AB'!AV24+'V C AB'!AW24>=2,AND('V C AB'!AV24+'V C AB'!AW24>=1,'V L AB'!AW24>=40),'V C AB'!AX24>=1),\"CLASIFICADO A 80 Km NOVICIOS\",\"\")","v":""},{"$f":"IF(C24='V C AB'!C24,IF(OR('V C AB'!AZ24=\"\",'V C AB'!AZ24=\"HABILITADO  TEMPORALMENTE A COMPETENCIAS FEI\"),\"\",+'V C AB'!AZ24),\"ERROR\")","v":"NO INICIA SU CLASIFICACIÓN"},{"$f":"IF(B24='V C AB'!B24,IF(+'V C AB'!AZ24=\"HABILITADO  TEMPORALMENTE A COMPETENCIAS FEI\",\"HABILITADO  TEMPORALMENTE A COMPETENCIAS FEI\",\"\"),\"ERROR\")","v":""}]
[{"$f":"IF(+'V C AB'!A25=\"\",\"\",'V C AB'!A25)","v":"A028"},{"$f":"IF(+'V C AB'!B25=\"\",\"\",'V C AB'!B25)","v":"A048"},{"$f":"IF(+'V C AB'!C25=\"\",\"\",'V C AB'!C25)","v":"BARAHONA ANDRES"},{"$f":"IF(OR('V C AB'!AV25+'V C AB'!AW25>=2,AND('V C AB'!AV25+'V C AB'!AW25>=1,'V L AB'!AW25>=40),'V C AB'!AX25>=1),\"CLASIFICADO A 80 Km NOVICIOS\",\"\")","v":"CLASIFICADO A 80 Km NOVICIOS"},{"$f":"IF(C25='V C AB'!C25,IF(OR('V C AB'!AZ25=\"\",'V C AB'!AZ25=\"HABILITADO  TEMPORALMENTE A COMPETENCIAS FEI\"),\"\",+'V C AB'!AZ25),\"ERROR\")","v":""},{"$f":"IF(B25='V C AB'!B25,IF(+'V C AB'!AZ25=\"HABILITADO  TEMPORALMENTE A COMPETENCIAS FEI\",\"HABILITADO  TEMPORALMENTE A COMPETENCIAS FEI\",\"\"),\"ERROR\")","v":"HABILITADO  TEMPORALMENTE A COMPETENCIAS FEI"}]
[{"$f":"IF(+'V C AB'!A26=\"\",\"\",'V C AB'!A26)","v":"A112"},{"$f":"IF(+'V C AB'!B26=\"\",\"\",'V C AB'!B26)","v":"A"},{"$f":"IF(+'V C AB'!C26=\"\",\"\",'V C AB'!C26)","v":"BERMEO JUAN BERNARDO"},{"$f":"IF(OR('V C AB'!AV26+'V C AB'!AW26>=2,AND('V C AB'!AV26+'V C AB'!AW26>=1,'V L AB'!AW26>=40),'V C AB'!AX26>=1),\"CLASIFICADO A 80 Km NOVICIOS\",\"\")","v":""},{"$f":"IF(C26='V C AB'!C26,IF(OR('V C AB'!AZ26=\"\",'V C AB'!AZ26=\"HABILITADO  TEMPORALMENTE A COMPETENCIAS FEI\"),\"\",+'V C AB'!AZ26),\"ERROR\")","v":"INICIO SU CLASIFICACIÓN"},{"$f":"IF(B26='V C AB'!B26,IF(+'V C AB'!AZ26=\"HABILITADO  TEMPORALMENTE A COMPETENCIAS FEI\",\"HABILITADO  TEMPORALMENTE A COMPETENCIAS FEI\",\"\"),\"ERROR\")","v":""}]
[{"$f":"IF(+'V C AB'!A27=\"\",\"\",'V C AB'!A27)","v":"A0159"},{"$f":"IF(+'V C AB'!B27=\"\",\"\",'V C AB'!B27)","v":"A049"},{"$f":"IF(+'V C AB'!C27=\"\",\"\",'V C AB'!C27)","v":"BRAUER MARIA FERNANDA"},{"$f":"IF(OR('V C AB'!AV27+'V C AB'!AW27>=2,AND('V C AB'!AV27+'V C AB'!AW27>=1,'V L AB'!AW27>=40),'V C AB'!AX27>=1),\"CLASIFICADO A 80 Km NOVICIOS\",\"\")","v":"CLASIFICADO A 80 Km NOVICIOS"},{"$f":"IF(C27='V C AB'!C27,IF(OR('V C AB'!AZ27=\"\",'V C AB'!AZ27=\"HABILITADO  TEMPORALMENTE A COMPETENCIAS FEI\"),\"\",+'V C AB'!AZ27),\"ERROR\")","v":""},{"$f":"IF(B27='V C AB'!B27,IF(+'V C AB'!AZ27=\"HABILITADO  TEMPORALMENTE A COMPETENCIAS FEI\",\"HABILITADO  TEMPORALMENTE A COMPETENCIAS FEI\",\"\"),\"ERROR\")","v":"HABILITADO  TEMPORALMENTE A COMPETENCIAS FEI"}]
[{"$f":"IF(+'V C AB'!A28=\"\",\"\",'V C AB'!A28)","v":"A101"},{"$f":"IF(+'V C AB'!B28=\"\",\"\",'V C AB'!B28)","v":"A"},{"$f":"IF(+'V C AB'!C28=\"\",\"\",'V C AB'!C28)","v":"BRAVO LUIS GUSTAVO"},{"$f":"IF(OR('V C AB'!AV28+'V C AB'!AW28>=2,AND('V C AB'!AV28+'V C AB'!AW28>=1,'V L AB'!AW28>=40),'V C AB'!AX28>=1),\"CLASIFICADO A 80 Km NOVICIOS\",\"\")","v":""},{"$f":"IF(C28='V C AB'!C28,IF(OR('V C AB'!AZ28=\"\",'V C AB'!AZ28=\"HABILITADO  TEMPORALMENTE A COMPETENCIAS FEI\"),\"\",+'V C AB'!AZ28),\"ERROR\")","v":"NO INICIA SU CLASIFICACIÓN"},{"$f":"IF(B28='V C AB'!B28,IF(+'V C AB'!AZ28=\"HABILITADO  TEMPORALMENTE A COMPETENCIAS FEI\",\"HABILITADO  TEMPORALMENTE A COMPETENCIAS FEI\",\"\"),\"ERROR\")","v":""}]
[{"$f":"IF(+'V C AB'!A29=\"\",\"\",'V C AB'!A29)","v":""},{"$f":"IF(+'V C AB'!B29=\"\",\"\",'V C AB'!B29)","v":"A185"},{"$f":"IF(+'V C AB'!C29=\"\",\"\",'V C AB'!C29)","v":"BURBANO SERRANO JAIME ROLANDO"},{"$f":"IF(OR('V C AB'!AV29+'V C AB'!AW29>=2,AND('V C AB'!AV29+'V C AB'!AW29>=1,'V L AB'!AW29>=40),'V C AB'!AX29>=1),\"CLASIFICADO A 80 Km NOVICIOS\",\"\")","v":"CLASIFICADO A 80 Km NOVICIOS"},{"$f":"IF(C29='V C AB'!C29,IF(OR('V C AB'!AZ29=\"\",'V C AB'!AZ29=\"HABILITADO  TEMPORALMENTE A COMPETENCIAS FEI\"),\"\",+'V C AB'!AZ29),\"ERROR\")","v":"INICIO SU CLASIFICACIÓN"},{"$f":"IF(B29='V C AB'!B29,IF(+'V C AB'!AZ29=\"HABILITADO  TEMPORALMENTE A COMPETENCIAS FEI\",\"HABILITADO  TEMPORALMENTE A COMPETENCIAS FEI\",\"\"),\"ERROR\")","v":""}]
[{"$f":"IF(+'V C AB'!A30=\"\",\"\",'V C AB'!A30)","v":"C"},{"$f":"IF(+'V C AB'!B30=\"\",\"\",'V C AB'!B30)","v":"A133"},{"$f":"IF(+'V C AB'!C30=\"\",\"\",'V C AB'!C30)","v":"BURBANO SERRANO JUAN JOSE"},{"$f":"IF(OR('V C AB'!AV30+'V C AB'!AW30>=2,AND('V C AB'!AV30+'V C AB'!AW30>=1,'V L AB'!AW30>=40),'V C AB'!AX30>=1),\"CLASIFICADO A 80 Km NOVICIOS\",\"\")","v":""},{"$f":"IF(C30='V C AB'!C30,IF(OR('V C AB'!AZ30=\"\",'V C AB'!AZ30=\"HABILITADO  TEMPORALMENTE A COMPETENCIAS FEI\"),\"\",+'V C AB'!AZ30),\"ERROR\")","v":"INICIO SU CLASIFICACIÓN"},{"$f":"IF(B30='V C AB'!B30,IF(+'V C AB'!AZ30=\"HABILITADO  TEMPORALMENTE A COMPETENCIAS FEI\",\"HABILITADO  TEMPORALMENTE A COMPETENCIAS FEI\",\"\"),\"ERROR\")","v":""}]
[{"$f":"IF(+'V C AB'!A31=\"\",\"\",'V C AB'!A31)","v":""},{"$f":"IF(+'V C AB'!B31=\"\",\"\",'V C AB'!B31)","v":"A172"},{"$f":"IF(+'V C AB'!C31=\"\",\"\",'V C AB'!C31)","v":"BURBANO VILLAVICENCIO JAIME SEBASTIAN"},{"$f":"IF(OR('V C AB'!AV31+'V C AB'!AW31>=2,AND('V C AB'!AV31+'V C AB'!AW31>=1,'V L AB'!AW31>=40),'V C AB'!AX31>=1),\"CLASIFICADO A 80 Km NOVICIOS\",\"\")","v":"CLASIFICADO A 80 Km NOVICIOS"},{"$f":"IF(C31='V C AB'!C31,IF(OR('V C AB'!AZ31=\"\",'V C AB'!AZ31=\"HABILITADO  TEMPORALMENTE A COMPETENCIAS FEI\"),\"\",+'V C AB'!AZ31),\"ERROR\")","v":"LE FALTA UNA DE 80 A 90 CONTROLADA"},{"$f":"IF(B31='V C AB'!B31,IF(+'V C AB'!AZ31=\"HABILITADO  TEMPORALMENTE A COMPETENCIAS FEI\",\"HABILITADO  TEMPORALMENTE A COMPETENCIAS FEI\",\"\"),\"ERROR\")","v":""}]
[{"$f":"IF(+'V C AB'!A32=\"\",\"\",'V C AB'!A32)","v":""},{"$f":"IF(+'V C AB'!B32=\"\",\"\",'V C AB'!B32)","v":"A"},{"$f":"IF(+'V C AB'!C32=\"\",\"\",'V C AB'!C32)","v":"BUSTAMENTE RODRIGO"},{"$f":"IF(OR('V C AB'!AV32+'V C AB'!AW32>=2,AND('V C AB'!AV32+'V C AB'!AW32>=1,'V L AB'!AW32>=40),'V C AB'!AX32>=1),\"CLASIFICADO A 80 Km NOVICIOS\",\"\")","v":""},{"$f":"IF(C32='V C AB'!C32,IF(OR('V C AB'!AZ32=\"\",'V C AB'!AZ32=\"HABILITADO  TEMPORALMENTE A COMPETENCIAS FEI\"),\"\",+'V C AB'!AZ32),\"ERROR\")","v":"NO INICIA SU CLASIFICACIÓN"},{"$f":"IF(B32='V C AB'!B32,IF(+'V C AB'!AZ32=\"HABILITADO  TEMPORALMENTE A COMPETENCIAS FEI\",\"HABILITADO  TEMPORALMENTE A COMPETENCIAS FEI\",\"\"),\"ERROR\")","v":""}]
[{"$f":"IF(+'V C AB'!A33=\"\",\"\",'V C AB'!A33)","v":"C"},{"$f":"IF(+'V C AB'!B33=\"\",\"\",'V C AB'!B33)","v":"C"},{"$f":"IF(+'V C AB'!C33=\"\",\"\",'V C AB'!C33)","v":"CAMACHO VINTIMILLA JUAN"},{"$f":"IF(OR('V C AB'!AV33+'V C AB'!AW33>=2,AND('V C AB'!AV33+'V C AB'!AW33>=1,'V L AB'!AW33>=40),'V C AB'!AX33>=1),\"CLASIFICADO A 80 Km NOVICIOS\",\"\")","v":""},{"$f":"IF(C33='V C AB'!C33,IF(OR('V C AB'!AZ33=\"\",'V C AB'!AZ33=\"HABILITADO  TEMPORALMENTE A COMPETENCIAS FEI\"),\"\",+'V C AB'!AZ33),\"ERROR\")","v":"NO INICIA SU CLASIFICACIÓN"},{"$f":"IF(B33='V C AB'!B33,IF(+'V C AB'!AZ33=\"HABILITADO  TEMPORALMENTE A COMPETENCIAS FEI\",\"HABILITADO  TEMPORALMENTE A COMPETENCIAS FEI\",\"\"),\"ERROR\")","v":""}]
[{"$f":"IF(+'V C AB'!A34=\"\",\"\",'V C AB'!A34)","v":"A151"},{"$f":"IF(+'V C AB'!B34=\"\",\"\",'V C AB'!B34)","v":"A103"},{"$f":"IF(+'V C AB'!C34=\"\",\"\",'V C AB'!C34)","v":"CANDELEJO NELSON"},{"$f":"IF(OR('V C AB'!AV34+'V C AB'!AW34>=2,AND('V C AB'!AV34+'V C AB'!AW34>=1,'V L AB'!AW34>=40),'V C AB'!AX34>=1),\"CLASIFICADO A 80 Km NOVICIOS\",\"\")","v":"CLASIFICADO A 80 Km NOVICIOS"},{"$f":"IF(C34='V C AB'!C34,IF(OR('V C AB'!AZ34=\"\",'V C AB'!AZ34=\"HABILITADO  TEMPORALMENTE A COMPETENCIAS FEI\"),\"\",+'V C AB'!AZ34),\"ERROR\")","v":"HABILITADO A 80KM VELOCIDAD CONTROLADA"},{"$f":"IF(B34='V C AB'!B34,IF(+'V C AB'!AZ34=\"HABILITADO  TEMPORALMENTE A COMPETENCIAS FEI\",\"HABILITADO  TEMPORALMENTE A COMPETENCIAS FEI\",\"\"),\"ERROR\")","v":""}]
[{"$f":"IF(+'V C AB'!A35=\"\",\"\",'V C AB'!A35)","v":"A046"},{"$f":"IF(+'V C AB'!B35=\"\",\"\",'V C AB'!B35)","v":"A067"},{"$f":"IF(+'V C AB'!C35=\"\",\"\",'V C AB'!C35)","v":"CANDO MARIO"},{"$f":"IF(OR('V C AB'!AV35+'V C AB'!AW35>=2,AND('V C AB'!AV35+'V C AB'!AW35>=1,'V L AB'!AW35>=40),'V C AB'!AX35>=1),\"CLASIFICADO A 80 Km NOVICIOS\",\"\")","v":"CLASIFICADO A 80 Km NOVICIOS"},{"$f":"IF(C35='V C AB'!C35,IF(OR('V C AB'!AZ35=\"\",'V C AB'!AZ35=\"HABILITADO  TEMPORALMENTE A COMPETENCIAS FEI\"),\"\",+'V C AB'!AZ35),\"ERROR\")","v":""},{"$f":"IF(B35='V C AB'!B35,IF(+'V C AB'!AZ35=\"HABILITADO  TEMPORALMENTE A COMPETENCIAS FEI\",\"HABILITADO  TEMPORALMENTE A COMPETENCIAS FEI\",\"\"),\"ERROR\")","v":"HABILITADO  TEMPORALMENTE A COMPETENCIAS FEI"}]
[{"$f":"IF(+'V C AB'!A36=\"\",\"\",'V C AB'!A36)","v":"A068"},{"$f":"IF(+'V C AB'!B36=\"\",\"\",'V C AB'!B36)","v":"A015"},{"$f":"IF(+'V C AB'!C36=\"\",\"\",'V C AB'!C36)","v":"CARDENAS DANIEL"},{"$f":"IF(OR('V C AB'!AV36+'V C AB'!AW36>=2,AND('V C AB'!AV36+'V C AB'!AW36>=1,'V L AB'!AW36>=40),'V C AB'!AX36>=1),\"CLASIFICADO A 80 Km NOVICIOS\",\"\")","v":""},{"$f":"IF(C36='V C AB'!C36,IF(OR('V C AB'!AZ36=\"\",'V C AB'!AZ36=\"HABILITADO  TEMPORALMENTE A COMPETENCIAS FEI\"),\"\",+'V C AB'!AZ36),\"ERROR\")","v":"INICIO SU CLASIFICACIÓN"},{"$f":"IF(B36='V C AB'!B36,IF(+'V C AB'!AZ36=\"HABILITADO  TEMPORALMENTE A COMPETENCIAS FEI\",\"HABILITADO  TEMPORALMENTE A COMPETENCIAS FEI\",\"\"),\"ERROR\")","v":""}]
[{"$f":"IF(+'V C AB'!A37=\"\",\"\",'V C AB'!A37)","v":"C"},{"$f":"IF(+'V C AB'!B37=\"\",\"\",'V C AB'!B37)","v":"A134"},{"$f":"IF(+'V C AB'!C37=\"\",\"\",'V C AB'!C37)","v":"CARRASCO AUGUSTO"},{"$f":"IF(OR('V C AB'!AV37+'V C AB'!AW37>=2,AND('V C AB'!AV37+'V C AB'!AW37>=1,'V L AB'!AW37>=40),'V C AB'!AX37>=1),\"CLASIFICADO A 80 Km NOVICIOS\",\"\")","v":""},{"$f":"IF(C37='V C AB'!C37,IF(OR('V C AB'!AZ37=\"\",'V C AB'!AZ37=\"HABILITADO  TEMPORALMENTE A COMPETENCIAS FEI\"),\"\",+'V C AB'!AZ37),\"ERROR\")","v":"NO INICIA SU CLASIFICACIÓN"},{"$f":"IF(B37='V C AB'!B37,IF(+'V C AB'!AZ37=\"HABILITADO  TEMPORALMENTE A COMPETENCIAS FEI\",\"HABILITADO  TEMPORALMENTE A COMPETENCIAS FEI\",\"\"),\"ERROR\")","v":""}]
[{"$f":"IF(+'V C AB'!A38=\"\",\"\",'V C AB'!A38)","v":"A059"},{"$f":"IF(+'V C AB'!B38=\"\",\"\",'V C AB'!B38)","v":"A064"},{"$f":"IF(+'V C AB'!C38=\"\",\"\",'V C AB'!C38)","v":"CASTILLO DIEGO"},{"$f":"IF(OR('V C AB'!AV38+'V C AB'!AW38>=2,AND('V C AB'!AV38+'V C AB'!AW38>=1,'V L AB'!AW38>=40),'V C AB'!AX38>=1),\"CLASIFICADO A 80 Km NOVICIOS\",\"\")","v":"CLASIFICADO A 80 Km NOVICIOS"},{"$f":"IF(C38='V C AB'!C38,IF(OR('V C AB'!AZ38=\"\",'V C AB'!AZ38=\"HABILITADO  TEMPORALMENTE A COMPETENCIAS FEI\"),\"\",+'V C AB'!AZ38),\"ERROR\")","v":"HABILITADO A 80KM VELOCIDAD CONTROLADA"},{"$f":"IF(B38='V C AB'!B38,IF(+'V C AB'!AZ38=\"HABILITADO  TEMPORALMENTE A COMPETENCIAS FEI\",\"HABILITADO  TEMPORALMENTE A COMPETENCIAS FEI\",\"\"),\"ERROR\")","v":""}]
[{"$f":"IF(+'V C AB'!A39=\"\",\"\",'V C AB'!A39)","v":"A069"},{"$f":"IF(+'V C AB'!B39=\"\",\"\",'V C AB'!B39)","v":"A"},{"$f":"IF(+'V C AB'!C39=\"\",\"\",'V C AB'!C39)","v":"CASTILLO MIGUEL"},{"$f":"IF(OR('V C AB'!AV39+'V C AB'!AW39>=2,AND('V C AB'!AV39+'V C AB'!AW39>=1,'V L AB'!AW39>=40),'V C AB'!AX39>=1),\"CLASIFICADO A 80 Km NOVICIOS\",\"\")","v":""},{"$f":"IF(C39='V C AB'!C39,IF(OR('V C AB'!AZ39=\"\",'V C AB'!AZ39=\"HABILITADO  TEMPORALMENTE A COMPETENCIAS FEI\"),\"\",+'V C AB'!AZ39),\"ERROR\")","v":"NO INICIA SU CLASIFICACIÓN"},{"$f":"IF(B39='V C AB'!B39,IF(+'V C AB'!AZ39=\"HABILITADO  TEMPORALMENTE A COMPETENCIAS FEI\",\"HABILITADO  TEMPORALMENTE A COMPETENCIAS FEI\",\"\"),\"ERROR\")","v":""}]
[{"$f":"IF(+'V C AB'!A40=\"\",\"\",'V C AB'!A40)","v":"A020"},{"$f":"IF(+'V C AB'!B40=\"\",\"\",'V C AB'!B40)","v":"A004"},{"$f":"IF(+'V C AB'!C40=\"\",\"\",'V C AB'!C40)","v":"CATUCUAMBA WILLIAM MEDARDO"},{"$f":"IF(OR('V C AB'!AV40+'V C AB'!AW40>=2,AND('V C AB'!AV40+'V C AB'!AW40>=1,'V L AB'!AW40>=40),'V C AB'!AX40>=1),\"CLASIFICADO A 80 Km NOVICIOS\",\"\")","v":""},{"$f":"IF(C40='V C AB'!C40,IF(OR('V C AB'!AZ40=\"\",'V C AB'!AZ40=\"HABILITADO  TEMPORALMENTE A COMPETENCIAS FEI\"),\"\",+'V C AB'!AZ40),\"ERROR\")","v":"NO INICIA SU CLASIFICACIÓN"},{"$f":"IF(B40='V C AB'!B40,IF(+'V C AB'!AZ40=\"HABILITADO  TEMPORALMENTE A COMPETENCIAS FEI\",\"HABILITADO  TEMPORALMENTE A COMPETENCIAS FEI\",\"\"),\"ERROR\")","v":""}]
[{"$f":"IF(+'V C AB'!A41=\"\",\"\",'V C AB'!A41)","v":"C"},{"$f":"IF(+'V C AB'!B41=\"\",\"\",'V C AB'!B41)","v":"A160"},{"$f":"IF(+'V C AB'!C41=\"\",\"\",'V C AB'!C41)","v":"CEDILLO RAMIRO"},{"$f":"IF(OR('V C AB'!AV41+'V C AB'!AW41>=2,AND('V C AB'!AV41+'V C AB'!AW41>=1,'V L AB'!AW41>=40),'V C AB'!AX41>=1),\"CLASIFICADO A 80 Km NOVICIOS\",\"\")","v":""},{"$f":"IF(C41='V C AB'!C41,IF(OR('V C AB'!AZ41=\"\",'V C AB'!AZ41=\"HABILITADO  TEMPORALMENTE A COMPETENCIAS FEI\"),\"\",+'V C AB'!AZ41),\"ERROR\")","v":"NO INICIA SU CLASIFICACIÓN"},{"$f":"IF(B41='V C AB'!B41,IF(+'V C AB'!AZ41=\"HABILITADO  TEMPORALMENTE A COMPETENCIAS FEI\",\"HABILITADO  TEMPORALMENTE A COMPETENCIAS FEI\",\"\"),\"ERROR\")","v":""}]
[{"$f":"IF(+'V C AB'!A42=\"\",\"\",'V C AB'!A42)","v":""},{"$f":"IF(+'V C AB'!B42=\"\",\"\",'V C AB'!B42)","v":"A078"},{"$f":"IF(+'V C AB'!C42=\"\",\"\",'V C AB'!C42)","v":"CHANGO ESTEFANIA"},{"$f":"IF(OR('V C AB'!AV42+'V C AB'!AW42>=2,AND('V C AB'!AV42+'V C AB'!AW42>=1,'V L AB'!AW42>=40),'V C AB'!AX42>=1),\"CLASIFICADO A 80 Km NOVICIOS\",\"\")","v":"CLASIFICADO A 80 Km NOVICIOS"},{"$f":"IF(C42='V C AB'!C42,IF(OR('V C AB'!AZ42=\"\",'V C AB'!AZ42=\"HABILITADO  TEMPORALMENTE A COMPETENCIAS FEI\"),\"\",+'V C AB'!AZ42),\"ERROR\")","v":"LE FALTA UNA DE 80 A 90 CONTROLADA"},{"$f":"IF(B42='V C AB'!B42,IF(+'V C AB'!AZ42=\"HABILITADO  TEMPORALMENTE A COMPETENCIAS FEI\",\"HABILITADO  TEMPORALMENTE A COMPETENCIAS FEI\",\"\"),\"ERROR\")","v":""}]
[{"$f":"IF(+'V C AB'!A43=\"\",\"\",'V C AB'!A43)","v":"A029"},{"$f":"IF(+'V C AB'!B43=\"\",\"\",'V C AB'!B43)","v":"A"},{"$f":"IF(+'V C AB'!C43=\"\",\"\",'V C AB'!C43)","v":"CHIRIBOGA ALLUT ESTEBAN "},{"$f":"IF(OR('V C AB'!AV43+'V C AB'!AW43>=2,AND('V C AB'!AV43+'V C AB'!AW43>=1,'V L AB'!AW43>=40),'V C AB'!AX43>=1),\"CLASIFICADO A 80 Km NOVICIOS\",\"\")","v":""},{"$f":"IF(C43='V C AB'!C43,IF(OR('V C AB'!AZ43=\"\",'V C AB'!AZ43=\"HABILITADO  TEMPORALMENTE A COMPETENCIAS FEI\"),\"\",+'V C AB'!AZ43),\"ERROR\")","v":"INICIO SU CLASIFICACIÓN"},{"$f":"IF(B43='V C AB'!B43,IF(+'V C AB'!AZ43=\"HABILITADO  TEMPORALMENTE A COMPETENCIAS FEI\",\"HABILITADO  TEMPORALMENTE A COMPETENCIAS FEI\",\"\"),\"ERROR\")","v":""}]
[{"$f":"IF(+'V C AB'!A44=\"\",\"\",'V C AB'!A44)","v":"M140"},{"$f":"IF(+'V C AB'!B44=\"\",\"\",'V C AB'!B44)","v":"A054"},{"$f":"IF(+'V C AB'!C44=\"\",\"\",'V C AB'!C44)","v":"CHIRIBOGA AUGUSTO"},{"$f":"IF(OR('V C AB'!AV44+'V C AB'!AW44>=2,AND('V C AB'!AV44+'V C AB'!AW44>=1,'V L AB'!AW44>=40),'V C AB'!AX44>=1),\"CLASIFICADO A 80 Km NOVICIOS\",\"\")","v":"CLASIFICADO A 80 Km NOVICIOS"},{"$f":"IF(C44='V C AB'!C44,IF(OR('V C AB'!AZ44=\"\",'V C AB'!AZ44=\"HABILITADO  TEMPORALMENTE A COMPETENCIAS FEI\"),\"\",+'V C AB'!AZ44),\"ERROR\")","v":"LE FALTA UNA DE 80 A 90 CONTROLADA"},{"$f":"IF(B44='V C AB'!B44,IF(+'V C AB'!AZ44=\"HABILITADO  TEMPORALMENTE A COMPETENCIAS FEI\",\"HABILITADO  TEMPORALMENTE A COMPETENCIAS FEI\",\"\"),\"ERROR\")","v":""}]
[{"$f":"IF(+'V C AB'!A45=\"\",\"\",'V C AB'!A45)","v":""},{"$f":"IF(+'V C AB'!B45=\"\",\"\",'V C AB'!B45)","v":"A"},{"$f":"IF(+'V C AB'!C45=\"\",\"\",'V C AB'!C45)","v":"CHIRIBOGA RICARDO "},{"$f":"IF(OR('V C AB'!AV45+'V C AB'!AW45>=2,AND('V C AB'!AV45+'V C AB'!AW45>=1,'V L AB'!AW45>=40),'V C AB'!AX45>=1),\"CLASIFICADO A 80 Km NOVICIOS\",\"\")","v":""},{"$f":"IF(C45='V C AB'!C45,IF(OR('V C AB'!AZ45=\"\",'V C AB'!AZ45=\"HABILITADO  TEMPORALMENTE A COMPETENCIAS FEI\"),\"\",+'V C AB'!AZ45),\"ERROR\")","v":"NO INICIA SU CLASIFICACIÓN"},{"$f":"IF(B45='V C AB'!B45,IF(+'V C AB'!AZ45=\"HABILITADO  TEMPORALMENTE A COMPETENCIAS FEI\",\"HABILITADO  TEMPORALMENTE A COMPETENCIAS FEI\",\"\"),\"ERROR\")","v":""}]
[{"$f":"IF(+'V C AB'!A46=\"\",\"\",'V C AB'!A46)","v":"C"},{"$f":"IF(+'V C AB'!B46=\"\",\"\",'V C AB'!B46)","v":"C"},{"$f":"IF(+'V C AB'!C46=\"\",\"\",'V C AB'!C46)","v":"CORDERO FERNANDO"},{"$f":"IF(OR('V C AB'!AV46+'V C AB'!AW46>=2,AND('V C AB'!AV46+'V C AB'!AW46>=1,'V L AB'!AW46>=40),'V C AB'!AX46>=1),\"CLASIFICADO A 80 Km NOVICIOS\",\"\")","v":""},{"$f":"IF(C46='V C AB'!C46,IF(OR('V C AB'!AZ46=\"\",'V C AB'!AZ46=\"HABILITADO  TEMPORALMENTE A COMPETENCIAS FEI\"),\"\",+'V C AB'!AZ46),\"ERROR\")","v":"NO INICIA SU CLASIFICACIÓN"},{"$f":"IF(B46='V C AB'!B46,IF(+'V C AB'!AZ46=\"HABILITADO  TEMPORALMENTE A COMPETENCIAS FEI\",\"HABILITADO  TEMPORALMENTE A COMPETENCIAS FEI\",\"\"),\"ERROR\")","v":""}]
[{"$f":"IF(+'V C AB'!A47=\"\",\"\",'V C AB'!A47)","v":"J026"},{"$f":"IF(+'V C AB'!B47=\"\",\"\",'V C AB'!B47)","v":"A"},{"$f":"IF(+'V C AB'!C47=\"\",\"\",'V C AB'!C47)","v":"CORNEJO MANUEL"},{"$f":"IF(OR('V C AB'!AV47+'V C AB'!AW47>=2,AND('V C AB'!AV47+'V C AB'!AW47>=1,'V L AB'!AW47>=40),'V C AB'!AX47>=1),\"CLASIFICADO A 80 Km NOVICIOS\",\"\")","v":""},{"$f":"IF(C47='V C AB'!C47,IF(OR('V C AB'!AZ47=\"\",'V C AB'!AZ47=\"HABILITADO  TEMPORALMENTE A COMPETENCIAS FEI\"),\"\",+'V C AB'!AZ47),\"ERROR\")","v":"NO INICIA SU CLASIFICACIÓN"},{"$f":"IF(B47='V C AB'!B47,IF(+'V C AB'!AZ47=\"HABILITADO  TEMPORALMENTE A COMPETENCIAS FEI\",\"HABILITADO  TEMPORALMENTE A COMPETENCIAS FEI\",\"\"),\"ERROR\")","v":""}]
[{"$f":"IF(+'V C AB'!A48=\"\",\"\",'V C AB'!A48)","v":"A070"},{"$f":"IF(+'V C AB'!B48=\"\",\"\",'V C AB'!B48)","v":"A"},{"$f":"IF(+'V C AB'!C48=\"\",\"\",'V C AB'!C48)","v":"CUICHAN CARLOS"},{"$f":"IF(OR('V C AB'!AV48+'V C AB'!AW48>=2,AND('V C AB'!AV48+'V C AB'!AW48>=1,'V L AB'!AW48>=40),'V C AB'!AX48>=1),\"CLASIFICADO A 80 Km NOVICIOS\",\"\")","v":""},{"$f":"IF(C48='V C AB'!C48,IF(OR('V C AB'!AZ48=\"\",'V C AB'!AZ48=\"HABILITADO  TEMPORALMENTE A COMPETENCIAS FEI\"),\"\",+'V C AB'!AZ48),\"ERROR\")","v":"NO INICIA SU CLASIFICACIÓN"},{"$f":"IF(B48='V C AB'!B48,IF(+'V C AB'!AZ48=\"HABILITADO  TEMPORALMENTE A COMPETENCIAS FEI\",\"HABILITADO  TEMPORALMENTE A COMPETENCIAS FEI\",\"\"),\"ERROR\")","v":""}]
[{"$f":"IF(+'V C AB'!A49=\"\",\"\",'V C AB'!A49)","v":"A010"},{"$f":"IF(+'V C AB'!B49=\"\",\"\",'V C AB'!B49)","v":"A052"},{"$f":"IF(+'V C AB'!C49=\"\",\"\",'V C AB'!C49)","v":"DARQUEA BERNARDO"},{"$f":"IF(OR('V C AB'!AV49+'V C AB'!AW49>=2,AND('V C AB'!AV49+'V C AB'!AW49>=1,'V L AB'!AW49>=40),'V C AB'!AX49>=1),\"CLASIFICADO A 80 Km NOVICIOS\",\"\")","v":"CLASIFICADO A 80 Km NOVICIOS"},{"$f":"IF(C49='V C AB'!C49,IF(OR('V C AB'!AZ49=\"\",'V C AB'!AZ49=\"HABILITADO  TEMPORALMENTE A COMPETENCIAS FEI\"),\"\",+'V C AB'!AZ49),\"ERROR\")","v":""},{"$f":"IF(B49='V C AB'!B49,IF(+'V C AB'!AZ49=\"HABILITADO  TEMPORALMENTE A COMPETENCIAS FEI\",\"HABILITADO  TEMPORALMENTE A COMPETENCIAS FEI\",\"\"),\"ERROR\")","v":"HABILITADO  TEMPORALMENTE A COMPETENCIAS FEI"}]
[{"$f":"IF(+'V C AB'!A50=\"\",\"\",'V C AB'!A50)","v":"A104"},{"$f":"IF(+'V C AB'!B50=\"\",\"\",'V C AB'!B50)","v":"A057"},{"$f":"IF(+'V C AB'!C50=\"\",\"\",'V C AB'!C50)","v":"DAVILA GORDILLO JUAN DIEGO"},{"$f":"IF(OR('V C AB'!AV50+'V C AB'!AW50>=2,AND('V C AB'!AV50+'V C AB'!AW50>=1,'V L AB'!AW50>=40),'V C AB'!AX50>=1),\"CLASIFICADO A 80 Km NOVICIOS\",\"\")","v":"CLASIFICADO A 80 Km NOVICIOS"},{"$f":"IF(C50='V C AB'!C50,IF(OR('V C AB'!AZ50=\"\",'V C AB'!AZ50=\"HABILITADO  TEMPORALMENTE A COMPETENCIAS FEI\"),\"\",+'V C AB'!AZ50),\"ERROR\")","v":""},{"$f":"IF(B50='V C AB'!B50,IF(+'V C AB'!AZ50=\"HABILITADO  TEMPORALMENTE A COMPETENCIAS FEI\",\"HABILITADO  TEMPORALMENTE A COMPETENCIAS FEI\",\"\"),\"ERROR\")","v":"HABILITADO  TEMPORALMENTE A COMPETENCIAS FEI"}]
[{"$f":"IF(+'V C AB'!A51=\"\",\"\",'V C AB'!A51)","v":""},{"$f":"IF(+'V C AB'!B51=\"\",\"\",'V C AB'!B51)","v":"A016"},{"$f":"IF(+'V C AB'!C51=\"\",\"\",'V C AB'!C51)","v":"DEL POZO JUAN"},{"$f":"IF(OR('V C AB'!AV51+'V C AB'!AW51>=2,AND('V C AB'!AV51+'V C AB'!AW51>=1,'V L AB'!AW51>=40),'V C AB'!AX51>=1),\"CLASIFICADO A 80 Km NOVICIOS\",\"\")","v":""},{"$f":"IF(C51='V C AB'!C51,IF(OR('V C AB'!AZ51=\"\",'V C AB'!AZ51=\"HABILITADO  TEMPORALMENTE A COMPETENCIAS FEI\"),\"\",+'V C AB'!AZ51),\"ERROR\")","v":"NO INICIA SU CLASIFICACIÓN"},{"$f":"IF(B51='V C AB'!B51,IF(+'V C AB'!AZ51=\"HABILITADO  TEMPORALMENTE A COMPETENCIAS FEI\",\"HABILITADO  TEMPORALMENTE A COMPETENCIAS FEI\",\"\"),\"ERROR\")","v":""}]
[{"$f":"IF(+'V C AB'!A52=\"\",\"\",'V C AB'!A52)","v":"C"},{"$f":"IF(+'V C AB'!B52=\"\",\"\",'V C AB'!B52)","v":"A135"},{"$f":"IF(+'V C AB'!C52=\"\",\"\",'V C AB'!C52)","v":"DONOSO LOYOLA SEBASTIAN FERNANDO"},{"$f":"IF(OR('V C AB'!AV52+'V C AB'!AW52>=2,AND('V C AB'!AV52+'V C AB'!AW52>=1,'V L AB'!AW52>=40),'V C AB'!AX52>=1),\"CLASIFICADO A 80 Km NOVICIOS\",\"\")","v":"CLASIFICADO A 80 Km NOVICIOS"},{"$f":"IF(C52='V C AB'!C52,IF(OR('V C AB'!AZ52=\"\",'V C AB'!AZ52=\"HABILITADO  TEMPORALMENTE A COMPETENCIAS FEI\"),\"\",+'V C AB'!AZ52),\"ERROR\")","v":""},{"$f":"IF(B52='V C AB'!B52,IF(+'V C AB'!AZ52=\"HABILITADO  TEMPORALMENTE A COMPETENCIAS FEI\",\"HABILITADO  TEMPORALMENTE A COMPETENCIAS FEI\",\"\"),\"ERROR\")","v":"HABILITADO  TEMPORALMENTE A COMPETENCIAS FEI"}]
[{"$f":"IF(+'V C AB'!A53=\"\",\"\",'V C AB'!A53)","v":""},{"$f":"IF(+'V C AB'!B53=\"\",\"\",'V C AB'!B53)","v":"A062"},{"$f":"IF(+'V C AB'!C53=\"\",\"\",'V C AB'!C53)","v":"DUEÑAS RICARDO"},{"$f":"IF(OR('V C AB'!AV53+'V C AB'!AW53>=2,AND('V C AB'!AV53+'V C AB'!AW53>=1,'V L AB'!AW53>=40),'V C AB'!AX53>=1),\"CLASIFICADO A 80 Km NOVICIOS\",\"\")","v":"CLASIFICADO A 80 Km NOVICIOS"},{"$f":"IF(C53='V C AB'!C53,IF(OR('V C AB'!AZ53=\"\",'V C AB'!AZ53=\"HABILITADO  TEMPORALMENTE A COMPETENCIAS FEI\"),\"\",+'V C AB'!AZ53),\"ERROR\")","v":"HABILITADO A 80KM VELOCIDAD CONTROLADA"},{"$f":"IF(B53='V C AB'!B53,IF(+'V C AB'!AZ53=\"HABILITADO  TEMPORALMENTE A COMPETENCIAS FEI\",\"HABILITADO  TEMPORALMENTE A COMPETENCIAS FEI\",\"\"),\"ERROR\")","v":""}]
[{"$f":"IF(+'V C AB'!A54=\"\",\"\",'V C AB'!A54)","v":""},{"$f":"IF(+'V C AB'!B54=\"\",\"\",'V C AB'!B54)","v":"A176"},{"$f":"IF(+'V C AB'!C54=\"\",\"\",'V C AB'!C54)","v":"ESCOBAR LUIS"},{"$f":"IF(OR('V C AB'!AV54+'V C AB'!AW54>=2,AND('V C AB'!AV54+'V C AB'!AW54>=1,'V L AB'!AW54>=40),'V C AB'!AX54>=1),\"CLASIFICADO A 80 Km NOVICIOS\",\"\")","v":""},{"$f":"IF(C54='V C AB'!C54,IF(OR('V C AB'!AZ54=\"\",'V C AB'!AZ54=\"HABILITADO  TEMPORALMENTE A COMPETENCIAS FEI\"),\"\",+'V C AB'!AZ54),\"ERROR\")","v":"INICIO SU CLASIFICACIÓN"},{"$f":"IF(B54='V C AB'!B54,IF(+'V C AB'!AZ54=\"HABILITADO  TEMPORALMENTE A COMPETENCIAS FEI\",\"HABILITADO  TEMPORALMENTE A COMPETENCIAS FEI\",\"\"),\"ERROR\")","v":""}]
[{"$f":"IF(+'V C AB'!A55=\"\",\"\",'V C AB'!A55)","v":""},{"$f":"IF(+'V C AB'!B55=\"\",\"\",'V C AB'!B55)","v":"A002"},{"$f":"IF(+'V C AB'!C55=\"\",\"\",'V C AB'!C55)","v":"ESPINDOLA FERNANDO"},{"$f":"IF(OR('V C AB'!AV55+'V C AB'!AW55>=2,AND('V C AB'!AV55+'V C AB'!AW55>=1,'V L AB'!AW55>=40),'V C AB'!AX55>=1),\"CLASIFICADO A 80 Km NOVICIOS\",\"\")","v":""},{"$f":"IF(C55='V C AB'!C55,IF(OR('V C AB'!AZ55=\"\",'V C AB'!AZ55=\"HABILITADO  TEMPORALMENTE A COMPETENCIAS FEI\"),\"\",+'V C AB'!AZ55),\"ERROR\")","v":"NO INICIA SU CLASIFICACIÓN"},{"$f":"IF(B55='V C AB'!B55,IF(+'V C AB'!AZ55=\"HABILITADO  TEMPORALMENTE A COMPETENCIAS FEI\",\"HABILITADO  TEMPORALMENTE A COMPETENCIAS FEI\",\"\"),\"ERROR\")","v":""}]
[{"$f":"IF(+'V C AB'!A56=\"\",\"\",'V C AB'!A56)","v":"C"},{"$f":"IF(+'V C AB'!B56=\"\",\"\",'V C AB'!B56)","v":"C"},{"$f":"IF(+'V C AB'!C56=\"\",\"\",'V C AB'!C56)","v":"ESPINOZA ALVARADO JUAN SEBASTIAN"},{"$f":"IF(OR('V C AB'!AV56+'V C AB'!AW56>=2,AND('V C AB'!AV56+'V C AB'!AW56>=1,'V L AB'!AW56>=40),'V C AB'!AX56>=1),\"CLASIFICADO A 80 Km NOVICIOS\",\"\")","v":"CLASIFICADO A 80 Km NOVICIOS"},{"$f":"IF(C56='V C AB'!C56,IF(OR('V C AB'!AZ56=\"\",'V C AB'!AZ56=\"HABILITADO  TEMPORALMENTE A COMPETENCIAS FEI\"),\"\",+'V C AB'!AZ56),\"ERROR\")","v":"LE FALTA UNA DE 80 A 90 CONTROLADA"},{"$f":"IF(B56='V C AB'!B56,IF(+'V C AB'!AZ56=\"HABILITADO  TEMPORALMENTE A COMPETENCIAS FEI\",\"HABILITADO  TEMPORALMENTE A COMPETENCIAS FEI\",\"\"),\"ERROR\")","v":""}]
[{"$f":"IF(+'V C AB'!A57=\"\",\"\",'V C AB'!A57)","v":"A010"},{"$f":"IF(+'V C AB'!B57=\"\",\"\",'V C AB'!B57)","v":"A036"},{"$f":"IF(+'V C AB'!C57=\"\",\"\",'V C AB'!C57)","v":"ESPINOZA ALVARO"},{"$f":"IF(OR('V C AB'!AV57+'V C AB'!AW57>=2,AND('V C AB'!AV57+'V C AB'!AW57>=1,'V L AB'!AW57>=40),'V C AB'!AX57>=1),\"CLASIFICADO A 80 Km NOVICIOS\",\"\")","v":"CLASIFICADO A 80 Km NOVICIOS"},{"$f":"IF(C57='V C AB'!C57,IF(OR('V C AB'!AZ57=\"\",'V C AB'!AZ57=\"HABILITADO  TEMPORALMENTE A COMPETENCIAS FEI\"),\"\",+'V C AB'!AZ57),\"ERROR\")","v":"HABILITADO A 80KM VELOCIDAD CONTROLADA"},{"$f":"IF(B57='V C AB'!B57,IF(+'V C AB'!AZ57=\"HABILITADO  TEMPORALMENTE A COMPETENCIAS FEI\",\"HABILITADO  TEMPORALMENTE A COMPETENCIAS FEI\",\"\"),\"ERROR\")","v":""}]
[{"$f":"IF(+'V C AB'!A58=\"\",\"\",'V C AB'!A58)","v":"C"},{"$f":"IF(+'V C AB'!B58=\"\",\"\",'V C AB'!B58)","v":"A136"},{"$f":"IF(+'V C AB'!C58=\"\",\"\",'V C AB'!C58)","v":"ESPINOZA IZQUIERDO PEDRO JOSE"},{"$f":"IF(OR('V C AB'!AV58+'V C AB'!AW58>=2,AND('V C AB'!AV58+'V C AB'!AW58>=1,'V L AB'!AW58>=40),'V C AB'!AX58>=1),\"CLASIFICADO A 80 Km NOVICIOS\",\"\")","v":"CLASIFICADO A 80 Km NOVICIOS"},{"$f":"IF(C58='V C AB'!C58,IF(OR('V C AB'!AZ58=\"\",'V C AB'!AZ58=\"HABILITADO  TEMPORALMENTE A COMPETENCIAS FEI\"),\"\",+'V C AB'!AZ58),\"ERROR\")","v":"HABILITADO A 80KM VELOCIDAD CONTROLADA"},{"$f":"IF(B58='V C AB'!B58,IF(+'V C AB'!AZ58=\"HABILITADO  TEMPORALMENTE A COMPETENCIAS FEI\",\"HABILITADO  TEMPORALMENTE A COMPETENCIAS FEI\",\"\"),\"ERROR\")","v":""}]
[{"$f":"IF(+'V C AB'!A59=\"\",\"\",'V C AB'!A59)","v":""},{"$f":"IF(+'V C AB'!B59=\"\",\"\",'V C AB'!B59)","v":"A"},{"$f":"IF(+'V C AB'!C59=\"\",\"\",'V C AB'!C59)","v":"ESPINOZA JAIME FERNANDO"},{"$f":"IF(OR('V C AB'!AV59+'V C AB'!AW59>=2,AND('V C AB'!AV59+'V C AB'!AW59>=1,'V L AB'!AW59>=40),'V C AB'!AX59>=1),\"CLASIFICADO A 80 Km NOVICIOS\",\"\")","v":""},{"$f":"IF(C59='V C AB'!C59,IF(OR('V C AB'!AZ59=\"\",'V C AB'!AZ59=\"HABILITADO  TEMPORALMENTE A COMPETENCIAS FEI\"),\"\",+'V C AB'!AZ59),\"ERROR\")","v":"NO INICIA SU CLASIFICACIÓN"},{"$f":"IF(B59='V C AB'!B59,IF(+'V C AB'!AZ59=\"HABILITADO  TEMPORALMENTE A COMPETENCIAS FEI\",\"HABILITADO  TEMPORALMENTE A COMPETENCIAS FEI\",\"\"),\"ERROR\")","v":""}]
[{"$f":"IF(+'V C AB'!A60=\"\",\"\",'V C AB'!A60)","v":"C"},{"$f":"IF(+'V C AB'!B60=\"\",\"\",'V C AB'!B60)","v":"A137"},{"$f":"IF(+'V C AB'!C60=\"\",\"\",'V C AB'!C60)","v":"ESPINOZA JUAN SEBASTIAN"},{"$f":"IF(OR('V C AB'!AV60+'V C AB'!AW60>=2,AND('V C AB'!AV60+'V C AB'!AW60>=1,'V L AB'!AW60>=40),'V C AB'!AX60>=1),\"CLASIFICADO A 80 Km NOVICIOS\",\"\")","v":"CLASIFICADO A 80 Km NOVICIOS"},{"$f":"IF(C60='V C AB'!C60,IF(OR('V C AB'!AZ60=\"\",'V C AB'!AZ60=\"HABILITADO  TEMPORALMENTE A COMPETENCIAS FEI\"),\"\",+'V C AB'!AZ60),\"ERROR\")","v":"HABILITADO A 80KM VELOCIDAD CONTROLADA"},{"$f":"IF(B60='V C AB'!B60,IF(+'V C AB'!AZ60=\"HABILITADO  TEMPORALMENTE A COMPETENCIAS FEI\",\"HABILITADO  TEMPORALMENTE A COMPETENCIAS FEI\",\"\"),\"ERROR\")","v":""}]
[{"$f":"IF(+'V C AB'!A61=\"\",\"\",'V C AB'!A61)","v":"C"},{"$f":"IF(+'V C AB'!B61=\"\",\"\",'V C AB'!B61)","v":"A138"},{"$f":"IF(+'V C AB'!C61=\"\",\"\",'V C AB'!C61)","v":"FEICAN ANDRES"},{"$f":"IF(OR('V C AB'!AV61+'V C AB'!AW61>=2,AND('V C AB'!AV61+'V C AB'!AW61>=1,'V L AB'!AW61>=40),'V C AB'!AX61>=1),\"CLASIFICADO A 80 Km NOVICIOS\",\"\")","v":""},{"$f":"IF(C61='V C AB'!C61,IF(OR('V C AB'!AZ61=\"\",'V C AB'!AZ61=\"HABILITADO  TEMPORALMENTE A COMPETENCIAS FEI\"),\"\",+'V C AB'!AZ61),\"ERROR\")","v":"NO INICIA SU CLASIFICACIÓN"},{"$f":"IF(B61='V C AB'!B61,IF(+'V C AB'!AZ61=\"HABILITADO  TEMPORALMENTE A COMPETENCIAS FEI\",\"HABILITADO  TEMPORALMENTE A COMPETENCIAS FEI\",\"\"),\"ERROR\")","v":""}]
[{"$f":"IF(+'V C AB'!A62=\"\",\"\",'V C AB'!A62)","v":""},{"$f":"IF(+'V C AB'!B62=\"\",\"\",'V C AB'!B62)","v":"A"},{"$f":"IF(+'V C AB'!C62=\"\",\"\",'V C AB'!C62)","v":"GALEAS ADOLFO "},{"$f":"IF(OR('V C AB'!AV62+'V C AB'!AW62>=2,AND('V C AB'!AV62+'V C AB'!AW62>=1,'V L AB'!AW62>=40),'V C AB'!AX62>=1),\"CLASIFICADO A 80 Km NOVICIOS\",\"\")","v":""},{"$f":"IF(C62='V C AB'!C62,IF(OR('V C AB'!AZ62=\"\",'V C AB'!AZ62=\"HABILITADO  TEMPORALMENTE A COMPETENCIAS FEI\"),\"\",+'V C AB'!AZ62),\"ERROR\")","v":"NO INICIA SU CLASIFICACIÓN"},{"$f":"IF(B62='V C AB'!B62,IF(+'V C AB'!AZ62=\"HABILITADO  TEMPORALMENTE A COMPETENCIAS FEI\",\"HABILITADO  TEMPORALMENTE A COMPETENCIAS FEI\",\"\"),\"ERROR\")","v":""}]
[{"$f":"IF(+'V C AB'!A63=\"\",\"\",'V C AB'!A63)","v":"A025"},{"$f":"IF(+'V C AB'!B63=\"\",\"\",'V C AB'!B63)","v":"A"},{"$f":"IF(+'V C AB'!C63=\"\",\"\",'V C AB'!C63)","v":"GARCES LEON PATRICIO"},{"$f":"IF(OR('V C AB'!AV63+'V C AB'!AW63>=2,AND('V C AB'!AV63+'V C AB'!AW63>=1,'V L AB'!AW63>=40),'V C AB'!AX63>=1),\"CLASIFICADO A 80 Km NOVICIOS\",\"\")","v":""},{"$f":"IF(C63='V C AB'!C63,IF(OR('V C AB'!AZ63=\"\",'V C AB'!AZ63=\"HABILITADO  TEMPORALMENTE A COMPETENCIAS FEI\"),\"\",+'V C AB'!AZ63),\"ERROR\")","v":"NO INICIA SU CLASIFICACIÓN"},{"$f":"IF(B63='V C AB'!B63,IF(+'V C AB'!AZ63=\"HABILITADO  TEMPORALMENTE A COMPETENCIAS FEI\",\"HABILITADO  TEMPORALMENTE A COMPETENCIAS FEI\",\"\"),\"ERROR\")","v":""}]
[{"$f":"IF(+'V C AB'!A64=\"\",\"\",'V C AB'!A64)","v":""},{"$f":"IF(+'V C AB'!B64=\"\",\"\",'V C AB'!B64)","v":"A082"},{"$f":"IF(+'V C AB'!C64=\"\",\"\",'V C AB'!C64)","v":"GARZÓN JOSÉ RICARDO"},{"$f":"IF(OR('V C AB'!AV64+'V C AB'!AW64>=2,AND('V C AB'!AV64+'V C AB'!AW64>=1,'V L AB'!AW64>=40),'V C AB'!AX64>=1),\"CLASIFICADO A 80 Km NOVICIOS\",\"\")","v":""},{"$f":"IF(C64='V C AB'!C64,IF(OR('V C AB'!AZ64=\"\",'V C AB'!AZ64=\"HABILITADO  TEMPORALMENTE A COMPETENCIAS FEI\"),\"\",+'V C AB'!AZ64),\"ERROR\")","v":"INICIO SU CLASIFICACIÓN"},{"$f":"IF(B64='V C AB'!B64,IF(+'V C AB'!AZ64=\"HABILITADO  TEMPORALMENTE A COMPETENCIAS FEI\",\"HABILITADO  TEMPORALMENTE A COMPETENCIAS FEI\",\"\"),\"ERROR\")","v":""}]
[{"$f":"IF(+'V C AB'!A65=\"\",\"\",'V C AB'!A65)","v":""},{"$f":"IF(+'V C AB'!B65=\"\",\"\",'V C AB'!B65)","v":"A119"},{"$f":"IF(+'V C AB'!C65=\"\",\"\",'V C AB'!C65)","v":"GÓMEZ DE LA TORRE JOSÉ"},{"$f":"IF(OR('V C AB'!AV65+'V C AB'!AW65>=2,AND('V C AB'!AV65+'V C AB'!AW65>=1,'V L AB'!AW65>=40),'V C AB'!AX65>=1),\"CLASIFICADO A 80 Km NOVICIOS\",\"\")","v":""},{"$f":"IF(C65='V C AB'!C65,IF(OR('V C AB'!AZ65=\"\",'V C AB'!AZ65=\"HABILITADO  TEMPORALMENTE A COMPETENCIAS FEI\"),\"\",+'V C AB'!AZ65),\"ERROR\")","v":"NO INICIA SU CLASIFICACIÓN"},{"$f":"IF(B65='V C AB'!B65,IF(+'V C AB'!AZ65=\"HABILITADO  TEMPORALMENTE A COMPETENCIAS FEI\",\"HABILITADO  TEMPORALMENTE A COMPETENCIAS FEI\",\"\"),\"ERROR\")","v":""}]
[{"$f":"IF(+'V C AB'!A66=\"\",\"\",'V C AB'!A66)","v":"A050"},{"$f":"IF(+'V C AB'!B66=\"\",\"\",'V C AB'!B66)","v":"A080"},{"$f":"IF(+'V C AB'!C66=\"\",\"\",'V C AB'!C66)","v":"GÓMEZ JUAN MARTIN"},{"$f":"IF(OR('V C AB'!AV66+'V C AB'!AW66>=2,AND('V C AB'!AV66+'V C AB'!AW66>=1,'V L AB'!AW66>=40),'V C AB'!AX66>=1),\"CLASIFICADO A 80 Km NOVICIOS\",\"\")","v":"CLASIFICADO A 80 Km NOVICIOS"},{"$f":"IF(C66='V C AB'!C66,IF(OR('V C AB'!AZ66=\"\",'V C AB'!AZ66=\"HABILITADO  TEMPORALMENTE A COMPETENCIAS FEI\"),\"\",+'V C AB'!AZ66),\"ERROR\")","v":"INICIO SU CLASIFICACIÓN"},{"$f":"IF(B66='V C AB'!B66,IF(+'V C AB'!AZ66=\"HABILITADO  TEMPORALMENTE A COMPETENCIAS FEI\",\"HABILITADO  TEMPORALMENTE A COMPETENCIAS FEI\",\"\"),\"ERROR\")","v":""}]
[{"$f":"IF(+'V C AB'!A67=\"\",\"\",'V C AB'!A67)","v":"C"},{"$f":"IF(+'V C AB'!B67=\"\",\"\",'V C AB'!B67)","v":"A139"},{"$f":"IF(+'V C AB'!C67=\"\",\"\",'V C AB'!C67)","v":"GONZALEZ ANA MARIA"},{"$f":"IF(OR('V C AB'!AV67+'V C AB'!AW67>=2,AND('V C AB'!AV67+'V C AB'!AW67>=1,'V L AB'!AW67>=40),'V C AB'!AX67>=1),\"CLASIFICADO A 80 Km NOVICIOS\",\"\")","v":"CLASIFICADO A 80 Km NOVICIOS"},{"$f":"IF(C67='V C AB'!C67,IF(OR('V C AB'!AZ67=\"\",'V C AB'!AZ67=\"HABILITADO  TEMPORALMENTE A COMPETENCIAS FEI\"),\"\",+'V C AB'!AZ67),\"ERROR\")","v":"INICIO SU CLASIFICACIÓN"},{"$f":"IF(B67='V C AB'!B67,IF(+'V C AB'!AZ67=\"HABILITADO  TEMPORALMENTE A COMPETENCIAS FEI\",\"HABILITADO  TEMPORALMENTE A COMPETENCIAS FEI\",\"\"),\"ERROR\")","v":""}]
[{"$f":"IF(+'V C AB'!A68=\"\",\"\",'V C AB'!A68)","v":"C"},{"$f":"IF(+'V C AB'!B68=\"\",\"\",'V C AB'!B68)","v":"A140"},{"$f":"IF(+'V C AB'!C68=\"\",\"\",'V C AB'!C68)","v":"GONZALEZ GONZALEZ RENATO"},{"$f":"IF(OR('V C AB'!AV68+'V C AB'!AW68>=2,AND('V C AB'!AV68+'V C AB'!AW68>=1,'V L AB'!AW68>=40),'V C AB'!AX68>=1),\"CLASIFICADO A 80 Km NOVICIOS\",\"\")","v":"CLASIFICADO A 80 Km NOVICIOS"},{"$f":"IF(C68='V C AB'!C68,IF(OR('V C AB'!AZ68=\"\",'V C AB'!AZ68=\"HABILITADO  TEMPORALMENTE A COMPETENCIAS FEI\"),\"\",+'V C AB'!AZ68),\"ERROR\")","v":""},{"$f":"IF(B68='V C AB'!B68,IF(+'V C AB'!AZ68=\"HABILITADO  TEMPORALMENTE A COMPETENCIAS FEI\",\"HABILITADO  TEMPORALMENTE A COMPETENCIAS FEI\",\"\"),\"ERROR\")","v":"HABILITADO  TEMPORALMENTE A COMPETENCIAS FEI"}]
[{"$f":"IF(+'V C AB'!A69=\"\",\"\",'V C AB'!A69)","v":"C"},{"$f":"IF(+'V C AB'!B69=\"\",\"\",'V C AB'!B69)","v":"A141"},{"$f":"IF(+'V C AB'!C69=\"\",\"\",'V C AB'!C69)","v":"GONZALEZ JARAMILLO CRISTIAN HUMBERTO"},{"$f":"IF(OR('V C AB'!AV69+'V C AB'!AW69>=2,AND('V C AB'!AV69+'V C AB'!AW69>=1,'V L AB'!AW69>=40),'V C AB'!AX69>=1),\"CLASIFICADO A 80 Km NOVICIOS\",\"\")","v":"CLASIFICADO A 80 Km NOVICIOS"},{"$f":"IF(C69='V C AB'!C69,IF(OR('V C AB'!AZ69=\"\",'V C AB'!AZ69=\"HABILITADO  TEMPORALMENTE A COMPETENCIAS FEI\"),\"\",+'V C AB'!AZ69),\"ERROR\")","v":"HABILITADO A 80KM VELOCIDAD CONTROLADA"},{"$f":"IF(B69='V C AB'!B69,IF(+'V C AB'!AZ69=\"HABILITADO  TEMPORALMENTE A COMPETENCIAS FEI\",\"HABILITADO  TEMPORALMENTE A COMPETENCIAS FEI\",\"\"),\"ERROR\")","v":""}]
[{"$f":"IF(+'V C AB'!A70=\"\",\"\",'V C AB'!A70)","v":"C"},{"$f":"IF(+'V C AB'!B70=\"\",\"\",'V C AB'!B70)","v":"C"},{"$f":"IF(+'V C AB'!C70=\"\",\"\",'V C AB'!C70)","v":"GONZALEZ JERVES XIMENA"},{"$f":"IF(OR('V C AB'!AV70+'V C AB'!AW70>=2,AND('V C AB'!AV70+'V C AB'!AW70>=1,'V L AB'!AW70>=40),'V C AB'!AX70>=1),\"CLASIFICADO A 80 Km NOVICIOS\",\"\")","v":"CLASIFICADO A 80 Km NOVICIOS"},{"$f":"IF(C70='V C AB'!C70,IF(OR('V C AB'!AZ70=\"\",'V C AB'!AZ70=\"HABILITADO  TEMPORALMENTE A COMPETENCIAS FEI\"),\"\",+'V C AB'!AZ70),\"ERROR\")","v":"HABILITADO A 80KM VELOCIDAD CONTROLADA"},{"$f":"IF(B70='V C AB'!B70,IF(+'V C AB'!AZ70=\"HABILITADO  TEMPORALMENTE A COMPETENCIAS FEI\",\"HABILITADO  TEMPORALMENTE A COMPETENCIAS FEI\",\"\"),\"ERROR\")","v":""}]
[{"$f":"IF(+'V C AB'!A71=\"\",\"\",'V C AB'!A71)","v":""},{"$f":"IF(+'V C AB'!B71=\"\",\"\",'V C AB'!B71)","v":"A072"},{"$f":"IF(+'V C AB'!C71=\"\",\"\",'V C AB'!C71)","v":"GONZALEZ JOSE MIGUEL"},{"$f":"IF(OR('V C AB'!AV71+'V C AB'!AW71>=2,AND('V C AB'!AV71+'V C AB'!AW71>=1,'V L AB'!AW71>=40),'V C AB'!AX71>=1),\"CLASIFICADO A 80 Km NOVICIOS\",\"\")","v":""},{"$f":"IF(C71='V C AB'!C71,IF(OR('V C AB'!AZ71=\"\",'V C AB'!AZ71=\"HABILITADO  TEMPORALMENTE A COMPETENCIAS FEI\"),\"\",+'V C AB'!AZ71),\"ERROR\")","v":"INICIO SU CLASIFICACIÓN"},{"$f":"IF(B71='V C AB'!B71,IF(+'V C AB'!AZ71=\"HABILITADO  TEMPORALMENTE A COMPETENCIAS FEI\",\"HABILITADO  TEMPORALMENTE A COMPETENCIAS FEI\",\"\"),\"ERROR\")","v":""}]
[{"$f":"IF(+'V C AB'!A72=\"\",\"\",'V C AB'!A72)","v":"A164"},{"$f":"IF(+'V C AB'!B72=\"\",\"\",'V C AB'!B72)","v":"A124"},{"$f":"IF(+'V C AB'!C72=\"\",\"\",'V C AB'!C72)","v":"GONZÁLEZ JUAN SEBASTIÁN"},{"$f":"IF(OR('V C AB'!AV72+'V C AB'!AW72>=2,AND('V C AB'!AV72+'V C AB'!AW72>=1,'V L AB'!AW72>=40),'V C AB'!AX72>=1),\"CLASIFICADO A 80 Km NOVICIOS\",\"\")","v":"CLASIFICADO A 80 Km NOVICIOS"},{"$f":"IF(C72='V C AB'!C72,IF(OR('V C AB'!AZ72=\"\",'V C AB'!AZ72=\"HABILITADO  TEMPORALMENTE A COMPETENCIAS FEI\"),\"\",+'V C AB'!AZ72),\"ERROR\")","v":""},{"$f":"IF(B72='V C AB'!B72,IF(+'V C AB'!AZ72=\"HABILITADO  TEMPORALMENTE A COMPETENCIAS FEI\",\"HABILITADO  TEMPORALMENTE A COMPETENCIAS FEI\",\"\"),\"ERROR\")","v":"HABILITADO  TEMPORALMENTE A COMPETENCIAS FEI"}]
[{"$f":"IF(+'V C AB'!A73=\"\",\"\",'V C AB'!A73)","v":"C"},{"$f":"IF(+'V C AB'!B73=\"\",\"\",'V C AB'!B73)","v":"A142"},{"$f":"IF(+'V C AB'!C73=\"\",\"\",'V C AB'!C73)","v":"GONZALEZ SEBASTIAN"},{"$f":"IF(OR('V C AB'!AV73+'V C AB'!AW73>=2,AND('V C AB'!AV73+'V C AB'!AW73>=1,'V L AB'!AW73>=40),'V C AB'!AX73>=1),\"CLASIFICADO A 80 Km NOVICIOS\",\"\")","v":""},{"$f":"IF(C73='V C AB'!C73,IF(OR('V C AB'!AZ73=\"\",'V C AB'!AZ73=\"HABILITADO  TEMPORALMENTE A COMPETENCIAS FEI\"),\"\",+'V C AB'!AZ73),\"ERROR\")","v":"INICIO SU CLASIFICACIÓN"},{"$f":"IF(B73='V C AB'!B73,IF(+'V C AB'!AZ73=\"HABILITADO  TEMPORALMENTE A COMPETENCIAS FEI\",\"HABILITADO  TEMPORALMENTE A COMPETENCIAS FEI\",\"\"),\"ERROR\")","v":""}]
[{"$f":"IF(+'V C AB'!A74=\"\",\"\",'V C AB'!A74)","v":""},{"$f":"IF(+'V C AB'!B74=\"\",\"\",'V C AB'!B74)","v":"A"},{"$f":"IF(+'V C AB'!C74=\"\",\"\",'V C AB'!C74)","v":"GORDILLO BARAHONA LEONOR"},{"$f":"IF(OR('V C AB'!AV74+'V C AB'!AW74>=2,AND('V C AB'!AV74+'V C AB'!AW74>=1,'V L AB'!AW74>=40),'V C AB'!AX74>=1),\"CLASIFICADO A 80 Km NOVICIOS\",\"\")","v":""},{"$f":"IF(C74='V C AB'!C74,IF(OR('V C AB'!AZ74=\"\",'V C AB'!AZ74=\"HABILITADO  TEMPORALMENTE A COMPETENCIAS FEI\"),\"\",+'V C AB'!AZ74),\"ERROR\")","v":"NO INICIA SU CLASIFICACIÓN"},{"$f":"IF(B74='V C AB'!B74,IF(+'V C AB'!AZ74=\"HABILITADO  TEMPORALMENTE A COMPETENCIAS FEI\",\"HABILITADO  TEMPORALMENTE A COMPETENCIAS FEI\",\"\"),\"ERROR\")","v":""}]
[{"$f":"IF(+'V C AB'!A75=\"\",\"\",'V C AB'!A75)","v":"A103"},{"$f":"IF(+'V C AB'!B75=\"\",\"\",'V C AB'!B75)","v":"A"},{"$f":"IF(+'V C AB'!C75=\"\",\"\",'V C AB'!C75)","v":"GORDILLO BARAHONA VARINIA"},{"$f":"IF(OR('V C AB'!AV75+'V C AB'!AW75>=2,AND('V C AB'!AV75+'V C AB'!AW75>=1,'V L AB'!AW75>=40),'V C AB'!AX75>=1),\"CLASIFICADO A 80 Km NOVICIOS\",\"\")","v":""},{"$f":"IF(C75='V C AB'!C75,IF(OR('V C AB'!AZ75=\"\",'V C AB'!AZ75=\"HABILITADO  TEMPORALMENTE A COMPETENCIAS FEI\"),\"\",+'V C AB'!AZ75),\"ERROR\")","v":"INICIO SU CLASIFICACIÓN"},{"$f":"IF(B75='V C AB'!B75,IF(+'V C AB'!AZ75=\"HABILITADO  TEMPORALMENTE A COMPETENCIAS FEI\",\"HABILITADO  TEMPORALMENTE A COMPETENCIAS FEI\",\"\"),\"ERROR\")","v":""}]
[{"$f":"IF(+'V C AB'!A76=\"\",\"\",'V C AB'!A76)","v":"A061"},{"$f":"IF(+'V C AB'!B76=\"\",\"\",'V C AB'!B76)","v":"A034"},{"$f":"IF(+'V C AB'!C76=\"\",\"\",'V C AB'!C76)","v":"GUARDERAS ARTETA PEDRO JOSE"},{"$f":"IF(OR('V C AB'!AV76+'V C AB'!AW76>=2,AND('V C AB'!AV76+'V C AB'!AW76>=1,'V L AB'!AW76>=40),'V C AB'!AX76>=1),\"CLASIFICADO A 80 Km NOVICIOS\",\"\")","v":"CLASIFICADO A 80 Km NOVICIOS"},{"$f":"IF(C76='V C AB'!C76,IF(OR('V C AB'!AZ76=\"\",'V C AB'!AZ76=\"HABILITADO  TEMPORALMENTE A COMPETENCIAS FEI\"),\"\",+'V C AB'!AZ76),\"ERROR\")","v":"HABILITADO A 80KM VELOCIDAD CONTROLADA"},{"$f":"IF(B76='V C AB'!B76,IF(+'V C AB'!AZ76=\"HABILITADO  TEMPORALMENTE A COMPETENCIAS FEI\",\"HABILITADO  TEMPORALMENTE A COMPETENCIAS FEI\",\"\"),\"ERROR\")","v":""}]
[{"$f":"IF(+'V C AB'!A77=\"\",\"\",'V C AB'!A77)","v":"A017"},{"$f":"IF(+'V C AB'!B77=\"\",\"\",'V C AB'!B77)","v":"A051"},{"$f":"IF(+'V C AB'!C77=\"\",\"\",'V C AB'!C77)","v":"GUARDERAS BARAHONA SEBASTIAN"},{"$f":"IF(OR('V C AB'!AV77+'V C AB'!AW77>=2,AND('V C AB'!AV77+'V C AB'!AW77>=1,'V L AB'!AW77>=40),'V C AB'!AX77>=1),\"CLASIFICADO A 80 Km NOVICIOS\",\"\")","v":"CLASIFICADO A 80 Km NOVICIOS"},{"$f":"IF(C77='V C AB'!C77,IF(OR('V C AB'!AZ77=\"\",'V C AB'!AZ77=\"HABILITADO  TEMPORALMENTE A COMPETENCIAS FEI\"),\"\",+'V C AB'!AZ77),\"ERROR\")","v":""},{"$f":"IF(B77='V C AB'!B77,IF(+'V C AB'!AZ77=\"HABILITADO  TEMPORALMENTE A COMPETENCIAS FEI\",\"HABILITADO  TEMPORALMENTE A COMPETENCIAS FEI\",\"\"),\"ERROR\")","v":"HABILITADO  TEMPORALMENTE A COMPETENCIAS FEI"}]
[{"$f":"IF(+'V C AB'!A78=\"\",\"\",'V C AB'!A78)","v":"A049"},{"$f":"IF(+'V C AB'!B78=\"\",\"\",'V C AB'!B78)","v":"A"},{"$f":"IF(+'V C AB'!C78=\"\",\"\",'V C AB'!C78)","v":"HAYOUN ERAN "},{"$f":"IF(OR('V C AB'!AV78+'V C AB'!AW78>=2,AND('V C AB'!AV78+'V C AB'!AW78>=1,'V L AB'!AW78>=40),'V C AB'!AX78>=1),\"CLASIFICADO A 80 Km NOVICIOS\",\"\")","v":""},{"$f":"IF(C78='V C AB'!C78,IF(OR('V C AB'!AZ78=\"\",'V C AB'!AZ78=\"HABILITADO  TEMPORALMENTE A COMPETENCIAS FEI\"),\"\",+'V C AB'!AZ78),\"ERROR\")","v":"NO INICIA SU CLASIFICACIÓN"},{"$f":"IF(B78='V C AB'!B78,IF(+'V C AB'!AZ78=\"HABILITADO  TEMPORALMENTE A COMPETENCIAS FEI\",\"HABILITADO  TEMPORALMENTE A COMPETENCIAS FEI\",\"\"),\"ERROR\")","v":""}]
[{"$f":"IF(+'V C AB'!A79=\"\",\"\",'V C AB'!A79)","v":"A062"},{"$f":"IF(+'V C AB'!B79=\"\",\"\",'V C AB'!B79)","v":"A"},{"$f":"IF(+'V C AB'!C79=\"\",\"\",'V C AB'!C79)","v":"HERRERA DIEGO"},{"$f":"IF(OR('V C AB'!AV79+'V C AB'!AW79>=2,AND('V C AB'!AV79+'V C AB'!AW79>=1,'V L AB'!AW79>=40),'V C AB'!AX79>=1),\"CLASIFICADO A 80 Km NOVICIOS\",\"\")","v":"CLASIFICADO A 80 Km NOVICIOS"},{"$f":"IF(C79='V C AB'!C79,IF(OR('V C AB'!AZ79=\"\",'V C AB'!AZ79=\"HABILITADO  TEMPORALMENTE A COMPETENCIAS FEI\"),\"\",+'V C AB'!AZ79),\"ERROR\")","v":"HABILITADO A 80KM VELOCIDAD CONTROLADA"},{"$f":"IF(B79='V C AB'!B79,IF(+'V C AB'!AZ79=\"HABILITADO  TEMPORALMENTE A COMPETENCIAS FEI\",\"HABILITADO  TEMPORALMENTE A COMPETENCIAS FEI\",\"\"),\"ERROR\")","v":""}]
[{"$f":"IF(+'V C AB'!A80=\"\",\"\",'V C AB'!A80)","v":"M006"},{"$f":"IF(+'V C AB'!B80=\"\",\"\",'V C AB'!B80)","v":"A010"},{"$f":"IF(+'V C AB'!C80=\"\",\"\",'V C AB'!C80)","v":"HIDALGO GUSTAVO"},{"$f":"IF(OR('V C AB'!AV80+'V C AB'!AW80>=2,AND('V C AB'!AV80+'V C AB'!AW80>=1,'V L AB'!AW80>=40),'V C AB'!AX80>=1),\"CLASIFICADO A 80 Km NOVICIOS\",\"\")","v":"CLASIFICADO A 80 Km NOVICIOS"},{"$f":"IF(C80='V C AB'!C80,IF(OR('V C AB'!AZ80=\"\",'V C AB'!AZ80=\"HABILITADO  TEMPORALMENTE A COMPETENCIAS FEI\"),\"\",+'V C AB'!AZ80),\"ERROR\")","v":"HABILITADO A 80KM VELOCIDAD CONTROLADA"},{"$f":"IF(B80='V C AB'!B80,IF(+'V C AB'!AZ80=\"HABILITADO  TEMPORALMENTE A COMPETENCIAS FEI\",\"HABILITADO  TEMPORALMENTE A COMPETENCIAS FEI\",\"\"),\"ERROR\")","v":""}]
[{"$f":"IF(+'V C AB'!A81=\"\",\"\",'V C AB'!A81)","v":"A043"},{"$f":"IF(+'V C AB'!B81=\"\",\"\",'V C AB'!B81)","v":"A068"},{"$f":"IF(+'V C AB'!C81=\"\",\"\",'V C AB'!C81)","v":"HIDALGO MARIA JOSE "},{"$f":"IF(OR('V C AB'!AV81+'V C AB'!AW81>=2,AND('V C AB'!AV81+'V C AB'!AW81>=1,'V L AB'!AW81>=40),'V C AB'!AX81>=1),\"CLASIFICADO A 80 Km NOVICIOS\",\"\")","v":"CLASIFICADO A 80 Km NOVICIOS"},{"$f":"IF(C81='V C AB'!C81,IF(OR('V C AB'!AZ81=\"\",'V C AB'!AZ81=\"HABILITADO  TEMPORALMENTE A COMPETENCIAS FEI\"),\"\",+'V C AB'!AZ81),\"ERROR\")","v":"HABILITADO A 80KM VELOCIDAD CONTROLADA"},{"$f":"IF(B81='V C AB'!B81,IF(+'V C AB'!AZ81=\"HABILITADO  TEMPORALMENTE A COMPETENCIAS FEI\",\"HABILITADO  TEMPORALMENTE A COMPETENCIAS FEI\",\"\"),\"ERROR\")","v":""}]
[{"$f":"IF(+'V C AB'!A82=\"\",\"\",'V C AB'!A82)","v":""},{"$f":"IF(+'V C AB'!B82=\"\",\"\",'V C AB'!B82)","v":"A071"},{"$f":"IF(+'V C AB'!C82=\"\",\"\",'V C AB'!C82)","v":"HOLGUIN ENRIQUE"},{"$f":"IF(OR('V C AB'!AV82+'V C AB'!AW82>=2,AND('V C AB'!AV82+'V C AB'!AW82>=1,'V L AB'!AW82>=40),'V C AB'!AX82>=1),\"CLASIFICADO A 80 Km NOVICIOS\",\"\")","v":""},{"$f":"IF(C82='V C AB'!C82,IF(OR('V C AB'!AZ82=\"\",'V C AB'!AZ82=\"HABILITADO  TEMPORALMENTE A COMPETENCIAS FEI\"),\"\",+'V C AB'!AZ82),\"ERROR\")","v":"NO INICIA SU CLASIFICACIÓN"},{"$f":"IF(B82='V C AB'!B82,IF(+'V C AB'!AZ82=\"HABILITADO  TEMPORALMENTE A COMPETENCIAS FEI\",\"HABILITADO  TEMPORALMENTE A COMPETENCIAS FEI\",\"\"),\"ERROR\")","v":""}]
[{"$f":"IF(+'V C AB'!A83=\"\",\"\",'V C AB'!A83)","v":"A026"},{"$f":"IF(+'V C AB'!B83=\"\",\"\",'V C AB'!B83)","v":"A132"},{"$f":"IF(+'V C AB'!C83=\"\",\"\",'V C AB'!C83)","v":"JARA CHECA HUGO FERNANDO"},{"$f":"IF(OR('V C AB'!AV83+'V C AB'!AW83>=2,AND('V C AB'!AV83+'V C AB'!AW83>=1,'V L AB'!AW83>=40),'V C AB'!AX83>=1),\"CLASIFICADO A 80 Km NOVICIOS\",\"\")","v":"CLASIFICADO A 80 Km NOVICIOS"},{"$f":"IF(C83='V C AB'!C83,IF(OR('V C AB'!AZ83=\"\",'V C AB'!AZ83=\"HABILITADO  TEMPORALMENTE A COMPETENCIAS FEI\"),\"\",+'V C AB'!AZ83),\"ERROR\")","v":"HABILITADO A 80KM VELOCIDAD CONTROLADA"},{"$f":"IF(B83='V C AB'!B83,IF(+'V C AB'!AZ83=\"HABILITADO  TEMPORALMENTE A COMPETENCIAS FEI\",\"HABILITADO  TEMPORALMENTE A COMPETENCIAS FEI\",\"\"),\"ERROR\")","v":""}]
[{"$f":"IF(+'V C AB'!A84=\"\",\"\",'V C AB'!A84)","v":""},{"$f":"IF(+'V C AB'!B84=\"\",\"\",'V C AB'!B84)","v":"A025"},{"$f":"IF(+'V C AB'!C84=\"\",\"\",'V C AB'!C84)","v":"JARAMILLO BENITO"},{"$f":"IF(OR('V C AB'!AV84+'V C AB'!AW84>=2,AND('V C AB'!AV84+'V C AB'!AW84>=1,'V L AB'!AW84>=40),'V C AB'!AX84>=1),\"CLASIFICADO A 80 Km NOVICIOS\",\"\")","v":"CLASIFICADO A 80 Km NOVICIOS"},{"$f":"IF(C84='V C AB'!C84,IF(OR('V C AB'!AZ84=\"\",'V C AB'!AZ84=\"HABILITADO  TEMPORALMENTE A COMPETENCIAS FEI\"),\"\",+'V C AB'!AZ84),\"ERROR\")","v":"HABILITADO A 80KM VELOCIDAD CONTROLADA"},{"$f":"IF(B84='V C AB'!B84,IF(+'V C AB'!AZ84=\"HABILITADO  TEMPORALMENTE A COMPETENCIAS FEI\",\"HABILITADO  TEMPORALMENTE A COMPETENCIAS FEI\",\"\"),\"ERROR\")","v":""}]
[{"$f":"IF(+'V C AB'!A85=\"\",\"\",'V C AB'!A85)","v":""},{"$f":"IF(+'V C AB'!B85=\"\",\"\",'V C AB'!B85)","v":"A007"},{"$f":"IF(+'V C AB'!C85=\"\",\"\",'V C AB'!C85)","v":"JIJON ANDRADE ALEGRÍA"},{"$f":"IF(OR('V C AB'!AV85+'V C AB'!AW85>=2,AND('V C AB'!AV85+'V C AB'!AW85>=1,'V L AB'!AW85>=40),'V C AB'!AX85>=1),\"CLASIFICADO A 80 Km NOVICIOS\",\"\")","v":""},{"$f":"IF(C85='V C AB'!C85,IF(OR('V C AB'!AZ85=\"\",'V C AB'!AZ85=\"HABILITADO  TEMPORALMENTE A COMPETENCIAS FEI\"),\"\",+'V C AB'!AZ85),\"ERROR\")","v":"NO INICIA SU CLASIFICACIÓN"},{"$f":"IF(B85='V C AB'!B85,IF(+'V C AB'!AZ85=\"HABILITADO  TEMPORALMENTE A COMPETENCIAS FEI\",\"HABILITADO  TEMPORALMENTE A COMPETENCIAS FEI\",\"\"),\"ERROR\")","v":""}]
[{"$f":"IF(+'V C AB'!A86=\"\",\"\",'V C AB'!A86)","v":"A042"},{"$f":"IF(+'V C AB'!B86=\"\",\"\",'V C AB'!B86)","v":"A006"},{"$f":"IF(+'V C AB'!C86=\"\",\"\",'V C AB'!C86)","v":"JIJON LETORT RODRIGO"},{"$f":"IF(OR('V C AB'!AV86+'V C AB'!AW86>=2,AND('V C AB'!AV86+'V C AB'!AW86>=1,'V L AB'!AW86>=40),'V C AB'!AX86>=1),\"CLASIFICADO A 80 Km NOVICIOS\",\"\")","v":"CLASIFICADO A 80 Km NOVICIOS"},{"$f":"IF(C86='V C AB'!C86,IF(OR('V C AB'!AZ86=\"\",'V C AB'!AZ86=\"HABILITADO  TEMPORALMENTE A COMPETENCIAS FEI\"),\"\",+'V C AB'!AZ86),\"ERROR\")","v":"HABILITADO A 80KM VELOCIDAD CONTROLADA"},{"$f":"IF(B86='V C AB'!B86,IF(+'V C AB'!AZ86=\"HABILITADO  TEMPORALMENTE A COMPETENCIAS FEI\",\"HABILITADO  TEMPORALMENTE A COMPETENCIAS FEI\",\"\"),\"ERROR\")","v":""}]
[{"$f":"IF(+'V C AB'!A87=\"\",\"\",'V C AB'!A87)","v":"A064"},{"$f":"IF(+'V C AB'!B87=\"\",\"\",'V C AB'!B87)","v":"A131"},{"$f":"IF(+'V C AB'!C87=\"\",\"\",'V C AB'!C87)","v":"JIJON MARIA CLARA"},{"$f":"IF(OR('V C AB'!AV87+'V C AB'!AW87>=2,AND('V C AB'!AV87+'V C AB'!AW87>=1,'V L AB'!AW87>=40),'V C AB'!AX87>=1),\"CLASIFICADO A 80 Km NOVICIOS\",\"\")","v":"CLASIFICADO A 80 Km NOVICIOS"},{"$f":"IF(C87='V C AB'!C87,IF(OR('V C AB'!AZ87=\"\",'V C AB'!AZ87=\"HABILITADO  TEMPORALMENTE A COMPETENCIAS FEI\"),\"\",+'V C AB'!AZ87),\"ERROR\")","v":"HABILITADO A 80KM VELOCIDAD CONTROLADA"},{"$f":"IF(B87='V C AB'!B87,IF(+'V C AB'!AZ87=\"HABILITADO  TEMPORALMENTE A COMPETENCIAS FEI\",\"HABILITADO  TEMPORALMENTE A COMPETENCIAS FEI\",\"\"),\"ERROR\")","v":""}]
[{"$f":"IF(+'V C AB'!A88=\"\",\"\",'V C AB'!A88)","v":"A091"},{"$f":"IF(+'V C AB'!B88=\"\",\"\",'V C AB'!B88)","v":"A"},{"$f":"IF(+'V C AB'!C88=\"\",\"\",'V C AB'!C88)","v":"JIMENEZ BEGOÑA"},{"$f":"IF(OR('V C AB'!AV88+'V C AB'!AW88>=2,AND('V C AB'!AV88+'V C AB'!AW88>=1,'V L AB'!AW88>=40),'V C AB'!AX88>=1),\"CLASIFICADO A 80 Km NOVICIOS\",\"\")","v":""},{"$f":"IF(C88='V C AB'!C88,IF(OR('V C AB'!AZ88=\"\",'V C AB'!AZ88=\"HABILITADO  TEMPORALMENTE A COMPETENCIAS FEI\"),\"\",+'V C AB'!AZ88),\"ERROR\")","v":"INICIO SU CLASIFICACIÓN"},{"$f":"IF(B88='V C AB'!B88,IF(+'V C AB'!AZ88=\"HABILITADO  TEMPORALMENTE A COMPETENCIAS FEI\",\"HABILITADO  TEMPORALMENTE A COMPETENCIAS FEI\",\"\"),\"ERROR\")","v":""}]
[{"$f":"IF(+'V C AB'!A6=\"\",\"\",'V C AB'!A6)","v":"ANTERIOR"},{"$f":"IF(+'V C AB'!B6=\"\",\"\",'V C AB'!B6)","v":"NUEVO"},{"$f":"IF(+'V C AB'!C6=\"\",\"\",'V C AB'!C6)","v":"JINETE"},{"$f":"IF(OR('V C AB'!AV230+'V C AB'!AW230>=2,AND('V C AB'!AV230+'V C AB'!AW230>=1,'V L AB'!AW230>=40),'V C AB'!AX230>=1),\"CLASIFICADO A 80 Km NOVICIOS\",\"\")","v":""},{"$f":"IF(C89='V C AB'!C230,IF(OR('V C AB'!AZ230=\"\",'V C AB'!AZ230=\"HABILITADO  TEMPORALMENTE A COMPETENCIAS FEI\"),\"\",+'V C AB'!AZ230),\"ERROR\")","v":"ERROR"},{"$f":"IF(B89='V C AB'!B230,IF(+'V C AB'!AZ230=\"HABILITADO  TEMPORALMENTE A COMPETENCIAS FEI\",\"HABILITADO  TEMPORALMENTE A COMPETENCIAS FEI\",\"\"),\"ERROR\")","v":"ERROR"}]
[{"$f":"IF(+'V C AB'!A89=\"\",\"\",'V C AB'!A89)","v":"C"},{"$f":"IF(+'V C AB'!B89=\"\",\"\",'V C AB'!B89)","v":"A159"},{"$f":"IF(+'V C AB'!C89=\"\",\"\",'V C AB'!C89)","v":"JUNIOR PLUAS"},{"$f":"IF(OR('V C AB'!AV89+'V C AB'!AW89>=2,AND('V C AB'!AV89+'V C AB'!AW89>=1,'V L AB'!AW89>=40),'V C AB'!AX89>=1),\"CLASIFICADO A 80 Km NOVICIOS\",\"\")","v":""},{"$f":"IF(C90='V C AB'!C89,IF(OR('V C AB'!AZ89=\"\",'V C AB'!AZ89=\"HABILITADO  TEMPORALMENTE A COMPETENCIAS FEI\"),\"\",+'V C AB'!AZ89),\"ERROR\")","v":"NO INICIA SU CLASIFICACIÓN"},{"$f":"IF(B90='V C AB'!B89,IF(+'V C AB'!AZ89=\"HABILITADO  TEMPORALMENTE A COMPETENCIAS FEI\",\"HABILITADO  TEMPORALMENTE A COMPETENCIAS FEI\",\"\"),\"ERROR\")","v":""}]
[{"$f":"IF(+'V C AB'!A90=\"\",\"\",'V C AB'!A90)","v":""},{"$f":"IF(+'V C AB'!B90=\"\",\"\",'V C AB'!B90)","v":"A081"},{"$f":"IF(+'V C AB'!C90=\"\",\"\",'V C AB'!C90)","v":"KOPPEL OSWALDO"},{"$f":"IF(OR('V C AB'!AV90+'V C AB'!AW90>=2,AND('V C AB'!AV90+'V C AB'!AW90>=1,'V L AB'!AW90>=40),'V C AB'!AX90>=1),\"CLASIFICADO A 80 Km NOVICIOS\",\"\")","v":"CLASIFICADO A 80 Km NOVICIOS"},{"$f":"IF(C91='V C AB'!C90,IF(OR('V C AB'!AZ90=\"\",'V C AB'!AZ90=\"HABILITADO  TEMPORALMENTE A COMPETENCIAS FEI\"),\"\",+'V C AB'!AZ90),\"ERROR\")","v":""},{"$f":"IF(B91='V C AB'!B90,IF(+'V C AB'!AZ90=\"HABILITADO  TEMPORALMENTE A COMPETENCIAS FEI\",\"HABILITADO  TEMPORALMENTE A COMPETENCIAS FEI\",\"\"),\"ERROR\")","v":"HABILITADO  TEMPORALMENTE A COMPETENCIAS FEI"}]
[{"$f":"IF(+'V C AB'!A91=\"\",\"\",'V C AB'!A91)","v":""},{"$f":"IF(+'V C AB'!B91=\"\",\"\",'V C AB'!B91)","v":"A112"},{"$f":"IF(+'V C AB'!C91=\"\",\"\",'V C AB'!C91)","v":"KUZME EDISON"},{"$f":"IF(OR('V C AB'!AV91+'V C AB'!AW91>=2,AND('V C AB'!AV91+'V C AB'!AW91>=1,'V L AB'!AW91>=40),'V C AB'!AX91>=1),\"CLASIFICADO A 80 Km NOVICIOS\",\"\")","v":""},{"$f":"IF(C92='V C AB'!C91,IF(OR('V C AB'!AZ91=\"\",'V C AB'!AZ91=\"HABILITADO  TEMPORALMENTE A COMPETENCIAS FEI\"),\"\",+'V C AB'!AZ91),\"ERROR\")","v":"INICIO SU CLASIFICACIÓN"},{"$f":"IF(B92='V C AB'!B91,IF(+'V C AB'!AZ91=\"HABILITADO  TEMPORALMENTE A COMPETENCIAS FEI\",\"HABILITADO  TEMPORALMENTE A COMPETENCIAS FEI\",\"\"),\"ERROR\")","v":""}]
[{"$f":"IF(+'V C AB'!A92=\"\",\"\",'V C AB'!A92)","v":"A023"},{"$f":"IF(+'V C AB'!B92=\"\",\"\",'V C AB'!B92)","v":"A113"},{"$f":"IF(+'V C AB'!C92=\"\",\"\",'V C AB'!C92)","v":"LANDAZURI MORA LUIS ENRIQUE"},{"$f":"IF(OR('V C AB'!AV92+'V C AB'!AW92>=2,AND('V C AB'!AV92+'V C AB'!AW92>=1,'V L AB'!AW92>=40),'V C AB'!AX92>=1),\"CLASIFICADO A 80 Km NOVICIOS\",\"\")","v":"CLASIFICADO A 80 Km NOVICIOS"},{"$f":"IF(C93='V C AB'!C92,IF(OR('V C AB'!AZ92=\"\",'V C AB'!AZ92=\"HABILITADO  TEMPORALMENTE A COMPETENCIAS FEI\"),\"\",+'V C AB'!AZ92),\"ERROR\")","v":""},{"$f":"IF(B93='V C AB'!B92,IF(+'V C AB'!AZ92=\"HABILITADO  TEMPORALMENTE A COMPETENCIAS FEI\",\"HABILITADO  TEMPORALMENTE A COMPETENCIAS FEI\",\"\"),\"ERROR\")","v":"HABILITADO  TEMPORALMENTE A COMPETENCIAS FEI"}]
[{"$f":"IF(+'V C AB'!A93=\"\",\"\",'V C AB'!A93)","v":"A111"},{"$f":"IF(+'V C AB'!B93=\"\",\"\",'V C AB'!B93)","v":"A"},{"$f":"IF(+'V C AB'!C93=\"\",\"\",'V C AB'!C93)","v":"LANDAZURI WITT LUIS"},{"$f":"IF(OR('V C AB'!AV93+'V C AB'!AW93>=2,AND('V C AB'!AV93+'V C AB'!AW93>=1,'V L AB'!AW93>=40),'V C AB'!AX93>=1),\"CLASIFICADO A 80 Km NOVICIOS\",\"\")","v":""},{"$f":"IF(C94='V C AB'!C93,IF(OR('V C AB'!AZ93=\"\",'V C AB'!AZ93=\"HABILITADO  TEMPORALMENTE A COMPETENCIAS FEI\"),\"\",+'V C AB'!AZ93),\"ERROR\")","v":"NO INICIA SU CLASIFICACIÓN"},{"$f":"IF(B94='V C AB'!B93,IF(+'V C AB'!AZ93=\"HABILITADO  TEMPORALMENTE A COMPETENCIAS FEI\",\"HABILITADO  TEMPORALMENTE A COMPETENCIAS FEI\",\"\"),\"ERROR\")","v":""}]
[{"$f":"IF(+'V C AB'!A94=\"\",\"\",'V C AB'!A94)","v":"C"},{"$f":"IF(+'V C AB'!B94=\"\",\"\",'V C AB'!B94)","v":"C"},{"$f":"IF(+'V C AB'!C94=\"\",\"\",'V C AB'!C94)","v":"LANDIVAR ALEXANDRA"},{"$f":"IF(OR('V C AB'!AV94+'V C AB'!AW94>=2,AND('V C AB'!AV94+'V C AB'!AW94>=1,'V L AB'!AW94>=40),'V C AB'!AX94>=1),\"CLASIFICADO A 80 Km NOVICIOS\",\"\")","v":""},{"$f":"IF(C95='V C AB'!C94,IF(OR('V C AB'!AZ94=\"\",'V C AB'!AZ94=\"HABILITADO  TEMPORALMENTE A COMPETENCIAS FEI\"),\"\",+'V C AB'!AZ94),\"ERROR\")","v":"NO INICIA SU CLASIFICACIÓN"},{"$f":"IF(B95='V C AB'!B94,IF(+'V C AB'!AZ94=\"HABILITADO  TEMPORALMENTE A COMPETENCIAS FEI\",\"HABILITADO  TEMPORALMENTE A COMPETENCIAS FEI\",\"\"),\"ERROR\")","v":""}]
[{"$f":"IF(+'V C AB'!A95=\"\",\"\",'V C AB'!A95)","v":""},{"$f":"IF(+'V C AB'!B95=\"\",\"\",'V C AB'!B95)","v":"A"},{"$f":"IF(+'V C AB'!C95=\"\",\"\",'V C AB'!C95)","v":"LARA LAUREANO"},{"$f":"IF(OR('V C AB'!AV95+'V C AB'!AW95>=2,AND('V C AB'!AV95+'V C AB'!AW95>=1,'V L AB'!AW95>=40),'V C AB'!AX95>=1),\"CLASIFICADO A 80 Km NOVICIOS\",\"\")","v":""},{"$f":"IF(C96='V C AB'!C95,IF(OR('V C AB'!AZ95=\"\",'V C AB'!AZ95=\"HABILITADO  TEMPORALMENTE A COMPETENCIAS FEI\"),\"\",+'V C AB'!AZ95),\"ERROR\")","v":"NO INICIA SU CLASIFICACIÓN"},{"$f":"IF(B96='V C AB'!B95,IF(+'V C AB'!AZ95=\"HABILITADO  TEMPORALMENTE A COMPETENCIAS FEI\",\"HABILITADO  TEMPORALMENTE A COMPETENCIAS FEI\",\"\"),\"ERROR\")","v":""}]
[{"$f":"IF(+'V C AB'!A96=\"\",\"\",'V C AB'!A96)","v":"A145"},"A174",{"$f":"IF(+'V C AB'!C96=\"\",\"\",'V C AB'!C96)","v":"LARREA BYRON"},{"$f":"IF(OR('V C AB'!AV96+'V C AB'!AW96>=2,AND('V C AB'!AV96+'V C AB'!AW96>=1,'V L AB'!AW96>=40),'V C AB'!AX96>=1),\"CLASIFICADO A 80 Km NOVICIOS\",\"\")","v":""},{"$f":"IF(C97='V C AB'!C96,IF(OR('V C AB'!AZ96=\"\",'V C AB'!AZ96=\"HABILITADO  TEMPORALMENTE A COMPETENCIAS FEI\"),\"\",+'V C AB'!AZ96),\"ERROR\")","v":"INICIO SU CLASIFICACIÓN"},{"$f":"IF(B97='V C AB'!B96,IF(+'V C AB'!AZ96=\"HABILITADO  TEMPORALMENTE A COMPETENCIAS FEI\",\"HABILITADO  TEMPORALMENTE A COMPETENCIAS FEI\",\"\"),\"ERROR\")","v":"ERROR"}]
[{"$f":"IF(+'V C AB'!A97=\"\",\"\",'V C AB'!A97)","v":"C"},{"$f":"IF(+'V C AB'!B97=\"\",\"\",'V C AB'!B97)","v":"A174"},{"$f":"IF(+'V C AB'!C97=\"\",\"\",'V C AB'!C97)","v":"LARRIVA LOYOLA CAROLINA"},{"$f":"IF(OR('V C AB'!AV97+'V C AB'!AW97>=2,AND('V C AB'!AV97+'V C AB'!AW97>=1,'V L AB'!AW97>=40),'V C AB'!AX97>=1),\"CLASIFICADO A 80 Km NOVICIOS\",\"\")","v":"CLASIFICADO A 80 Km NOVICIOS"},{"$f":"IF(C98='V C AB'!C97,IF(OR('V C AB'!AZ97=\"\",'V C AB'!AZ97=\"HABILITADO  TEMPORALMENTE A COMPETENCIAS FEI\"),\"\",+'V C AB'!AZ97),\"ERROR\")","v":"NO INICIA SU CLASIFICACIÓN"},{"$f":"IF(B98='V C AB'!B97,IF(+'V C AB'!AZ97=\"HABILITADO  TEMPORALMENTE A COMPETENCIAS FEI\",\"HABILITADO  TEMPORALMENTE A COMPETENCIAS FEI\",\"\"),\"ERROR\")","v":""}]
[{"$f":"IF(+'V C AB'!A98=\"\",\"\",'V C AB'!A98)","v":"C"},{"$f":"IF(+'V C AB'!B98=\"\",\"\",'V C AB'!B98)","v":"C"},{"$f":"IF(+'V C AB'!C98=\"\",\"\",'V C AB'!C98)","v":"LARRIVA LOYOLA JAIME ALEJANDRO"},{"$f":"IF(OR('V C AB'!AV98+'V C AB'!AW98>=2,AND('V C AB'!AV98+'V C AB'!AW98>=1,'V L AB'!AW98>=40),'V C AB'!AX98>=1),\"CLASIFICADO A 80 Km NOVICIOS\",\"\")","v":""},{"$f":"IF(C99='V C AB'!C98,IF(OR('V C AB'!AZ98=\"\",'V C AB'!AZ98=\"HABILITADO  TEMPORALMENTE A COMPETENCIAS FEI\"),\"\",+'V C AB'!AZ98),\"ERROR\")","v":"NO INICIA SU CLASIFICACIÓN"},{"$f":"IF(B99='V C AB'!B98,IF(+'V C AB'!AZ98=\"HABILITADO  TEMPORALMENTE A COMPETENCIAS FEI\",\"HABILITADO  TEMPORALMENTE A COMPETENCIAS FEI\",\"\"),\"ERROR\")","v":""}]
[{"$f":"IF(+'V C AB'!A99=\"\",\"\",'V C AB'!A99)","v":"A045"},{"$f":"IF(+'V C AB'!B99=\"\",\"\",'V C AB'!B99)","v":"A038"},{"$f":"IF(+'V C AB'!C99=\"\",\"\",'V C AB'!C99)","v":"LEON CESAR IGNACIO"},{"$f":"IF(OR('V C AB'!AV99+'V C AB'!AW99>=2,AND('V C AB'!AV99+'V C AB'!AW99>=1,'V L AB'!AW99>=40),'V C AB'!AX99>=1),\"CLASIFICADO A 80 Km NOVICIOS\",\"\")","v":""},{"$f":"IF(C100='V C AB'!C99,IF(OR('V C AB'!AZ99=\"\",'V C AB'!AZ99=\"HABILITADO  TEMPORALMENTE A COMPETENCIAS FEI\"),\"\",+'V C AB'!AZ99),\"ERROR\")","v":"NO INICIA SU CLASIFICACIÓN"},{"$f":"IF(B100='V C AB'!B99,IF(+'V C AB'!AZ99=\"HABILITADO  TEMPORALMENTE A COMPETENCIAS FEI\",\"HABILITADO  TEMPORALMENTE A COMPETENCIAS FEI\",\"\"),\"ERROR\")","v":""}]
[{"$f":"IF(+'V C AB'!A100=\"\",\"\",'V C AB'!A100)","v":"A114"},{"$f":"IF(+'V C AB'!B100=\"\",\"\",'V C AB'!B100)","v":"A"},{"$f":"IF(+'V C AB'!C100=\"\",\"\",'V C AB'!C100)","v":"LEON FERNANDO IVAN "},{"$f":"IF(OR('V C AB'!AV100+'V C AB'!AW100>=2,AND('V C AB'!AV100+'V C AB'!AW100>=1,'V L AB'!AW100>=40),'V C AB'!AX100>=1),\"CLASIFICADO A 80 Km NOVICIOS\",\"\")","v":""},{"$f":"IF(C101='V C AB'!C100,IF(OR('V C AB'!AZ100=\"\",'V C AB'!AZ100=\"HABILITADO  TEMPORALMENTE A COMPETENCIAS FEI\"),\"\",+'V C AB'!AZ100),\"ERROR\")","v":"NO INICIA SU CLASIFICACIÓN"},{"$f":"IF(B101='V C AB'!B100,IF(+'V C AB'!AZ100=\"HABILITADO  TEMPORALMENTE A COMPETENCIAS FEI\",\"HABILITADO  TEMPORALMENTE A COMPETENCIAS FEI\",\"\"),\"ERROR\")","v":""}]
[{"$f":"IF(+'V C AB'!A101=\"\",\"\",'V C AB'!A101)","v":"A044"},{"$f":"IF(+'V C AB'!B101=\"\",\"\",'V C AB'!B101)","v":"A"},{"$f":"IF(+'V C AB'!C101=\"\",\"\",'V C AB'!C101)","v":"LEON IGNACIO"},{"$f":"IF(OR('V C AB'!AV101+'V C AB'!AW101>=2,AND('V C AB'!AV101+'V C AB'!AW101>=1,'V L AB'!AW101>=40),'V C AB'!AX101>=1),\"CLASIFICADO A 80 Km NOVICIOS\",\"\")","v":""},{"$f":"IF(C102='V C AB'!C101,IF(OR('V C AB'!AZ101=\"\",'V C AB'!AZ101=\"HABILITADO  TEMPORALMENTE A COMPETENCIAS FEI\"),\"\",+'V C AB'!AZ101),\"ERROR\")","v":"NO INICIA SU CLASIFICACIÓN"},{"$f":"IF(B102='V C AB'!B101,IF(+'V C AB'!AZ101=\"HABILITADO  TEMPORALMENTE A COMPETENCIAS FEI\",\"HABILITADO  TEMPORALMENTE A COMPETENCIAS FEI\",\"\"),\"ERROR\")","v":""}]
[{"$f":"IF(+'V C AB'!A102=\"\",\"\",'V C AB'!A102)","v":"A024"},{"$f":"IF(+'V C AB'!B102=\"\",\"\",'V C AB'!B102)","v":"A"},{"$f":"IF(+'V C AB'!C102=\"\",\"\",'V C AB'!C102)","v":"LEPPERT MICHELLE"},{"$f":"IF(OR('V C AB'!AV102+'V C AB'!AW102>=2,AND('V C AB'!AV102+'V C AB'!AW102>=1,'V L AB'!AW102>=40),'V C AB'!AX102>=1),\"CLASIFICADO A 80 Km NOVICIOS\",\"\")","v":""},{"$f":"IF(C103='V C AB'!C102,IF(OR('V C AB'!AZ102=\"\",'V C AB'!AZ102=\"HABILITADO  TEMPORALMENTE A COMPETENCIAS FEI\"),\"\",+'V C AB'!AZ102),\"ERROR\")","v":"INICIO SU CLASIFICACIÓN"},{"$f":"IF(B103='V C AB'!B102,IF(+'V C AB'!AZ102=\"HABILITADO  TEMPORALMENTE A COMPETENCIAS FEI\",\"HABILITADO  TEMPORALMENTE A COMPETENCIAS FEI\",\"\"),\"ERROR\")","v":""}]
[{"$f":"IF(+'V C AB'!A103=\"\",\"\",'V C AB'!A103)","v":"A092"},{"$f":"IF(+'V C AB'!B103=\"\",\"\",'V C AB'!B103)","v":"A"},{"$f":"IF(+'V C AB'!C103=\"\",\"\",'V C AB'!C103)","v":"LETORT EDUARDO"},{"$f":"IF(OR('V C AB'!AV103+'V C AB'!AW103>=2,AND('V C AB'!AV103+'V C AB'!AW103>=1,'V L AB'!AW103>=40),'V C AB'!AX103>=1),\"CLASIFICADO A 80 Km NOVICIOS\",\"\")","v":""},{"$f":"IF(C104='V C AB'!C103,IF(OR('V C AB'!AZ103=\"\",'V C AB'!AZ103=\"HABILITADO  TEMPORALMENTE A COMPETENCIAS FEI\"),\"\",+'V C AB'!AZ103),\"ERROR\")","v":"INICIO SU CLASIFICACIÓN"},{"$f":"IF(B104='V C AB'!B103,IF(+'V C AB'!AZ103=\"HABILITADO  TEMPORALMENTE A COMPETENCIAS FEI\",\"HABILITADO  TEMPORALMENTE A COMPETENCIAS FEI\",\"\"),\"ERROR\")","v":""}]
[{"$f":"IF(+'V C AB'!A104=\"\",\"\",'V C AB'!A104)","v":"A110"},{"$f":"IF(+'V C AB'!B104=\"\",\"\",'V C AB'!B104)","v":"A026"},{"$f":"IF(+'V C AB'!C104=\"\",\"\",'V C AB'!C104)","v":"LETORT MENA JOSÉ"},{"$f":"IF(OR('V C AB'!AV104+'V C AB'!AW104>=2,AND('V C AB'!AV104+'V C AB'!AW104>=1,'V L AB'!AW104>=40),'V C AB'!AX104>=1),\"CLASIFICADO A 80 Km NOVICIOS\",\"\")","v":"CLASIFICADO A 80 Km NOVICIOS"},{"$f":"IF(C105='V C AB'!C104,IF(OR('V C AB'!AZ104=\"\",'V C AB'!AZ104=\"HABILITADO  TEMPORALMENTE A COMPETENCIAS FEI\"),\"\",+'V C AB'!AZ104),\"ERROR\")","v":""},{"$f":"IF(B105='V C AB'!B104,IF(+'V C AB'!AZ104=\"HABILITADO  TEMPORALMENTE A COMPETENCIAS FEI\",\"HABILITADO  TEMPORALMENTE A COMPETENCIAS FEI\",\"\"),\"ERROR\")","v":"HABILITADO  TEMPORALMENTE A COMPETENCIAS FEI"}]
[{"$f":"IF(+'V C AB'!A105=\"\",\"\",'V C AB'!A105)","v":"A071"},{"$f":"IF(+'V C AB'!B105=\"\",\"\",'V C AB'!B105)","v":"A"},{"$f":"IF(+'V C AB'!C105=\"\",\"\",'V C AB'!C105)","v":"LLANEZ CRISTIAN DANIEL"},{"$f":"IF(OR('V C AB'!AV105+'V C AB'!AW105>=2,AND('V C AB'!AV105+'V C AB'!AW105>=1,'V L AB'!AW105>=40),'V C AB'!AX105>=1),\"CLASIFICADO A 80 Km NOVICIOS\",\"\")","v":""},{"$f":"IF(C106='V C AB'!C105,IF(OR('V C AB'!AZ105=\"\",'V C AB'!AZ105=\"HABILITADO  TEMPORALMENTE A COMPETENCIAS FEI\"),\"\",+'V C AB'!AZ105),\"ERROR\")","v":"NO INICIA SU CLASIFICACIÓN"},{"$f":"IF(B106='V C AB'!B105,IF(+'V C AB'!AZ105=\"HABILITADO  TEMPORALMENTE A COMPETENCIAS FEI\",\"HABILITADO  TEMPORALMENTE A COMPETENCIAS FEI\",\"\"),\"ERROR\")","v":""}]
[{"$f":"IF(+'V C AB'!A106=\"\",\"\",'V C AB'!A106)","v":""},{"$f":"IF(+'V C AB'!B106=\"\",\"\",'V C AB'!B106)","v":"A"},{"$f":"IF(+'V C AB'!C106=\"\",\"\",'V C AB'!C106)","v":"LÓPEZ JUAN DIEGO"},{"$f":"IF(OR('V C AB'!AV106+'V C AB'!AW106>=2,AND('V C AB'!AV106+'V C AB'!AW106>=1,'V L AB'!AW106>=40),'V C AB'!AX106>=1),\"CLASIFICADO A 80 Km NOVICIOS\",\"\")","v":""},{"$f":"IF(C107='V C AB'!C106,IF(OR('V C AB'!AZ106=\"\",'V C AB'!AZ106=\"HABILITADO  TEMPORALMENTE A COMPETENCIAS FEI\"),\"\",+'V C AB'!AZ106),\"ERROR\")","v":"NO INICIA SU CLASIFICACIÓN"},{"$f":"IF(B107='V C AB'!B106,IF(+'V C AB'!AZ106=\"HABILITADO  TEMPORALMENTE A COMPETENCIAS FEI\",\"HABILITADO  TEMPORALMENTE A COMPETENCIAS FEI\",\"\"),\"ERROR\")","v":""}]
[null,"A 168","LOZADA ARMANDO"]
[{"$f":"IF(+'V C AB'!A107=\"\",\"\",'V C AB'!A107)","v":""},{"$f":"IF(+'V C AB'!B107=\"\",\"\",'V C AB'!B107)","v":"A190"},{"$f":"IF(+'V C AB'!C107=\"\",\"\",'V C AB'!C107)","v":"LOZADA ARMANDO"},{"$f":"IF(OR('V C AB'!AV107+'V C AB'!AW107>=2,AND('V C AB'!AV107+'V C AB'!AW107>=1,'V L AB'!AW107>=40),'V C AB'!AX107>=1),\"CLASIFICADO A 80 Km NOVICIOS\",\"\")","v":"CLASIFICADO A 80 Km NOVICIOS"},{"$f":"IF(C109='V C AB'!C107,IF(OR('V C AB'!AZ107=\"\",'V C AB'!AZ107=\"HABILITADO  TEMPORALMENTE A COMPETENCIAS FEI\"),\"\",+'V C AB'!AZ107),\"ERROR\")","v":"HABILITADO A 80KM VELOCIDAD CONTROLADA"},{"$f":"IF(B109='V C AB'!B107,IF(+'V C AB'!AZ107=\"HABILITADO  TEMPORALMENTE A COMPETENCIAS FEI\",\"HABILITADO  TEMPORALMENTE A COMPETENCIAS FEI\",\"\"),\"ERROR\")","v":""}]
[{"$f":"IF(+'V C AB'!A108=\"\",\"\",'V C AB'!A108)","v":"C"},{"$f":"IF(+'V C AB'!B108=\"\",\"\",'V C AB'!B108)","v":"A143"},{"$f":"IF(+'V C AB'!C108=\"\",\"\",'V C AB'!C108)","v":"LUGMAÑA JUAN CARLOS"},{"$f":"IF(OR('V C AB'!AV108+'V C AB'!AW108>=2,AND('V C AB'!AV108+'V C AB'!AW108>=1,'V L AB'!AW108>=40),'V C AB'!AX108>=1),\"CLASIFICADO A 80 Km NOVICIOS\",\"\")","v":""},{"$f":"IF(C110='V C AB'!C108,IF(OR('V C AB'!AZ108=\"\",'V C AB'!AZ108=\"HABILITADO  TEMPORALMENTE A COMPETENCIAS FEI\"),\"\",+'V C AB'!AZ108),\"ERROR\")","v":"NO INICIA SU CLASIFICACIÓN"},{"$f":"IF(B110='V C AB'!B108,IF(+'V C AB'!AZ108=\"HABILITADO  TEMPORALMENTE A COMPETENCIAS FEI\",\"HABILITADO  TEMPORALMENTE A COMPETENCIAS FEI\",\"\"),\"ERROR\")","v":""}]
[{"$f":"IF(+'V C AB'!A109=\"\",\"\",'V C AB'!A109)","v":"A134"},{"$f":"IF(+'V C AB'!B109=\"\",\"\",'V C AB'!B109)","v":"A020"},{"$f":"IF(+'V C AB'!C109=\"\",\"\",'V C AB'!C109)","v":"LUNA ARMANDO"},{"$f":"IF(OR('V C AB'!AV109+'V C AB'!AW109>=2,AND('V C AB'!AV109+'V C AB'!AW109>=1,'V L AB'!AW109>=40),'V C AB'!AX109>=1),\"CLASIFICADO A 80 Km NOVICIOS\",\"\")","v":""},{"$f":"IF(C111='V C AB'!C109,IF(OR('V C AB'!AZ109=\"\",'V C AB'!AZ109=\"HABILITADO  TEMPORALMENTE A COMPETENCIAS FEI\"),\"\",+'V C AB'!AZ109),\"ERROR\")","v":"NO INICIA SU CLASIFICACIÓN"},{"$f":"IF(B111='V C AB'!B109,IF(+'V C AB'!AZ109=\"HABILITADO  TEMPORALMENTE A COMPETENCIAS FEI\",\"HABILITADO  TEMPORALMENTE A COMPETENCIAS FEI\",\"\"),\"ERROR\")","v":""}]
[{"$f":"IF(+'V C AB'!A110=\"\",\"\",'V C AB'!A110)","v":"A012"},{"$f":"IF(+'V C AB'!B110=\"\",\"\",'V C AB'!B110)","v":"A005"},{"$f":"IF(+'V C AB'!C110=\"\",\"\",'V C AB'!C110)","v":"MALDONADO JOSE"},{"$f":"IF(OR('V C AB'!AV110+'V C AB'!AW110>=2,AND('V C AB'!AV110+'V C AB'!AW110>=1,'V L AB'!AW110>=40),'V C AB'!AX110>=1),\"CLASIFICADO A 80 Km NOVICIOS\",\"\")","v":"CLASIFICADO A 80 Km NOVICIOS"},{"$f":"IF(C112='V C AB'!C110,IF(OR('V C AB'!AZ110=\"\",'V C AB'!AZ110=\"HABILITADO  TEMPORALMENTE A COMPETENCIAS FEI\"),\"\",+'V C AB'!AZ110),\"ERROR\")","v":"HABILITADO A 80KM VELOCIDAD CONTROLADA"},{"$f":"IF(B112='V C AB'!B110,IF(+'V C AB'!AZ110=\"HABILITADO  TEMPORALMENTE A COMPETENCIAS FEI\",\"HABILITADO  TEMPORALMENTE A COMPETENCIAS FEI\",\"\"),\"ERROR\")","v":""}]
[{"$f":"IF(+'V C AB'!A111=\"\",\"\",'V C AB'!A111)","v":"C"},{"$f":"IF(+'V C AB'!B111=\"\",\"\",'V C AB'!B111)","v":"A144"},{"$f":"IF(+'V C AB'!C111=\"\",\"\",'V C AB'!C111)","v":"MALO ANDREA"},{"$f":"IF(OR('V C AB'!AV111+'V C AB'!AW111>=2,AND('V C AB'!AV111+'V C AB'!AW111>=1,'V L AB'!AW111>=40),'V C AB'!AX111>=1),\"CLASIFICADO A 80 Km NOVICIOS\",\"\")","v":"CLASIFICADO A 80 Km NOVICIOS"},{"$f":"IF(C113='V C AB'!C111,IF(OR('V C AB'!AZ111=\"\",'V C AB'!AZ111=\"HABILITADO  TEMPORALMENTE A COMPETENCIAS FEI\"),\"\",+'V C AB'!AZ111),\"ERROR\")","v":"HABILITADO A 80KM VELOCIDAD CONTROLADA"},{"$f":"IF(B113='V C AB'!B111,IF(+'V C AB'!AZ111=\"HABILITADO  TEMPORALMENTE A COMPETENCIAS FEI\",\"HABILITADO  TEMPORALMENTE A COMPETENCIAS FEI\",\"\"),\"ERROR\")","v":""}]
[{"$f":"IF(+'V C AB'!A112=\"\",\"\",'V C AB'!A112)","v":""},{"$f":"IF(+'V C AB'!B112=\"\",\"\",'V C AB'!B112)","v":"A014"},{"$f":"IF(+'V C AB'!C112=\"\",\"\",'V C AB'!C112)","v":"MALO DIANA"},{"$f":"IF(OR('V C AB'!AV112+'V C AB'!AW112>=2,AND('V C AB'!AV112+'V C AB'!AW112>=1,'V L AB'!AW112>=40),'V C AB'!AX112>=1),\"CLASIFICADO A 80 Km NOVICIOS\",\"\")","v":"CLASIFICADO A 80 Km NOVICIOS"},{"$f":"IF(C114='V C AB'!C112,IF(OR('V C AB'!AZ112=\"\",'V C AB'!AZ112=\"HABILITADO  TEMPORALMENTE A COMPETENCIAS FEI\"),\"\",+'V C AB'!AZ112),\"ERROR\")","v":"LE FALTA UNA DE 80 A 90 CONTROLADA"},{"$f":"IF(B114='V C AB'!B112,IF(+'V C AB'!AZ112=\"HABILITADO  TEMPORALMENTE A COMPETENCIAS FEI\",\"HABILITADO  TEMPORALMENTE A COMPETENCIAS FEI\",\"\"),\"ERROR\")","v":""}]
[{"$f":"IF(+'V C AB'!A113=\"\",\"\",'V C AB'!A113)","v":"C"},{"$f":"IF(+'V C AB'!B113=\"\",\"\",'V C AB'!B113)","v":"A145"},{"$f":"IF(+'V C AB'!C113=\"\",\"\",'V C AB'!C113)","v":"MALO GELLIBERT ANDREA NATALY"},{"$f":"IF(OR('V C AB'!AV113+'V C AB'!AW113>=2,AND('V C AB'!AV113+'V C AB'!AW113>=1,'V L AB'!AW113>=40),'V C AB'!AX113>=1),\"CLASIFICADO A 80 Km NOVICIOS\",\"\")","v":"CLASIFICADO A 80 Km NOVICIOS"},{"$f":"IF(C115='V C AB'!C113,IF(OR('V C AB'!AZ113=\"\",'V C AB'!AZ113=\"HABILITADO  TEMPORALMENTE A COMPETENCIAS FEI\"),\"\",+'V C AB'!AZ113),\"ERROR\")","v":"HABILITADO A 80KM VELOCIDAD CONTROLADA"},{"$f":"IF(B115='V C AB'!B113,IF(+'V C AB'!AZ113=\"HABILITADO  TEMPORALMENTE A COMPETENCIAS FEI\",\"HABILITADO  TEMPORALMENTE A COMPETENCIAS FEI\",\"\"),\"ERROR\")","v":""}]
[{"$f":"IF(+'V C AB'!A114=\"\",\"\",'V C AB'!A114)","v":""},{"$f":"IF(+'V C AB'!B114=\"\",\"\",'V C AB'!B114)","v":"A130"},{"$f":"IF(+'V C AB'!C114=\"\",\"\",'V C AB'!C114)","v":"MALO JAIME"},{"$f":"IF(OR('V C AB'!AV114+'V C AB'!AW114>=2,AND('V C AB'!AV114+'V C AB'!AW114>=1,'V L AB'!AW114>=40),'V C AB'!AX114>=1),\"CLASIFICADO A 80 Km NOVICIOS\",\"\")","v":"CLASIFICADO A 80 Km NOVICIOS"},{"$f":"IF(C116='V C AB'!C114,IF(OR('V C AB'!AZ114=\"\",'V C AB'!AZ114=\"HABILITADO  TEMPORALMENTE A COMPETENCIAS FEI\"),\"\",+'V C AB'!AZ114),\"ERROR\")","v":""},{"$f":"IF(B116='V C AB'!B114,IF(+'V C AB'!AZ114=\"HABILITADO  TEMPORALMENTE A COMPETENCIAS FEI\",\"HABILITADO  TEMPORALMENTE A COMPETENCIAS FEI\",\"\"),\"ERROR\")","v":"HABILITADO  TEMPORALMENTE A COMPETENCIAS FEI"}]
[{"$f":"IF(+'V C AB'!A115=\"\",\"\",'V C AB'!A115)","v":"C"},{"$f":"IF(+'V C AB'!B115=\"\",\"\",'V C AB'!B115)","v":"A146"},{"$f":"IF(+'V C AB'!C115=\"\",\"\",'V C AB'!C115)","v":"MALO MARIBEL"},{"$f":"IF(OR('V C AB'!AV115+'V C AB'!AW115>=2,AND('V C AB'!AV115+'V C AB'!AW115>=1,'V L AB'!AW115>=40),'V C AB'!AX115>=1),\"CLASIFICADO A 80 Km NOVICIOS\",\"\")","v":"CLASIFICADO A 80 Km NOVICIOS"},{"$f":"IF(C117='V C AB'!C115,IF(OR('V C AB'!AZ115=\"\",'V C AB'!AZ115=\"HABILITADO  TEMPORALMENTE A COMPETENCIAS FEI\"),\"\",+'V C AB'!AZ115),\"ERROR\")","v":"HABILITADO A 80KM VELOCIDAD CONTROLADA"},{"$f":"IF(B117='V C AB'!B115,IF(+'V C AB'!AZ115=\"HABILITADO  TEMPORALMENTE A COMPETENCIAS FEI\",\"HABILITADO  TEMPORALMENTE A COMPETENCIAS FEI\",\"\"),\"ERROR\")","v":""}]
[{"$f":"IF(+'V C AB'!A116=\"\",\"\",'V C AB'!A116)","v":"C"},{"$f":"IF(+'V C AB'!B116=\"\",\"\",'V C AB'!B116)","v":"A118"},{"$f":"IF(+'V C AB'!C116=\"\",\"\",'V C AB'!C116)","v":"MALO SEBASTIAN"},{"$f":"IF(OR('V C AB'!AV116+'V C AB'!AW116>=2,AND('V C AB'!AV116+'V C AB'!AW116>=1,'V L AB'!AW116>=40),'V C AB'!AX116>=1),\"CLASIFICADO A 80 Km NOVICIOS\",\"\")","v":"CLASIFICADO A 80 Km NOVICIOS"},{"$f":"IF(C118='V C AB'!C116,IF(OR('V C AB'!AZ116=\"\",'V C AB'!AZ116=\"HABILITADO  TEMPORALMENTE A COMPETENCIAS FEI\"),\"\",+'V C AB'!AZ116),\"ERROR\")","v":"LE FALTA UNA DE 80 A 90 CONTROLADA"},{"$f":"IF(B118='V C AB'!B116,IF(+'V C AB'!AZ116=\"HABILITADO  TEMPORALMENTE A COMPETENCIAS FEI\",\"HABILITADO  TEMPORALMENTE A COMPETENCIAS FEI\",\"\"),\"ERROR\")","v":""}]
[{"$f":"IF(+'V C AB'!A117=\"\",\"\",'V C AB'!A117)","v":"C"},{"$f":"IF(+'V C AB'!B117=\"\",\"\",'V C AB'!B117)","v":"C"},{"$f":"IF(+'V C AB'!C117=\"\",\"\",'V C AB'!C117)","v":"MALO TORAL SANTIAGO"},{"$f":"IF(OR('V C AB'!AV117+'V C AB'!AW117>=2,AND('V C AB'!AV117+'V C AB'!AW117>=1,'V L AB'!AW117>=40),'V C AB'!AX117>=1),\"CLASIFICADO A 80 Km NOVICIOS\",\"\")","v":""},{"$f":"IF(C119='V C AB'!C117,IF(OR('V C AB'!AZ117=\"\",'V C AB'!AZ117=\"HABILITADO  TEMPORALMENTE A COMPETENCIAS FEI\"),\"\",+'V C AB'!AZ117),\"ERROR\")","v":"NO INICIA SU CLASIFICACIÓN"},{"$f":"IF(B119='V C AB'!B117,IF(+'V C AB'!AZ117=\"HABILITADO  TEMPORALMENTE A COMPETENCIAS FEI\",\"HABILITADO  TEMPORALMENTE A COMPETENCIAS FEI\",\"\"),\"ERROR\")","v":""}]
[{"$f":"IF(+'V C AB'!A118=\"\",\"\",'V C AB'!A118)","v":""},{"$f":"IF(+'V C AB'!B118=\"\",\"\",'V C AB'!B118)","v":"A200"},{"$f":"IF(+'V C AB'!C118=\"\",\"\",'V C AB'!C118)","v":"MANCHENO GALO PATRICIO"},{"$f":"IF(OR('V C AB'!AV118+'V C AB'!AW118>=2,AND('V C AB'!AV118+'V C AB'!AW118>=1,'V L AB'!AW118>=40),'V C AB'!AX118>=1),\"CLASIFICADO A 80 Km NOVICIOS\",\"\")","v":""},{"$f":"IF(C120='V C AB'!C118,IF(OR('V C AB'!AZ118=\"\",'V C AB'!AZ118=\"HABILITADO  TEMPORALMENTE A COMPETENCIAS FEI\"),\"\",+'V C AB'!AZ118),\"ERROR\")","v":"INICIO SU CLASIFICACIÓN"},{"$f":"IF(B120='V C AB'!B118,IF(+'V C AB'!AZ118=\"HABILITADO  TEMPORALMENTE A COMPETENCIAS FEI\",\"HABILITADO  TEMPORALMENTE A COMPETENCIAS FEI\",\"\"),\"ERROR\")","v":""}]
[{"$f":"IF(+'V C AB'!A119=\"\",\"\",'V C AB'!A119)","v":"A041"},{"$f":"IF(+'V C AB'!B119=\"\",\"\",'V C AB'!B119)","v":"A053"},{"$f":"IF(+'V C AB'!C119=\"\",\"\",'V C AB'!C119)","v":"MARCEL ROBERTO"},{"$f":"IF(OR('V C AB'!AV119+'V C AB'!AW119>=2,AND('V C AB'!AV119+'V C AB'!AW119>=1,'V L AB'!AW119>=40),'V C AB'!AX119>=1),\"CLASIFICADO A 80 Km NOVICIOS\",\"\")","v":"CLASIFICADO A 80 Km NOVICIOS"},{"$f":"IF(C121='V C AB'!C119,IF(OR('V C AB'!AZ119=\"\",'V C AB'!AZ119=\"HABILITADO  TEMPORALMENTE A COMPETENCIAS FEI\"),\"\",+'V C AB'!AZ119),\"ERROR\")","v":""},{"$f":"IF(B121='V C AB'!B119,IF(+'V C AB'!AZ119=\"HABILITADO  TEMPORALMENTE A COMPETENCIAS FEI\",\"HABILITADO  TEMPORALMENTE A COMPETENCIAS FEI\",\"\"),\"ERROR\")","v":"HABILITADO  TEMPORALMENTE A COMPETENCIAS FEI"}]
[{"$f":"IF(+'V C AB'!A120=\"\",\"\",'V C AB'!A120)","v":""},{"$f":"IF(+'V C AB'!B120=\"\",\"\",'V C AB'!B120)","v":"A"},{"$f":"IF(+'V C AB'!C120=\"\",\"\",'V C AB'!C120)","v":"MARTÍNEZ EDWIN GABRIEL"},{"$f":"IF(OR('V C AB'!AV120+'V C AB'!AW120>=2,AND('V C AB'!AV120+'V C AB'!AW120>=1,'V L AB'!AW120>=40),'V C AB'!AX120>=1),\"CLASIFICADO A 80 Km NOVICIOS\",\"\")","v":""},{"$f":"IF(C122='V C AB'!C120,IF(OR('V C AB'!AZ120=\"\",'V C AB'!AZ120=\"HABILITADO  TEMPORALMENTE A COMPETENCIAS FEI\"),\"\",+'V C AB'!AZ120),\"ERROR\")","v":"NO INICIA SU CLASIFICACIÓN"},{"$f":"IF(B122='V C AB'!B120,IF(+'V C AB'!AZ120=\"HABILITADO  TEMPORALMENTE A COMPETENCIAS FEI\",\"HABILITADO  TEMPORALMENTE A COMPETENCIAS FEI\",\"\"),\"ERROR\")","v":""}]
[{"$f":"IF(+'V C AB'!A121=\"\",\"\",'V C AB'!A121)","v":"A116"},{"$f":"IF(+'V C AB'!B121=\"\",\"\",'V C AB'!B121)","v":"A"},{"$f":"IF(+'V C AB'!C121=\"\",\"\",'V C AB'!C121)","v":"MARTÍNEZ JOSÉ ELOY"},{"$f":"IF(OR('V C AB'!AV121+'V C AB'!AW121>=2,AND('V C AB'!AV121+'V C AB'!AW121>=1,'V L AB'!AW121>=40),'V C AB'!AX121>=1),\"CLASIFICADO A 80 Km NOVICIOS\",\"\")","v":""},{"$f":"IF(C123='V C AB'!C121,IF(OR('V C AB'!AZ121=\"\",'V C AB'!AZ121=\"HABILITADO  TEMPORALMENTE A COMPETENCIAS FEI\"),\"\",+'V C AB'!AZ121),\"ERROR\")","v":"NO INICIA SU CLASIFICACIÓN"},{"$f":"IF(B123='V C AB'!B121,IF(+'V C AB'!AZ121=\"HABILITADO  TEMPORALMENTE A COMPETENCIAS FEI\",\"HABILITADO  TEMPORALMENTE A COMPETENCIAS FEI\",\"\"),\"ERROR\")","v":""}]
[{"$f":"IF(+'V C AB'!A122=\"\",\"\",'V C AB'!A122)","v":""},{"$f":"IF(+'V C AB'!B122=\"\",\"\",'V C AB'!B122)","v":"A"},{"$f":"IF(+'V C AB'!C122=\"\",\"\",'V C AB'!C122)","v":"MARTINEZ PAOLA "},{"$f":"IF(OR('V C AB'!AV122+'V C AB'!AW122>=2,AND('V C AB'!AV122+'V C AB'!AW122>=1,'V L AB'!AW122>=40),'V C AB'!AX122>=1),\"CLASIFICADO A 80 Km NOVICIOS\",\"\")","v":""},{"$f":"IF(C124='V C AB'!C122,IF(OR('V C AB'!AZ122=\"\",'V C AB'!AZ122=\"HABILITADO  TEMPORALMENTE A COMPETENCIAS FEI\"),\"\",+'V C AB'!AZ122),\"ERROR\")","v":"NO INICIA SU CLASIFICACIÓN"},{"$f":"IF(B124='V C AB'!B122,IF(+'V C AB'!AZ122=\"HABILITADO  TEMPORALMENTE A COMPETENCIAS FEI\",\"HABILITADO  TEMPORALMENTE A COMPETENCIAS FEI\",\"\"),\"ERROR\")","v":""}]
[{"$f":"IF(+'V C AB'!A123=\"\",\"\",'V C AB'!A123)","v":""},{"$f":"IF(+'V C AB'!B123=\"\",\"\",'V C AB'!B123)","v":"A"},{"$f":"IF(+'V C AB'!C123=\"\",\"\",'V C AB'!C123)","v":"MEJIA MIGUEL"},{"$f":"IF(OR('V C AB'!AV123+'V C AB'!AW123>=2,AND('V C AB'!AV123+'V C AB'!AW123>=1,'V L AB'!AW123>=40),'V C AB'!AX123>=1),\"CLASIFICADO A 80 Km NOVICIOS\",\"\")","v":""},{"$f":"IF(C125='V C AB'!C123,IF(OR('V C AB'!AZ123=\"\",'V C AB'!AZ123=\"HABILITADO  TEMPORALMENTE A COMPETENCIAS FEI\"),\"\",+'V C AB'!AZ123),\"ERROR\")","v":"NO INICIA SU CLASIFICACIÓN"},{"$f":"IF(B125='V C AB'!B123,IF(+'V C AB'!AZ123=\"HABILITADO  TEMPORALMENTE A COMPETENCIAS FEI\",\"HABILITADO  TEMPORALMENTE A COMPETENCIAS FEI\",\"\"),\"ERROR\")","v":""}]
[{"$f":"IF(+'V C AB'!A124=\"\",\"\",'V C AB'!A124)","v":""},{"$f":"IF(+'V C AB'!B124=\"\",\"\",'V C AB'!B124)","v":"A065"},{"$f":"IF(+'V C AB'!C124=\"\",\"\",'V C AB'!C124)","v":"MENESES FELIPE"},{"$f":"IF(OR('V C AB'!AV124+'V C AB'!AW124>=2,AND('V C AB'!AV124+'V C AB'!AW124>=1,'V L AB'!AW124>=40),'V C AB'!AX124>=1),\"CLASIFICADO A 80 Km NOVICIOS\",\"\")","v":""},{"$f":"IF(C126='V C AB'!C124,IF(OR('V C AB'!AZ124=\"\",'V C AB'!AZ124=\"HABILITADO  TEMPORALMENTE A COMPETENCIAS FEI\"),\"\",+'V C AB'!AZ124),\"ERROR\")","v":"INICIO SU CLASIFICACIÓN"},{"$f":"IF(B126='V C AB'!B124,IF(+'V C AB'!AZ124=\"HABILITADO  TEMPORALMENTE A COMPETENCIAS FEI\",\"HABILITADO  TEMPORALMENTE A COMPETENCIAS FEI\",\"\"),\"ERROR\")","v":""}]
[{"$f":"IF(+'V C AB'!A125=\"\",\"\",'V C AB'!A125)","v":"C"},{"$f":"IF(+'V C AB'!B125=\"\",\"\",'V C AB'!B125)","v":"C"},{"$f":"IF(+'V C AB'!C125=\"\",\"\",'V C AB'!C125)","v":"MERISALDE  SANTIAGO"},{"$f":"IF(OR('V C AB'!AV125+'V C AB'!AW125>=2,AND('V C AB'!AV125+'V C AB'!AW125>=1,'V L AB'!AW125>=40),'V C AB'!AX125>=1),\"CLASIFICADO A 80 Km NOVICIOS\",\"\")","v":""},{"$f":"IF(C127='V C AB'!C125,IF(OR('V C AB'!AZ125=\"\",'V C AB'!AZ125=\"HABILITADO  TEMPORALMENTE A COMPETENCIAS FEI\"),\"\",+'V C AB'!AZ125),\"ERROR\")","v":"NO INICIA SU CLASIFICACIÓN"},{"$f":"IF(B127='V C AB'!B125,IF(+'V C AB'!AZ125=\"HABILITADO  TEMPORALMENTE A COMPETENCIAS FEI\",\"HABILITADO  TEMPORALMENTE A COMPETENCIAS FEI\",\"\"),\"ERROR\")","v":""}]
[{"$f":"IF(+'V C AB'!A126=\"\",\"\",'V C AB'!A126)","v":"C"},{"$f":"IF(+'V C AB'!B126=\"\",\"\",'V C AB'!B126)","v":"C"},{"$f":"IF(+'V C AB'!C126=\"\",\"\",'V C AB'!C126)","v":"MERIZALDE ANGELA"},{"$f":"IF(OR('V C AB'!AV126+'V C AB'!AW126>=2,AND('V C AB'!AV126+'V C AB'!AW126>=1,'V L AB'!AW126>=40),'V C AB'!AX126>=1),\"CLASIFICADO A 80 Km NOVICIOS\",\"\")","v":""},{"$f":"IF(C128='V C AB'!C126,IF(OR('V C AB'!AZ126=\"\",'V C AB'!AZ126=\"HABILITADO  TEMPORALMENTE A COMPETENCIAS FEI\"),\"\",+'V C AB'!AZ126),\"ERROR\")","v":"INICIO SU CLASIFICACIÓN"},{"$f":"IF(B128='V C AB'!B126,IF(+'V C AB'!AZ126=\"HABILITADO  TEMPORALMENTE A COMPETENCIAS FEI\",\"HABILITADO  TEMPORALMENTE A COMPETENCIAS FEI\",\"\"),\"ERROR\")","v":""}]
[{"$f":"IF(+'V C AB'!A127=\"\",\"\",'V C AB'!A127)","v":"A117"},{"$f":"IF(+'V C AB'!B127=\"\",\"\",'V C AB'!B127)","v":"A061"},{"$f":"IF(+'V C AB'!C127=\"\",\"\",'V C AB'!C127)","v":"MIÑO BENALCAZAR ROBERTO"},{"$f":"IF(OR('V C AB'!AV127+'V C AB'!AW127>=2,AND('V C AB'!AV127+'V C AB'!AW127>=1,'V L AB'!AW127>=40),'V C AB'!AX127>=1),\"CLASIFICADO A 80 Km NOVICIOS\",\"\")","v":"CLASIFICADO A 80 Km NOVICIOS"},{"$f":"IF(C129='V C AB'!C127,IF(OR('V C AB'!AZ127=\"\",'V C AB'!AZ127=\"HABILITADO  TEMPORALMENTE A COMPETENCIAS FEI\"),\"\",+'V C AB'!AZ127),\"ERROR\")","v":""},{"$f":"IF(B129='V C AB'!B127,IF(+'V C AB'!AZ127=\"HABILITADO  TEMPORALMENTE A COMPETENCIAS FEI\",\"HABILITADO  TEMPORALMENTE A COMPETENCIAS FEI\",\"\"),\"ERROR\")","v":"HABILITADO  TEMPORALMENTE A COMPETENCIAS FEI"}]
[{"$f":"IF(+'V C AB'!A128=\"\",\"\",'V C AB'!A128)","v":"J012"},{"$f":"IF(+'V C AB'!B128=\"\",\"\",'V C AB'!B128)","v":"A"},{"$f":"IF(+'V C AB'!C128=\"\",\"\",'V C AB'!C128)","v":"MOLESTINA NICOLAS"},{"$f":"IF(OR('V C AB'!AV128+'V C AB'!AW128>=2,AND('V C AB'!AV128+'V C AB'!AW128>=1,'V L AB'!AW128>=40),'V C AB'!AX128>=1),\"CLASIFICADO A 80 Km NOVICIOS\",\"\")","v":""},{"$f":"IF(C130='V C AB'!C128,IF(OR('V C AB'!AZ128=\"\",'V C AB'!AZ128=\"HABILITADO  TEMPORALMENTE A COMPETENCIAS FEI\"),\"\",+'V C AB'!AZ128),\"ERROR\")","v":"NO INICIA SU CLASIFICACIÓN"},{"$f":"IF(B130='V C AB'!B128,IF(+'V C AB'!AZ128=\"HABILITADO  TEMPORALMENTE A COMPETENCIAS FEI\",\"HABILITADO  TEMPORALMENTE A COMPETENCIAS FEI\",\"\"),\"ERROR\")","v":""}]
[{"$f":"IF(+'V C AB'!A129=\"\",\"\",'V C AB'!A129)","v":""},{"$f":"IF(+'V C AB'!B129=\"\",\"\",'V C AB'!B129)","v":"A030"},{"$f":"IF(+'V C AB'!C129=\"\",\"\",'V C AB'!C129)","v":"MONCAYO DANILO"},{"$f":"IF(OR('V C AB'!AV129+'V C AB'!AW129>=2,AND('V C AB'!AV129+'V C AB'!AW129>=1,'V L AB'!AW129>=40),'V C AB'!AX129>=1),\"CLASIFICADO A 80 Km NOVICIOS\",\"\")","v":""},{"$f":"IF(C131='V C AB'!C129,IF(OR('V C AB'!AZ129=\"\",'V C AB'!AZ129=\"HABILITADO  TEMPORALMENTE A COMPETENCIAS FEI\"),\"\",+'V C AB'!AZ129),\"ERROR\")","v":"INICIO SU CLASIFICACIÓN"},{"$f":"IF(B131='V C AB'!B129,IF(+'V C AB'!AZ129=\"HABILITADO  TEMPORALMENTE A COMPETENCIAS FEI\",\"HABILITADO  TEMPORALMENTE A COMPETENCIAS FEI\",\"\"),\"ERROR\")","v":""}]
[{"$f":"IF(+'V C AB'!A130=\"\",\"\",'V C AB'!A130)","v":""},{"$f":"IF(+'V C AB'!B130=\"\",\"\",'V C AB'!B130)","v":"A032"},{"$f":"IF(+'V C AB'!C130=\"\",\"\",'V C AB'!C130)","v":"MONCAYO JOSÉ MARTÍN"},{"$f":"IF(OR('V C AB'!AV130+'V C AB'!AW130>=2,AND('V C AB'!AV130+'V C AB'!AW130>=1,'V L AB'!AW130>=40),'V C AB'!AX130>=1),\"CLASIFICADO A 80 Km NOVICIOS\",\"\")","v":""},{"$f":"IF(C132='V C AB'!C130,IF(OR('V C AB'!AZ130=\"\",'V C AB'!AZ130=\"HABILITADO  TEMPORALMENTE A COMPETENCIAS FEI\"),\"\",+'V C AB'!AZ130),\"ERROR\")","v":"INICIO SU CLASIFICACIÓN"},{"$f":"IF(B132='V C AB'!B130,IF(+'V C AB'!AZ130=\"HABILITADO  TEMPORALMENTE A COMPETENCIAS FEI\",\"HABILITADO  TEMPORALMENTE A COMPETENCIAS FEI\",\"\"),\"ERROR\")","v":""}]
[{"$f":"IF(+'V C AB'!A131=\"\",\"\",'V C AB'!A131)","v":"A119"},{"$f":"IF(+'V C AB'!B131=\"\",\"\",'V C AB'!B131)","v":"A068"},{"$f":"IF(+'V C AB'!C131=\"\",\"\",'V C AB'!C131)","v":"MONROY BAROJA MARIA FERNANDA"},{"$f":"IF(OR('V C AB'!AV131+'V C AB'!AW131>=2,AND('V C AB'!AV131+'V C AB'!AW131>=1,'V L AB'!AW131>=40),'V C AB'!AX131>=1),\"CLASIFICADO A 80 Km NOVICIOS\",\"\")","v":"CLASIFICADO A 80 Km NOVICIOS"},{"$f":"IF(C133='V C AB'!C131,IF(OR('V C AB'!AZ131=\"\",'V C AB'!AZ131=\"HABILITADO  TEMPORALMENTE A COMPETENCIAS FEI\"),\"\",+'V C AB'!AZ131),\"ERROR\")","v":""},{"$f":"IF(B133='V C AB'!B131,IF(+'V C AB'!AZ131=\"HABILITADO  TEMPORALMENTE A COMPETENCIAS FEI\",\"HABILITADO  TEMPORALMENTE A COMPETENCIAS FEI\",\"\"),\"ERROR\")","v":"HABILITADO  TEMPORALMENTE A COMPETENCIAS FEI"}]
[{"$f":"IF(+'V C AB'!A132=\"\",\"\",'V C AB'!A132)","v":"A113"},{"$f":"IF(+'V C AB'!B132=\"\",\"\",'V C AB'!B132)","v":"A066"},{"$f":"IF(+'V C AB'!C132=\"\",\"\",'V C AB'!C132)","v":"MONROY BUITRON LUIS EDUARDO"},{"$f":"IF(OR('V C AB'!AV132+'V C AB'!AW132>=2,AND('V C AB'!AV132+'V C AB'!AW132>=1,'V L AB'!AW132>=40),'V C AB'!AX132>=1),\"CLASIFICADO A 80 Km NOVICIOS\",\"\")","v":"CLASIFICADO A 80 Km NOVICIOS"},{"$f":"IF(C134='V C AB'!C132,IF(OR('V C AB'!AZ132=\"\",'V C AB'!AZ132=\"HABILITADO  TEMPORALMENTE A COMPETENCIAS FEI\"),\"\",+'V C AB'!AZ132),\"ERROR\")","v":""},{"$f":"IF(B134='V C AB'!B132,IF(+'V C AB'!AZ132=\"HABILITADO  TEMPORALMENTE A COMPETENCIAS FEI\",\"HABILITADO  TEMPORALMENTE A COMPETENCIAS FEI\",\"\"),\"ERROR\")","v":"HABILITADO  TEMPORALMENTE A COMPETENCIAS FEI"}]
[{"$f":"IF(+'V C AB'!A133=\"\",\"\",'V C AB'!A133)","v":"A021"},{"$f":"IF(+'V C AB'!B133=\"\",\"\",'V C AB'!B133)","v":"A045"},{"$f":"IF(+'V C AB'!C133=\"\",\"\",'V C AB'!C133)","v":"MORABOWEN CESAR"},{"$f":"IF(OR('V C AB'!AV133+'V C AB'!AW133>=2,AND('V C AB'!AV133+'V C AB'!AW133>=1,'V L AB'!AW133>=40),'V C AB'!AX133>=1),\"CLASIFICADO A 80 Km NOVICIOS\",\"\")","v":"CLASIFICADO A 80 Km NOVICIOS"},{"$f":"IF(C135='V C AB'!C133,IF(OR('V C AB'!AZ133=\"\",'V C AB'!AZ133=\"HABILITADO  TEMPORALMENTE A COMPETENCIAS FEI\"),\"\",+'V C AB'!AZ133),\"ERROR\")","v":""},{"$f":"IF(B135='V C AB'!B133,IF(+'V C AB'!AZ133=\"HABILITADO  TEMPORALMENTE A COMPETENCIAS FEI\",\"HABILITADO  TEMPORALMENTE A COMPETENCIAS FEI\",\"\"),\"ERROR\")","v":"HABILITADO  TEMPORALMENTE A COMPETENCIAS FEI"}]
[{"$f":"IF(+'V C AB'!A134=\"\",\"\",'V C AB'!A134)","v":""},{"$f":"IF(+'V C AB'!B134=\"\",\"\",'V C AB'!B134)","v":"A165"},{"$f":"IF(+'V C AB'!C134=\"\",\"\",'V C AB'!C134)","v":"MORALES ANDRES"},{"$f":"IF(OR('V C AB'!AV134+'V C AB'!AW134>=2,AND('V C AB'!AV134+'V C AB'!AW134>=1,'V L AB'!AW134>=40),'V C AB'!AX134>=1),\"CLASIFICADO A 80 Km NOVICIOS\",\"\")","v":"CLASIFICADO A 80 Km NOVICIOS"},{"$f":"IF(C136='V C AB'!C134,IF(OR('V C AB'!AZ134=\"\",'V C AB'!AZ134=\"HABILITADO  TEMPORALMENTE A COMPETENCIAS FEI\"),\"\",+'V C AB'!AZ134),\"ERROR\")","v":"HABILITADO A 80KM VELOCIDAD CONTROLADA"},{"$f":"IF(B136='V C AB'!B134,IF(+'V C AB'!AZ134=\"HABILITADO  TEMPORALMENTE A COMPETENCIAS FEI\",\"HABILITADO  TEMPORALMENTE A COMPETENCIAS FEI\",\"\"),\"ERROR\")","v":""}]
[{"$f":"IF(+'V C AB'!A135=\"\",\"\",'V C AB'!A135)","v":"A033"},{"$f":"IF(+'V C AB'!B135=\"\",\"\",'V C AB'!B135)","v":"A084"},{"$f":"IF(+'V C AB'!C135=\"\",\"\",'V C AB'!C135)","v":"MORENO ANA MARIA"},{"$f":"IF(OR('V C AB'!AV135+'V C AB'!AW135>=2,AND('V C AB'!AV135+'V C AB'!AW135>=1,'V L AB'!AW135>=40),'V C AB'!AX135>=1),\"CLASIFICADO A 80 Km NOVICIOS\",\"\")","v":"CLASIFICADO A 80 Km NOVICIOS"},{"$f":"IF(C137='V C AB'!C135,IF(OR('V C AB'!AZ135=\"\",'V C AB'!AZ135=\"HABILITADO  TEMPORALMENTE A COMPETENCIAS FEI\"),\"\",+'V C AB'!AZ135),\"ERROR\")","v":"HABILITADO A 80KM VELOCIDAD CONTROLADA"},{"$f":"IF(B137='V C AB'!B135,IF(+'V C AB'!AZ135=\"HABILITADO  TEMPORALMENTE A COMPETENCIAS FEI\",\"HABILITADO  TEMPORALMENTE A COMPETENCIAS FEI\",\"\"),\"ERROR\")","v":""}]
[{"$f":"IF(+'V C AB'!A136=\"\",\"\",'V C AB'!A136)","v":"I018"},{"$f":"IF(+'V C AB'!B136=\"\",\"\",'V C AB'!B136)","v":"A069"},{"$f":"IF(+'V C AB'!C136=\"\",\"\",'V C AB'!C136)","v":"MORENO ANDRES"},{"$f":"IF(OR('V C AB'!AV136+'V C AB'!AW136>=2,AND('V C AB'!AV136+'V C AB'!AW136>=1,'V L AB'!AW136>=40),'V C AB'!AX136>=1),\"CLASIFICADO A 80 Km NOVICIOS\",\"\")","v":"CLASIFICADO A 80 Km NOVICIOS"},{"$f":"IF(C138='V C AB'!C136,IF(OR('V C AB'!AZ136=\"\",'V C AB'!AZ136=\"HABILITADO  TEMPORALMENTE A COMPETENCIAS FEI\"),\"\",+'V C AB'!AZ136),\"ERROR\")","v":"LE FALTA UNA DE 80 A 90 CONTROLADA"},{"$f":"IF(B138='V C AB'!B136,IF(+'V C AB'!AZ136=\"HABILITADO  TEMPORALMENTE A COMPETENCIAS FEI\",\"HABILITADO  TEMPORALMENTE A COMPETENCIAS FEI\",\"\"),\"ERROR\")","v":""}]
[{"$f":"IF(+'V C AB'!A137=\"\",\"\",'V C AB'!A137)","v":""},{"$f":"IF(+'V C AB'!B137=\"\",\"\",'V C AB'!B137)","v":"A"},{"$f":"IF(+'V C AB'!C137=\"\",\"\",'V C AB'!C137)","v":"MORENO CORDOVEZ ANDRES"},{"$f":"IF(OR('V C AB'!AV137+'V C AB'!AW137>=2,AND('V C AB'!AV137+'V C AB'!AW137>=1,'V L AB'!AW137>=40),'V C AB'!AX137>=1),\"CLASIFICADO A 80 Km NOVICIOS\",\"\")","v":""},{"$f":"IF(C139='V C AB'!C137,IF(OR('V C AB'!AZ137=\"\",'V C AB'!AZ137=\"HABILITADO  TEMPORALMENTE A COMPETENCIAS FEI\"),\"\",+'V C AB'!AZ137),\"ERROR\")","v":"NO INICIA SU CLASIFICACIÓN"},{"$f":"IF(B139='V C AB'!B137,IF(+'V C AB'!AZ137=\"HABILITADO  TEMPORALMENTE A COMPETENCIAS FEI\",\"HABILITADO  TEMPORALMENTE A COMPETENCIAS FEI\",\"\"),\"ERROR\")","v":""}]
[{"$f":"IF(+'V C AB'!A138=\"\",\"\",'V C AB'!A138)","v":"C"},{"$f":"IF(+'V C AB'!B138=\"\",\"\",'V C AB'!B138)","v":"A161"},{"$f":"IF(+'V C AB'!C138=\"\",\"\",'V C AB'!C138)","v":"MORENO PAUL"},{"$f":"IF(OR('V C AB'!AV138+'V C AB'!AW138>=2,AND('V C AB'!AV138+'V C AB'!AW138>=1,'V L AB'!AW138>=40),'V C AB'!AX138>=1),\"CLASIFICADO A 80 Km NOVICIOS\",\"\")","v":""},{"$f":"IF(C140='V C AB'!C138,IF(OR('V C AB'!AZ138=\"\",'V C AB'!AZ138=\"HABILITADO  TEMPORALMENTE A COMPETENCIAS FEI\"),\"\",+'V C AB'!AZ138),\"ERROR\")","v":"NO INICIA SU CLASIFICACIÓN"},{"$f":"IF(B140='V C AB'!B138,IF(+'V C AB'!AZ138=\"HABILITADO  TEMPORALMENTE A COMPETENCIAS FEI\",\"HABILITADO  TEMPORALMENTE A COMPETENCIAS FEI\",\"\"),\"ERROR\")","v":""}]
[{"$f":"IF(+'V C AB'!A139=\"\",\"\",'V C AB'!A139)","v":"A121"},{"$f":"IF(+'V C AB'!B139=\"\",\"\",'V C AB'!B139)","v":"A056"},{"$f":"IF(+'V C AB'!C139=\"\",\"\",'V C AB'!C139)","v":"MORILLO MAURICIO"},{"$f":"IF(OR('V C AB'!AV139+'V C AB'!AW139>=2,AND('V C AB'!AV139+'V C AB'!AW139>=1,'V L AB'!AW139>=40),'V C AB'!AX139>=1),\"CLASIFICADO A 80 Km NOVICIOS\",\"\")","v":"CLASIFICADO A 80 Km NOVICIOS"},{"$f":"IF(C141='V C AB'!C139,IF(OR('V C AB'!AZ139=\"\",'V C AB'!AZ139=\"HABILITADO  TEMPORALMENTE A COMPETENCIAS FEI\"),\"\",+'V C AB'!AZ139),\"ERROR\")","v":""},{"$f":"IF(B141='V C AB'!B139,IF(+'V C AB'!AZ139=\"HABILITADO  TEMPORALMENTE A COMPETENCIAS FEI\",\"HABILITADO  TEMPORALMENTE A COMPETENCIAS FEI\",\"\"),\"ERROR\")","v":"HABILITADO  TEMPORALMENTE A COMPETENCIAS FEI"}]
[{"$f":"IF(+'V C AB'!A140=\"\",\"\",'V C AB'!A140)","v":"C"},{"$f":"IF(+'V C AB'!B140=\"\",\"\",'V C AB'!B140)","v":"A148"},{"$f":"IF(+'V C AB'!C140=\"\",\"\",'V C AB'!C140)","v":"MUNOZ GARCIA RENATO ISMAEL"},{"$f":"IF(OR('V C AB'!AV140+'V C AB'!AW140>=2,AND('V C AB'!AV140+'V C AB'!AW140>=1,'V L AB'!AW140>=40),'V C AB'!AX140>=1),\"CLASIFICADO A 80 Km NOVICIOS\",\"\")","v":"CLASIFICADO A 80 Km NOVICIOS"},{"$f":"IF(C142='V C AB'!C140,IF(OR('V C AB'!AZ140=\"\",'V C AB'!AZ140=\"HABILITADO  TEMPORALMENTE A COMPETENCIAS FEI\"),\"\",+'V C AB'!AZ140),\"ERROR\")","v":"HABILITADO A 80KM VELOCIDAD CONTROLADA"},{"$f":"IF(B142='V C AB'!B140,IF(+'V C AB'!AZ140=\"HABILITADO  TEMPORALMENTE A COMPETENCIAS FEI\",\"HABILITADO  TEMPORALMENTE A COMPETENCIAS FEI\",\"\"),\"ERROR\")","v":""}]
[{"$f":"IF(+'V C AB'!A141=\"\",\"\",'V C AB'!A141)","v":"C"},{"$f":"IF(+'V C AB'!B141=\"\",\"\",'V C AB'!B141)","v":"A149"},{"$f":"IF(+'V C AB'!C141=\"\",\"\",'V C AB'!C141)","v":"MUÑOZ CALDERON RAUL ALBERTO"},{"$f":"IF(OR('V C AB'!AV141+'V C AB'!AW141>=2,AND('V C AB'!AV141+'V C AB'!AW141>=1,'V L AB'!AW141>=40),'V C AB'!AX141>=1),\"CLASIFICADO A 80 Km NOVICIOS\",\"\")","v":"CLASIFICADO A 80 Km NOVICIOS"},{"$f":"IF(C143='V C AB'!C141,IF(OR('V C AB'!AZ141=\"\",'V C AB'!AZ141=\"HABILITADO  TEMPORALMENTE A COMPETENCIAS FEI\"),\"\",+'V C AB'!AZ141),\"ERROR\")","v":"HABILITADO A 80KM VELOCIDAD CONTROLADA"},{"$f":"IF(B143='V C AB'!B141,IF(+'V C AB'!AZ141=\"HABILITADO  TEMPORALMENTE A COMPETENCIAS FEI\",\"HABILITADO  TEMPORALMENTE A COMPETENCIAS FEI\",\"\"),\"ERROR\")","v":""}]
[{"$f":"IF(+'V C AB'!A142=\"\",\"\",'V C AB'!A142)","v":""},{"$f":"IF(+'V C AB'!B142=\"\",\"\",'V C AB'!B142)","v":"A168"},{"$f":"IF(+'V C AB'!C142=\"\",\"\",'V C AB'!C142)","v":"MUÑOZ DENNY"},{"$f":"IF(OR('V C AB'!AV142+'V C AB'!AW142>=2,AND('V C AB'!AV142+'V C AB'!AW142>=1,'V L AB'!AW142>=40),'V C AB'!AX142>=1),\"CLASIFICADO A 80 Km NOVICIOS\",\"\")","v":""},{"$f":"IF(C144='V C AB'!C142,IF(OR('V C AB'!AZ142=\"\",'V C AB'!AZ142=\"HABILITADO  TEMPORALMENTE A COMPETENCIAS FEI\"),\"\",+'V C AB'!AZ142),\"ERROR\")","v":"NO INICIA SU CLASIFICACIÓN"},{"$f":"IF(B144='V C AB'!B142,IF(+'V C AB'!AZ142=\"HABILITADO  TEMPORALMENTE A COMPETENCIAS FEI\",\"HABILITADO  TEMPORALMENTE A COMPETENCIAS FEI\",\"\"),\"ERROR\")","v":""}]
[{"$f":"IF(+'V C AB'!A143=\"\",\"\",'V C AB'!A143)","v":""},{"$f":"IF(+'V C AB'!B143=\"\",\"\",'V C AB'!B143)","v":"A070"},{"$f":"IF(+'V C AB'!C143=\"\",\"\",'V C AB'!C143)","v":"NARANJO JOSE MARTIN"},{"$f":"IF(OR('V C AB'!AV143+'V C AB'!AW143>=2,AND('V C AB'!AV143+'V C AB'!AW143>=1,'V L AB'!AW143>=40),'V C AB'!AX143>=1),\"CLASIFICADO A 80 Km NOVICIOS\",\"\")","v":""},{"$f":"IF(C145='V C AB'!C143,IF(OR('V C AB'!AZ143=\"\",'V C AB'!AZ143=\"HABILITADO  TEMPORALMENTE A COMPETENCIAS FEI\"),\"\",+'V C AB'!AZ143),\"ERROR\")","v":"INICIO SU CLASIFICACIÓN"},{"$f":"IF(B145='V C AB'!B143,IF(+'V C AB'!AZ143=\"HABILITADO  TEMPORALMENTE A COMPETENCIAS FEI\",\"HABILITADO  TEMPORALMENTE A COMPETENCIAS FEI\",\"\"),\"ERROR\")","v":""}]
[{"$f":"IF(+'V C AB'!A144=\"\",\"\",'V C AB'!A144)","v":""},{"$f":"IF(+'V C AB'!B144=\"\",\"\",'V C AB'!B144)","v":"A"},{"$f":"IF(+'V C AB'!C144=\"\",\"\",'V C AB'!C144)","v":"NARANJO MUÑOZ ESTEBAN "},{"$f":"IF(OR('V C AB'!AV144+'V C AB'!AW144>=2,AND('V C AB'!AV144+'V C AB'!AW144>=1,'V L AB'!AW144>=40),'V C AB'!AX144>=1),\"CLASIFICADO A 80 Km NOVICIOS\",\"\")","v":""},{"$f":"IF(C146='V C AB'!C144,IF(OR('V C AB'!AZ144=\"\",'V C AB'!AZ144=\"HABILITADO  TEMPORALMENTE A COMPETENCIAS FEI\"),\"\",+'V C AB'!AZ144),\"ERROR\")","v":"NO INICIA SU CLASIFICACIÓN"},{"$f":"IF(B146='V C AB'!B144,IF(+'V C AB'!AZ144=\"HABILITADO  TEMPORALMENTE A COMPETENCIAS FEI\",\"HABILITADO  TEMPORALMENTE A COMPETENCIAS FEI\",\"\"),\"ERROR\")","v":""}]
[{"$f":"IF(+'V C AB'!A145=\"\",\"\",'V C AB'!A145)","v":""},{"$f":"IF(+'V C AB'!B145=\"\",\"\",'V C AB'!B145)","v":"A"},{"$f":"IF(+'V C AB'!C145=\"\",\"\",'V C AB'!C145)","v":"NAVAS MARÍA ALEJANDRA"},{"$f":"IF(OR('V C AB'!AV145+'V C AB'!AW145>=2,AND('V C AB'!AV145+'V C AB'!AW145>=1,'V L AB'!AW145>=40),'V C AB'!AX145>=1),\"CLASIFICADO A 80 Km NOVICIOS\",\"\")","v":""},{"$f":"IF(C147='V C AB'!C145,IF(OR('V C AB'!AZ145=\"\",'V C AB'!AZ145=\"HABILITADO  TEMPORALMENTE A COMPETENCIAS FEI\"),\"\",+'V C AB'!AZ145),\"ERROR\")","v":"NO INICIA SU CLASIFICACIÓN"},{"$f":"IF(B147='V C AB'!B145,IF(+'V C AB'!AZ145=\"HABILITADO  TEMPORALMENTE A COMPETENCIAS FEI\",\"HABILITADO  TEMPORALMENTE A COMPETENCIAS FEI\",\"\"),\"ERROR\")","v":""}]
[{"$f":"IF(+'V C AB'!A146=\"\",\"\",'V C AB'!A146)","v":"C"},{"$f":"IF(+'V C AB'!B146=\"\",\"\",'V C AB'!B146)","v":"A150"},{"$f":"IF(+'V C AB'!C146=\"\",\"\",'V C AB'!C146)","v":"NEIRA MALO MARTIN"},{"$f":"IF(OR('V C AB'!AV146+'V C AB'!AW146>=2,AND('V C AB'!AV146+'V C AB'!AW146>=1,'V L AB'!AW146>=40),'V C AB'!AX146>=1),\"CLASIFICADO A 80 Km NOVICIOS\",\"\")","v":"CLASIFICADO A 80 Km NOVICIOS"},{"$f":"IF(C148='V C AB'!C146,IF(OR('V C AB'!AZ146=\"\",'V C AB'!AZ146=\"HABILITADO  TEMPORALMENTE A COMPETENCIAS FEI\"),\"\",+'V C AB'!AZ146),\"ERROR\")","v":"HABILITADO A 80KM VELOCIDAD CONTROLADA"},{"$f":"IF(B148='V C AB'!B146,IF(+'V C AB'!AZ146=\"HABILITADO  TEMPORALMENTE A COMPETENCIAS FEI\",\"HABILITADO  TEMPORALMENTE A COMPETENCIAS FEI\",\"\"),\"ERROR\")","v":""}]
[{"$f":"IF(+'V C AB'!A147=\"\",\"\",'V C AB'!A147)","v":"A099"},{"$f":"IF(+'V C AB'!B147=\"\",\"\",'V C AB'!B147)","v":"A047"},{"$f":"IF(+'V C AB'!C147=\"\",\"\",'V C AB'!C147)","v":"NEUMANN KARINA"},{"$f":"IF(OR('V C AB'!AV147+'V C AB'!AW147>=2,AND('V C AB'!AV147+'V C AB'!AW147>=1,'V L AB'!AW147>=40),'V C AB'!AX147>=1),\"CLASIFICADO A 80 Km NOVICIOS\",\"\")","v":"CLASIFICADO A 80 Km NOVICIOS"},{"$f":"IF(C149='V C AB'!C147,IF(OR('V C AB'!AZ147=\"\",'V C AB'!AZ147=\"HABILITADO  TEMPORALMENTE A COMPETENCIAS FEI\"),\"\",+'V C AB'!AZ147),\"ERROR\")","v":""},{"$f":"IF(B149='V C AB'!B147,IF(+'V C AB'!AZ147=\"HABILITADO  TEMPORALMENTE A COMPETENCIAS FEI\",\"HABILITADO  TEMPORALMENTE A COMPETENCIAS FEI\",\"\"),\"ERROR\")","v":"HABILITADO  TEMPORALMENTE A COMPETENCIAS FEI"}]
[{"$f":"IF(+'V C AB'!A148=\"\",\"\",'V C AB'!A148)","v":""},{"$f":"IF(+'V C AB'!B148=\"\",\"\",'V C AB'!B148)","v":"A108"},{"$f":"IF(+'V C AB'!C148=\"\",\"\",'V C AB'!C148)","v":"NIETO JOSÉ LUIS"},{"$f":"IF(OR('V C AB'!AV148+'V C AB'!AW148>=2,AND('V C AB'!AV148+'V C AB'!AW148>=1,'V L AB'!AW148>=40),'V C AB'!AX148>=1),\"CLASIFICADO A 80 Km NOVICIOS\",\"\")","v":""},{"$f":"IF(C150='V C AB'!C148,IF(OR('V C AB'!AZ148=\"\",'V C AB'!AZ148=\"HABILITADO  TEMPORALMENTE A COMPETENCIAS FEI\"),\"\",+'V C AB'!AZ148),\"ERROR\")","v":"NO INICIA SU CLASIFICACIÓN"},{"$f":"IF(B150='V C AB'!B148,IF(+'V C AB'!AZ148=\"HABILITADO  TEMPORALMENTE A COMPETENCIAS FEI\",\"HABILITADO  TEMPORALMENTE A COMPETENCIAS FEI\",\"\"),\"ERROR\")","v":""}]
[{"$f":"IF(+'V C AB'!A149=\"\",\"\",'V C AB'!A149)","v":"A039"},{"$f":"IF(+'V C AB'!B149=\"\",\"\",'V C AB'!B149)","v":"A046"},{"$f":"IF(+'V C AB'!C149=\"\",\"\",'V C AB'!C149)","v":"NOBOA MAURICIO"},{"$f":"IF(OR('V C AB'!AV149+'V C AB'!AW149>=2,AND('V C AB'!AV149+'V C AB'!AW149>=1,'V L AB'!AW149>=40),'V C AB'!AX149>=1),\"CLASIFICADO A 80 Km NOVICIOS\",\"\")","v":"CLASIFICADO A 80 Km NOVICIOS"},{"$f":"IF(C151='V C AB'!C149,IF(OR('V C AB'!AZ149=\"\",'V C AB'!AZ149=\"HABILITADO  TEMPORALMENTE A COMPETENCIAS FEI\"),\"\",+'V C AB'!AZ149),\"ERROR\")","v":""},{"$f":"IF(B151='V C AB'!B149,IF(+'V C AB'!AZ149=\"HABILITADO  TEMPORALMENTE A COMPETENCIAS FEI\",\"HABILITADO  TEMPORALMENTE A COMPETENCIAS FEI\",\"\"),\"ERROR\")","v":"HABILITADO  TEMPORALMENTE A COMPETENCIAS FEI"}]
[{"$f":"IF(+'V C AB'!A150=\"\",\"\",'V C AB'!A150)","v":"A063"},{"$f":"IF(+'V C AB'!B150=\"\",\"\",'V C AB'!B150)","v":"A"},{"$f":"IF(+'V C AB'!C150=\"\",\"\",'V C AB'!C150)","v":"ORDONEZ FRANCISCO"},{"$f":"IF(OR('V C AB'!AV150+'V C AB'!AW150>=2,AND('V C AB'!AV150+'V C AB'!AW150>=1,'V L AB'!AW150>=40),'V C AB'!AX150>=1),\"CLASIFICADO A 80 Km NOVICIOS\",\"\")","v":"CLASIFICADO A 80 Km NOVICIOS"},{"$f":"IF(C152='V C AB'!C150,IF(OR('V C AB'!AZ150=\"\",'V C AB'!AZ150=\"HABILITADO  TEMPORALMENTE A COMPETENCIAS FEI\"),\"\",+'V C AB'!AZ150),\"ERROR\")","v":"HABILITADO A 80KM VELOCIDAD CONTROLADA"},{"$f":"IF(B152='V C AB'!B150,IF(+'V C AB'!AZ150=\"HABILITADO  TEMPORALMENTE A COMPETENCIAS FEI\",\"HABILITADO  TEMPORALMENTE A COMPETENCIAS FEI\",\"\"),\"ERROR\")","v":""}]
[{"$f":"IF(+'V C AB'!A151=\"\",\"\",'V C AB'!A151)","v":""},{"$f":"IF(+'V C AB'!B151=\"\",\"\",'V C AB'!B151)","v":"A089"},{"$f":"IF(+'V C AB'!C151=\"\",\"\",'V C AB'!C151)","v":"ORTIZ FERNANDO"},{"$f":"IF(OR('V C AB'!AV151+'V C AB'!AW151>=2,AND('V C AB'!AV151+'V C AB'!AW151>=1,'V L AB'!AW151>=40),'V C AB'!AX151>=1),\"CLASIFICADO A 80 Km NOVICIOS\",\"\")","v":""},{"$f":"IF(C153='V C AB'!C151,IF(OR('V C AB'!AZ151=\"\",'V C AB'!AZ151=\"HABILITADO  TEMPORALMENTE A COMPETENCIAS FEI\"),\"\",+'V C AB'!AZ151),\"ERROR\")","v":"INICIO SU CLASIFICACIÓN"},{"$f":"IF(B153='V C AB'!B151,IF(+'V C AB'!AZ151=\"HABILITADO  TEMPORALMENTE A COMPETENCIAS FEI\",\"HABILITADO  TEMPORALMENTE A COMPETENCIAS FEI\",\"\"),\"ERROR\")","v":""}]
[{"$f":"IF(+'V C AB'!A152=\"\",\"\",'V C AB'!A152)","v":"A161"},{"$f":"IF(+'V C AB'!B152=\"\",\"\",'V C AB'!B152)","v":"A008"},{"$f":"IF(+'V C AB'!C152=\"\",\"\",'V C AB'!C152)","v":"PAILACHO ANGEL"},{"$f":"IF(OR('V C AB'!AV152+'V C AB'!AW152>=2,AND('V C AB'!AV152+'V C AB'!AW152>=1,'V L AB'!AW152>=40),'V C AB'!AX152>=1),\"CLASIFICADO A 80 Km NOVICIOS\",\"\")","v":""},{"$f":"IF(C154='V C AB'!C152,IF(OR('V C AB'!AZ152=\"\",'V C AB'!AZ152=\"HABILITADO  TEMPORALMENTE A COMPETENCIAS FEI\"),\"\",+'V C AB'!AZ152),\"ERROR\")","v":"NO INICIA SU CLASIFICACIÓN"},{"$f":"IF(B154='V C AB'!B152,IF(+'V C AB'!AZ152=\"HABILITADO  TEMPORALMENTE A COMPETENCIAS FEI\",\"HABILITADO  TEMPORALMENTE A COMPETENCIAS FEI\",\"\"),\"ERROR\")","v":""}]
[{"$f":"IF(+'V C AB'!A153=\"\",\"\",'V C AB'!A153)","v":""},{"$f":"IF(+'V C AB'!B153=\"\",\"\",'V C AB'!B153)","v":"A090"},{"$f":"IF(+'V C AB'!C153=\"\",\"\",'V C AB'!C153)","v":"PAIMAN CAROLINA"},{"$f":"IF(OR('V C AB'!AV153+'V C AB'!AW153>=2,AND('V C AB'!AV153+'V C AB'!AW153>=1,'V L AB'!AW153>=40),'V C AB'!AX153>=1),\"CLASIFICADO A 80 Km NOVICIOS\",\"\")","v":""},{"$f":"IF(C155='V C AB'!C153,IF(OR('V C AB'!AZ153=\"\",'V C AB'!AZ153=\"HABILITADO  TEMPORALMENTE A COMPETENCIAS FEI\"),\"\",+'V C AB'!AZ153),\"ERROR\")","v":"INICIO SU CLASIFICACIÓN"},{"$f":"IF(B155='V C AB'!B153,IF(+'V C AB'!AZ153=\"HABILITADO  TEMPORALMENTE A COMPETENCIAS FEI\",\"HABILITADO  TEMPORALMENTE A COMPETENCIAS FEI\",\"\"),\"ERROR\")","v":""}]
[{"$f":"IF(+'V C AB'!A154=\"\",\"\",'V C AB'!A154)","v":"A130"},{"$f":"IF(+'V C AB'!B154=\"\",\"\",'V C AB'!B154)","v":"A120"},{"$f":"IF(+'V C AB'!C154=\"\",\"\",'V C AB'!C154)","v":"PALACIOS DANIEL"},{"$f":"IF(OR('V C AB'!AV154+'V C AB'!AW154>=2,AND('V C AB'!AV154+'V C AB'!AW154>=1,'V L AB'!AW154>=40),'V C AB'!AX154>=1),\"CLASIFICADO A 80 Km NOVICIOS\",\"\")","v":"CLASIFICADO A 80 Km NOVICIOS"},{"$f":"IF(C156='V C AB'!C154,IF(OR('V C AB'!AZ154=\"\",'V C AB'!AZ154=\"HABILITADO  TEMPORALMENTE A COMPETENCIAS FEI\"),\"\",+'V C AB'!AZ154),\"ERROR\")","v":"HABILITADO A 80KM VELOCIDAD CONTROLADA"},{"$f":"IF(B156='V C AB'!B154,IF(+'V C AB'!AZ154=\"HABILITADO  TEMPORALMENTE A COMPETENCIAS FEI\",\"HABILITADO  TEMPORALMENTE A COMPETENCIAS FEI\",\"\"),\"ERROR\")","v":""}]
[{"$f":"IF(+'V C AB'!A155=\"\",\"\",'V C AB'!A155)","v":"A022"},{"$f":"IF(+'V C AB'!B155=\"\",\"\",'V C AB'!B155)","v":"A"},{"$f":"IF(+'V C AB'!C155=\"\",\"\",'V C AB'!C155)","v":"PALLARES ALFREDO"},{"$f":"IF(OR('V C AB'!AV155+'V C AB'!AW155>=2,AND('V C AB'!AV155+'V C AB'!AW155>=1,'V L AB'!AW155>=40),'V C AB'!AX155>=1),\"CLASIFICADO A 80 Km NOVICIOS\",\"\")","v":"CLASIFICADO A 80 Km NOVICIOS"},{"$f":"IF(C157='V C AB'!C155,IF(OR('V C AB'!AZ155=\"\",'V C AB'!AZ155=\"HABILITADO  TEMPORALMENTE A COMPETENCIAS FEI\"),\"\",+'V C AB'!AZ155),\"ERROR\")","v":"HABILITADO A 80KM VELOCIDAD CONTROLADA"},{"$f":"IF(B157='V C AB'!B155,IF(+'V C AB'!AZ155=\"HABILITADO  TEMPORALMENTE A COMPETENCIAS FEI\",\"HABILITADO  TEMPORALMENTE A COMPETENCIAS FEI\",\"\"),\"ERROR\")","v":""}]
[{"$f":"IF(+'V C AB'!A156=\"\",\"\",'V C AB'!A156)","v":""},{"$f":"IF(+'V C AB'!B156=\"\",\"\",'V C AB'!B156)","v":"A077"},{"$f":"IF(+'V C AB'!C156=\"\",\"\",'V C AB'!C156)","v":"PANIZO PEDRO"},{"$f":"IF(OR('V C AB'!AV156+'V C AB'!AW156>=2,AND('V C AB'!AV156+'V C AB'!AW156>=1,'V L AB'!AW156>=40),'V C AB'!AX156>=1),\"CLASIFICADO A 80 Km NOVICIOS\",\"\")","v":""},{"$f":"IF(C158='V C AB'!C156,IF(OR('V C AB'!AZ156=\"\",'V C AB'!AZ156=\"HABILITADO  TEMPORALMENTE A COMPETENCIAS FEI\"),\"\",+'V C AB'!AZ156),\"ERROR\")","v":"INICIO SU CLASIFICACIÓN"},{"$f":"IF(B158='V C AB'!B156,IF(+'V C AB'!AZ156=\"HABILITADO  TEMPORALMENTE A COMPETENCIAS FEI\",\"HABILITADO  TEMPORALMENTE A COMPETENCIAS FEI\",\"\"),\"ERROR\")","v":""}]
[{"$f":"IF(+'V C AB'!A157=\"\",\"\",'V C AB'!A157)","v":"C"},{"$f":"IF(+'V C AB'!B157=\"\",\"\",'V C AB'!B157)","v":"A161"},{"$f":"IF(+'V C AB'!C157=\"\",\"\",'V C AB'!C157)","v":"PAUL MORENO"},{"$f":"IF(OR('V C AB'!AV157+'V C AB'!AW157>=2,AND('V C AB'!AV157+'V C AB'!AW157>=1,'V L AB'!AW157>=40),'V C AB'!AX157>=1),\"CLASIFICADO A 80 Km NOVICIOS\",\"\")","v":""},{"$f":"IF(C159='V C AB'!C157,IF(OR('V C AB'!AZ157=\"\",'V C AB'!AZ157=\"HABILITADO  TEMPORALMENTE A COMPETENCIAS FEI\"),\"\",+'V C AB'!AZ157),\"ERROR\")","v":"NO INICIA SU CLASIFICACIÓN"},{"$f":"IF(B159='V C AB'!B157,IF(+'V C AB'!AZ157=\"HABILITADO  TEMPORALMENTE A COMPETENCIAS FEI\",\"HABILITADO  TEMPORALMENTE A COMPETENCIAS FEI\",\"\"),\"ERROR\")","v":""}]
[{"$f":"IF(+'V C AB'!A158=\"\",\"\",'V C AB'!A158)","v":"A130"},{"$f":"IF(+'V C AB'!B158=\"\",\"\",'V C AB'!B158)","v":"A040"},{"$f":"IF(+'V C AB'!C158=\"\",\"\",'V C AB'!C158)","v":"PAZPUEZAN LUIS ALEXANDER"},{"$f":"IF(OR('V C AB'!AV158+'V C AB'!AW158>=2,AND('V C AB'!AV158+'V C AB'!AW158>=1,'V L AB'!AW158>=40),'V C AB'!AX158>=1),\"CLASIFICADO A 80 Km NOVICIOS\",\"\")","v":""},{"$f":"IF(C160='V C AB'!C158,IF(OR('V C AB'!AZ158=\"\",'V C AB'!AZ158=\"HABILITADO  TEMPORALMENTE A COMPETENCIAS FEI\"),\"\",+'V C AB'!AZ158),\"ERROR\")","v":"NO INICIA SU CLASIFICACIÓN"},{"$f":"IF(B160='V C AB'!B158,IF(+'V C AB'!AZ158=\"HABILITADO  TEMPORALMENTE A COMPETENCIAS FEI\",\"HABILITADO  TEMPORALMENTE A COMPETENCIAS FEI\",\"\"),\"ERROR\")","v":""}]
[{"$f":"IF(+'V C AB'!A159=\"\",\"\",'V C AB'!A159)","v":"C"},{"$f":"IF(+'V C AB'!B159=\"\",\"\",'V C AB'!B159)","v":"C"},{"$f":"IF(+'V C AB'!C159=\"\",\"\",'V C AB'!C159)","v":"PEÑA GARCIA LUIS ALBERTO"},{"$f":"IF(OR('V C AB'!AV159+'V C AB'!AW159>=2,AND('V C AB'!AV159+'V C AB'!AW159>=1,'V L AB'!AW159>=40),'V C AB'!AX159>=1),\"CLASIFICADO A 80 Km NOVICIOS\",\"\")","v":""},{"$f":"IF(C161='V C AB'!C159,IF(OR('V C AB'!AZ159=\"\",'V C AB'!AZ159=\"HABILITADO  TEMPORALMENTE A COMPETENCIAS FEI\"),\"\",+'V C AB'!AZ159),\"ERROR\")","v":"NO INICIA SU CLASIFICACIÓN"},{"$f":"IF(B161='V C AB'!B159,IF(+'V C AB'!AZ159=\"HABILITADO  TEMPORALMENTE A COMPETENCIAS FEI\",\"HABILITADO  TEMPORALMENTE A COMPETENCIAS FEI\",\"\"),\"ERROR\")","v":""}]
[{"$f":"IF(+'V C AB'!A160=\"\",\"\",'V C AB'!A160)","v":"C"},{"$f":"IF(+'V C AB'!B160=\"\",\"\",'V C AB'!B160)","v":"A151"},{"$f":"IF(+'V C AB'!C160=\"\",\"\",'V C AB'!C160)","v":"PERALTA VALERIA"},{"$f":"IF(OR('V C AB'!AV160+'V C AB'!AW160>=2,AND('V C AB'!AV160+'V C AB'!AW160>=1,'V L AB'!AW160>=40),'V C AB'!AX160>=1),\"CLASIFICADO A 80 Km NOVICIOS\",\"\")","v":"CLASIFICADO A 80 Km NOVICIOS"},{"$f":"IF(C162='V C AB'!C160,IF(OR('V C AB'!AZ160=\"\",'V C AB'!AZ160=\"HABILITADO  TEMPORALMENTE A COMPETENCIAS FEI\"),\"\",+'V C AB'!AZ160),\"ERROR\")","v":"HABILITADO A 80KM VELOCIDAD CONTROLADA"},{"$f":"IF(B162='V C AB'!B160,IF(+'V C AB'!AZ160=\"HABILITADO  TEMPORALMENTE A COMPETENCIAS FEI\",\"HABILITADO  TEMPORALMENTE A COMPETENCIAS FEI\",\"\"),\"ERROR\")","v":""}]
[{"$f":"IF(+'V C AB'!A161=\"\",\"\",'V C AB'!A161)","v":"A007"},{"$f":"IF(+'V C AB'!B161=\"\",\"\",'V C AB'!B161)","v":"A121"},{"$f":"IF(+'V C AB'!C161=\"\",\"\",'V C AB'!C161)","v":"PEREZ ARTETA IGNACIO"},{"$f":"IF(OR('V C AB'!AV161+'V C AB'!AW161>=2,AND('V C AB'!AV161+'V C AB'!AW161>=1,'V L AB'!AW161>=40),'V C AB'!AX161>=1),\"CLASIFICADO A 80 Km NOVICIOS\",\"\")","v":""},{"$f":"IF(C163='V C AB'!C161,IF(OR('V C AB'!AZ161=\"\",'V C AB'!AZ161=\"HABILITADO  TEMPORALMENTE A COMPETENCIAS FEI\"),\"\",+'V C AB'!AZ161),\"ERROR\")","v":"NO INICIA SU CLASIFICACIÓN"},{"$f":"IF(B163='V C AB'!B161,IF(+'V C AB'!AZ161=\"HABILITADO  TEMPORALMENTE A COMPETENCIAS FEI\",\"HABILITADO  TEMPORALMENTE A COMPETENCIAS FEI\",\"\"),\"ERROR\")","v":""}]
[{"$f":"IF(+'V C AB'!A162=\"\",\"\",'V C AB'!A162)","v":"A006"},{"$f":"IF(+'V C AB'!B162=\"\",\"\",'V C AB'!B162)","v":"A073"},{"$f":"IF(+'V C AB'!C162=\"\",\"\",'V C AB'!C162)","v":"PÉREZ CARMEN ALICIA"},{"$f":"IF(OR('V C AB'!AV162+'V C AB'!AW162>=2,AND('V C AB'!AV162+'V C AB'!AW162>=1,'V L AB'!AW162>=40),'V C AB'!AX162>=1),\"CLASIFICADO A 80 Km NOVICIOS\",\"\")","v":"CLASIFICADO A 80 Km NOVICIOS"},{"$f":"IF(C164='V C AB'!C162,IF(OR('V C AB'!AZ162=\"\",'V C AB'!AZ162=\"HABILITADO  TEMPORALMENTE A COMPETENCIAS FEI\"),\"\",+'V C AB'!AZ162),\"ERROR\")","v":"LE FALTA UNA DE 80 A 90 CONTROLADA"},{"$f":"IF(B164='V C AB'!B162,IF(+'V C AB'!AZ162=\"HABILITADO  TEMPORALMENTE A COMPETENCIAS FEI\",\"HABILITADO  TEMPORALMENTE A COMPETENCIAS FEI\",\"\"),\"ERROR\")","v":""}]
[{"$f":"IF(+'V C AB'!A163=\"\",\"\",'V C AB'!A163)","v":"A002"},{"$f":"IF(+'V C AB'!B163=\"\",\"\",'V C AB'!B163)","v":"A"},{"$f":"IF(+'V C AB'!C163=\"\",\"\",'V C AB'!C163)","v":"PEREZ FREILE IGNACIO"},{"$f":"IF(OR('V C AB'!AV163+'V C AB'!AW163>=2,AND('V C AB'!AV163+'V C AB'!AW163>=1,'V L AB'!AW163>=40),'V C AB'!AX163>=1),\"CLASIFICADO A 80 Km NOVICIOS\",\"\")","v":""},{"$f":"IF(C165='V C AB'!C163,IF(OR('V C AB'!AZ163=\"\",'V C AB'!AZ163=\"HABILITADO  TEMPORALMENTE A COMPETENCIAS FEI\"),\"\",+'V C AB'!AZ163),\"ERROR\")","v":"NO INICIA SU CLASIFICACIÓN"},{"$f":"IF(B165='V C AB'!B163,IF(+'V C AB'!AZ163=\"HABILITADO  TEMPORALMENTE A COMPETENCIAS FEI\",\"HABILITADO  TEMPORALMENTE A COMPETENCIAS FEI\",\"\"),\"ERROR\")","v":""}]
[{"$f":"IF(+'V C AB'!A164=\"\",\"\",'V C AB'!A164)","v":""},{"$f":"IF(+'V C AB'!B164=\"\",\"\",'V C AB'!B164)","v":"A042"},{"$f":"IF(+'V C AB'!C164=\"\",\"\",'V C AB'!C164)","v":"PINCHAO NOLBERTO"},{"$f":"IF(OR('V C AB'!AV164+'V C AB'!AW164>=2,AND('V C AB'!AV164+'V C AB'!AW164>=1,'V L AB'!AW164>=40),'V C AB'!AX164>=1),\"CLASIFICADO A 80 Km NOVICIOS\",\"\")","v":"CLASIFICADO A 80 Km NOVICIOS"},{"$f":"IF(C166='V C AB'!C164,IF(OR('V C AB'!AZ164=\"\",'V C AB'!AZ164=\"HABILITADO  TEMPORALMENTE A COMPETENCIAS FEI\"),\"\",+'V C AB'!AZ164),\"ERROR\")","v":""},{"$f":"IF(B166='V C AB'!B164,IF(+'V C AB'!AZ164=\"HABILITADO  TEMPORALMENTE A COMPETENCIAS FEI\",\"HABILITADO  TEMPORALMENTE A COMPETENCIAS FEI\",\"\"),\"ERROR\")","v":"HABILITADO  TEMPORALMENTE A COMPETENCIAS FEI"}]
[{"$f":"IF(+'V C AB'!A165=\"\",\"\",'V C AB'!A165)","v":""},{"$f":"IF(+'V C AB'!B165=\"\",\"\",'V C AB'!B165)","v":"A159"},{"$f":"IF(+'V C AB'!C165=\"\",\"\",'V C AB'!C165)","v":"PLUAS JUNIOR "},{"$f":"IF(OR('V C AB'!AV165+'V C AB'!AW165>=2,AND('V C AB'!AV165+'V C AB'!AW165>=1,'V L AB'!AW165>=40),'V C AB'!AX165>=1),\"CLASIFICADO A 80 Km NOVICIOS\",\"\")","v":""},{"$f":"IF(C167='V C AB'!C165,IF(OR('V C AB'!AZ165=\"\",'V C AB'!AZ165=\"HABILITADO  TEMPORALMENTE A COMPETENCIAS FEI\"),\"\",+'V C AB'!AZ165),\"ERROR\")","v":"NO INICIA SU CLASIFICACIÓN"},{"$f":"IF(B167='V C AB'!B165,IF(+'V C AB'!AZ165=\"HABILITADO  TEMPORALMENTE A COMPETENCIAS FEI\",\"HABILITADO  TEMPORALMENTE A COMPETENCIAS FEI\",\"\"),\"ERROR\")","v":""}]
[{"$f":"IF(+'V C AB'!A166=\"\",\"\",'V C AB'!A166)","v":"A015"},{"$f":"IF(+'V C AB'!B166=\"\",\"\",'V C AB'!B166)","v":"A"},{"$f":"IF(+'V C AB'!C166=\"\",\"\",'V C AB'!C166)","v":"POLANCO MARCO"},{"$f":"IF(OR('V C AB'!AV166+'V C AB'!AW166>=2,AND('V C AB'!AV166+'V C AB'!AW166>=1,'V L AB'!AW166>=40),'V C AB'!AX166>=1),\"CLASIFICADO A 80 Km NOVICIOS\",\"\")","v":""},{"$f":"IF(C168='V C AB'!C166,IF(OR('V C AB'!AZ166=\"\",'V C AB'!AZ166=\"HABILITADO  TEMPORALMENTE A COMPETENCIAS FEI\"),\"\",+'V C AB'!AZ166),\"ERROR\")","v":"NO INICIA SU CLASIFICACIÓN"},{"$f":"IF(B168='V C AB'!B166,IF(+'V C AB'!AZ166=\"HABILITADO  TEMPORALMENTE A COMPETENCIAS FEI\",\"HABILITADO  TEMPORALMENTE A COMPETENCIAS FEI\",\"\"),\"ERROR\")","v":""}]
[{"$f":"IF(+'V C AB'!A167=\"\",\"\",'V C AB'!A167)","v":""},{"$f":"IF(+'V C AB'!B167=\"\",\"\",'V C AB'!B167)","v":"A035"},{"$f":"IF(+'V C AB'!C167=\"\",\"\",'V C AB'!C167)","v":"PORTILLA FELIPE"},{"$f":"IF(OR('V C AB'!AV167+'V C AB'!AW167>=2,AND('V C AB'!AV167+'V C AB'!AW167>=1,'V L AB'!AW167>=40),'V C AB'!AX167>=1),\"CLASIFICADO A 80 Km NOVICIOS\",\"\")","v":"CLASIFICADO A 80 Km NOVICIOS"},{"$f":"IF(C169='V C AB'!C167,IF(OR('V C AB'!AZ167=\"\",'V C AB'!AZ167=\"HABILITADO  TEMPORALMENTE A COMPETENCIAS FEI\"),\"\",+'V C AB'!AZ167),\"ERROR\")","v":"HABILITADO A 80KM VELOCIDAD CONTROLADA"},{"$f":"IF(B169='V C AB'!B167,IF(+'V C AB'!AZ167=\"HABILITADO  TEMPORALMENTE A COMPETENCIAS FEI\",\"HABILITADO  TEMPORALMENTE A COMPETENCIAS FEI\",\"\"),\"ERROR\")","v":""}]
[{"$f":"IF(+'V C AB'!A168=\"\",\"\",'V C AB'!A168)","v":"C"},{"$f":"IF(+'V C AB'!B168=\"\",\"\",'V C AB'!B168)","v":"A152"},{"$f":"IF(+'V C AB'!C168=\"\",\"\",'V C AB'!C168)","v":"PRADO PRADO CAMILO FABIAN"},{"$f":"IF(OR('V C AB'!AV168+'V C AB'!AW168>=2,AND('V C AB'!AV168+'V C AB'!AW168>=1,'V L AB'!AW168>=40),'V C AB'!AX168>=1),\"CLASIFICADO A 80 Km NOVICIOS\",\"\")","v":"CLASIFICADO A 80 Km NOVICIOS"},{"$f":"IF(C170='V C AB'!C168,IF(OR('V C AB'!AZ168=\"\",'V C AB'!AZ168=\"HABILITADO  TEMPORALMENTE A COMPETENCIAS FEI\"),\"\",+'V C AB'!AZ168),\"ERROR\")","v":"HABILITADO A 80KM VELOCIDAD CONTROLADA"},{"$f":"IF(B170='V C AB'!B168,IF(+'V C AB'!AZ168=\"HABILITADO  TEMPORALMENTE A COMPETENCIAS FEI\",\"HABILITADO  TEMPORALMENTE A COMPETENCIAS FEI\",\"\"),\"ERROR\")","v":""}]
[{"$f":"IF(+'V C AB'!A169=\"\",\"\",'V C AB'!A169)","v":"A138"},{"$f":"IF(+'V C AB'!B169=\"\",\"\",'V C AB'!B169)","v":"A"},{"$f":"IF(+'V C AB'!C169=\"\",\"\",'V C AB'!C169)","v":"PROAÑO JOAQUIN"},{"$f":"IF(OR('V C AB'!AV169+'V C AB'!AW169>=2,AND('V C AB'!AV169+'V C AB'!AW169>=1,'V L AB'!AW169>=40),'V C AB'!AX169>=1),\"CLASIFICADO A 80 Km NOVICIOS\",\"\")","v":""},{"$f":"IF(C171='V C AB'!C169,IF(OR('V C AB'!AZ169=\"\",'V C AB'!AZ169=\"HABILITADO  TEMPORALMENTE A COMPETENCIAS FEI\"),\"\",+'V C AB'!AZ169),\"ERROR\")","v":"INICIO SU CLASIFICACIÓN"},{"$f":"IF(B171='V C AB'!B169,IF(+'V C AB'!AZ169=\"HABILITADO  TEMPORALMENTE A COMPETENCIAS FEI\",\"HABILITADO  TEMPORALMENTE A COMPETENCIAS FEI\",\"\"),\"ERROR\")","v":""}]
[{"$f":"IF(+'V C AB'!A170=\"\",\"\",'V C AB'!A170)","v":""},{"$f":"IF(+'V C AB'!B170=\"\",\"\",'V C AB'!B170)","v":"A"},{"$f":"IF(+'V C AB'!C170=\"\",\"\",'V C AB'!C170)","v":"PROAÑO JOSE ANTONIO"},{"$f":"IF(OR('V C AB'!AV170+'V C AB'!AW170>=2,AND('V C AB'!AV170+'V C AB'!AW170>=1,'V L AB'!AW170>=40),'V C AB'!AX170>=1),\"CLASIFICADO A 80 Km NOVICIOS\",\"\")","v":""},{"$f":"IF(C172='V C AB'!C170,IF(OR('V C AB'!AZ170=\"\",'V C AB'!AZ170=\"HABILITADO  TEMPORALMENTE A COMPETENCIAS FEI\"),\"\",+'V C AB'!AZ170),\"ERROR\")","v":"NO INICIA SU CLASIFICACIÓN"},{"$f":"IF(B172='V C AB'!B170,IF(+'V C AB'!AZ170=\"HABILITADO  TEMPORALMENTE A COMPETENCIAS FEI\",\"HABILITADO  TEMPORALMENTE A COMPETENCIAS FEI\",\"\"),\"ERROR\")","v":""}]
[{"$f":"IF(+'V C AB'!A171=\"\",\"\",'V C AB'!A171)","v":"A084"},{"$f":"IF(+'V C AB'!B171=\"\",\"\",'V C AB'!B171)","v":"A063"},{"$f":"IF(+'V C AB'!C171=\"\",\"\",'V C AB'!C171)","v":"QUIROZ ORLANDO"},{"$f":"IF(OR('V C AB'!AV171+'V C AB'!AW171>=2,AND('V C AB'!AV171+'V C AB'!AW171>=1,'V L AB'!AW171>=40),'V C AB'!AX171>=1),\"CLASIFICADO A 80 Km NOVICIOS\",\"\")","v":"CLASIFICADO A 80 Km NOVICIOS"},{"$f":"IF(C173='V C AB'!C171,IF(OR('V C AB'!AZ171=\"\",'V C AB'!AZ171=\"HABILITADO  TEMPORALMENTE A COMPETENCIAS FEI\"),\"\",+'V C AB'!AZ171),\"ERROR\")","v":"LE FALTA UNA DE 80 A 90 CONTROLADA"},{"$f":"IF(B173='V C AB'!B171,IF(+'V C AB'!AZ171=\"HABILITADO  TEMPORALMENTE A COMPETENCIAS FEI\",\"HABILITADO  TEMPORALMENTE A COMPETENCIAS FEI\",\"\"),\"ERROR\")","v":""}]
[{"$f":"IF(+'V C AB'!A172=\"\",\"\",'V C AB'!A172)","v":""},{"$f":"IF(+'V C AB'!B172=\"\",\"\",'V C AB'!B172)","v":"A177"},{"$f":"IF(+'V C AB'!C172=\"\",\"\",'V C AB'!C172)","v":"RAMIREZ FABRICIO"},{"$f":"IF(OR('V C AB'!AV172+'V C AB'!AW172>=2,AND('V C AB'!AV172+'V C AB'!AW172>=1,'V L AB'!AW172>=40),'V C AB'!AX172>=1),\"CLASIFICADO A 80 Km NOVICIOS\",\"\")","v":"CLASIFICADO A 80 Km NOVICIOS"},{"$f":"IF(C174='V C AB'!C172,IF(OR('V C AB'!AZ172=\"\",'V C AB'!AZ172=\"HABILITADO  TEMPORALMENTE A COMPETENCIAS FEI\"),\"\",+'V C AB'!AZ172),\"ERROR\")","v":"HABILITADO A 80KM VELOCIDAD CONTROLADA"},{"$f":"IF(B174='V C AB'!B172,IF(+'V C AB'!AZ172=\"HABILITADO  TEMPORALMENTE A COMPETENCIAS FEI\",\"HABILITADO  TEMPORALMENTE A COMPETENCIAS FEI\",\"\"),\"ERROR\")","v":""}]
[{"$f":"IF(+'V C AB'!A173=\"\",\"\",'V C AB'!A173)","v":""},{"$f":"IF(+'V C AB'!B173=\"\",\"\",'V C AB'!B173)","v":"A024"},{"$f":"IF(+'V C AB'!C173=\"\",\"\",'V C AB'!C173)","v":"RECALDE GALO"},{"$f":"IF(OR('V C AB'!AV173+'V C AB'!AW173>=2,AND('V C AB'!AV173+'V C AB'!AW173>=1,'V L AB'!AW173>=40),'V C AB'!AX173>=1),\"CLASIFICADO A 80 Km NOVICIOS\",\"\")","v":"CLASIFICADO A 80 Km NOVICIOS"},{"$f":"IF(C175='V C AB'!C173,IF(OR('V C AB'!AZ173=\"\",'V C AB'!AZ173=\"HABILITADO  TEMPORALMENTE A COMPETENCIAS FEI\"),\"\",+'V C AB'!AZ173),\"ERROR\")","v":"HABILITADO A 80KM VELOCIDAD CONTROLADA"},{"$f":"IF(B175='V C AB'!B173,IF(+'V C AB'!AZ173=\"HABILITADO  TEMPORALMENTE A COMPETENCIAS FEI\",\"HABILITADO  TEMPORALMENTE A COMPETENCIAS FEI\",\"\"),\"ERROR\")","v":""}]
[{"$f":"IF(+'V C AB'!A174=\"\",\"\",'V C AB'!A174)","v":"A106"},{"$f":"IF(+'V C AB'!B174=\"\",\"\",'V C AB'!B174)","v":"A060"},{"$f":"IF(+'V C AB'!C174=\"\",\"\",'V C AB'!C174)","v":"RECALDE JUAN JOSE"},{"$f":"IF(OR('V C AB'!AV174+'V C AB'!AW174>=2,AND('V C AB'!AV174+'V C AB'!AW174>=1,'V L AB'!AW174>=40),'V C AB'!AX174>=1),\"CLASIFICADO A 80 Km NOVICIOS\",\"\")","v":"CLASIFICADO A 80 Km NOVICIOS"},{"$f":"IF(C176='V C AB'!C174,IF(OR('V C AB'!AZ174=\"\",'V C AB'!AZ174=\"HABILITADO  TEMPORALMENTE A COMPETENCIAS FEI\"),\"\",+'V C AB'!AZ174),\"ERROR\")","v":""},{"$f":"IF(B176='V C AB'!B174,IF(+'V C AB'!AZ174=\"HABILITADO  TEMPORALMENTE A COMPETENCIAS FEI\",\"HABILITADO  TEMPORALMENTE A COMPETENCIAS FEI\",\"\"),\"ERROR\")","v":"HABILITADO  TEMPORALMENTE A COMPETENCIAS FEI"}]
[{"$f":"IF(+'V C AB'!A175=\"\",\"\",'V C AB'!A175)","v":""},{"$f":"IF(+'V C AB'!B175=\"\",\"\",'V C AB'!B175)","v":"A173"},{"$f":"IF(+'V C AB'!C175=\"\",\"\",'V C AB'!C175)","v":"REIVAN GORDILLO JHONZON VINICIO"},{"$f":"IF(OR('V C AB'!AV175+'V C AB'!AW175>=2,AND('V C AB'!AV175+'V C AB'!AW175>=1,'V L AB'!AW175>=40),'V C AB'!AX175>=1),\"CLASIFICADO A 80 Km NOVICIOS\",\"\")","v":""},{"$f":"IF(C177='V C AB'!C175,IF(OR('V C AB'!AZ175=\"\",'V C AB'!AZ175=\"HABILITADO  TEMPORALMENTE A COMPETENCIAS FEI\"),\"\",+'V C AB'!AZ175),\"ERROR\")","v":"INICIO SU CLASIFICACIÓN"},{"$f":"IF(B177='V C AB'!B175,IF(+'V C AB'!AZ175=\"HABILITADO  TEMPORALMENTE A COMPETENCIAS FEI\",\"HABILITADO  TEMPORALMENTE A COMPETENCIAS FEI\",\"\"),\"ERROR\")","v":""}]
[{"$f":"IF(+'V C AB'!A176=\"\",\"\",'V C AB'!A176)","v":""},{"$f":"IF(+'V C AB'!B176=\"\",\"\",'V C AB'!B176)","v":"A104"},{"$f":"IF(+'V C AB'!C176=\"\",\"\",'V C AB'!C176)","v":"REYES JUAN GABRIEL"},{"$f":"IF(OR('V C AB'!AV176+'V C AB'!AW176>=2,AND('V C AB'!AV176+'V C AB'!AW176>=1,'V L AB'!AW176>=40),'V C AB'!AX176>=1),\"CLASIFICADO A 80 Km NOVICIOS\",\"\")","v":""},{"$f":"IF(C178='V C AB'!C176,IF(OR('V C AB'!AZ176=\"\",'V C AB'!AZ176=\"HABILITADO  TEMPORALMENTE A COMPETENCIAS FEI\"),\"\",+'V C AB'!AZ176),\"ERROR\")","v":"NO INICIA SU CLASIFICACIÓN"},{"$f":"IF(B178='V C AB'!B176,IF(+'V C AB'!AZ176=\"HABILITADO  TEMPORALMENTE A COMPETENCIAS FEI\",\"HABILITADO  TEMPORALMENTE A COMPETENCIAS FEI\",\"\"),\"ERROR\")","v":""}]
[{"$f":"IF(+'V C AB'!A177=\"\",\"\",'V C AB'!A177)","v":"A013"},{"$f":"IF(+'V C AB'!B177=\"\",\"\",'V C AB'!B177)","v":"A058"},{"$f":"IF(+'V C AB'!C177=\"\",\"\",'V C AB'!C177)","v":"RIBADENEIRA ARTURO"},{"$f":"IF(OR('V C AB'!AV177+'V C AB'!AW177>=2,AND('V C AB'!AV177+'V C AB'!AW177>=1,'V L AB'!AW177>=40),'V C AB'!AX177>=1),\"CLASIFICADO A 80 Km NOVICIOS\",\"\")","v":"CLASIFICADO A 80 Km NOVICIOS"},{"$f":"IF(C179='V C AB'!C177,IF(OR('V C AB'!AZ177=\"\",'V C AB'!AZ177=\"HABILITADO  TEMPORALMENTE A COMPETENCIAS FEI\"),\"\",+'V C AB'!AZ177),\"ERROR\")","v":"LE FALTA UNA DE 80 A 90 CONTROLADA"},{"$f":"IF(B179='V C AB'!B177,IF(+'V C AB'!AZ177=\"HABILITADO  TEMPORALMENTE A COMPETENCIAS FEI\",\"HABILITADO  TEMPORALMENTE A COMPETENCIAS FEI\",\"\"),\"ERROR\")","v":""}]
[{"$f":"IF(+'V C AB'!A178=\"\",\"\",'V C AB'!A178)","v":"A065"},{"$f":"IF(+'V C AB'!B178=\"\",\"\",'V C AB'!B178)","v":"A017"},{"$f":"IF(+'V C AB'!C178=\"\",\"\",'V C AB'!C178)","v":"RIBADENEIRA SANTIAGO"},{"$f":"IF(OR('V C AB'!AV178+'V C AB'!AW178>=2,AND('V C AB'!AV178+'V C AB'!AW178>=1,'V L AB'!AW178>=40),'V C AB'!AX178>=1),\"CLASIFICADO A 80 Km NOVICIOS\",\"\")","v":""},{"$f":"IF(C180='V C AB'!C178,IF(OR('V C AB'!AZ178=\"\",'V C AB'!AZ178=\"HABILITADO  TEMPORALMENTE A COMPETENCIAS FEI\"),\"\",+'V C AB'!AZ178),\"ERROR\")","v":"NO INICIA SU CLASIFICACIÓN"},{"$f":"IF(B180='V C AB'!B178,IF(+'V C AB'!AZ178=\"HABILITADO  TEMPORALMENTE A COMPETENCIAS FEI\",\"HABILITADO  TEMPORALMENTE A COMPETENCIAS FEI\",\"\"),\"ERROR\")","v":""}]
[{"$f":"IF(+'V C AB'!A179=\"\",\"\",'V C AB'!A179)","v":"A060"},{"$f":"IF(+'V C AB'!B179=\"\",\"\",'V C AB'!B179)","v":"A028"},{"$f":"IF(+'V C AB'!C179=\"\",\"\",'V C AB'!C179)","v":"RICAURTE JUAN MARTIN"},{"$f":"IF(OR('V C AB'!AV179+'V C AB'!AW179>=2,AND('V C AB'!AV179+'V C AB'!AW179>=1,'V L AB'!AW179>=40),'V C AB'!AX179>=1),\"CLASIFICADO A 80 Km NOVICIOS\",\"\")","v":""},{"$f":"IF(C181='V C AB'!C179,IF(OR('V C AB'!AZ179=\"\",'V C AB'!AZ179=\"HABILITADO  TEMPORALMENTE A COMPETENCIAS FEI\"),\"\",+'V C AB'!AZ179),\"ERROR\")","v":"NO INICIA SU CLASIFICACIÓN"},{"$f":"IF(B181='V C AB'!B179,IF(+'V C AB'!AZ179=\"HABILITADO  TEMPORALMENTE A COMPETENCIAS FEI\",\"HABILITADO  TEMPORALMENTE A COMPETENCIAS FEI\",\"\"),\"ERROR\")","v":""}]
[{"$f":"IF(+'V C AB'!A180=\"\",\"\",'V C AB'!A180)","v":""},{"$f":"IF(+'V C AB'!B180=\"\",\"\",'V C AB'!B180)","v":"A116"},{"$f":"IF(+'V C AB'!C180=\"\",\"\",'V C AB'!C180)","v":"ROLDAN FABIAN"},{"$f":"IF(OR('V C AB'!AV180+'V C AB'!AW180>=2,AND('V C AB'!AV180+'V C AB'!AW180>=1,'V L AB'!AW180>=40),'V C AB'!AX180>=1),\"CLASIFICADO A 80 Km NOVICIOS\",\"\")","v":""},{"$f":"IF(C182='V C AB'!C180,IF(OR('V C AB'!AZ180=\"\",'V C AB'!AZ180=\"HABILITADO  TEMPORALMENTE A COMPETENCIAS FEI\"),\"\",+'V C AB'!AZ180),\"ERROR\")","v":"INICIO SU CLASIFICACIÓN"},{"$f":"IF(B182='V C AB'!B180,IF(+'V C AB'!AZ180=\"HABILITADO  TEMPORALMENTE A COMPETENCIAS FEI\",\"HABILITADO  TEMPORALMENTE A COMPETENCIAS FEI\",\"\"),\"ERROR\")","v":""}]
[{"$f":"IF(+'V C AB'!A181=\"\",\"\",'V C AB'!A181)","v":"A051"},{"$f":"IF(+'V C AB'!B181=\"\",\"\",'V C AB'!B181)","v":"A"},{"$f":"IF(+'V C AB'!C181=\"\",\"\",'V C AB'!C181)","v":"ROMO ALFONSO"},{"$f":"IF(OR('V C AB'!AV181+'V C AB'!AW181>=2,AND('V C AB'!AV181+'V C AB'!AW181>=1,'V L AB'!AW181>=40),'V C AB'!AX181>=1),\"CLASIFICADO A 80 Km NOVICIOS\",\"\")","v":""},{"$f":"IF(C183='V C AB'!C181,IF(OR('V C AB'!AZ181=\"\",'V C AB'!AZ181=\"HABILITADO  TEMPORALMENTE A COMPETENCIAS FEI\"),\"\",+'V C AB'!AZ181),\"ERROR\")","v":"NO INICIA SU CLASIFICACIÓN"},{"$f":"IF(B183='V C AB'!B181,IF(+'V C AB'!AZ181=\"HABILITADO  TEMPORALMENTE A COMPETENCIAS FEI\",\"HABILITADO  TEMPORALMENTE A COMPETENCIAS FEI\",\"\"),\"ERROR\")","v":""}]
[{"$f":"IF(+'V C AB'!A182=\"\",\"\",'V C AB'!A182)","v":"A055"},{"$f":"IF(+'V C AB'!B182=\"\",\"\",'V C AB'!B182)","v":"A"},{"$f":"IF(+'V C AB'!C182=\"\",\"\",'V C AB'!C182)","v":"ROMO DIEGO"},{"$f":"IF(OR('V C AB'!AV182+'V C AB'!AW182>=2,AND('V C AB'!AV182+'V C AB'!AW182>=1,'V L AB'!AW182>=40),'V C AB'!AX182>=1),\"CLASIFICADO A 80 Km NOVICIOS\",\"\")","v":""},{"$f":"IF(C184='V C AB'!C182,IF(OR('V C AB'!AZ182=\"\",'V C AB'!AZ182=\"HABILITADO  TEMPORALMENTE A COMPETENCIAS FEI\"),\"\",+'V C AB'!AZ182),\"ERROR\")","v":"NO INICIA SU CLASIFICACIÓN"},{"$f":"IF(B184='V C AB'!B182,IF(+'V C AB'!AZ182=\"HABILITADO  TEMPORALMENTE A COMPETENCIAS FEI\",\"HABILITADO  TEMPORALMENTE A COMPETENCIAS FEI\",\"\"),\"ERROR\")","v":""}]
[{"$f":"IF(+'V C AB'!A183=\"\",\"\",'V C AB'!A183)","v":"A136"},{"$f":"IF(+'V C AB'!B183=\"\",\"\",'V C AB'!B183)","v":"A044"},{"$f":"IF(+'V C AB'!C183=\"\",\"\",'V C AB'!C183)","v":"RUIZ ILIANA"},{"$f":"IF(OR('V C AB'!AV183+'V C AB'!AW183>=2,AND('V C AB'!AV183+'V C AB'!AW183>=1,'V L AB'!AW183>=40),'V C AB'!AX183>=1),\"CLASIFICADO A 80 Km NOVICIOS\",\"\")","v":"CLASIFICADO A 80 Km NOVICIOS"},{"$f":"IF(C185='V C AB'!C183,IF(OR('V C AB'!AZ183=\"\",'V C AB'!AZ183=\"HABILITADO  TEMPORALMENTE A COMPETENCIAS FEI\"),\"\",+'V C AB'!AZ183),\"ERROR\")","v":"HABILITADO A 80KM VELOCIDAD CONTROLADA"},{"$f":"IF(B185='V C AB'!B183,IF(+'V C AB'!AZ183=\"HABILITADO  TEMPORALMENTE A COMPETENCIAS FEI\",\"HABILITADO  TEMPORALMENTE A COMPETENCIAS FEI\",\"\"),\"ERROR\")","v":""}]
[{"$f":"IF(+'V C AB'!A184=\"\",\"\",'V C AB'!A184)","v":""},{"$f":"IF(+'V C AB'!B184=\"\",\"\",'V C AB'!B184)","v":"A"},{"$f":"IF(+'V C AB'!C184=\"\",\"\",'V C AB'!C184)","v":"SABALA DANIEL"},{"$f":"IF(OR('V C AB'!AV184+'V C AB'!AW184>=2,AND('V C AB'!AV184+'V C AB'!AW184>=1,'V L AB'!AW184>=40),'V C AB'!AX184>=1),\"CLASIFICADO A 80 Km NOVICIOS\",\"\")","v":""},{"$f":"IF(C186='V C AB'!C184,IF(OR('V C AB'!AZ184=\"\",'V C AB'!AZ184=\"HABILITADO  TEMPORALMENTE A COMPETENCIAS FEI\"),\"\",+'V C AB'!AZ184),\"ERROR\")","v":"NO INICIA SU CLASIFICACIÓN"},{"$f":"IF(B186='V C AB'!B184,IF(+'V C AB'!AZ184=\"HABILITADO  TEMPORALMENTE A COMPETENCIAS FEI\",\"HABILITADO  TEMPORALMENTE A COMPETENCIAS FEI\",\"\"),\"ERROR\")","v":""}]
[{"$f":"IF(+'V C AB'!A185=\"\",\"\",'V C AB'!A185)","v":""},{"$f":"IF(+'V C AB'!B185=\"\",\"\",'V C AB'!B185)","v":"A098"},{"$f":"IF(+'V C AB'!C185=\"\",\"\",'V C AB'!C185)","v":"SALAZAR ROSA VICTORIA"},{"$f":"IF(OR('V C AB'!AV185+'V C AB'!AW185>=2,AND('V C AB'!AV185+'V C AB'!AW185>=1,'V L AB'!AW185>=40),'V C AB'!AX185>=1),\"CLASIFICADO A 80 Km NOVICIOS\",\"\")","v":"CLASIFICADO A 80 Km NOVICIOS"},{"$f":"IF(C187='V C AB'!C185,IF(OR('V C AB'!AZ185=\"\",'V C AB'!AZ185=\"HABILITADO  TEMPORALMENTE A COMPETENCIAS FEI\"),\"\",+'V C AB'!AZ185),\"ERROR\")","v":"HABILITADO A 80KM VELOCIDAD CONTROLADA"},{"$f":"IF(B187='V C AB'!B185,IF(+'V C AB'!AZ185=\"HABILITADO  TEMPORALMENTE A COMPETENCIAS FEI\",\"HABILITADO  TEMPORALMENTE A COMPETENCIAS FEI\",\"\"),\"ERROR\")","v":""}]
[{"$f":"IF(+'V C AB'!A186=\"\",\"\",'V C AB'!A186)","v":"C"},{"$f":"IF(+'V C AB'!B186=\"\",\"\",'V C AB'!B186)","v":"A153"},{"$f":"IF(+'V C AB'!C186=\"\",\"\",'V C AB'!C186)","v":"SALINAS HERRERA CARLOS"},{"$f":"IF(OR('V C AB'!AV186+'V C AB'!AW186>=2,AND('V C AB'!AV186+'V C AB'!AW186>=1,'V L AB'!AW186>=40),'V C AB'!AX186>=1),\"CLASIFICADO A 80 Km NOVICIOS\",\"\")","v":""},{"$f":"IF(C188='V C AB'!C186,IF(OR('V C AB'!AZ186=\"\",'V C AB'!AZ186=\"HABILITADO  TEMPORALMENTE A COMPETENCIAS FEI\"),\"\",+'V C AB'!AZ186),\"ERROR\")","v":"INICIO SU CLASIFICACIÓN"},{"$f":"IF(B188='V C AB'!B186,IF(+'V C AB'!AZ186=\"HABILITADO  TEMPORALMENTE A COMPETENCIAS FEI\",\"HABILITADO  TEMPORALMENTE A COMPETENCIAS FEI\",\"\"),\"ERROR\")","v":""}]
[{"$f":"IF(+'V C AB'!A187=\"\",\"\",'V C AB'!A187)","v":""},{"$f":"IF(+'V C AB'!B187=\"\",\"\",'V C AB'!B187)","v":"A123"},{"$f":"IF(+'V C AB'!C187=\"\",\"\",'V C AB'!C187)","v":"SAMPER ALVARO"},{"$f":"IF(OR('V C AB'!AV187+'V C AB'!AW187>=2,AND('V C AB'!AV187+'V C AB'!AW187>=1,'V L AB'!AW187>=40),'V C AB'!AX187>=1),\"CLASIFICADO A 80 Km NOVICIOS\",\"\")","v":"CLASIFICADO A 80 Km NOVICIOS"},{"$f":"IF(C189='V C AB'!C187,IF(OR('V C AB'!AZ187=\"\",'V C AB'!AZ187=\"HABILITADO  TEMPORALMENTE A COMPETENCIAS FEI\"),\"\",+'V C AB'!AZ187),\"ERROR\")","v":"HABILITADO A 80KM VELOCIDAD CONTROLADA"},{"$f":"IF(B189='V C AB'!B187,IF(+'V C AB'!AZ187=\"HABILITADO  TEMPORALMENTE A COMPETENCIAS FEI\",\"HABILITADO  TEMPORALMENTE A COMPETENCIAS FEI\",\"\"),\"ERROR\")","v":""}]
[{"$f":"IF(+'V C AB'!A188=\"\",\"\",'V C AB'!A188)","v":""},{"$f":"IF(+'V C AB'!B188=\"\",\"\",'V C AB'!B188)","v":"A111"},{"$f":"IF(+'V C AB'!C188=\"\",\"\",'V C AB'!C188)","v":"SÁNCHEZ DENYS"},{"$f":"IF(OR('V C AB'!AV188+'V C AB'!AW188>=2,AND('V C AB'!AV188+'V C AB'!AW188>=1,'V L AB'!AW188>=40),'V C AB'!AX188>=1),\"CLASIFICADO A 80 Km NOVICIOS\",\"\")","v":""},{"$f":"IF(C190='V C AB'!C188,IF(OR('V C AB'!AZ188=\"\",'V C AB'!AZ188=\"HABILITADO  TEMPORALMENTE A COMPETENCIAS FEI\"),\"\",+'V C AB'!AZ188),\"ERROR\")","v":"NO INICIA SU CLASIFICACIÓN"},{"$f":"IF(B190='V C AB'!B188,IF(+'V C AB'!AZ188=\"HABILITADO  TEMPORALMENTE A COMPETENCIAS FEI\",\"HABILITADO  TEMPORALMENTE A COMPETENCIAS FEI\",\"\"),\"ERROR\")","v":""}]
[{"$f":"IF(+'V C AB'!A189=\"\",\"\",'V C AB'!A189)","v":""},{"$f":"IF(+'V C AB'!B189=\"\",\"\",'V C AB'!B189)","v":"A169"},{"$f":"IF(+'V C AB'!C189=\"\",\"\",'V C AB'!C189)","v":"SANCHEZ VEGA SANTIAGO"},{"$f":"IF(OR('V C AB'!AV189+'V C AB'!AW189>=2,AND('V C AB'!AV189+'V C AB'!AW189>=1,'V L AB'!AW189>=40),'V C AB'!AX189>=1),\"CLASIFICADO A 80 Km NOVICIOS\",\"\")","v":"CLASIFICADO A 80 Km NOVICIOS"},{"$f":"IF(C191='V C AB'!C189,IF(OR('V C AB'!AZ189=\"\",'V C AB'!AZ189=\"HABILITADO  TEMPORALMENTE A COMPETENCIAS FEI\"),\"\",+'V C AB'!AZ189),\"ERROR\")","v":"HABILITADO A 80KM VELOCIDAD CONTROLADA"},{"$f":"IF(B191='V C AB'!B189,IF(+'V C AB'!AZ189=\"HABILITADO  TEMPORALMENTE A COMPETENCIAS FEI\",\"HABILITADO  TEMPORALMENTE A COMPETENCIAS FEI\",\"\"),\"ERROR\")","v":""}]
[{"$f":"IF(+'V C AB'!A190=\"\",\"\",'V C AB'!A190)","v":""},{"$f":"IF(+'V C AB'!B190=\"\",\"\",'V C AB'!B190)","v":"A115"},{"$f":"IF(+'V C AB'!C190=\"\",\"\",'V C AB'!C190)","v":"SANTANA VELÁSQUEZ GEOVANNY"},{"$f":"IF(OR('V C AB'!AV190+'V C AB'!AW190>=2,AND('V C AB'!AV190+'V C AB'!AW190>=1,'V L AB'!AW190>=40),'V C AB'!AX190>=1),\"CLASIFICADO A 80 Km NOVICIOS\",\"\")","v":""},{"$f":"IF(C192='V C AB'!C190,IF(OR('V C AB'!AZ190=\"\",'V C AB'!AZ190=\"HABILITADO  TEMPORALMENTE A COMPETENCIAS FEI\"),\"\",+'V C AB'!AZ190),\"ERROR\")","v":"NO INICIA SU CLASIFICACIÓN"},{"$f":"IF(B192='V C AB'!B190,IF(+'V C AB'!AZ190=\"HABILITADO  TEMPORALMENTE A COMPETENCIAS FEI\",\"HABILITADO  TEMPORALMENTE A COMPETENCIAS FEI\",\"\"),\"ERROR\")","v":""}]
[{"$f":"IF(+'V C AB'!A191=\"\",\"\",'V C AB'!A191)","v":""},{"$f":"IF(+'V C AB'!B191=\"\",\"\",'V C AB'!B191)","v":"A033"},{"$f":"IF(+'V C AB'!C191=\"\",\"\",'V C AB'!C191)","v":"SERRANO ARMANDO JOSE"},{"$f":"IF(OR('V C AB'!AV191+'V C AB'!AW191>=2,AND('V C AB'!AV191+'V C AB'!AW191>=1,'V L AB'!AW191>=40),'V C AB'!AX191>=1),\"CLASIFICADO A 80 Km NOVICIOS\",\"\")","v":"CLASIFICADO A 80 Km NOVICIOS"},{"$f":"IF(C193='V C AB'!C191,IF(OR('V C AB'!AZ191=\"\",'V C AB'!AZ191=\"HABILITADO  TEMPORALMENTE A COMPETENCIAS FEI\"),\"\",+'V C AB'!AZ191),\"ERROR\")","v":"LE FALTA UNA DE 80 A 90 CONTROLADA"},{"$f":"IF(B193='V C AB'!B191,IF(+'V C AB'!AZ191=\"HABILITADO  TEMPORALMENTE A COMPETENCIAS FEI\",\"HABILITADO  TEMPORALMENTE A COMPETENCIAS FEI\",\"\"),\"ERROR\")","v":""}]
[{"$f":"IF(+'V C AB'!A192=\"\",\"\",'V C AB'!A192)","v":"J032"},{"$f":"IF(+'V C AB'!B192=\"\",\"\",'V C AB'!B192)","v":"A"},{"$f":"IF(+'V C AB'!C192=\"\",\"\",'V C AB'!C192)","v":"SERRANO FELIPE"},{"$f":"IF(OR('V C AB'!AV192+'V C AB'!AW192>=2,AND('V C AB'!AV192+'V C AB'!AW192>=1,'V L AB'!AW192>=40),'V C AB'!AX192>=1),\"CLASIFICADO A 80 Km NOVICIOS\",\"\")","v":""},{"$f":"IF(C194='V C AB'!C192,IF(OR('V C AB'!AZ192=\"\",'V C AB'!AZ192=\"HABILITADO  TEMPORALMENTE A COMPETENCIAS FEI\"),\"\",+'V C AB'!AZ192),\"ERROR\")","v":"NO INICIA SU CLASIFICACIÓN"},{"$f":"IF(B194='V C AB'!B192,IF(+'V C AB'!AZ192=\"HABILITADO  TEMPORALMENTE A COMPETENCIAS FEI\",\"HABILITADO  TEMPORALMENTE A COMPETENCIAS FEI\",\"\"),\"ERROR\")","v":""}]
[{"$f":"IF(+'V C AB'!A193=\"\",\"\",'V C AB'!A193)","v":"A003"},{"$f":"IF(+'V C AB'!B193=\"\",\"\",'V C AB'!B193)","v":"A023"},{"$f":"IF(+'V C AB'!C193=\"\",\"\",'V C AB'!C193)","v":"SERRANO JUAN CARLOS"},{"$f":"IF(OR('V C AB'!AV193+'V C AB'!AW193>=2,AND('V C AB'!AV193+'V C AB'!AW193>=1,'V L AB'!AW193>=40),'V C AB'!AX193>=1),\"CLASIFICADO A 80 Km NOVICIOS\",\"\")","v":"CLASIFICADO A 80 Km NOVICIOS"},{"$f":"IF(C195='V C AB'!C193,IF(OR('V C AB'!AZ193=\"\",'V C AB'!AZ193=\"HABILITADO  TEMPORALMENTE A COMPETENCIAS FEI\"),\"\",+'V C AB'!AZ193),\"ERROR\")","v":"LE FALTA UNA DE 80 A 90 CONTROLADA"},{"$f":"IF(B195='V C AB'!B193,IF(+'V C AB'!AZ193=\"HABILITADO  TEMPORALMENTE A COMPETENCIAS FEI\",\"HABILITADO  TEMPORALMENTE A COMPETENCIAS FEI\",\"\"),\"ERROR\")","v":""}]
[{"$f":"IF(+'V C AB'!A194=\"\",\"\",'V C AB'!A194)","v":"A011"},{"$f":"IF(+'V C AB'!B194=\"\",\"\",'V C AB'!B194)","v":"A"},{"$f":"IF(+'V C AB'!C194=\"\",\"\",'V C AB'!C194)","v":"SIMBAÑA FRANCISCO JOSÉ"},{"$f":"IF(OR('V C AB'!AV194+'V C AB'!AW194>=2,AND('V C AB'!AV194+'V C AB'!AW194>=1,'V L AB'!AW194>=40),'V C AB'!AX194>=1),\"CLASIFICADO A 80 Km NOVICIOS\",\"\")","v":""},{"$f":"IF(C196='V C AB'!C194,IF(OR('V C AB'!AZ194=\"\",'V C AB'!AZ194=\"HABILITADO  TEMPORALMENTE A COMPETENCIAS FEI\"),\"\",+'V C AB'!AZ194),\"ERROR\")","v":"NO INICIA SU CLASIFICACIÓN"},{"$f":"IF(B196='V C AB'!B194,IF(+'V C AB'!AZ194=\"HABILITADO  TEMPORALMENTE A COMPETENCIAS FEI\",\"HABILITADO  TEMPORALMENTE A COMPETENCIAS FEI\",\"\"),\"ERROR\")","v":""}]
[{"$f":"IF(+'V C AB'!A195=\"\",\"\",'V C AB'!A195)","v":"A005"},{"$f":"IF(+'V C AB'!B195=\"\",\"\",'V C AB'!B195)","v":"A"},{"$f":"IF(+'V C AB'!C195=\"\",\"\",'V C AB'!C195)","v":"TAYO SANDRA"},{"$f":"IF(OR('V C AB'!AV195+'V C AB'!AW195>=2,AND('V C AB'!AV195+'V C AB'!AW195>=1,'V L AB'!AW195>=40),'V C AB'!AX195>=1),\"CLASIFICADO A 80 Km NOVICIOS\",\"\")","v":""},{"$f":"IF(C197='V C AB'!C195,IF(OR('V C AB'!AZ195=\"\",'V C AB'!AZ195=\"HABILITADO  TEMPORALMENTE A COMPETENCIAS FEI\"),\"\",+'V C AB'!AZ195),\"ERROR\")","v":"INICIO SU CLASIFICACIÓN"},{"$f":"IF(B197='V C AB'!B195,IF(+'V C AB'!AZ195=\"HABILITADO  TEMPORALMENTE A COMPETENCIAS FEI\",\"HABILITADO  TEMPORALMENTE A COMPETENCIAS FEI\",\"\"),\"ERROR\")","v":""}]
[{"$f":"IF(+'V C AB'!A196=\"\",\"\",'V C AB'!A196)","v":"C"},{"$f":"IF(+'V C AB'!B196=\"\",\"\",'V C AB'!B196)","v":"C"},{"$f":"IF(+'V C AB'!C196=\"\",\"\",'V C AB'!C196)","v":"TEJADA ALBERTO"},{"$f":"IF(OR('V C AB'!AV196+'V C AB'!AW196>=2,AND('V C AB'!AV196+'V C AB'!AW196>=1,'V L AB'!AW196>=40),'V C AB'!AX196>=1),\"CLASIFICADO A 80 Km NOVICIOS\",\"\")","v":""},{"$f":"IF(C198='V C AB'!C196,IF(OR('V C AB'!AZ196=\"\",'V C AB'!AZ196=\"HABILITADO  TEMPORALMENTE A COMPETENCIAS FEI\"),\"\",+'V C AB'!AZ196),\"ERROR\")","v":"NO INICIA SU CLASIFICACIÓN"},{"$f":"IF(B198='V C AB'!B196,IF(+'V C AB'!AZ196=\"HABILITADO  TEMPORALMENTE A COMPETENCIAS FEI\",\"HABILITADO  TEMPORALMENTE A COMPETENCIAS FEI\",\"\"),\"ERROR\")","v":""}]
[{"$f":"IF(+'V C AB'!A197=\"\",\"\",'V C AB'!A197)","v":""},{"$f":"IF(+'V C AB'!B197=\"\",\"\",'V C AB'!B197)","v":"A"},{"$f":"IF(+'V C AB'!C197=\"\",\"\",'V C AB'!C197)","v":"TERAN TORO BAYARDO "},{"$f":"IF(OR('V C AB'!AV197+'V C AB'!AW197>=2,AND('V C AB'!AV197+'V C AB'!AW197>=1,'V L AB'!AW197>=40),'V C AB'!AX197>=1),\"CLASIFICADO A 80 Km NOVICIOS\",\"\")","v":""},{"$f":"IF(C199='V C AB'!C197,IF(OR('V C AB'!AZ197=\"\",'V C AB'!AZ197=\"HABILITADO  TEMPORALMENTE A COMPETENCIAS FEI\"),\"\",+'V C AB'!AZ197),\"ERROR\")","v":"NO INICIA SU CLASIFICACIÓN"},{"$f":"IF(B199='V C AB'!B197,IF(+'V C AB'!AZ197=\"HABILITADO  TEMPORALMENTE A COMPETENCIAS FEI\",\"HABILITADO  TEMPORALMENTE A COMPETENCIAS FEI\",\"\"),\"ERROR\")","v":""}]
[{"$f":"IF(+'V C AB'!A198=\"\",\"\",'V C AB'!A198)","v":"A018"},{"$f":"IF(+'V C AB'!B198=\"\",\"\",'V C AB'!B198)","v":"A"},{"$f":"IF(+'V C AB'!C198=\"\",\"\",'V C AB'!C198)","v":"TIMPE LUIS ANDRES"},{"$f":"IF(OR('V C AB'!AV198+'V C AB'!AW198>=2,AND('V C AB'!AV198+'V C AB'!AW198>=1,'V L AB'!AW198>=40),'V C AB'!AX198>=1),\"CLASIFICADO A 80 Km NOVICIOS\",\"\")","v":""},{"$f":"IF(C200='V C AB'!C198,IF(OR('V C AB'!AZ198=\"\",'V C AB'!AZ198=\"HABILITADO  TEMPORALMENTE A COMPETENCIAS FEI\"),\"\",+'V C AB'!AZ198),\"ERROR\")","v":"NO INICIA SU CLASIFICACIÓN"},{"$f":"IF(B200='V C AB'!B198,IF(+'V C AB'!AZ198=\"HABILITADO  TEMPORALMENTE A COMPETENCIAS FEI\",\"HABILITADO  TEMPORALMENTE A COMPETENCIAS FEI\",\"\"),\"ERROR\")","v":""}]
[{"$f":"IF(+'V C AB'!A199=\"\",\"\",'V C AB'!A199)","v":"A086"},{"$f":"IF(+'V C AB'!B199=\"\",\"\",'V C AB'!B199)","v":"A117"},{"$f":"IF(+'V C AB'!C199=\"\",\"\",'V C AB'!C199)","v":"TOBAR MONCAYO MATEO"},{"$f":"IF(OR('V C AB'!AV199+'V C AB'!AW199>=2,AND('V C AB'!AV199+'V C AB'!AW199>=1,'V L AB'!AW199>=40),'V C AB'!AX199>=1),\"CLASIFICADO A 80 Km NOVICIOS\",\"\")","v":"CLASIFICADO A 80 Km NOVICIOS"},{"$f":"IF(C201='V C AB'!C199,IF(OR('V C AB'!AZ199=\"\",'V C AB'!AZ199=\"HABILITADO  TEMPORALMENTE A COMPETENCIAS FEI\"),\"\",+'V C AB'!AZ199),\"ERROR\")","v":"HABILITADO A 80KM VELOCIDAD CONTROLADA"},{"$f":"IF(B201='V C AB'!B199,IF(+'V C AB'!AZ199=\"HABILITADO  TEMPORALMENTE A COMPETENCIAS FEI\",\"HABILITADO  TEMPORALMENTE A COMPETENCIAS FEI\",\"\"),\"ERROR\")","v":""}]
[{"$f":"IF(+'V C AB'!A200=\"\",\"\",'V C AB'!A200)","v":"C"},{"$f":"IF(+'V C AB'!B200=\"\",\"\",'V C AB'!B200)","v":"A154"},{"$f":"IF(+'V C AB'!C200=\"\",\"\",'V C AB'!C200)","v":"TORAL ANA MARIA"},{"$f":"IF(OR('V C AB'!AV200+'V C AB'!AW200>=2,AND('V C AB'!AV200+'V C AB'!AW200>=1,'V L AB'!AW200>=40),'V C AB'!AX200>=1),\"CLASIFICADO A 80 Km NOVICIOS\",\"\")","v":"CLASIFICADO A 80 Km NOVICIOS"},{"$f":"IF(C202='V C AB'!C200,IF(OR('V C AB'!AZ200=\"\",'V C AB'!AZ200=\"HABILITADO  TEMPORALMENTE A COMPETENCIAS FEI\"),\"\",+'V C AB'!AZ200),\"ERROR\")","v":"HABILITADO A 80KM VELOCIDAD CONTROLADA"},{"$f":"IF(B202='V C AB'!B200,IF(+'V C AB'!AZ200=\"HABILITADO  TEMPORALMENTE A COMPETENCIAS FEI\",\"HABILITADO  TEMPORALMENTE A COMPETENCIAS FEI\",\"\"),\"ERROR\")","v":""}]
[{"$f":"IF(+'V C AB'!A201=\"\",\"\",'V C AB'!A201)","v":"C"},{"$f":"IF(+'V C AB'!B201=\"\",\"\",'V C AB'!B201)","v":"A155"},{"$f":"IF(+'V C AB'!C201=\"\",\"\",'V C AB'!C201)","v":"TORAL GUERRERO JUAN DIEGO"},{"$f":"IF(OR('V C AB'!AV201+'V C AB'!AW201>=2,AND('V C AB'!AV201+'V C AB'!AW201>=1,'V L AB'!AW201>=40),'V C AB'!AX201>=1),\"CLASIFICADO A 80 Km NOVICIOS\",\"\")","v":"CLASIFICADO A 80 Km NOVICIOS"},{"$f":"IF(C203='V C AB'!C201,IF(OR('V C AB'!AZ201=\"\",'V C AB'!AZ201=\"HABILITADO  TEMPORALMENTE A COMPETENCIAS FEI\"),\"\",+'V C AB'!AZ201),\"ERROR\")","v":"HABILITADO A 80KM VELOCIDAD CONTROLADA"},{"$f":"IF(B203='V C AB'!B201,IF(+'V C AB'!AZ201=\"HABILITADO  TEMPORALMENTE A COMPETENCIAS FEI\",\"HABILITADO  TEMPORALMENTE A COMPETENCIAS FEI\",\"\"),\"ERROR\")","v":""}]
[{"$f":"IF(+'V C AB'!A202=\"\",\"\",'V C AB'!A202)","v":""},{"$f":"IF(+'V C AB'!B202=\"\",\"\",'V C AB'!B202)","v":"A170"},{"$f":"IF(+'V C AB'!C202=\"\",\"\",'V C AB'!C202)","v":"TORRES JOSUE"},{"$f":"IF(OR('V C AB'!AV202+'V C AB'!AW202>=2,AND('V C AB'!AV202+'V C AB'!AW202>=1,'V L AB'!AW202>=40),'V C AB'!AX202>=1),\"CLASIFICADO A 80 Km NOVICIOS\",\"\")","v":""},{"$f":"IF(C204='V C AB'!C202,IF(OR('V C AB'!AZ202=\"\",'V C AB'!AZ202=\"HABILITADO  TEMPORALMENTE A COMPETENCIAS FEI\"),\"\",+'V C AB'!AZ202),\"ERROR\")","v":"INICIO SU CLASIFICACIÓN"},{"$f":"IF(B204='V C AB'!B202,IF(+'V C AB'!AZ202=\"HABILITADO  TEMPORALMENTE A COMPETENCIAS FEI\",\"HABILITADO  TEMPORALMENTE A COMPETENCIAS FEI\",\"\"),\"ERROR\")","v":""}]
[{"$f":"IF(+'V C AB'!A203=\"\",\"\",'V C AB'!A203)","v":"A016"},{"$f":"IF(+'V C AB'!B203=\"\",\"\",'V C AB'!B203)","v":"A019"},{"$f":"IF(+'V C AB'!C203=\"\",\"\",'V C AB'!C203)","v":"TORRES VLADIMIRO"},{"$f":"IF(OR('V C AB'!AV203+'V C AB'!AW203>=2,AND('V C AB'!AV203+'V C AB'!AW203>=1,'V L AB'!AW203>=40),'V C AB'!AX203>=1),\"CLASIFICADO A 80 Km NOVICIOS\",\"\")","v":"CLASIFICADO A 80 Km NOVICIOS"},{"$f":"IF(C205='V C AB'!C203,IF(OR('V C AB'!AZ203=\"\",'V C AB'!AZ203=\"HABILITADO  TEMPORALMENTE A COMPETENCIAS FEI\"),\"\",+'V C AB'!AZ203),\"ERROR\")","v":""},{"$f":"IF(B205='V C AB'!B203,IF(+'V C AB'!AZ203=\"HABILITADO  TEMPORALMENTE A COMPETENCIAS FEI\",\"HABILITADO  TEMPORALMENTE A COMPETENCIAS FEI\",\"\"),\"ERROR\")","v":"HABILITADO  TEMPORALMENTE A COMPETENCIAS FEI"}]
[{"$f":"IF(+'V C AB'!A204=\"\",\"\",'V C AB'!A204)","v":"A097"},{"$f":"IF(+'V C AB'!B204=\"\",\"\",'V C AB'!B204)","v":"A"},{"$f":"IF(+'V C AB'!C204=\"\",\"\",'V C AB'!C204)","v":"TRUEBA VICTORIA"},{"$f":"IF(OR('V C AB'!AV204+'V C AB'!AW204>=2,AND('V C AB'!AV204+'V C AB'!AW204>=1,'V L AB'!AW204>=40),'V C AB'!AX204>=1),\"CLASIFICADO A 80 Km NOVICIOS\",\"\")","v":""},{"$f":"IF(C206='V C AB'!C204,IF(OR('V C AB'!AZ204=\"\",'V C AB'!AZ204=\"HABILITADO  TEMPORALMENTE A COMPETENCIAS FEI\"),\"\",+'V C AB'!AZ204),\"ERROR\")","v":"NO INICIA SU CLASIFICACIÓN"},{"$f":"IF(B206='V C AB'!B204,IF(+'V C AB'!AZ204=\"HABILITADO  TEMPORALMENTE A COMPETENCIAS FEI\",\"HABILITADO  TEMPORALMENTE A COMPETENCIAS FEI\",\"\"),\"ERROR\")","v":""}]
[{"$f":"IF(+'V C AB'!A205=\"\",\"\",'V C AB'!A205)","v":""},{"$f":"IF(+'V C AB'!B205=\"\",\"\",'V C AB'!B205)","v":"A085"},{"$f":"IF(+'V C AB'!C205=\"\",\"\",'V C AB'!C205)","v":"URIBE CARLOS JOSE"},{"$f":"IF(OR('V C AB'!AV205+'V C AB'!AW205>=2,AND('V C AB'!AV205+'V C AB'!AW205>=1,'V L AB'!AW205>=40),'V C AB'!AX205>=1),\"CLASIFICADO A 80 Km NOVICIOS\",\"\")","v":"CLASIFICADO A 80 Km NOVICIOS"},{"$f":"IF(C207='V C AB'!C205,IF(OR('V C AB'!AZ205=\"\",'V C AB'!AZ205=\"HABILITADO  TEMPORALMENTE A COMPETENCIAS FEI\"),\"\",+'V C AB'!AZ205),\"ERROR\")","v":""},{"$f":"IF(B207='V C AB'!B205,IF(+'V C AB'!AZ205=\"HABILITADO  TEMPORALMENTE A COMPETENCIAS FEI\",\"HABILITADO  TEMPORALMENTE A COMPETENCIAS FEI\",\"\"),\"ERROR\")","v":"HABILITADO  TEMPORALMENTE A COMPETENCIAS FEI"}]
[{"$f":"IF(+'V C AB'!A206=\"\",\"\",'V C AB'!A206)","v":""},{"$f":"IF(+'V C AB'!B206=\"\",\"\",'V C AB'!B206)","v":"A"},{"$f":"IF(+'V C AB'!C206=\"\",\"\",'V C AB'!C206)","v":"VALDEZ ESTEBAN"},{"$f":"IF(OR('V C AB'!AV206+'V C AB'!AW206>=2,AND('V C AB'!AV206+'V C AB'!AW206>=1,'V L AB'!AW206>=40),'V C AB'!AX206>=1),\"CLASIFICADO A 80 Km NOVICIOS\",\"\")","v":""},{"$f":"IF(C208='V C AB'!C206,IF(OR('V C AB'!AZ206=\"\",'V C AB'!AZ206=\"HABILITADO  TEMPORALMENTE A COMPETENCIAS FEI\"),\"\",+'V C AB'!AZ206),\"ERROR\")","v":"NO INICIA SU CLASIFICACIÓN"},{"$f":"IF(B208='V C AB'!B206,IF(+'V C AB'!AZ206=\"HABILITADO  TEMPORALMENTE A COMPETENCIAS FEI\",\"HABILITADO  TEMPORALMENTE A COMPETENCIAS FEI\",\"\"),\"ERROR\")","v":""}]
[{"$f":"IF(+'V C AB'!A207=\"\",\"\",'V C AB'!A207)","v":"C"},{"$f":"IF(+'V C AB'!B207=\"\",\"\",'V C AB'!B207)","v":"A156"},{"$f":"IF(+'V C AB'!C207=\"\",\"\",'V C AB'!C207)","v":"VALDIVIESO ISABEL"},{"$f":"IF(OR('V C AB'!AV207+'V C AB'!AW207>=2,AND('V C AB'!AV207+'V C AB'!AW207>=1,'V L AB'!AW207>=40),'V C AB'!AX207>=1),\"CLASIFICADO A 80 Km NOVICIOS\",\"\")","v":"CLASIFICADO A 80 Km NOVICIOS"},{"$f":"IF(C209='V C AB'!C207,IF(OR('V C AB'!AZ207=\"\",'V C AB'!AZ207=\"HABILITADO  TEMPORALMENTE A COMPETENCIAS FEI\"),\"\",+'V C AB'!AZ207),\"ERROR\")","v":"HABILITADO A 80KM VELOCIDAD CONTROLADA"},{"$f":"IF(B209='V C AB'!B207,IF(+'V C AB'!AZ207=\"HABILITADO  TEMPORALMENTE A COMPETENCIAS FEI\",\"HABILITADO  TEMPORALMENTE A COMPETENCIAS FEI\",\"\"),\"ERROR\")","v":""}]
[{"$f":"IF(+'V C AB'!A208=\"\",\"\",'V C AB'!A208)","v":"C"},{"$f":"IF(+'V C AB'!B208=\"\",\"\",'V C AB'!B208)","v":"C"},{"$f":"IF(+'V C AB'!C208=\"\",\"\",'V C AB'!C208)","v":"VALDIVIESO JUAN FERNANDO"},{"$f":"IF(OR('V C AB'!AV208+'V C AB'!AW208>=2,AND('V C AB'!AV208+'V C AB'!AW208>=1,'V L AB'!AW208>=40),'V C AB'!AX208>=1),\"CLASIFICADO A 80 Km NOVICIOS\",\"\")","v":""},{"$f":"IF(C210='V C AB'!C208,IF(OR('V C AB'!AZ208=\"\",'V C AB'!AZ208=\"HABILITADO  TEMPORALMENTE A COMPETENCIAS FEI\"),\"\",+'V C AB'!AZ208),\"ERROR\")","v":"NO INICIA SU CLASIFICACIÓN"},{"$f":"IF(B210='V C AB'!B208,IF(+'V C AB'!AZ208=\"HABILITADO  TEMPORALMENTE A COMPETENCIAS FEI\",\"HABILITADO  TEMPORALMENTE A COMPETENCIAS FEI\",\"\"),\"ERROR\")","v":""}]
[{"$f":"IF(+'V C AB'!A209=\"\",\"\",'V C AB'!A209)","v":"C"},{"$f":"IF(+'V C AB'!B209=\"\",\"\",'V C AB'!B209)","v":"A157"},{"$f":"IF(+'V C AB'!C209=\"\",\"\",'V C AB'!C209)","v":"VEGA CALDERON ANDRES"},{"$f":"IF(OR('V C AB'!AV209+'V C AB'!AW209>=2,AND('V C AB'!AV209+'V C AB'!AW209>=1,'V L AB'!AW209>=40),'V C AB'!AX209>=1),\"CLASIFICADO A 80 Km NOVICIOS\",\"\")","v":""},{"$f":"IF(C211='V C AB'!C209,IF(OR('V C AB'!AZ209=\"\",'V C AB'!AZ209=\"HABILITADO  TEMPORALMENTE A COMPETENCIAS FEI\"),\"\",+'V C AB'!AZ209),\"ERROR\")","v":"NO INICIA SU CLASIFICACIÓN"},{"$f":"IF(B211='V C AB'!B209,IF(+'V C AB'!AZ209=\"HABILITADO  TEMPORALMENTE A COMPETENCIAS FEI\",\"HABILITADO  TEMPORALMENTE A COMPETENCIAS FEI\",\"\"),\"ERROR\")","v":""}]
[{"$f":"IF(+'V C AB'!A210=\"\",\"\",'V C AB'!A210)","v":"A056"},{"$f":"IF(+'V C AB'!B210=\"\",\"\",'V C AB'!B210)","v":"A"},{"$f":"IF(+'V C AB'!C210=\"\",\"\",'V C AB'!C210)","v":"VELASTEGUI ESTEFANIA"},{"$f":"IF(OR('V C AB'!AV210+'V C AB'!AW210>=2,AND('V C AB'!AV210+'V C AB'!AW210>=1,'V L AB'!AW210>=40),'V C AB'!AX210>=1),\"CLASIFICADO A 80 Km NOVICIOS\",\"\")","v":""},{"$f":"IF(C212='V C AB'!C210,IF(OR('V C AB'!AZ210=\"\",'V C AB'!AZ210=\"HABILITADO  TEMPORALMENTE A COMPETENCIAS FEI\"),\"\",+'V C AB'!AZ210),\"ERROR\")","v":"NO INICIA SU CLASIFICACIÓN"},{"$f":"IF(B212='V C AB'!B210,IF(+'V C AB'!AZ210=\"HABILITADO  TEMPORALMENTE A COMPETENCIAS FEI\",\"HABILITADO  TEMPORALMENTE A COMPETENCIAS FEI\",\"\"),\"ERROR\")","v":""}]
[{"$f":"IF(+'V C AB'!A211=\"\",\"\",'V C AB'!A211)","v":""},{"$f":"IF(+'V C AB'!B211=\"\",\"\",'V C AB'!B211)","v":"A171"},{"$f":"IF(+'V C AB'!C211=\"\",\"\",'V C AB'!C211)","v":"VELEZ MENA MARIA CONSUELO"},{"$f":"IF(OR('V C AB'!AV211+'V C AB'!AW211>=2,AND('V C AB'!AV211+'V C AB'!AW211>=1,'V L AB'!AW211>=40),'V C AB'!AX211>=1),\"CLASIFICADO A 80 Km NOVICIOS\",\"\")","v":"CLASIFICADO A 80 Km NOVICIOS"},{"$f":"IF(C213='V C AB'!C211,IF(OR('V C AB'!AZ211=\"\",'V C AB'!AZ211=\"HABILITADO  TEMPORALMENTE A COMPETENCIAS FEI\"),\"\",+'V C AB'!AZ211),\"ERROR\")","v":""},{"$f":"IF(B213='V C AB'!B211,IF(+'V C AB'!AZ211=\"HABILITADO  TEMPORALMENTE A COMPETENCIAS FEI\",\"HABILITADO  TEMPORALMENTE A COMPETENCIAS FEI\",\"\"),\"ERROR\")","v":"HABILITADO  TEMPORALMENTE A COMPETENCIAS FEI"}]
[{"$f":"IF(+'V C AB'!A212=\"\",\"\",'V C AB'!A212)","v":""},{"$f":"IF(+'V C AB'!B212=\"\",\"\",'V C AB'!B212)","v":"A"},{"$f":"IF(+'V C AB'!C212=\"\",\"\",'V C AB'!C212)","v":"VERA  ZAMBRANO VIVIANA"},{"$f":"IF(OR('V C AB'!AV212+'V C AB'!AW212>=2,AND('V C AB'!AV212+'V C AB'!AW212>=1,'V L AB'!AW212>=40),'V C AB'!AX212>=1),\"CLASIFICADO A 80 Km NOVICIOS\",\"\")","v":""},{"$f":"IF(C214='V C AB'!C212,IF(OR('V C AB'!AZ212=\"\",'V C AB'!AZ212=\"HABILITADO  TEMPORALMENTE A COMPETENCIAS FEI\"),\"\",+'V C AB'!AZ212),\"ERROR\")","v":"NO INICIA SU CLASIFICACIÓN"},{"$f":"IF(B214='V C AB'!B212,IF(+'V C AB'!AZ212=\"HABILITADO  TEMPORALMENTE A COMPETENCIAS FEI\",\"HABILITADO  TEMPORALMENTE A COMPETENCIAS FEI\",\"\"),\"ERROR\")","v":""}]
[{"$f":"IF(+'V C AB'!A213=\"\",\"\",'V C AB'!A213)","v":""},{"$f":"IF(+'V C AB'!B213=\"\",\"\",'V C AB'!B213)","v":"A"},{"$f":"IF(+'V C AB'!C213=\"\",\"\",'V C AB'!C213)","v":"VERA ZAMBRANO CARLOS "},{"$f":"IF(OR('V C AB'!AV213+'V C AB'!AW213>=2,AND('V C AB'!AV213+'V C AB'!AW213>=1,'V L AB'!AW213>=40),'V C AB'!AX213>=1),\"CLASIFICADO A 80 Km NOVICIOS\",\"\")","v":""},{"$f":"IF(C215='V C AB'!C213,IF(OR('V C AB'!AZ213=\"\",'V C AB'!AZ213=\"HABILITADO  TEMPORALMENTE A COMPETENCIAS FEI\"),\"\",+'V C AB'!AZ213),\"ERROR\")","v":"NO INICIA SU CLASIFICACIÓN"},{"$f":"IF(B215='V C AB'!B213,IF(+'V C AB'!AZ213=\"HABILITADO  TEMPORALMENTE A COMPETENCIAS FEI\",\"HABILITADO  TEMPORALMENTE A COMPETENCIAS FEI\",\"\"),\"ERROR\")","v":""}]
[{"$f":"IF(+'V C AB'!A214=\"\",\"\",'V C AB'!A214)","v":""},{"$f":"IF(+'V C AB'!B214=\"\",\"\",'V C AB'!B214)","v":"A"},{"$f":"IF(+'V C AB'!C214=\"\",\"\",'V C AB'!C214)","v":"VERA ZAMBRANO MONICA"},{"$f":"IF(OR('V C AB'!AV214+'V C AB'!AW214>=2,AND('V C AB'!AV214+'V C AB'!AW214>=1,'V L AB'!AW214>=40),'V C AB'!AX214>=1),\"CLASIFICADO A 80 Km NOVICIOS\",\"\")","v":""},{"$f":"IF(C216='V C AB'!C214,IF(OR('V C AB'!AZ214=\"\",'V C AB'!AZ214=\"HABILITADO  TEMPORALMENTE A COMPETENCIAS FEI\"),\"\",+'V C AB'!AZ214),\"ERROR\")","v":"NO INICIA SU CLASIFICACIÓN"},{"$f":"IF(B216='V C AB'!B214,IF(+'V C AB'!AZ214=\"HABILITADO  TEMPORALMENTE A COMPETENCIAS FEI\",\"HABILITADO  TEMPORALMENTE A COMPETENCIAS FEI\",\"\"),\"ERROR\")","v":""}]
[{"$f":"IF(+'V C AB'!A215=\"\",\"\",'V C AB'!A215)","v":""},{"$f":"IF(+'V C AB'!B215=\"\",\"\",'V C AB'!B215)","v":"A003"},{"$f":"IF(+'V C AB'!C215=\"\",\"\",'V C AB'!C215)","v":"VERGARA JUAN"},{"$f":"IF(OR('V C AB'!AV215+'V C AB'!AW215>=2,AND('V C AB'!AV215+'V C AB'!AW215>=1,'V L AB'!AW215>=40),'V C AB'!AX215>=1),\"CLASIFICADO A 80 Km NOVICIOS\",\"\")","v":""},{"$f":"IF(C217='V C AB'!C215,IF(OR('V C AB'!AZ215=\"\",'V C AB'!AZ215=\"HABILITADO  TEMPORALMENTE A COMPETENCIAS FEI\"),\"\",+'V C AB'!AZ215),\"ERROR\")","v":"NO INICIA SU CLASIFICACIÓN"},{"$f":"IF(B217='V C AB'!B215,IF(+'V C AB'!AZ215=\"HABILITADO  TEMPORALMENTE A COMPETENCIAS FEI\",\"HABILITADO  TEMPORALMENTE A COMPETENCIAS FEI\",\"\"),\"ERROR\")","v":""}]
[{"$f":"IF(+'V C AB'!A216=\"\",\"\",'V C AB'!A216)","v":""},{"$f":"IF(+'V C AB'!B216=\"\",\"\",'V C AB'!B216)","v":"A017"},{"$f":"IF(+'V C AB'!C216=\"\",\"\",'V C AB'!C216)","v":"VILLACIS FERNANDO"},{"$f":"IF(OR('V C AB'!AV216+'V C AB'!AW216>=2,AND('V C AB'!AV216+'V C AB'!AW216>=1,'V L AB'!AW216>=40),'V C AB'!AX216>=1),\"CLASIFICADO A 80 Km NOVICIOS\",\"\")","v":""},{"$f":"IF(C218='V C AB'!C216,IF(OR('V C AB'!AZ216=\"\",'V C AB'!AZ216=\"HABILITADO  TEMPORALMENTE A COMPETENCIAS FEI\"),\"\",+'V C AB'!AZ216),\"ERROR\")","v":"NO INICIA SU CLASIFICACIÓN"},{"$f":"IF(B218='V C AB'!B216,IF(+'V C AB'!AZ216=\"HABILITADO  TEMPORALMENTE A COMPETENCIAS FEI\",\"HABILITADO  TEMPORALMENTE A COMPETENCIAS FEI\",\"\"),\"ERROR\")","v":""}]
[{"$f":"IF(+'V C AB'!A217=\"\",\"\",'V C AB'!A217)","v":"I009"},{"$f":"IF(+'V C AB'!B217=\"\",\"\",'V C AB'!B217)","v":"A"},{"$f":"IF(+'V C AB'!C217=\"\",\"\",'V C AB'!C217)","v":"VILLARROEL LUIS ALFONSO"},{"$f":"IF(OR('V C AB'!AV217+'V C AB'!AW217>=2,AND('V C AB'!AV217+'V C AB'!AW217>=1,'V L AB'!AW217>=40),'V C AB'!AX217>=1),\"CLASIFICADO A 80 Km NOVICIOS\",\"\")","v":""},{"$f":"IF(C219='V C AB'!C217,IF(OR('V C AB'!AZ217=\"\",'V C AB'!AZ217=\"HABILITADO  TEMPORALMENTE A COMPETENCIAS FEI\"),\"\",+'V C AB'!AZ217),\"ERROR\")","v":"INICIO SU CLASIFICACIÓN"},{"$f":"IF(B219='V C AB'!B217,IF(+'V C AB'!AZ217=\"HABILITADO  TEMPORALMENTE A COMPETENCIAS FEI\",\"HABILITADO  TEMPORALMENTE A COMPETENCIAS FEI\",\"\"),\"ERROR\")","v":""}]
[{"$f":"IF(+'V C AB'!A218=\"\",\"\",'V C AB'!A218)","v":""},{"$f":"IF(+'V C AB'!B218=\"\",\"\",'V C AB'!B218)","v":"A001"},{"$f":"IF(+'V C AB'!C218=\"\",\"\",'V C AB'!C218)","v":"VINTIMILLA PAULINO"},{"$f":"IF(OR('V C AB'!AV218+'V C AB'!AW218>=2,AND('V C AB'!AV218+'V C AB'!AW218>=1,'V L AB'!AW218>=40),'V C AB'!AX218>=1),\"CLASIFICADO A 80 Km NOVICIOS\",\"\")","v":""},{"$f":"IF(C220='V C AB'!C218,IF(OR('V C AB'!AZ218=\"\",'V C AB'!AZ218=\"HABILITADO  TEMPORALMENTE A COMPETENCIAS FEI\"),\"\",+'V C AB'!AZ218),\"ERROR\")","v":"INICIO SU CLASIFICACIÓN"},{"$f":"IF(B220='V C AB'!B218,IF(+'V C AB'!AZ218=\"HABILITADO  TEMPORALMENTE A COMPETENCIAS FEI\",\"HABILITADO  TEMPORALMENTE A COMPETENCIAS FEI\",\"\"),\"ERROR\")","v":""}]
[{"$f":"IF(+'V C AB'!A219=\"\",\"\",'V C AB'!A219)","v":"A137"},{"$f":"IF(+'V C AB'!B219=\"\",\"\",'V C AB'!B219)","v":"A092"},{"$f":"IF(+'V C AB'!C219=\"\",\"\",'V C AB'!C219)","v":"VITIMILLA SERRANO PABLO"},{"$f":"IF(OR('V C AB'!AV219+'V C AB'!AW219>=2,AND('V C AB'!AV219+'V C AB'!AW219>=1,'V L AB'!AW219>=40),'V C AB'!AX219>=1),\"CLASIFICADO A 80 Km NOVICIOS\",\"\")","v":"CLASIFICADO A 80 Km NOVICIOS"},{"$f":"IF(C221='V C AB'!C219,IF(OR('V C AB'!AZ219=\"\",'V C AB'!AZ219=\"HABILITADO  TEMPORALMENTE A COMPETENCIAS FEI\"),\"\",+'V C AB'!AZ219),\"ERROR\")","v":""},{"$f":"IF(B221='V C AB'!B219,IF(+'V C AB'!AZ219=\"HABILITADO  TEMPORALMENTE A COMPETENCIAS FEI\",\"HABILITADO  TEMPORALMENTE A COMPETENCIAS FEI\",\"\"),\"ERROR\")","v":"HABILITADO  TEMPORALMENTE A COMPETENCIAS FEI"}]
[{"$f":"IF(+'V C AB'!A220=\"\",\"\",'V C AB'!A220)","v":"A135"},{"$f":"IF(+'V C AB'!B220=\"\",\"\",'V C AB'!B220)","v":"A055"},{"$f":"IF(+'V C AB'!C220=\"\",\"\",'V C AB'!C220)","v":"WEEMAELS NATHALIE"},{"$f":"IF(OR('V C AB'!AV220+'V C AB'!AW220>=2,AND('V C AB'!AV220+'V C AB'!AW220>=1,'V L AB'!AW220>=40),'V C AB'!AX220>=1),\"CLASIFICADO A 80 Km NOVICIOS\",\"\")","v":"CLASIFICADO A 80 Km NOVICIOS"},{"$f":"IF(C222='V C AB'!C220,IF(OR('V C AB'!AZ220=\"\",'V C AB'!AZ220=\"HABILITADO  TEMPORALMENTE A COMPETENCIAS FEI\"),\"\",+'V C AB'!AZ220),\"ERROR\")","v":""},{"$f":"IF(B222='V C AB'!B220,IF(+'V C AB'!AZ220=\"HABILITADO  TEMPORALMENTE A COMPETENCIAS FEI\",\"HABILITADO  TEMPORALMENTE A COMPETENCIAS FEI\",\"\"),\"ERROR\")","v":"HABILITADO  TEMPORALMENTE A COMPETENCIAS FEI"}]
[{"$f":"IF(+'V C AB'!A220=\"\",\"\",'V C AB'!A220)","v":"A135"},{"$f":"IF(+'V C AB'!B220=\"\",\"\",'V C AB'!B220)","v":"A055"},{"$f":"IF(+'V C AB'!C220=\"\",\"\",'V C AB'!C220)","v":"WEEMAELS NATHALIE"},{"$f":"IF(OR('V C AB'!AV220+'V C AB'!AW220>=2,AND('V C AB'!AV220+'V C AB'!AW220>=1,'V L AB'!AW220>=40),'V C AB'!AX220>=1),\"CLASIFICADO A 80 Km NOVICIOS\",\"\")","v":"CLASIFICADO A 80 Km NOVICIOS"},{"$f":"IF(C223='V C AB'!C220,IF(OR('V C AB'!AZ220=\"\",'V C AB'!AZ220=\"HABILITADO  TEMPORALMENTE A COMPETENCIAS FEI\"),\"\",+'V C AB'!AZ220),\"ERROR\")","v":""},{"$f":"IF(B223='V C AB'!B220,IF(+'V C AB'!AZ220=\"HABILITADO  TEMPORALMENTE A COMPETENCIAS FEI\",\"HABILITADO  TEMPORALMENTE A COMPETENCIAS FEI\",\"\"),\"ERROR\")","v":"HABILITADO  TEMPORALMENTE A COMPETENCIAS FEI"}]
[{"$f":"IF(+'V C AB'!A221=\"\",\"\",'V C AB'!A221)","v":"C"},{"$f":"IF(+'V C AB'!B221=\"\",\"\",'V C AB'!B221)","v":"A158"},{"$f":"IF(+'V C AB'!C221=\"\",\"\",'V C AB'!C221)","v":"WILLIAMS JEMMA"},{"$f":"IF(OR('V C AB'!AV221+'V C AB'!AW221>=2,AND('V C AB'!AV221+'V C AB'!AW221>=1,'V L AB'!AW221>=40),'V C AB'!AX221>=1),\"CLASIFICADO A 80 Km NOVICIOS\",\"\")","v":"CLASIFICADO A 80 Km NOVICIOS"},{"$f":"IF(C224='V C AB'!C221,IF(OR('V C AB'!AZ221=\"\",'V C AB'!AZ221=\"HABILITADO  TEMPORALMENTE A COMPETENCIAS FEI\"),\"\",+'V C AB'!AZ221),\"ERROR\")","v":"HABILITADO A 80KM VELOCIDAD CONTROLADA"},{"$f":"IF(B224='V C AB'!B221,IF(+'V C AB'!AZ221=\"HABILITADO  TEMPORALMENTE A COMPETENCIAS FEI\",\"HABILITADO  TEMPORALMENTE A COMPETENCIAS FEI\",\"\"),\"ERROR\")","v":""}]
[{"$f":"IF(+'V C AB'!A222=\"\",\"\",'V C AB'!A222)","v":"A109"},{"$f":"IF(+'V C AB'!B222=\"\",\"\",'V C AB'!B222)","v":"A"},{"$f":"IF(+'V C AB'!C222=\"\",\"\",'V C AB'!C222)","v":"WRAY ESPINOZA ROBERTO"},{"$f":"IF(OR('V C AB'!AV222+'V C AB'!AW222>=2,AND('V C AB'!AV222+'V C AB'!AW222>=1,'V L AB'!AW222>=40),'V C AB'!AX222>=1),\"CLASIFICADO A 80 Km NOVICIOS\",\"\")","v":""},{"$f":"IF(C225='V C AB'!C222,IF(OR('V C AB'!AZ222=\"\",'V C AB'!AZ222=\"HABILITADO  TEMPORALMENTE A COMPETENCIAS FEI\"),\"\",+'V C AB'!AZ222),\"ERROR\")","v":"INICIO SU CLASIFICACIÓN"},{"$f":"IF(B225='V C AB'!B222,IF(+'V C AB'!AZ222=\"HABILITADO  TEMPORALMENTE A COMPETENCIAS FEI\",\"HABILITADO  TEMPORALMENTE A COMPETENCIAS FEI\",\"\"),\"ERROR\")","v":""}]
[{"$f":"IF(+'V C AB'!A224=\"\",\"\",'V C AB'!A224)","v":"A031"},{"$f":"IF(+'V C AB'!B224=\"\",\"\",'V C AB'!B224)","v":"A"},{"$f":"IF(+'V C AB'!C224=\"\",\"\",'V C AB'!C224)","v":"YANASCUAL FELIX"},{"$f":"IF(OR('V C AB'!AV224+'V C AB'!AW224>=2,AND('V C AB'!AV224+'V C AB'!AW224>=1,'V L AB'!AW224>=40),'V C AB'!AX224>=1),\"CLASIFICADO A 80 Km NOVICIOS\",\"\")","v":""},{"$f":"IF(C226='V C AB'!C224,IF(OR('V C AB'!AZ224=\"\",'V C AB'!AZ224=\"HABILITADO  TEMPORALMENTE A COMPETENCIAS FEI\"),\"\",+'V C AB'!AZ224),\"ERROR\")","v":"NO INICIA SU CLASIFICACIÓN"},{"$f":"IF(B226='V C AB'!B224,IF(+'V C AB'!AZ224=\"HABILITADO  TEMPORALMENTE A COMPETENCIAS FEI\",\"HABILITADO  TEMPORALMENTE A COMPETENCIAS FEI\",\"\"),\"ERROR\")","v":""}]
[{"$f":"IF(+'V C AB'!A225=\"\",\"\",'V C AB'!A225)","v":""},{"$f":"IF(+'V C AB'!B225=\"\",\"\",'V C AB'!B225)","v":"A"},{"$f":"IF(+'V C AB'!C225=\"\",\"\",'V C AB'!C225)","v":"YANEZ MARCO DAVID "},{"$f":"IF(OR('V C AB'!AV225+'V C AB'!AW225>=2,AND('V C AB'!AV225+'V C AB'!AW225>=1,'V L AB'!AW225>=40),'V C AB'!AX225>=1),\"CLASIFICADO A 80 Km NOVICIOS\",\"\")","v":""},{"$f":"IF(C227='V C AB'!C225,IF(OR('V C AB'!AZ225=\"\",'V C AB'!AZ225=\"HABILITADO  TEMPORALMENTE A COMPETENCIAS FEI\"),\"\",+'V C AB'!AZ225),\"ERROR\")","v":"NO INICIA SU CLASIFICACIÓN"},{"$f":"IF(B227='V C AB'!B225,IF(+'V C AB'!AZ225=\"HABILITADO  TEMPORALMENTE A COMPETENCIAS FEI\",\"HABILITADO  TEMPORALMENTE A COMPETENCIAS FEI\",\"\"),\"ERROR\")","v":""}]
[{"$f":"IF(+'V C AB'!A226=\"\",\"\",'V C AB'!A226)","v":"A027"},{"$f":"IF(+'V C AB'!B226=\"\",\"\",'V C AB'!B226)","v":"A"},{"$f":"IF(+'V C AB'!C226=\"\",\"\",'V C AB'!C226)","v":"YAZIGI LASSO ALEJANDRO"},{"$f":"IF(OR('V C AB'!AV227+'V C AB'!AW227>=2,AND('V C AB'!AV227+'V C AB'!AW227>=1,'V L AB'!AW227>=40),'V C AB'!AX227>=1),\"CLASIFICADO A 80 Km NOVICIOS\",\"\")","v":""},{"$f":"IF(C228='V C AB'!C226,IF(OR('V C AB'!AZ226=\"\",'V C AB'!AZ226=\"HABILITADO  TEMPORALMENTE A COMPETENCIAS FEI\"),\"\",+'V C AB'!AZ226),\"ERROR\")","v":"HABILITADO A 80KM VELOCIDAD CONTROLADA"},{"$f":"IF(B228='V C AB'!B226,IF(+'V C AB'!AZ226=\"HABILITADO  TEMPORALMENTE A COMPETENCIAS FEI\",\"HABILITADO  TEMPORALMENTE A COMPETENCIAS FEI\",\"\"),\"ERROR\")","v":""}]
[{"$f":"IF(+'V C AB'!A227=\"\",\"\",'V C AB'!A227)","v":""},{"$f":"IF(+'V C AB'!B227=\"\",\"\",'V C AB'!B227)","v":"A009"},{"$f":"IF(+'V C AB'!C227=\"\",\"\",'V C AB'!C227)","v":"YEROVI MARÍA ELENA"},{"$f":"IF(OR('V C AB'!AV226+'V C AB'!AW226>=2,AND('V C AB'!AV226+'V C AB'!AW226>=1,'V L AB'!AW226>=40),'V C AB'!AX226>=1),\"CLASIFICADO A 80 Km NOVICIOS\",\"\")","v":"CLASIFICADO A 80 Km NOVICIOS"},{"$f":"IF(C229='V C AB'!C227,IF(OR('V C AB'!AZ227=\"\",'V C AB'!AZ227=\"HABILITADO  TEMPORALMENTE A COMPETENCIAS FEI\"),\"\",+'V C AB'!AZ227),\"ERROR\")","v":"NO INICIA SU CLASIFICACIÓN"},{"$f":"IF(B229='V C AB'!B227,IF(+'V C AB'!AZ227=\"HABILITADO  TEMPORALMENTE A COMPETENCIAS FEI\",\"HABILITADO  TEMPORALMENTE A COMPETENCIAS FEI\",\"\"),\"ERROR\")","v":""}]
[{"$f":"IF(+'V C AB'!A228=\"\",\"\",'V C AB'!A228)","v":""},{"$f":"IF(+'V C AB'!B228=\"\",\"\",'V C AB'!B228)","v":"A"},{"$f":"IF(+'V C AB'!C228=\"\",\"\",'V C AB'!C228)","v":"ZAMBRANO NELLY"},{"$f":"IF(OR('V C AB'!AV229+'V C AB'!AW229>=2,AND('V C AB'!AV229+'V C AB'!AW229>=1,'V L AB'!AW229>=40),'V C AB'!AX229>=1),\"CLASIFICADO A 80 Km NOVICIOS\",\"\")","v":""},{"$f":"IF(C230='V C AB'!C228,IF(OR('V C AB'!AZ228=\"\",'V C AB'!AZ228=\"HABILITADO  TEMPORALMENTE A COMPETENCIAS FEI\"),\"\",+'V C AB'!AZ228),\"ERROR\")","v":"NO INICIA SU CLASIFICACIÓN"},{"$f":"IF(B230='V C AB'!B228,IF(+'V C AB'!AZ228=\"HABILITADO  TEMPORALMENTE A COMPETENCIAS FEI\",\"HABILITADO  TEMPORALMENTE A COMPETENCIAS FEI\",\"\"),\"ERROR\")","v":""}]
[{"$f":"IF(+'V C AB'!A229=\"\",\"\",'V C AB'!A229)","v":1000},{"$f":"IF(+'V C AB'!B229=\"\",\"\",'V C AB'!B229)","v":1000},{"$f":"IF(+'V C AB'!C229=\"\",\"\",'V C AB'!C229)","v":"ZZZZZZZZZ"},null,{"$f":"IF(C231='V C AB'!C229,IF(OR('V C AB'!AZ229=\"\",'V C AB'!AZ229=\"HABILITADO  TEMPORALMENTE A COMPETENCIAS FEI\"),\"\",+'V C AB'!AZ229),\"ERROR\")","v":"NO INICIA SU CLASIFICACIÓN"},{"$f":"IF(B231='V C AB'!B229,IF(+'V C AB'!AZ229=\"HABILITADO  TEMPORALMENTE A COMPETENCIAS FEI\",\"HABILITADO  TEMPORALMENTE A COMPETENCIAS FEI\",\"\"),\"ERROR\")","v":""}]

{"sheet":"CLAS MAY","index":13,"n_rows":28,"n_cols":5,"rows_kept":28,"cut":false,"hidden":true,"merged":[[3,0,3,1],[4,0,4,1]]}
[null,"DERECHO ADQUIRIDO"]
[]
[]
[null,null,"MASTER","NOVICIOS","COPETENCIAS FEI"]
["CODIGO"]
["ANTERIOR","NUEVO","JINETE",null,{"$f":"IF(+'V C MAY'!AP8=\"\",\"\",+'V C MAY'!AP8)","v":""}]
["M001","A059","ALMEIDA AYALA HÉCTOR",{"$f":"IF(OR('V C MAY'!AL7+'V C MAY'!AM7>=2,AND('V C MAY'!AL7+'V C MAY'!AM7>=1,'V L MAY'!AM7>=40),'V C MAY'!AN7>=1),\"CLASIFICADO A 80 Km NOVICIOS\",\"\")","v":""},{"$f":"IF(+'V C MAY'!AP7=\"\",\"\",+'V C MAY'!AP7)","v":""}]
["M003","A","ANDRADE ANIBAL",{"$f":"IF(OR('V C MAY'!AL8+'V C MAY'!AM8>=2,AND('V C MAY'!AL8+'V C MAY'!AM8>=1,'V L MAY'!AM8>=40),'V C MAY'!AN8>=1),\"CLASIFICADO A 80 Km NOVICIOS\",\"\")","v":""},{"$f":"IF(+'V C MAY'!AP8=\"\",\"\",+'V C MAY'!AP8)","v":""}]
["M014","A","CAMPUZANO ISABEL",{"$f":"IF(OR('V C MAY'!AL9+'V C MAY'!AM9>=2,AND('V C MAY'!AL9+'V C MAY'!AM9>=1,'V L MAY'!AM9>=40),'V C MAY'!AN9>=1),\"CLASIFICADO A 80 Km NOVICIOS\",\"\")","v":""},{"$f":"IF(+'V C MAY'!AP9=\"\",\"\",+'V C MAY'!AP9)","v":""}]
["M009","A","DEL OLMO JOSE",{"$f":"IF(OR('V C MAY'!AL10+'V C MAY'!AM10>=2,AND('V C MAY'!AL10+'V C MAY'!AM10>=1,'V L MAY'!AM10>=40),'V C MAY'!AN10>=1),\"CLASIFICADO A 80 Km NOVICIOS\",\"\")","v":""},{"$f":"IF(+'V C MAY'!AP10=\"\",\"\",+'V C MAY'!AP10)","v":""}]
[null,"M066","MONROY EDUARDO",{"$f":"IF(OR('V C MAY'!AL11+'V C MAY'!AM11>=2,AND('V C MAY'!AL11+'V C MAY'!AM11>=1,'V L MAY'!AM11>=40),'V C MAY'!AN11>=1),\"CLASIFICADO A 80 Km NOVICIOS\",\"\")","v":"CLASIFICADO A 80 Km NOVICIOS"},{"$f":"IF(+'V C MAY'!AP11=\"\",\"\",+'V C MAY'!AP11)","v":"LE FALTA UNA DE 80 A 90 Km"}]
["M002","A","ENDARA IVAN MAURICIO",{"$f":"IF(OR('V C MAY'!AL12+'V C MAY'!AM12>=2,AND('V C MAY'!AL12+'V C MAY'!AM12>=1,'V L MAY'!AM12>=40),'V C MAY'!AN12>=1),\"CLASIFICADO A 80 Km NOVICIOS\",\"\")","v":""},{"$f":"IF(+'V C MAY'!AP12=\"\",\"\",+'V C MAY'!AP12)","v":""}]
["M017","A","GABELA MARCELO",{"$f":"IF(OR('V C MAY'!AL13+'V C MAY'!AM13>=2,AND('V C MAY'!AL13+'V C MAY'!AM13>=1,'V L MAY'!AM13>=40),'V C MAY'!AN13>=1),\"CLASIFICADO A 80 Km NOVICIOS\",\"\")","v":""},{"$f":"IF(+'V C MAY'!AP13=\"\",\"\",+'V C MAY'!AP13)","v":""}]
["M011","A","GARCES PATRICIO",{"$f":"IF(OR('V C MAY'!AL14+'V C MAY'!AM14>=2,AND('V C MAY'!AL14+'V C MAY'!AM14>=1,'V L MAY'!AM14>=40),'V C MAY'!AN14>=1),\"CLASIFICADO A 80 Km NOVICIOS\",\"\")","v":""},{"$f":"IF(+'V C MAY'!AP14=\"\",\"\",+'V C MAY'!AP14)","v":""}]
["A061","A","GUARDERAS PEDRO JOSE",{"$f":"IF(OR('V C MAY'!AL15+'V C MAY'!AM15>=2,AND('V C MAY'!AL15+'V C MAY'!AM15>=1,'V L MAY'!AM15>=40),'V C MAY'!AN15>=1),\"CLASIFICADO A 80 Km NOVICIOS\",\"\")","v":""},{"$f":"IF(+'V C MAY'!AP15=\"\",\"\",+'V C MAY'!AP15)","v":""}]
[null,"M002","HERRERA MARCELO",{"$f":"IF(OR('V C MAY'!AL16+'V C MAY'!AM16>=2,AND('V C MAY'!AL16+'V C MAY'!AM16>=1,'V L MAY'!AM16>=40),'V C MAY'!AN16>=1),\"CLASIFICADO A 80 Km NOVICIOS\",\"\")","v":""},{"$f":"IF(+'V C MAY'!AP16=\"\",\"\",+'V C MAY'!AP16)","v":""}]
["M010",null,"HIDALGO GUSTAVO",{"$f":"IF(OR('V C MAY'!AL17+'V C MAY'!AM17>=2,AND('V C MAY'!AL17+'V C MAY'!AM17>=1,'V L MAY'!AM17>=40),'V C MAY'!AN17>=1),\"CLASIFICADO A 80 Km NOVICIOS\",\"\")","v":""},{"$f":"IF(+'V C MAY'!AP17=\"\",\"\",+'V C MAY'!AP17)","v":""}]
["M006","A","JIJON FRANCISCO",{"$f":"IF(OR('V C MAY'!AL18+'V C MAY'!AM18>=2,AND('V C MAY'!AL18+'V C MAY'!AM18>=1,'V L MAY'!AM18>=40),'V C MAY'!AN18>=1),\"CLASIFICADO A 80 Km NOVICIOS\",\"\")","v":""},{"$f":"IF(+'V C MAY'!AP18=\"\",\"\",+'V C MAY'!AP18)","v":""}]
[null,"M004","LEÓN ARAUJO CÉSAR IGNACIO",{"$f":"IF(OR('V C MAY'!AL19+'V C MAY'!AM19>=2,AND('V C MAY'!AL19+'V C MAY'!AM19>=1,'V L MAY'!AM19>=40),'V C MAY'!AN19>=1),\"CLASIFICADO A 80 Km NOVICIOS\",\"\")","v":""},{"$f":"IF(+'V C MAY'!AP19=\"\",\"\",+'V C MAY'!AP19)","v":""}]
[null,"A","LOPÉZ JAIME ANDRES",{"$f":"IF(OR('V C MAY'!AL20+'V C MAY'!AM20>=2,AND('V C MAY'!AL20+'V C MAY'!AM20>=1,'V L MAY'!AM20>=40),'V C MAY'!AN20>=1),\"CLASIFICADO A 80 Km NOVICIOS\",\"\")","v":""},{"$f":"IF(+'V C MAY'!AP20=\"\",\"\",+'V C MAY'!AP20)","v":""}]
["M002","A","PEREZ ARTETA IGNACIO",{"$f":"IF(OR('V C MAY'!AL21+'V C MAY'!AM21>=2,AND('V C MAY'!AL21+'V C MAY'!AM21>=1,'V L MAY'!AM21>=40),'V C MAY'!AN21>=1),\"CLASIFICADO A 80 Km NOVICIOS\",\"\")","v":""},{"$f":"IF(+'V C MAY'!AP21=\"\",\"\",+'V C MAY'!AP21)","v":""}]
["M007",null,"RECALDE GALO",{"$f":"IF(OR('V C MAY'!AL22+'V C MAY'!AM22>=2,AND('V C MAY'!AL22+'V C MAY'!AM22>=1,'V L MAY'!AM22>=40),'V C MAY'!AN22>=1),\"CLASIFICADO A 80 Km NOVICIOS\",\"\")","v":"CLASIFICADO A 80 Km NOVICIOS"},{"$f":"IF(+'V C MAY'!AP22=\"\",\"\",+'V C MAY'!AP22)","v":"LE FALTA DOS DE 80 A 90 Km"}]
["M008","A","ROMERO JULIO",{"$f":"IF(OR('V C MAY'!AL23+'V C MAY'!AM23>=2,AND('V C MAY'!AL23+'V C MAY'!AM23>=1,'V L MAY'!AM23>=40),'V C MAY'!AN23>=1),\"CLASIFICADO A 80 Km NOVICIOS\",\"\")","v":""},{"$f":"IF(+'V C MAY'!AP23=\"\",\"\",+'V C MAY'!AP23)","v":""}]
[null,"M001","TIMANA JAIRO",{"$f":"IF(OR('V C MAY'!AL24+'V C MAY'!AM24>=2,AND('V C MAY'!AL24+'V C MAY'!AM24>=1,'V L MAY'!AM24>=40),'V C MAY'!AN24>=1),\"CLASIFICADO A 80 Km NOVICIOS\",\"\")","v":""},{"$f":"IF(+'V C MAY'!AP24=\"\",\"\",+'V C MAY'!AP24)","v":""}]
["M003","A","VERA MENESES CARLOS",{"$f":"IF(OR('V C MAY'!AL25+'V C MAY'!AM25>=2,AND('V C MAY'!AL25+'V C MAY'!AM25>=1,'V L MAY'!AM25>=40),'V C MAY'!AN25>=1),\"CLASIFICADO A 80 Km NOVICIOS\",\"\")","v":""},{"$f":"IF(+'V C MAY'!AP25=\"\",\"\",+'V C MAY'!AP25)","v":""}]
["A109","A","WRAY ESPINOZA ROBERTO",{"$f":"IF(OR('V C MAY'!AL26+'V C MAY'!AM26>=2,AND('V C MAY'!AL26+'V C MAY'!AM26>=1,'V L MAY'!AM26>=40),'V C MAY'!AN26>=1),\"CLASIFICADO A 80 Km NOVICIOS\",\"\")","v":""},{"$f":"IF(+'V C MAY'!AP26=\"\",\"\",+'V C MAY'!AP26)","v":""}]
[1000,1000,"ZZZZZZZZ",{"$f":"IF(OR('V C MAY'!AL27+'V C MAY'!AM27>=2,AND('V C MAY'!AL27+'V C MAY'!AM27>=1,'V L MAY'!AM27>=40),'V C MAY'!AN27>=1),\"CLASIFICADO A 80 Km NOVICIOS\",\"\")","v":""},{"$f":"IF(+'V C MAY'!AP27=\"\",\"\",+'V C MAY'!AP27)","v":""}]
[null,null,null,{"$f":"IF(OR('V C MAY'!AL28+'V C MAY'!AM28>=2,AND('V C MAY'!AL28+'V C MAY'!AM28>=1,'V L MAY'!AM28>=40),'V C MAY'!AN28>=1),\"CLASIFICADO A 80 Km NOVICIOS\",\"\")","v":""},{"$f":"IF(+'V C MAY'!AP28=\"\",\"\",+'V C MAY'!AP28)","v":""}]

{"sheet":"CLAS CAB","index":14,"n_rows":405,"n_cols":7,"rows_kept":405,"cut":false,"hidden":false,"merged":[[3,0,3,1],[4,0,4,1]]}
[null,"DERECHO ADQUIRIDO"]
[]
[]
[null,null,"CABALLOS","JINETE/DUEÑO","NOVICIOS","ESTADO DE CLASIFICIÓN","HABILITADO 24 MESES"]
["CODIGO"]
["ANTERIOR","NUEVO","CABALLOS",null,null,{"$f":"IF(+'V C CAB'!BA6=\"\",\"\",+'V C CAB'!BA6)","v":""}]
[{"$f":"IF('V C CAB'!A7=\"\",\"\",'V C CAB'!A7)","v":"B"},{"$f":"IF('V C CAB'!B7=\"\",\"\",'V C CAB'!B7)","v":"C"},{"$f":"IF('V C CAB'!C7=\"\",\"\",'V C CAB'!C7)","v":"AARON"},{"$f":"IF('V C CAB'!D7=\"\",\"\",'V C CAB'!D7)","v":""},{"$f":"IF(OR('V C CAB'!AW1172+'V C CAB'!AX1172>=2,AND('V C CAB'!AW1172+'V C CAB'!AX1172>=1,'V L CAB'!AX1180>=40),'V C CAB'!AY1172>=1),\"CLASIFICADO A 80 Km NOVICIOS\",\"\")","v":""},{"$f":"IF(C7='V C CAB'!C7,IF(OR('V C CAB'!BA7=\"\",'V C CAB'!BA7=\"HABILITADO  TEMPORALMENTE A COMPETENCIAS FEI\"),\"\",+'V C CAB'!BA7),\"ERROR\")","v":"INICIO SU CLASIFICACIÓN"},{"$f":"IF(C7='V C CAB'!C7,IF(+'V C CAB'!BA7=\"HABILITADO  TEMPORALMENTE A COMPETENCIAS FEI\",\"HABILITADO  TEMPORALMENTE A COMPETENCIAS FEI\",\"\"),\"ERROR\")","v":""}]
[{"$f":"IF('V C CAB'!A8=\"\",\"\",'V C CAB'!A8)","v":"B"},{"$f":"IF('V C CAB'!B8=\"\",\"\",'V C CAB'!B8)","v":"C010"},{"$f":"IF('V C CAB'!C8=\"\",\"\",'V C CAB'!C8)","v":"ADEBERAN"},{"$f":"IF('V C CAB'!D8=\"\",\"\",'V C CAB'!D8)","v":"FELIPE MENECES"},{"$f":"IF(OR('V C CAB'!AW1173+'V C CAB'!AX1173>=2,AND('V C CAB'!AW1173+'V C CAB'!AX1173>=1,'V L CAB'!AX1181>=40),'V C CAB'!AY1173>=1),\"CLASIFICADO A 80 Km NOVICIOS\",\"\")","v":""},{"$f":"IF(C8='V C CAB'!C8,IF(OR('V C CAB'!BA8=\"\",'V C CAB'!BA8=\"HABILITADO  TEMPORALMENTE A COMPETENCIAS FEI\"),\"\",+'V C CAB'!BA8),\"ERROR\")","v":"NO INICIA SU CLASIFICACIÓN"},{"$f":"IF(C8='V C CAB'!C8,IF(+'V C CAB'!BA8=\"HABILITADO  TEMPORALMENTE A COMPETENCIAS FEI\",\"HABILITADO  TEMPORALMENTE A COMPETENCIAS FEI\",\"\"),\"ERROR\")","v":""}]
[{"$f":"IF('V C CAB'!A9=\"\",\"\",'V C CAB'!A9)","v":"B"},{"$f":"IF('V C CAB'!B9=\"\",\"\",'V C CAB'!B9)","v":"C209"},{"$f":"IF('V C CAB'!C9=\"\",\"\",'V C CAB'!C9)","v":"AISHA"},{"$f":"IF('V C CAB'!D9=\"\",\"\",'V C CAB'!D9)","v":"NOBOA MAURICIO"},{"$f":"IF(OR('V C CAB'!AW1174+'V C CAB'!AX1174>=2,AND('V C CAB'!AW1174+'V C CAB'!AX1174>=1,'V L CAB'!AX1182>=40),'V C CAB'!AY1174>=1),\"CLASIFICADO A 80 Km NOVICIOS\",\"\")","v":""},{"$f":"IF(C9='V C CAB'!C9,IF(OR('V C CAB'!BA9=\"\",'V C CAB'!BA9=\"HABILITADO  TEMPORALMENTE A COMPETENCIAS FEI\"),\"\",+'V C CAB'!BA9),\"ERROR\")","v":"HABILITADO A 80KM VELOCIDAD CONTROLADA"},{"$f":"IF(C9='V C CAB'!C9,IF(+'V C CAB'!BA9=\"HABILITADO  TEMPORALMENTE A COMPETENCIAS FEI\",\"HABILITADO  TEMPORALMENTE A COMPETENCIAS FEI\",\"\"),\"ERROR\")","v":""}]
[{"$f":"IF('V C CAB'!A10=\"\",\"\",'V C CAB'!A10)","v":"B"},{"$f":"IF('V C CAB'!B10=\"\",\"\",'V C CAB'!B10)","v":"C"},{"$f":"IF('V C CAB'!C10=\"\",\"\",'V C CAB'!C10)","v":"AL HUAIRA"},{"$f":"IF('V C CAB'!D10=\"\",\"\",'V C CAB'!D10)","v":""},{"$f":"IF(OR('V C CAB'!AW1175+'V C CAB'!AX1175>=2,AND('V C CAB'!AW1175+'V C CAB'!AX1175>=1,'V L CAB'!AX1183>=40),'V C CAB'!AY1175>=1),\"CLASIFICADO A 80 Km NOVICIOS\",\"\")","v":""},{"$f":"IF(C10='V C CAB'!C10,IF(OR('V C CAB'!BA10=\"\",'V C CAB'!BA10=\"HABILITADO  TEMPORALMENTE A COMPETENCIAS FEI\"),\"\",+'V C CAB'!BA10),\"ERROR\")","v":"NO INICIA SU CLASIFICACIÓN"},{"$f":"IF(C10='V C CAB'!C10,IF(+'V C CAB'!BA10=\"HABILITADO  TEMPORALMENTE A COMPETENCIAS FEI\",\"HABILITADO  TEMPORALMENTE A COMPETENCIAS FEI\",\"\"),\"ERROR\")","v":""}]
[{"$f":"IF('V C CAB'!A11=\"\",\"\",'V C CAB'!A11)","v":"B"},{"$f":"IF('V C CAB'!B11=\"\",\"\",'V C CAB'!B11)","v":"C"},{"$f":"IF('V C CAB'!C11=\"\",\"\",'V C CAB'!C11)","v":"AL ZAFIA"},{"$f":"IF('V C CAB'!D11=\"\",\"\",'V C CAB'!D11)","v":""},{"$f":"IF(OR('V C CAB'!AW1176+'V C CAB'!AX1176>=2,AND('V C CAB'!AW1176+'V C CAB'!AX1176>=1,'V L CAB'!AX1184>=40),'V C CAB'!AY1176>=1),\"CLASIFICADO A 80 Km NOVICIOS\",\"\")","v":""},{"$f":"IF(C11='V C CAB'!C11,IF(OR('V C CAB'!BA11=\"\",'V C CAB'!BA11=\"HABILITADO  TEMPORALMENTE A COMPETENCIAS FEI\"),\"\",+'V C CAB'!BA11),\"ERROR\")","v":"NO INICIA SU CLASIFICACIÓN"},{"$f":"IF(C11='V C CAB'!C11,IF(+'V C CAB'!BA11=\"HABILITADO  TEMPORALMENTE A COMPETENCIAS FEI\",\"HABILITADO  TEMPORALMENTE A COMPETENCIAS FEI\",\"\"),\"ERROR\")","v":""}]
[{"$f":"IF('V C CAB'!A12=\"\",\"\",'V C CAB'!A12)","v":"B"},{"$f":"IF('V C CAB'!B12=\"\",\"\",'V C CAB'!B12)","v":"C"},{"$f":"IF('V C CAB'!C12=\"\",\"\",'V C CAB'!C12)","v":"ALADINO"},{"$f":"IF('V C CAB'!D12=\"\",\"\",'V C CAB'!D12)","v":""},{"$f":"IF(OR('V C CAB'!AW1177+'V C CAB'!AX1177>=2,AND('V C CAB'!AW1177+'V C CAB'!AX1177>=1,'V L CAB'!AX1185>=40),'V C CAB'!AY1177>=1),\"CLASIFICADO A 80 Km NOVICIOS\",\"\")","v":""},{"$f":"IF(C12='V C CAB'!C12,IF(OR('V C CAB'!BA12=\"\",'V C CAB'!BA12=\"HABILITADO  TEMPORALMENTE A COMPETENCIAS FEI\"),\"\",+'V C CAB'!BA12),\"ERROR\")","v":"NO INICIA SU CLASIFICACIÓN"},{"$f":"IF(C12='V C CAB'!C12,IF(+'V C CAB'!BA12=\"HABILITADO  TEMPORALMENTE A COMPETENCIAS FEI\",\"HABILITADO  TEMPORALMENTE A COMPETENCIAS FEI\",\"\"),\"ERROR\")","v":""}]
[{"$f":"IF('V C CAB'!A13=\"\",\"\",'V C CAB'!A13)","v":"C023"},{"$f":"IF('V C CAB'!B13=\"\",\"\",'V C CAB'!B13)","v":"C100"},{"$f":"IF('V C CAB'!C13=\"\",\"\",'V C CAB'!C13)","v":"ALELI "},{"$f":"IF('V C CAB'!D13=\"\",\"\",'V C CAB'!D13)","v":"JOSE IGNACIO MIÑO"},{"$f":"IF(OR('V C CAB'!AW1178+'V C CAB'!AX1178>=2,AND('V C CAB'!AW1178+'V C CAB'!AX1178>=1,'V L CAB'!AX1186>=40),'V C CAB'!AY1178>=1),\"CLASIFICADO A 80 Km NOVICIOS\",\"\")","v":""},{"$f":"IF(C13='V C CAB'!C13,IF(OR('V C CAB'!BA13=\"\",'V C CAB'!BA13=\"HABILITADO  TEMPORALMENTE A COMPETENCIAS FEI\"),\"\",+'V C CAB'!BA13),\"ERROR\")","v":""},{"$f":"IF(C13='V C CAB'!C13,IF(+'V C CAB'!BA13=\"HABILITADO  TEMPORALMENTE A COMPETENCIAS FEI\",\"HABILITADO  TEMPORALMENTE A COMPETENCIAS FEI\",\"\"),\"ERROR\")","v":"HABILITADO  TEMPORALMENTE A COMPETENCIAS FEI"}]
[{"$f":"IF('V C CAB'!A14=\"\",\"\",'V C CAB'!A14)","v":""},{"$f":"IF('V C CAB'!B14=\"\",\"\",'V C CAB'!B14)","v":"C143"},{"$f":"IF('V C CAB'!C14=\"\",\"\",'V C CAB'!C14)","v":"ALI"},{"$f":"IF('V C CAB'!D14=\"\",\"\",'V C CAB'!D14)","v":"MAZAPANTA KEVIN"},{"$f":"IF(OR('V C CAB'!AW1179+'V C CAB'!AX1179>=2,AND('V C CAB'!AW1179+'V C CAB'!AX1179>=1,'V L CAB'!AX1187>=40),'V C CAB'!AY1179>=1),\"CLASIFICADO A 80 Km NOVICIOS\",\"\")","v":""},{"$f":"IF(C14='V C CAB'!C14,IF(OR('V C CAB'!BA14=\"\",'V C CAB'!BA14=\"HABILITADO  TEMPORALMENTE A COMPETENCIAS FEI\"),\"\",+'V C CAB'!BA14),\"ERROR\")","v":"LE FALTA UNA DE 80 A 90 CONTROLADA"},{"$f":"IF(C14='V C CAB'!C14,IF(+'V C CAB'!BA14=\"HABILITADO  TEMPORALMENTE A COMPETENCIAS FEI\",\"HABILITADO  TEMPORALMENTE A COMPETENCIAS FEI\",\"\"),\"ERROR\")","v":""}]
[{"$f":"IF('V C CAB'!A15=\"\",\"\",'V C CAB'!A15)","v":"C051"},{"$f":"IF('V C CAB'!B15=\"\",\"\",'V C CAB'!B15)","v":"C083"},{"$f":"IF('V C CAB'!C15=\"\",\"\",'V C CAB'!C15)","v":"ALI  BABA"},{"$f":"IF('V C CAB'!D15=\"\",\"\",'V C CAB'!D15)","v":"MARIA CECILIA ALZAMORA"},{"$f":"IF(OR('V C CAB'!AW1180+'V C CAB'!AX1180>=2,AND('V C CAB'!AW1180+'V C CAB'!AX1180>=1,'V L CAB'!AX1188>=40),'V C CAB'!AY1180>=1),\"CLASIFICADO A 80 Km NOVICIOS\",\"\")","v":""},{"$f":"IF(C15='V C CAB'!C15,IF(OR('V C CAB'!BA15=\"\",'V C CAB'!BA15=\"HABILITADO  TEMPORALMENTE A COMPETENCIAS FEI\"),\"\",+'V C CAB'!BA15),\"ERROR\")","v":""},{"$f":"IF(C15='V C CAB'!C15,IF(+'V C CAB'!BA15=\"HABILITADO  TEMPORALMENTE A COMPETENCIAS FEI\",\"HABILITADO  TEMPORALMENTE A COMPETENCIAS FEI\",\"\"),\"ERROR\")","v":"HABILITADO  TEMPORALMENTE A COMPETENCIAS FEI"}]
[{"$f":"IF('V C CAB'!A16=\"\",\"\",'V C CAB'!A16)","v":"B"},{"$f":"IF('V C CAB'!B16=\"\",\"\",'V C CAB'!B16)","v":"C"},{"$f":"IF('V C CAB'!C16=\"\",\"\",'V C CAB'!C16)","v":"ALIA"},{"$f":"IF('V C CAB'!D16=\"\",\"\",'V C CAB'!D16)","v":""},{"$f":"IF(OR('V C CAB'!AW1181+'V C CAB'!AX1181>=2,AND('V C CAB'!AW1181+'V C CAB'!AX1181>=1,'V L CAB'!AX1189>=40),'V C CAB'!AY1181>=1),\"CLASIFICADO A 80 Km NOVICIOS\",\"\")","v":""},{"$f":"IF(C16='V C CAB'!C16,IF(OR('V C CAB'!BA16=\"\",'V C CAB'!BA16=\"HABILITADO  TEMPORALMENTE A COMPETENCIAS FEI\"),\"\",+'V C CAB'!BA16),\"ERROR\")","v":"INICIO SU CLASIFICACIÓN"},{"$f":"IF(C16='V C CAB'!C16,IF(+'V C CAB'!BA16=\"HABILITADO  TEMPORALMENTE A COMPETENCIAS FEI\",\"HABILITADO  TEMPORALMENTE A COMPETENCIAS FEI\",\"\"),\"ERROR\")","v":""}]
[{"$f":"IF('V C CAB'!A17=\"\",\"\",'V C CAB'!A17)","v":"CC"},{"$f":"IF('V C CAB'!B17=\"\",\"\",'V C CAB'!B17)","v":"C245"},{"$f":"IF('V C CAB'!C17=\"\",\"\",'V C CAB'!C17)","v":"AMARANTA"},{"$f":"IF('V C CAB'!D17=\"\",\"\",'V C CAB'!D17)","v":"MUNOZ GARCIA RENATO ISMAEL"},{"$f":"IF(OR('V C CAB'!AW1182+'V C CAB'!AX1182>=2,AND('V C CAB'!AW1182+'V C CAB'!AX1182>=1,'V L CAB'!AX1190>=40),'V C CAB'!AY1182>=1),\"CLASIFICADO A 80 Km NOVICIOS\",\"\")","v":""},{"$f":"IF(C17='V C CAB'!C17,IF(OR('V C CAB'!BA17=\"\",'V C CAB'!BA17=\"HABILITADO  TEMPORALMENTE A COMPETENCIAS FEI\"),\"\",+'V C CAB'!BA17),\"ERROR\")","v":"INICIO SU CLASIFICACIÓN"},{"$f":"IF(C17='V C CAB'!C17,IF(+'V C CAB'!BA17=\"HABILITADO  TEMPORALMENTE A COMPETENCIAS FEI\",\"HABILITADO  TEMPORALMENTE A COMPETENCIAS FEI\",\"\"),\"ERROR\")","v":""}]
[{"$f":"IF('V C CAB'!A18=\"\",\"\",'V C CAB'!A18)","v":"B"},{"$f":"IF('V C CAB'!B18=\"\",\"\",'V C CAB'!B18)","v":"C046"},{"$f":"IF('V C CAB'!C18=\"\",\"\",'V C CAB'!C18)","v":"AMARETO"},{"$f":"IF('V C CAB'!D18=\"\",\"\",'V C CAB'!D18)","v":"JOSE LETORT"},{"$f":"IF(OR('V C CAB'!AW1183+'V C CAB'!AX1183>=2,AND('V C CAB'!AW1183+'V C CAB'!AX1183>=1,'V L CAB'!AX1191>=40),'V C CAB'!AY1183>=1),\"CLASIFICADO A 80 Km NOVICIOS\",\"\")","v":""},{"$f":"IF(C18='V C CAB'!C18,IF(OR('V C CAB'!BA18=\"\",'V C CAB'!BA18=\"HABILITADO  TEMPORALMENTE A COMPETENCIAS FEI\"),\"\",+'V C CAB'!BA18),\"ERROR\")","v":""},{"$f":"IF(C18='V C CAB'!C18,IF(+'V C CAB'!BA18=\"HABILITADO  TEMPORALMENTE A COMPETENCIAS FEI\",\"HABILITADO  TEMPORALMENTE A COMPETENCIAS FEI\",\"\"),\"ERROR\")","v":"HABILITADO  TEMPORALMENTE A COMPETENCIAS FEI"}]
[{"$f":"IF('V C CAB'!A19=\"\",\"\",'V C CAB'!A19)","v":"C222"},{"$f":"IF('V C CAB'!B19=\"\",\"\",'V C CAB'!B19)","v":"C102"},{"$f":"IF('V C CAB'!C19=\"\",\"\",'V C CAB'!C19)","v":"AMID"},{"$f":"IF('V C CAB'!D19=\"\",\"\",'V C CAB'!D19)","v":"RICARDO DUEÑAS"},{"$f":"IF(OR('V C CAB'!AW1184+'V C CAB'!AX1184>=2,AND('V C CAB'!AW1184+'V C CAB'!AX1184>=1,'V L CAB'!AX1192>=40),'V C CAB'!AY1184>=1),\"CLASIFICADO A 80 Km NOVICIOS\",\"\")","v":""},{"$f":"IF(C19='V C CAB'!C19,IF(OR('V C CAB'!BA19=\"\",'V C CAB'!BA19=\"HABILITADO  TEMPORALMENTE A COMPETENCIAS FEI\"),\"\",+'V C CAB'!BA19),\"ERROR\")","v":"HABILITADO A 80KM VELOCIDAD CONTROLADA"},{"$f":"IF(C19='V C CAB'!C19,IF(+'V C CAB'!BA19=\"HABILITADO  TEMPORALMENTE A COMPETENCIAS FEI\",\"HABILITADO  TEMPORALMENTE A COMPETENCIAS FEI\",\"\"),\"ERROR\")","v":""}]
[{"$f":"IF('V C CAB'!A20=\"\",\"\",'V C CAB'!A20)","v":"B"},{"$f":"IF('V C CAB'!B20=\"\",\"\",'V C CAB'!B20)","v":"C"},{"$f":"IF('V C CAB'!C20=\"\",\"\",'V C CAB'!C20)","v":"AMIRA II RD"},{"$f":"IF('V C CAB'!D20=\"\",\"\",'V C CAB'!D20)","v":""},{"$f":"IF(OR('V C CAB'!AW1185+'V C CAB'!AX1185>=2,AND('V C CAB'!AW1185+'V C CAB'!AX1185>=1,'V L CAB'!AX1193>=40),'V C CAB'!AY1185>=1),\"CLASIFICADO A 80 Km NOVICIOS\",\"\")","v":""},{"$f":"IF(C20='V C CAB'!C20,IF(OR('V C CAB'!BA20=\"\",'V C CAB'!BA20=\"HABILITADO  TEMPORALMENTE A COMPETENCIAS FEI\"),\"\",+'V C CAB'!BA20),\"ERROR\")","v":"NO INICIA SU CLASIFICACIÓN"},{"$f":"IF(C20='V C CAB'!C20,IF(+'V C CAB'!BA20=\"HABILITADO  TEMPORALMENTE A COMPETENCIAS FEI\",\"HABILITADO  TEMPORALMENTE A COMPETENCIAS FEI\",\"\"),\"ERROR\")","v":""}]
[{"$f":"IF('V C CAB'!A21=\"\",\"\",'V C CAB'!A21)","v":"CC"},{"$f":"IF('V C CAB'!B21=\"\",\"\",'V C CAB'!B21)","v":"C246"},{"$f":"IF('V C CAB'!C21=\"\",\"\",'V C CAB'!C21)","v":"AN SHARIF"},{"$f":"IF('V C CAB'!D21=\"\",\"\",'V C CAB'!D21)","v":"DONOSO CARRASCO MARIA DANIELA"},{"$f":"IF(OR('V C CAB'!AW1186+'V C CAB'!AX1186>=2,AND('V C CAB'!AW1186+'V C CAB'!AX1186>=1,'V L CAB'!AX1194>=40),'V C CAB'!AY1186>=1),\"CLASIFICADO A 80 Km NOVICIOS\",\"\")","v":""},{"$f":"IF(C21='V C CAB'!C21,IF(OR('V C CAB'!BA21=\"\",'V C CAB'!BA21=\"HABILITADO  TEMPORALMENTE A COMPETENCIAS FEI\"),\"\",+'V C CAB'!BA21),\"ERROR\")","v":"HABILITADO A 80KM VELOCIDAD CONTROLADA"},{"$f":"IF(C21='V C CAB'!C21,IF(+'V C CAB'!BA21=\"HABILITADO  TEMPORALMENTE A COMPETENCIAS FEI\",\"HABILITADO  TEMPORALMENTE A COMPETENCIAS FEI\",\"\"),\"ERROR\")","v":""}]
[{"$f":"IF('V C CAB'!A22=\"\",\"\",'V C CAB'!A22)","v":"CC"},{"$f":"IF('V C CAB'!B22=\"\",\"\",'V C CAB'!B22)","v":"C247"},{"$f":"IF('V C CAB'!C22=\"\",\"\",'V C CAB'!C22)","v":"ANNIE"},{"$f":"IF('V C CAB'!D22=\"\",\"\",'V C CAB'!D22)","v":"WILLIAMS JEMMA"},{"$f":"IF(OR('V C CAB'!AW1187+'V C CAB'!AX1187>=2,AND('V C CAB'!AW1187+'V C CAB'!AX1187>=1,'V L CAB'!AX1195>=40),'V C CAB'!AY1187>=1),\"CLASIFICADO A 80 Km NOVICIOS\",\"\")","v":""},{"$f":"IF(C22='V C CAB'!C22,IF(OR('V C CAB'!BA22=\"\",'V C CAB'!BA22=\"HABILITADO  TEMPORALMENTE A COMPETENCIAS FEI\"),\"\",+'V C CAB'!BA22),\"ERROR\")","v":"INICIO SU CLASIFICACIÓN"},{"$f":"IF(C22='V C CAB'!C22,IF(+'V C CAB'!BA22=\"HABILITADO  TEMPORALMENTE A COMPETENCIAS FEI\",\"HABILITADO  TEMPORALMENTE A COMPETENCIAS FEI\",\"\"),\"ERROR\")","v":""}]
[{"$f":"IF('V C CAB'!A23=\"\",\"\",'V C CAB'!A23)","v":"CC"},{"$f":"IF('V C CAB'!B23=\"\",\"\",'V C CAB'!B23)","v":"C248"},{"$f":"IF('V C CAB'!C23=\"\",\"\",'V C CAB'!C23)","v":"APOLO"},{"$f":"IF('V C CAB'!D23=\"\",\"\",'V C CAB'!D23)","v":"BOADA DOMENICA"},{"$f":"IF(OR('V C CAB'!AW1188+'V C CAB'!AX1188>=2,AND('V C CAB'!AW1188+'V C CAB'!AX1188>=1,'V L CAB'!AX1196>=40),'V C CAB'!AY1188>=1),\"CLASIFICADO A 80 Km NOVICIOS\",\"\")","v":""},{"$f":"IF(C23='V C CAB'!C23,IF(OR('V C CAB'!BA23=\"\",'V C CAB'!BA23=\"HABILITADO  TEMPORALMENTE A COMPETENCIAS FEI\"),\"\",+'V C CAB'!BA23),\"ERROR\")","v":"HABILITADO A 80KM VELOCIDAD CONTROLADA"},{"$f":"IF(C23='V C CAB'!C23,IF(+'V C CAB'!BA23=\"HABILITADO  TEMPORALMENTE A COMPETENCIAS FEI\",\"HABILITADO  TEMPORALMENTE A COMPETENCIAS FEI\",\"\"),\"ERROR\")","v":""}]
[{"$f":"IF('V C CAB'!A24=\"\",\"\",'V C CAB'!A24)","v":"CC"},{"$f":"IF('V C CAB'!B24=\"\",\"\",'V C CAB'!B24)","v":"C249"},{"$f":"IF('V C CAB'!C24=\"\",\"\",'V C CAB'!C24)","v":"APOLO LA CHAMIZA"},{"$f":"IF('V C CAB'!D24=\"\",\"\",'V C CAB'!D24)","v":"DONOSO LOYOLA SEBASTIAN FERNANDO"},{"$f":"IF(OR('V C CAB'!AW1189+'V C CAB'!AX1189>=2,AND('V C CAB'!AW1189+'V C CAB'!AX1189>=1,'V L CAB'!AX1197>=40),'V C CAB'!AY1189>=1),\"CLASIFICADO A 80 Km NOVICIOS\",\"\")","v":""},{"$f":"IF(C24='V C CAB'!C24,IF(OR('V C CAB'!BA24=\"\",'V C CAB'!BA24=\"HABILITADO  TEMPORALMENTE A COMPETENCIAS FEI\"),\"\",+'V C CAB'!BA24),\"ERROR\")","v":"INICIO SU CLASIFICACIÓN"},{"$f":"IF(C24='V C CAB'!C24,IF(+'V C CAB'!BA24=\"HABILITADO  TEMPORALMENTE A COMPETENCIAS FEI\",\"HABILITADO  TEMPORALMENTE A COMPETENCIAS FEI\",\"\"),\"ERROR\")","v":""}]
[{"$f":"IF('V C CAB'!A25=\"\",\"\",'V C CAB'!A25)","v":""},{"$f":"IF('V C CAB'!B25=\"\",\"\",'V C CAB'!B25)","v":"C204"},{"$f":"IF('V C CAB'!C25=\"\",\"\",'V C CAB'!C25)","v":"AR ALBATSYN"},{"$f":"IF('V C CAB'!D25=\"\",\"\",'V C CAB'!D25)","v":"ARTURO RIBADENEIRA"},{"$f":"IF(OR('V C CAB'!AW1190+'V C CAB'!AX1190>=2,AND('V C CAB'!AW1190+'V C CAB'!AX1190>=1,'V L CAB'!AX1198>=40),'V C CAB'!AY1190>=1),\"CLASIFICADO A 80 Km NOVICIOS\",\"\")","v":""},{"$f":"IF(C25='V C CAB'!C25,IF(OR('V C CAB'!BA25=\"\",'V C CAB'!BA25=\"HABILITADO  TEMPORALMENTE A COMPETENCIAS FEI\"),\"\",+'V C CAB'!BA25),\"ERROR\")","v":"HABILITADO A 80KM VELOCIDAD CONTROLADA"},{"$f":"IF(C25='V C CAB'!C25,IF(+'V C CAB'!BA25=\"HABILITADO  TEMPORALMENTE A COMPETENCIAS FEI\",\"HABILITADO  TEMPORALMENTE A COMPETENCIAS FEI\",\"\"),\"ERROR\")","v":""}]
[{"$f":"IF('V C CAB'!A26=\"\",\"\",'V C CAB'!A26)","v":"C007"},{"$f":"IF('V C CAB'!B26=\"\",\"\",'V C CAB'!B26)","v":"C103"},{"$f":"IF('V C CAB'!C26=\"\",\"\",'V C CAB'!C26)","v":"AR AMIRA"},{"$f":"IF('V C CAB'!D26=\"\",\"\",'V C CAB'!D26)","v":"ORLANDO QUIROZ"},{"$f":"IF(OR('V C CAB'!AW1191+'V C CAB'!AX1191>=2,AND('V C CAB'!AW1191+'V C CAB'!AX1191>=1,'V L CAB'!AX1199>=40),'V C CAB'!AY1191>=1),\"CLASIFICADO A 80 Km NOVICIOS\",\"\")","v":""},{"$f":"IF(C26='V C CAB'!C26,IF(OR('V C CAB'!BA26=\"\",'V C CAB'!BA26=\"HABILITADO  TEMPORALMENTE A COMPETENCIAS FEI\"),\"\",+'V C CAB'!BA26),\"ERROR\")","v":"LE FALTA UNA DE 80 A 90 CONTROLADA"},{"$f":"IF(C26='V C CAB'!C26,IF(+'V C CAB'!BA26=\"HABILITADO  TEMPORALMENTE A COMPETENCIAS FEI\",\"HABILITADO  TEMPORALMENTE A COMPETENCIAS FEI\",\"\"),\"ERROR\")","v":""}]
[{"$f":"IF('V C CAB'!A27=\"\",\"\",'V C CAB'!A27)","v":"C100"},{"$f":"IF('V C CAB'!B27=\"\",\"\",'V C CAB'!B27)","v":"C096"},{"$f":"IF('V C CAB'!C27=\"\",\"\",'V C CAB'!C27)","v":"AR FAISAN"},{"$f":"IF('V C CAB'!D27=\"\",\"\",'V C CAB'!D27)","v":"ARTURO RIBADENEIRA"},{"$f":"IF(OR('V C CAB'!AW1192+'V C CAB'!AX1192>=2,AND('V C CAB'!AW1192+'V C CAB'!AX1192>=1,'V L CAB'!AX1200>=40),'V C CAB'!AY1192>=1),\"CLASIFICADO A 80 Km NOVICIOS\",\"\")","v":""},{"$f":"IF(C27='V C CAB'!C27,IF(OR('V C CAB'!BA27=\"\",'V C CAB'!BA27=\"HABILITADO  TEMPORALMENTE A COMPETENCIAS FEI\"),\"\",+'V C CAB'!BA27),\"ERROR\")","v":""},{"$f":"IF(C27='V C CAB'!C27,IF(+'V C CAB'!BA27=\"HABILITADO  TEMPORALMENTE A COMPETENCIAS FEI\",\"HABILITADO  TEMPORALMENTE A COMPETENCIAS FEI\",\"\"),\"ERROR\")","v":"HABILITADO  TEMPORALMENTE A COMPETENCIAS FEI"}]
[{"$f":"IF('V C CAB'!A28=\"\",\"\",'V C CAB'!A28)","v":"B"},{"$f":"IF('V C CAB'!B28=\"\",\"\",'V C CAB'!B28)","v":"C163"},{"$f":"IF('V C CAB'!C28=\"\",\"\",'V C CAB'!C28)","v":"AR SEGOVIA"},{"$f":"IF('V C CAB'!D28=\"\",\"\",'V C CAB'!D28)","v":""},{"$f":"IF(OR('V C CAB'!AW1193+'V C CAB'!AX1193>=2,AND('V C CAB'!AW1193+'V C CAB'!AX1193>=1,'V L CAB'!AX1201>=40),'V C CAB'!AY1193>=1),\"CLASIFICADO A 80 Km NOVICIOS\",\"\")","v":""},{"$f":"IF(C28='V C CAB'!C28,IF(OR('V C CAB'!BA28=\"\",'V C CAB'!BA28=\"HABILITADO  TEMPORALMENTE A COMPETENCIAS FEI\"),\"\",+'V C CAB'!BA28),\"ERROR\")","v":"HABILITADO A 80KM VELOCIDAD CONTROLADA"},{"$f":"IF(C28='V C CAB'!C28,IF(+'V C CAB'!BA28=\"HABILITADO  TEMPORALMENTE A COMPETENCIAS FEI\",\"HABILITADO  TEMPORALMENTE A COMPETENCIAS FEI\",\"\"),\"ERROR\")","v":""}]
[{"$f":"IF('V C CAB'!A29=\"\",\"\",'V C CAB'!A29)","v":"B"},{"$f":"IF('V C CAB'!B29=\"\",\"\",'V C CAB'!B29)","v":"C"},{"$f":"IF('V C CAB'!C29=\"\",\"\",'V C CAB'!C29)","v":"AR TAMARA"},{"$f":"IF('V C CAB'!D29=\"\",\"\",'V C CAB'!D29)","v":""},{"$f":"IF(OR('V C CAB'!AW1194+'V C CAB'!AX1194>=2,AND('V C CAB'!AW1194+'V C CAB'!AX1194>=1,'V L CAB'!AX1202>=40),'V C CAB'!AY1194>=1),\"CLASIFICADO A 80 Km NOVICIOS\",\"\")","v":""},{"$f":"IF(C29='V C CAB'!C29,IF(OR('V C CAB'!BA29=\"\",'V C CAB'!BA29=\"HABILITADO  TEMPORALMENTE A COMPETENCIAS FEI\"),\"\",+'V C CAB'!BA29),\"ERROR\")","v":"NO INICIA SU CLASIFICACIÓN"},{"$f":"IF(C29='V C CAB'!C29,IF(+'V C CAB'!BA29=\"HABILITADO  TEMPORALMENTE A COMPETENCIAS FEI\",\"HABILITADO  TEMPORALMENTE A COMPETENCIAS FEI\",\"\"),\"ERROR\")","v":""}]
[{"$f":"IF('V C CAB'!A30=\"\",\"\",'V C CAB'!A30)","v":"C271"},{"$f":"IF('V C CAB'!B30=\"\",\"\",'V C CAB'!B30)","v":"C038"},{"$f":"IF('V C CAB'!C30=\"\",\"\",'V C CAB'!C30)","v":"ARABITA"},{"$f":"IF('V C CAB'!D30=\"\",\"\",'V C CAB'!D30)","v":"TOMAS ESPINOZA"},{"$f":"IF(OR('V C CAB'!AW1195+'V C CAB'!AX1195>=2,AND('V C CAB'!AW1195+'V C CAB'!AX1195>=1,'V L CAB'!AX1203>=40),'V C CAB'!AY1195>=1),\"CLASIFICADO A 80 Km NOVICIOS\",\"\")","v":""},{"$f":"IF(C30='V C CAB'!C30,IF(OR('V C CAB'!BA30=\"\",'V C CAB'!BA30=\"HABILITADO  TEMPORALMENTE A COMPETENCIAS FEI\"),\"\",+'V C CAB'!BA30),\"ERROR\")","v":""},{"$f":"IF(C30='V C CAB'!C30,IF(+'V C CAB'!BA30=\"HABILITADO  TEMPORALMENTE A COMPETENCIAS FEI\",\"HABILITADO  TEMPORALMENTE A COMPETENCIAS FEI\",\"\"),\"ERROR\")","v":"HABILITADO  TEMPORALMENTE A COMPETENCIAS FEI"}]
[{"$f":"IF('V C CAB'!A31=\"\",\"\",'V C CAB'!A31)","v":"CC"},{"$f":"IF('V C CAB'!B31=\"\",\"\",'V C CAB'!B31)","v":"C208"},{"$f":"IF('V C CAB'!C31=\"\",\"\",'V C CAB'!C31)","v":"ARAGON"},{"$f":"IF('V C CAB'!D31=\"\",\"\",'V C CAB'!D31)","v":"MALO SEBATIAN"},{"$f":"IF(OR('V C CAB'!AW1196+'V C CAB'!AX1196>=2,AND('V C CAB'!AW1196+'V C CAB'!AX1196>=1,'V L CAB'!AX1204>=40),'V C CAB'!AY1196>=1),\"CLASIFICADO A 80 Km NOVICIOS\",\"\")","v":""},{"$f":"IF(C31='V C CAB'!C31,IF(OR('V C CAB'!BA31=\"\",'V C CAB'!BA31=\"HABILITADO  TEMPORALMENTE A COMPETENCIAS FEI\"),\"\",+'V C CAB'!BA31),\"ERROR\")","v":""},{"$f":"IF(C31='V C CAB'!C31,IF(+'V C CAB'!BA31=\"HABILITADO  TEMPORALMENTE A COMPETENCIAS FEI\",\"HABILITADO  TEMPORALMENTE A COMPETENCIAS FEI\",\"\"),\"ERROR\")","v":"HABILITADO  TEMPORALMENTE A COMPETENCIAS FEI"}]
[{"$f":"IF('V C CAB'!A32=\"\",\"\",'V C CAB'!A32)","v":"B"},{"$f":"IF('V C CAB'!B32=\"\",\"\",'V C CAB'!B32)","v":"C068"},{"$f":"IF('V C CAB'!C32=\"\",\"\",'V C CAB'!C32)","v":"ARANDU"},{"$f":"IF('V C CAB'!D32=\"\",\"\",'V C CAB'!D32)","v":"ANDRES DARQUEA"},{"$f":"IF(OR('V C CAB'!AW1197+'V C CAB'!AX1197>=2,AND('V C CAB'!AW1197+'V C CAB'!AX1197>=1,'V L CAB'!AX1205>=40),'V C CAB'!AY1197>=1),\"CLASIFICADO A 80 Km NOVICIOS\",\"\")","v":""},{"$f":"IF(C32='V C CAB'!C32,IF(OR('V C CAB'!BA32=\"\",'V C CAB'!BA32=\"HABILITADO  TEMPORALMENTE A COMPETENCIAS FEI\"),\"\",+'V C CAB'!BA32),\"ERROR\")","v":"LE FALTA UNA DE 80 A 90 CONTROLADA"},{"$f":"IF(C32='V C CAB'!C32,IF(+'V C CAB'!BA32=\"HABILITADO  TEMPORALMENTE A COMPETENCIAS FEI\",\"HABILITADO  TEMPORALMENTE A COMPETENCIAS FEI\",\"\"),\"ERROR\")","v":""}]
[{"$f":"IF('V C CAB'!A33=\"\",\"\",'V C CAB'!A33)","v":"B"},{"$f":"IF('V C CAB'!B33=\"\",\"\",'V C CAB'!B33)","v":"C"},{"$f":"IF('V C CAB'!C33=\"\",\"\",'V C CAB'!C33)","v":"ARANJUEZ"},{"$f":"IF('V C CAB'!D33=\"\",\"\",'V C CAB'!D33)","v":""},{"$f":"IF(OR('V C CAB'!AW1198+'V C CAB'!AX1198>=2,AND('V C CAB'!AW1198+'V C CAB'!AX1198>=1,'V L CAB'!AX1206>=40),'V C CAB'!AY1198>=1),\"CLASIFICADO A 80 Km NOVICIOS\",\"\")","v":""},{"$f":"IF(C33='V C CAB'!C33,IF(OR('V C CAB'!BA33=\"\",'V C CAB'!BA33=\"HABILITADO  TEMPORALMENTE A COMPETENCIAS FEI\"),\"\",+'V C CAB'!BA33),\"ERROR\")","v":"NO INICIA SU CLASIFICACIÓN"},{"$f":"IF(C33='V C CAB'!C33,IF(+'V C CAB'!BA33=\"HABILITADO  TEMPORALMENTE A COMPETENCIAS FEI\",\"HABILITADO  TEMPORALMENTE A COMPETENCIAS FEI\",\"\"),\"ERROR\")","v":""}]
[{"$f":"IF('V C CAB'!A34=\"\",\"\",'V C CAB'!A34)","v":"CC"},{"$f":"IF('V C CAB'!B34=\"\",\"\",'V C CAB'!B34)","v":"C232"},{"$f":"IF('V C CAB'!C34=\"\",\"\",'V C CAB'!C34)","v":"ASRAEL"},{"$f":"IF('V C CAB'!D34=\"\",\"\",'V C CAB'!D34)","v":"BERNARDA GONZALEZ"},{"$f":"IF(OR('V C CAB'!AW1199+'V C CAB'!AX1199>=2,AND('V C CAB'!AW1199+'V C CAB'!AX1199>=1,'V L CAB'!AX1207>=40),'V C CAB'!AY1199>=1),\"CLASIFICADO A 80 Km NOVICIOS\",\"\")","v":""},{"$f":"IF(C34='V C CAB'!C34,IF(OR('V C CAB'!BA34=\"\",'V C CAB'!BA34=\"HABILITADO  TEMPORALMENTE A COMPETENCIAS FEI\"),\"\",+'V C CAB'!BA34),\"ERROR\")","v":""},{"$f":"IF(C34='V C CAB'!C34,IF(+'V C CAB'!BA34=\"HABILITADO  TEMPORALMENTE A COMPETENCIAS FEI\",\"HABILITADO  TEMPORALMENTE A COMPETENCIAS FEI\",\"\"),\"ERROR\")","v":"HABILITADO  TEMPORALMENTE A COMPETENCIAS FEI"}]
[{"$f":"IF('V C CAB'!A35=\"\",\"\",'V C CAB'!A35)","v":"B"},{"$f":"IF('V C CAB'!B35=\"\",\"\",'V C CAB'!B35)","v":"C063"},{"$f":"IF('V C CAB'!C35=\"\",\"\",'V C CAB'!C35)","v":"ATENEA"},{"$f":"IF('V C CAB'!D35=\"\",\"\",'V C CAB'!D35)","v":"JONATHAN LLUMIQUINGA"},{"$f":"IF(OR('V C CAB'!AW1200+'V C CAB'!AX1200>=2,AND('V C CAB'!AW1200+'V C CAB'!AX1200>=1,'V L CAB'!AX1208>=40),'V C CAB'!AY1200>=1),\"CLASIFICADO A 80 Km NOVICIOS\",\"\")","v":""},{"$f":"IF(C35='V C CAB'!C35,IF(OR('V C CAB'!BA35=\"\",'V C CAB'!BA35=\"HABILITADO  TEMPORALMENTE A COMPETENCIAS FEI\"),\"\",+'V C CAB'!BA35),\"ERROR\")","v":"NO INICIA SU CLASIFICACIÓN"},{"$f":"IF(C35='V C CAB'!C35,IF(+'V C CAB'!BA35=\"HABILITADO  TEMPORALMENTE A COMPETENCIAS FEI\",\"HABILITADO  TEMPORALMENTE A COMPETENCIAS FEI\",\"\"),\"ERROR\")","v":""}]
[{"$f":"IF('V C CAB'!A36=\"\",\"\",'V C CAB'!A36)","v":"CC"},{"$f":"IF('V C CAB'!B36=\"\",\"\",'V C CAB'!B36)","v":"C250"},{"$f":"IF('V C CAB'!C36=\"\",\"\",'V C CAB'!C36)","v":"ATLANTA"},{"$f":"IF('V C CAB'!D36=\"\",\"\",'V C CAB'!D36)","v":"GOTTIFREDI NEIRA FRANCISCO AGUSTIN"},{"$f":"IF(OR('V C CAB'!AW1201+'V C CAB'!AX1201>=2,AND('V C CAB'!AW1201+'V C CAB'!AX1201>=1,'V L CAB'!AX1209>=40),'V C CAB'!AY1201>=1),\"CLASIFICADO A 80 Km NOVICIOS\",\"\")","v":""},{"$f":"IF(C36='V C CAB'!C36,IF(OR('V C CAB'!BA36=\"\",'V C CAB'!BA36=\"HABILITADO  TEMPORALMENTE A COMPETENCIAS FEI\"),\"\",+'V C CAB'!BA36),\"ERROR\")","v":"INICIO SU CLASIFICACIÓN"},{"$f":"IF(C36='V C CAB'!C36,IF(+'V C CAB'!BA36=\"HABILITADO  TEMPORALMENTE A COMPETENCIAS FEI\",\"HABILITADO  TEMPORALMENTE A COMPETENCIAS FEI\",\"\"),\"ERROR\")","v":""}]
[{"$f":"IF('V C CAB'!A37=\"\",\"\",'V C CAB'!A37)","v":"C098"},{"$f":"IF('V C CAB'!B37=\"\",\"\",'V C CAB'!B37)","v":"C037"},{"$f":"IF('V C CAB'!C37=\"\",\"\",'V C CAB'!C37)","v":"ATREVIDO"},{"$f":"IF('V C CAB'!D37=\"\",\"\",'V C CAB'!D37)","v":"JUAN DIEGO HERRERA"},{"$f":"IF(OR('V C CAB'!AW1202+'V C CAB'!AX1202>=2,AND('V C CAB'!AW1202+'V C CAB'!AX1202>=1,'V L CAB'!AX1210>=40),'V C CAB'!AY1202>=1),\"CLASIFICADO A 80 Km NOVICIOS\",\"\")","v":""},{"$f":"IF(C37='V C CAB'!C37,IF(OR('V C CAB'!BA37=\"\",'V C CAB'!BA37=\"HABILITADO  TEMPORALMENTE A COMPETENCIAS FEI\"),\"\",+'V C CAB'!BA37),\"ERROR\")","v":"HABILITADO A 80KM VELOCIDAD CONTROLADA"},{"$f":"IF(C37='V C CAB'!C37,IF(+'V C CAB'!BA37=\"HABILITADO  TEMPORALMENTE A COMPETENCIAS FEI\",\"HABILITADO  TEMPORALMENTE A COMPETENCIAS FEI\",\"\"),\"ERROR\")","v":""}]
[{"$f":"IF('V C CAB'!A38=\"\",\"\",'V C CAB'!A38)","v":"B"},{"$f":"IF('V C CAB'!B38=\"\",\"\",'V C CAB'!B38)","v":"C115"},{"$f":"IF('V C CAB'!C38=\"\",\"\",'V C CAB'!C38)","v":"AVENTURERO"},{"$f":"IF('V C CAB'!D38=\"\",\"\",'V C CAB'!D38)","v":"HECTOR ALMEIDA AYALA"},{"$f":"IF(OR('V C CAB'!AW1203+'V C CAB'!AX1203>=2,AND('V C CAB'!AW1203+'V C CAB'!AX1203>=1,'V L CAB'!AX1211>=40),'V C CAB'!AY1203>=1),\"CLASIFICADO A 80 Km NOVICIOS\",\"\")","v":""},{"$f":"IF(C38='V C CAB'!C38,IF(OR('V C CAB'!BA38=\"\",'V C CAB'!BA38=\"HABILITADO  TEMPORALMENTE A COMPETENCIAS FEI\"),\"\",+'V C CAB'!BA38),\"ERROR\")","v":""},{"$f":"IF(C38='V C CAB'!C38,IF(+'V C CAB'!BA38=\"HABILITADO  TEMPORALMENTE A COMPETENCIAS FEI\",\"HABILITADO  TEMPORALMENTE A COMPETENCIAS FEI\",\"\"),\"ERROR\")","v":"HABILITADO  TEMPORALMENTE A COMPETENCIAS FEI"}]
[{"$f":"IF('V C CAB'!A39=\"\",\"\",'V C CAB'!A39)","v":"CC"},{"$f":"IF('V C CAB'!B39=\"\",\"\",'V C CAB'!B39)","v":"C251"},{"$f":"IF('V C CAB'!C39=\"\",\"\",'V C CAB'!C39)","v":"AVENTURERO"},{"$f":"IF('V C CAB'!D39=\"\",\"\",'V C CAB'!D39)","v":"NOBOA MAURICIO"},{"$f":"IF(OR('V C CAB'!AW1204+'V C CAB'!AX1204>=2,AND('V C CAB'!AW1204+'V C CAB'!AX1204>=1,'V L CAB'!AX1212>=40),'V C CAB'!AY1204>=1),\"CLASIFICADO A 80 Km NOVICIOS\",\"\")","v":""},{"$f":"IF(C39='V C CAB'!C39,IF(OR('V C CAB'!BA39=\"\",'V C CAB'!BA39=\"HABILITADO  TEMPORALMENTE A COMPETENCIAS FEI\"),\"\",+'V C CAB'!BA39),\"ERROR\")","v":"INICIO SU CLASIFICACIÓN"},{"$f":"IF(C39='V C CAB'!C39,IF(+'V C CAB'!BA39=\"HABILITADO  TEMPORALMENTE A COMPETENCIAS FEI\",\"HABILITADO  TEMPORALMENTE A COMPETENCIAS FEI\",\"\"),\"ERROR\")","v":""}]
[{"$f":"IF('V C CAB'!A40=\"\",\"\",'V C CAB'!A40)","v":"B"},{"$f":"IF('V C CAB'!B40=\"\",\"\",'V C CAB'!B40)","v":"C023"},{"$f":"IF('V C CAB'!C40=\"\",\"\",'V C CAB'!C40)","v":"AZABACHE"},{"$f":"IF('V C CAB'!D40=\"\",\"\",'V C CAB'!D40)","v":"CESAR ANDRES LEON PROAÑO"},{"$f":"IF(OR('V C CAB'!AW1205+'V C CAB'!AX1205>=2,AND('V C CAB'!AW1205+'V C CAB'!AX1205>=1,'V L CAB'!AX1213>=40),'V C CAB'!AY1205>=1),\"CLASIFICADO A 80 Km NOVICIOS\",\"\")","v":""},{"$f":"IF(C40='V C CAB'!C40,IF(OR('V C CAB'!BA40=\"\",'V C CAB'!BA40=\"HABILITADO  TEMPORALMENTE A COMPETENCIAS FEI\"),\"\",+'V C CAB'!BA40),\"ERROR\")","v":"NO INICIA SU CLASIFICACIÓN"},{"$f":"IF(C40='V C CAB'!C40,IF(+'V C CAB'!BA40=\"HABILITADO  TEMPORALMENTE A COMPETENCIAS FEI\",\"HABILITADO  TEMPORALMENTE A COMPETENCIAS FEI\",\"\"),\"ERROR\")","v":""}]
[{"$f":"IF('V C CAB'!A41=\"\",\"\",'V C CAB'!A41)","v":"B"},{"$f":"IF('V C CAB'!B41=\"\",\"\",'V C CAB'!B41)","v":"C157"},{"$f":"IF('V C CAB'!C41=\"\",\"\",'V C CAB'!C41)","v":"AZUCENA"},{"$f":"IF('V C CAB'!D41=\"\",\"\",'V C CAB'!D41)","v":"JARAMILLO BENITO"},{"$f":"IF(OR('V C CAB'!AW1206+'V C CAB'!AX1206>=2,AND('V C CAB'!AW1206+'V C CAB'!AX1206>=1,'V L CAB'!AX1214>=40),'V C CAB'!AY1206>=1),\"CLASIFICADO A 80 Km NOVICIOS\",\"\")","v":""},{"$f":"IF(C41='V C CAB'!C41,IF(OR('V C CAB'!BA41=\"\",'V C CAB'!BA41=\"HABILITADO  TEMPORALMENTE A COMPETENCIAS FEI\"),\"\",+'V C CAB'!BA41),\"ERROR\")","v":"INICIO SU CLASIFICACIÓN"},{"$f":"IF(C41='V C CAB'!C41,IF(+'V C CAB'!BA41=\"HABILITADO  TEMPORALMENTE A COMPETENCIAS FEI\",\"HABILITADO  TEMPORALMENTE A COMPETENCIAS FEI\",\"\"),\"ERROR\")","v":""}]
[{"$f":"IF('V C CAB'!A42=\"\",\"\",'V C CAB'!A42)","v":"B"},{"$f":"IF('V C CAB'!B42=\"\",\"\",'V C CAB'!B42)","v":"C124"},{"$f":"IF('V C CAB'!C42=\"\",\"\",'V C CAB'!C42)","v":"BAILARINA"},{"$f":"IF('V C CAB'!D42=\"\",\"\",'V C CAB'!D42)","v":"GUARDERAS ARTETA PEDRO"},{"$f":"IF(OR('V C CAB'!AW1207+'V C CAB'!AX1207>=2,AND('V C CAB'!AW1207+'V C CAB'!AX1207>=1,'V L CAB'!AX1215>=40),'V C CAB'!AY1207>=1),\"CLASIFICADO A 80 Km NOVICIOS\",\"\")","v":""},{"$f":"IF(C42='V C CAB'!C42,IF(OR('V C CAB'!BA42=\"\",'V C CAB'!BA42=\"HABILITADO  TEMPORALMENTE A COMPETENCIAS FEI\"),\"\",+'V C CAB'!BA42),\"ERROR\")","v":"INICIO SU CLASIFICACIÓN"},{"$f":"IF(C42='V C CAB'!C42,IF(+'V C CAB'!BA42=\"HABILITADO  TEMPORALMENTE A COMPETENCIAS FEI\",\"HABILITADO  TEMPORALMENTE A COMPETENCIAS FEI\",\"\"),\"ERROR\")","v":""}]
[{"$f":"IF('V C CAB'!A43=\"\",\"\",'V C CAB'!A43)","v":"B"},{"$f":"IF('V C CAB'!B43=\"\",\"\",'V C CAB'!B43)","v":"C"},{"$f":"IF('V C CAB'!C43=\"\",\"\",'V C CAB'!C43)","v":"BAMBOLA VC"},{"$f":"IF('V C CAB'!D43=\"\",\"\",'V C CAB'!D43)","v":""},{"$f":"IF(OR('V C CAB'!AW1208+'V C CAB'!AX1208>=2,AND('V C CAB'!AW1208+'V C CAB'!AX1208>=1,'V L CAB'!AX1216>=40),'V C CAB'!AY1208>=1),\"CLASIFICADO A 80 Km NOVICIOS\",\"\")","v":""},{"$f":"IF(C43='V C CAB'!C43,IF(OR('V C CAB'!BA43=\"\",'V C CAB'!BA43=\"HABILITADO  TEMPORALMENTE A COMPETENCIAS FEI\"),\"\",+'V C CAB'!BA43),\"ERROR\")","v":"NO INICIA SU CLASIFICACIÓN"},{"$f":"IF(C43='V C CAB'!C43,IF(+'V C CAB'!BA43=\"HABILITADO  TEMPORALMENTE A COMPETENCIAS FEI\",\"HABILITADO  TEMPORALMENTE A COMPETENCIAS FEI\",\"\"),\"ERROR\")","v":""}]
[{"$f":"IF('V C CAB'!A44=\"\",\"\",'V C CAB'!A44)","v":"B"},{"$f":"IF('V C CAB'!B44=\"\",\"\",'V C CAB'!B44)","v":"C"},{"$f":"IF('V C CAB'!C44=\"\",\"\",'V C CAB'!C44)","v":"BARBARITA MS"},{"$f":"IF('V C CAB'!D44=\"\",\"\",'V C CAB'!D44)","v":""},{"$f":"IF(OR('V C CAB'!AW1209+'V C CAB'!AX1209>=2,AND('V C CAB'!AW1209+'V C CAB'!AX1209>=1,'V L CAB'!AX1217>=40),'V C CAB'!AY1209>=1),\"CLASIFICADO A 80 Km NOVICIOS\",\"\")","v":""},{"$f":"IF(C44='V C CAB'!C44,IF(OR('V C CAB'!BA44=\"\",'V C CAB'!BA44=\"HABILITADO  TEMPORALMENTE A COMPETENCIAS FEI\"),\"\",+'V C CAB'!BA44),\"ERROR\")","v":"NO INICIA SU CLASIFICACIÓN"},{"$f":"IF(C44='V C CAB'!C44,IF(+'V C CAB'!BA44=\"HABILITADO  TEMPORALMENTE A COMPETENCIAS FEI\",\"HABILITADO  TEMPORALMENTE A COMPETENCIAS FEI\",\"\"),\"ERROR\")","v":""}]
[{"$f":"IF('V C CAB'!A45=\"\",\"\",'V C CAB'!A45)","v":"B"},{"$f":"IF('V C CAB'!B45=\"\",\"\",'V C CAB'!B45)","v":"C080"},{"$f":"IF('V C CAB'!C45=\"\",\"\",'V C CAB'!C45)","v":"BARON"},{"$f":"IF('V C CAB'!D45=\"\",\"\",'V C CAB'!D45)","v":"PEDRO CORNEJO"},{"$f":"IF(OR('V C CAB'!AW1210+'V C CAB'!AX1210>=2,AND('V C CAB'!AW1210+'V C CAB'!AX1210>=1,'V L CAB'!AX1218>=40),'V C CAB'!AY1210>=1),\"CLASIFICADO A 80 Km NOVICIOS\",\"\")","v":""},{"$f":"IF(C45='V C CAB'!C45,IF(OR('V C CAB'!BA45=\"\",'V C CAB'!BA45=\"HABILITADO  TEMPORALMENTE A COMPETENCIAS FEI\"),\"\",+'V C CAB'!BA45),\"ERROR\")","v":"INICIO SU CLASIFICACIÓN"},{"$f":"IF(C45='V C CAB'!C45,IF(+'V C CAB'!BA45=\"HABILITADO  TEMPORALMENTE A COMPETENCIAS FEI\",\"HABILITADO  TEMPORALMENTE A COMPETENCIAS FEI\",\"\"),\"ERROR\")","v":""}]
[{"$f":"IF('V C CAB'!A46=\"\",\"\",'V C CAB'!A46)","v":"C235"},{"$f":"IF('V C CAB'!B46=\"\",\"\",'V C CAB'!B46)","v":"C233"},{"$f":"IF('V C CAB'!C46=\"\",\"\",'V C CAB'!C46)","v":"BAUTRUS YUSUF"},{"$f":"IF('V C CAB'!D46=\"\",\"\",'V C CAB'!D46)","v":"ALVARO SAMPER"},{"$f":"IF(OR('V C CAB'!AW1211+'V C CAB'!AX1211>=2,AND('V C CAB'!AW1211+'V C CAB'!AX1211>=1,'V L CAB'!AX1219>=40),'V C CAB'!AY1211>=1),\"CLASIFICADO A 80 Km NOVICIOS\",\"\")","v":""},{"$f":"IF(C46='V C CAB'!C46,IF(OR('V C CAB'!BA46=\"\",'V C CAB'!BA46=\"HABILITADO  TEMPORALMENTE A COMPETENCIAS FEI\"),\"\",+'V C CAB'!BA46),\"ERROR\")","v":"HABILITADO A 80KM VELOCIDAD CONTROLADA"},{"$f":"IF(C46='V C CAB'!C46,IF(+'V C CAB'!BA46=\"HABILITADO  TEMPORALMENTE A COMPETENCIAS FEI\",\"HABILITADO  TEMPORALMENTE A COMPETENCIAS FEI\",\"\"),\"ERROR\")","v":""}]
[{"$f":"IF('V C CAB'!A47=\"\",\"\",'V C CAB'!A47)","v":"B"},{"$f":"IF('V C CAB'!B47=\"\",\"\",'V C CAB'!B47)","v":"C"},{"$f":"IF('V C CAB'!C47=\"\",\"\",'V C CAB'!C47)","v":"BAVARIA"},{"$f":"IF('V C CAB'!D47=\"\",\"\",'V C CAB'!D47)","v":""},{"$f":"IF(OR('V C CAB'!AW1212+'V C CAB'!AX1212>=2,AND('V C CAB'!AW1212+'V C CAB'!AX1212>=1,'V L CAB'!AX1220>=40),'V C CAB'!AY1212>=1),\"CLASIFICADO A 80 Km NOVICIOS\",\"\")","v":""},{"$f":"IF(C47='V C CAB'!C47,IF(OR('V C CAB'!BA47=\"\",'V C CAB'!BA47=\"HABILITADO  TEMPORALMENTE A COMPETENCIAS FEI\"),\"\",+'V C CAB'!BA47),\"ERROR\")","v":"NO INICIA SU CLASIFICACIÓN"},{"$f":"IF(C47='V C CAB'!C47,IF(+'V C CAB'!BA47=\"HABILITADO  TEMPORALMENTE A COMPETENCIAS FEI\",\"HABILITADO  TEMPORALMENTE A COMPETENCIAS FEI\",\"\"),\"ERROR\")","v":""}]
[{"$f":"IF('V C CAB'!A48=\"\",\"\",'V C CAB'!A48)","v":"B"},{"$f":"IF('V C CAB'!B48=\"\",\"\",'V C CAB'!B48)","v":"C013"},{"$f":"IF('V C CAB'!C48=\"\",\"\",'V C CAB'!C48)","v":"BAYO K BAYO"},{"$f":"IF('V C CAB'!D48=\"\",\"\",'V C CAB'!D48)","v":"NELSON CANDELEJO"},{"$f":"IF(OR('V C CAB'!AW1213+'V C CAB'!AX1213>=2,AND('V C CAB'!AW1213+'V C CAB'!AX1213>=1,'V L CAB'!AX1221>=40),'V C CAB'!AY1213>=1),\"CLASIFICADO A 80 Km NOVICIOS\",\"\")","v":""},{"$f":"IF(C48='V C CAB'!C48,IF(OR('V C CAB'!BA48=\"\",'V C CAB'!BA48=\"HABILITADO  TEMPORALMENTE A COMPETENCIAS FEI\"),\"\",+'V C CAB'!BA48),\"ERROR\")","v":"LE FALTA UNA DE 80 A 90 CONTROLADA"},{"$f":"IF(C48='V C CAB'!C48,IF(+'V C CAB'!BA48=\"HABILITADO  TEMPORALMENTE A COMPETENCIAS FEI\",\"HABILITADO  TEMPORALMENTE A COMPETENCIAS FEI\",\"\"),\"ERROR\")","v":""}]
[{"$f":"IF('V C CAB'!A49=\"\",\"\",'V C CAB'!A49)","v":"B"},{"$f":"IF('V C CAB'!B49=\"\",\"\",'V C CAB'!B49)","v":"C"},{"$f":"IF('V C CAB'!C49=\"\",\"\",'V C CAB'!C49)","v":"BAYON"},{"$f":"IF('V C CAB'!D49=\"\",\"\",'V C CAB'!D49)","v":""},{"$f":"IF(OR('V C CAB'!AW1214+'V C CAB'!AX1214>=2,AND('V C CAB'!AW1214+'V C CAB'!AX1214>=1,'V L CAB'!AX1222>=40),'V C CAB'!AY1214>=1),\"CLASIFICADO A 80 Km NOVICIOS\",\"\")","v":""},{"$f":"IF(C49='V C CAB'!C49,IF(OR('V C CAB'!BA49=\"\",'V C CAB'!BA49=\"HABILITADO  TEMPORALMENTE A COMPETENCIAS FEI\"),\"\",+'V C CAB'!BA49),\"ERROR\")","v":"NO INICIA SU CLASIFICACIÓN"},{"$f":"IF(C49='V C CAB'!C49,IF(+'V C CAB'!BA49=\"HABILITADO  TEMPORALMENTE A COMPETENCIAS FEI\",\"HABILITADO  TEMPORALMENTE A COMPETENCIAS FEI\",\"\"),\"ERROR\")","v":""}]
[{"$f":"IF('V C CAB'!A50=\"\",\"\",'V C CAB'!A50)","v":"CC"},{"$f":"IF('V C CAB'!B50=\"\",\"\",'V C CAB'!B50)","v":"C252"},{"$f":"IF('V C CAB'!C50=\"\",\"\",'V C CAB'!C50)","v":"BIANCA"},{"$f":"IF('V C CAB'!D50=\"\",\"\",'V C CAB'!D50)","v":"BERNAL MARTIN"},{"$f":"IF(OR('V C CAB'!AW1215+'V C CAB'!AX1215>=2,AND('V C CAB'!AW1215+'V C CAB'!AX1215>=1,'V L CAB'!AX1223>=40),'V C CAB'!AY1215>=1),\"CLASIFICADO A 80 Km NOVICIOS\",\"\")","v":""},{"$f":"IF(C50='V C CAB'!C50,IF(OR('V C CAB'!BA50=\"\",'V C CAB'!BA50=\"HABILITADO  TEMPORALMENTE A COMPETENCIAS FEI\"),\"\",+'V C CAB'!BA50),\"ERROR\")","v":"HABILITADO A 80KM VELOCIDAD CONTROLADA"},{"$f":"IF(C50='V C CAB'!C50,IF(+'V C CAB'!BA50=\"HABILITADO  TEMPORALMENTE A COMPETENCIAS FEI\",\"HABILITADO  TEMPORALMENTE A COMPETENCIAS FEI\",\"\"),\"ERROR\")","v":""}]
[{"$f":"IF('V C CAB'!A51=\"\",\"\",'V C CAB'!A51)","v":"B"},{"$f":"IF('V C CAB'!B51=\"\",\"\",'V C CAB'!B51)","v":"C085"},{"$f":"IF('V C CAB'!C51=\"\",\"\",'V C CAB'!C51)","v":"BLACK FAIR"},{"$f":"IF('V C CAB'!D51=\"\",\"\",'V C CAB'!D51)","v":"BERNARDO DARQUEA"},{"$f":"IF(OR('V C CAB'!AW1216+'V C CAB'!AX1216>=2,AND('V C CAB'!AW1216+'V C CAB'!AX1216>=1,'V L CAB'!AX1224>=40),'V C CAB'!AY1216>=1),\"CLASIFICADO A 80 Km NOVICIOS\",\"\")","v":""},{"$f":"IF(C51='V C CAB'!C51,IF(OR('V C CAB'!BA51=\"\",'V C CAB'!BA51=\"HABILITADO  TEMPORALMENTE A COMPETENCIAS FEI\"),\"\",+'V C CAB'!BA51),\"ERROR\")","v":""},{"$f":"IF(C51='V C CAB'!C51,IF(+'V C CAB'!BA51=\"HABILITADO  TEMPORALMENTE A COMPETENCIAS FEI\",\"HABILITADO  TEMPORALMENTE A COMPETENCIAS FEI\",\"\"),\"ERROR\")","v":"HABILITADO  TEMPORALMENTE A COMPETENCIAS FEI"}]
[{"$f":"IF('V C CAB'!A52=\"\",\"\",'V C CAB'!A52)","v":""},{"$f":"IF('V C CAB'!B52=\"\",\"\",'V C CAB'!B52)","v":"C347"},{"$f":"IF('V C CAB'!C52=\"\",\"\",'V C CAB'!C52)","v":"BOEMIO"},{"$f":"IF('V C CAB'!D52=\"\",\"\",'V C CAB'!D52)","v":"MALO GONZALEZ JOSE"},{"$f":"IF(OR('V C CAB'!AW1217+'V C CAB'!AX1217>=2,AND('V C CAB'!AW1217+'V C CAB'!AX1217>=1,'V L CAB'!AX1225>=40),'V C CAB'!AY1217>=1),\"CLASIFICADO A 80 Km NOVICIOS\",\"\")","v":""},{"$f":"IF(C52='V C CAB'!C52,IF(OR('V C CAB'!BA52=\"\",'V C CAB'!BA52=\"HABILITADO  TEMPORALMENTE A COMPETENCIAS FEI\"),\"\",+'V C CAB'!BA52),\"ERROR\")","v":"INICIO SU CLASIFICACIÓN"},{"$f":"IF(C52='V C CAB'!C52,IF(+'V C CAB'!BA52=\"HABILITADO  TEMPORALMENTE A COMPETENCIAS FEI\",\"HABILITADO  TEMPORALMENTE A COMPETENCIAS FEI\",\"\"),\"ERROR\")","v":""}]
[{"$f":"IF('V C CAB'!A53=\"\",\"\",'V C CAB'!A53)","v":"B"},{"$f":"IF('V C CAB'!B53=\"\",\"\",'V C CAB'!B53)","v":"C"},{"$f":"IF('V C CAB'!C53=\"\",\"\",'V C CAB'!C53)","v":"BOHEMIA DJ"},{"$f":"IF('V C CAB'!D53=\"\",\"\",'V C CAB'!D53)","v":""},{"$f":"IF(OR('V C CAB'!AW1218+'V C CAB'!AX1218>=2,AND('V C CAB'!AW1218+'V C CAB'!AX1218>=1,'V L CAB'!AX1226>=40),'V C CAB'!AY1218>=1),\"CLASIFICADO A 80 Km NOVICIOS\",\"\")","v":""},{"$f":"IF(C53='V C CAB'!C53,IF(OR('V C CAB'!BA53=\"\",'V C CAB'!BA53=\"HABILITADO  TEMPORALMENTE A COMPETENCIAS FEI\"),\"\",+'V C CAB'!BA53),\"ERROR\")","v":"NO INICIA SU CLASIFICACIÓN"},{"$f":"IF(C53='V C CAB'!C53,IF(+'V C CAB'!BA53=\"HABILITADO  TEMPORALMENTE A COMPETENCIAS FEI\",\"HABILITADO  TEMPORALMENTE A COMPETENCIAS FEI\",\"\"),\"ERROR\")","v":""}]
[{"$f":"IF('V C CAB'!A54=\"\",\"\",'V C CAB'!A54)","v":"B"},{"$f":"IF('V C CAB'!B54=\"\",\"\",'V C CAB'!B54)","v":"C"},{"$f":"IF('V C CAB'!C54=\"\",\"\",'V C CAB'!C54)","v":"BOHEMIO AP"},{"$f":"IF('V C CAB'!D54=\"\",\"\",'V C CAB'!D54)","v":""},{"$f":"IF(OR('V C CAB'!AW1219+'V C CAB'!AX1219>=2,AND('V C CAB'!AW1219+'V C CAB'!AX1219>=1,'V L CAB'!AX1227>=40),'V C CAB'!AY1219>=1),\"CLASIFICADO A 80 Km NOVICIOS\",\"\")","v":""},{"$f":"IF(C54='V C CAB'!C54,IF(OR('V C CAB'!BA54=\"\",'V C CAB'!BA54=\"HABILITADO  TEMPORALMENTE A COMPETENCIAS FEI\"),\"\",+'V C CAB'!BA54),\"ERROR\")","v":"INICIO SU CLASIFICACIÓN"},{"$f":"IF(C54='V C CAB'!C54,IF(+'V C CAB'!BA54=\"HABILITADO  TEMPORALMENTE A COMPETENCIAS FEI\",\"HABILITADO  TEMPORALMENTE A COMPETENCIAS FEI\",\"\"),\"ERROR\")","v":""}]
[{"$f":"IF('V C CAB'!A55=\"\",\"\",'V C CAB'!A55)","v":"C277"},{"$f":"IF('V C CAB'!B55=\"\",\"\",'V C CAB'!B55)","v":"C098"},{"$f":"IF('V C CAB'!C55=\"\",\"\",'V C CAB'!C55)","v":"BOM BOM"},{"$f":"IF('V C CAB'!D55=\"\",\"\",'V C CAB'!D55)","v":"JUAN RECALDE"},{"$f":"IF(OR('V C CAB'!AW1220+'V C CAB'!AX1220>=2,AND('V C CAB'!AW1220+'V C CAB'!AX1220>=1,'V L CAB'!AX1228>=40),'V C CAB'!AY1220>=1),\"CLASIFICADO A 80 Km NOVICIOS\",\"\")","v":""},{"$f":"IF(C55='V C CAB'!C55,IF(OR('V C CAB'!BA55=\"\",'V C CAB'!BA55=\"HABILITADO  TEMPORALMENTE A COMPETENCIAS FEI\"),\"\",+'V C CAB'!BA55),\"ERROR\")","v":""},{"$f":"IF(C55='V C CAB'!C55,IF(+'V C CAB'!BA55=\"HABILITADO  TEMPORALMENTE A COMPETENCIAS FEI\",\"HABILITADO  TEMPORALMENTE A COMPETENCIAS FEI\",\"\"),\"ERROR\")","v":"HABILITADO  TEMPORALMENTE A COMPETENCIAS FEI"}]
[{"$f":"IF('V C CAB'!A56=\"\",\"\",'V C CAB'!A56)","v":"B"},{"$f":"IF('V C CAB'!B56=\"\",\"\",'V C CAB'!B56)","v":"C122"},{"$f":"IF('V C CAB'!C56=\"\",\"\",'V C CAB'!C56)","v":"BONDADOSO"},{"$f":"IF('V C CAB'!D56=\"\",\"\",'V C CAB'!D56)","v":"THOMAS WRAY"},{"$f":"IF(OR('V C CAB'!AW1221+'V C CAB'!AX1221>=2,AND('V C CAB'!AW1221+'V C CAB'!AX1221>=1,'V L CAB'!AX1229>=40),'V C CAB'!AY1221>=1),\"CLASIFICADO A 80 Km NOVICIOS\",\"\")","v":""},{"$f":"IF(C56='V C CAB'!C56,IF(OR('V C CAB'!BA56=\"\",'V C CAB'!BA56=\"HABILITADO  TEMPORALMENTE A COMPETENCIAS FEI\"),\"\",+'V C CAB'!BA56),\"ERROR\")","v":"HABILITADO A 80KM VELOCIDAD CONTROLADA"},{"$f":"IF(C56='V C CAB'!C56,IF(+'V C CAB'!BA56=\"HABILITADO  TEMPORALMENTE A COMPETENCIAS FEI\",\"HABILITADO  TEMPORALMENTE A COMPETENCIAS FEI\",\"\"),\"ERROR\")","v":""}]
[{"$f":"IF('V C CAB'!A57=\"\",\"\",'V C CAB'!A57)","v":"C110"},{"$f":"IF('V C CAB'!B57=\"\",\"\",'V C CAB'!B57)","v":"C109"},{"$f":"IF('V C CAB'!C57=\"\",\"\",'V C CAB'!C57)","v":"BRANCO"},{"$f":"IF('V C CAB'!D57=\"\",\"\",'V C CAB'!D57)","v":"SERGIO MORILLO"},{"$f":"IF(OR('V C CAB'!AW1222+'V C CAB'!AX1222>=2,AND('V C CAB'!AW1222+'V C CAB'!AX1222>=1,'V L CAB'!AX1230>=40),'V C CAB'!AY1222>=1),\"CLASIFICADO A 80 Km NOVICIOS\",\"\")","v":""},{"$f":"IF(C57='V C CAB'!C57,IF(OR('V C CAB'!BA57=\"\",'V C CAB'!BA57=\"HABILITADO  TEMPORALMENTE A COMPETENCIAS FEI\"),\"\",+'V C CAB'!BA57),\"ERROR\")","v":"HABILITADO A 80KM VELOCIDAD CONTROLADA"},{"$f":"IF(C57='V C CAB'!C57,IF(+'V C CAB'!BA57=\"HABILITADO  TEMPORALMENTE A COMPETENCIAS FEI\",\"HABILITADO  TEMPORALMENTE A COMPETENCIAS FEI\",\"\"),\"ERROR\")","v":""}]
[{"$f":"IF('V C CAB'!A58=\"\",\"\",'V C CAB'!A58)","v":"B"},{"$f":"IF('V C CAB'!B58=\"\",\"\",'V C CAB'!B58)","v":"C142"},{"$f":"IF('V C CAB'!C58=\"\",\"\",'V C CAB'!C58)","v":"BRICHOLA"},{"$f":"IF('V C CAB'!D58=\"\",\"\",'V C CAB'!D58)","v":"CARLOS JOSE URIBE"},{"$f":"IF(OR('V C CAB'!AW1223+'V C CAB'!AX1223>=2,AND('V C CAB'!AW1223+'V C CAB'!AX1223>=1,'V L CAB'!AX1231>=40),'V C CAB'!AY1223>=1),\"CLASIFICADO A 80 Km NOVICIOS\",\"\")","v":""},{"$f":"IF(C58='V C CAB'!C58,IF(OR('V C CAB'!BA58=\"\",'V C CAB'!BA58=\"HABILITADO  TEMPORALMENTE A COMPETENCIAS FEI\"),\"\",+'V C CAB'!BA58),\"ERROR\")","v":""},{"$f":"IF(C58='V C CAB'!C58,IF(+'V C CAB'!BA58=\"HABILITADO  TEMPORALMENTE A COMPETENCIAS FEI\",\"HABILITADO  TEMPORALMENTE A COMPETENCIAS FEI\",\"\"),\"ERROR\")","v":"HABILITADO  TEMPORALMENTE A COMPETENCIAS FEI"}]
[{"$f":"IF('V C CAB'!A59=\"\",\"\",'V C CAB'!A59)","v":"B"},{"$f":"IF('V C CAB'!B59=\"\",\"\",'V C CAB'!B59)","v":"C028"},{"$f":"IF('V C CAB'!C59=\"\",\"\",'V C CAB'!C59)","v":"BRONCO"},{"$f":"IF('V C CAB'!D59=\"\",\"\",'V C CAB'!D59)","v":"MARCELO HERRERA"},{"$f":"IF(OR('V C CAB'!AW1224+'V C CAB'!AX1224>=2,AND('V C CAB'!AW1224+'V C CAB'!AX1224>=1,'V L CAB'!AX1232>=40),'V C CAB'!AY1224>=1),\"CLASIFICADO A 80 Km NOVICIOS\",\"\")","v":""},{"$f":"IF(C59='V C CAB'!C59,IF(OR('V C CAB'!BA59=\"\",'V C CAB'!BA59=\"HABILITADO  TEMPORALMENTE A COMPETENCIAS FEI\"),\"\",+'V C CAB'!BA59),\"ERROR\")","v":"HABILITADO A 80KM VELOCIDAD CONTROLADA"},{"$f":"IF(C59='V C CAB'!C59,IF(+'V C CAB'!BA59=\"HABILITADO  TEMPORALMENTE A COMPETENCIAS FEI\",\"HABILITADO  TEMPORALMENTE A COMPETENCIAS FEI\",\"\"),\"ERROR\")","v":""}]
[{"$f":"IF('V C CAB'!A60=\"\",\"\",'V C CAB'!A60)","v":"B"},{"$f":"IF('V C CAB'!B60=\"\",\"\",'V C CAB'!B60)","v":"C126"},{"$f":"IF('V C CAB'!C60=\"\",\"\",'V C CAB'!C60)","v":"BRUMA"},{"$f":"IF('V C CAB'!D60=\"\",\"\",'V C CAB'!D60)","v":"CANDO MARIO"},{"$f":"IF(OR('V C CAB'!AW1225+'V C CAB'!AX1225>=2,AND('V C CAB'!AW1225+'V C CAB'!AX1225>=1,'V L CAB'!AX1233>=40),'V C CAB'!AY1225>=1),\"CLASIFICADO A 80 Km NOVICIOS\",\"\")","v":""},{"$f":"IF(C60='V C CAB'!C60,IF(OR('V C CAB'!BA60=\"\",'V C CAB'!BA60=\"HABILITADO  TEMPORALMENTE A COMPETENCIAS FEI\"),\"\",+'V C CAB'!BA60),\"ERROR\")","v":""},{"$f":"IF(C60='V C CAB'!C60,IF(+'V C CAB'!BA60=\"HABILITADO  TEMPORALMENTE A COMPETENCIAS FEI\",\"HABILITADO  TEMPORALMENTE A COMPETENCIAS FEI\",\"\"),\"ERROR\")","v":"HABILITADO  TEMPORALMENTE A COMPETENCIAS FEI"}]
[{"$f":"IF('V C CAB'!A61=\"\",\"\",'V C CAB'!A61)","v":""},{"$f":"IF('V C CAB'!B61=\"\",\"\",'V C CAB'!B61)","v":"C349"},{"$f":"IF('V C CAB'!C61=\"\",\"\",'V C CAB'!C61)","v":"BRUNA"},{"$f":"IF('V C CAB'!D61=\"\",\"\",'V C CAB'!D61)","v":"ANDRADE ANDRADE PAULA"},{"$f":"IF(OR('V C CAB'!AW1226+'V C CAB'!AX1226>=2,AND('V C CAB'!AW1226+'V C CAB'!AX1226>=1,'V L CAB'!AX1234>=40),'V C CAB'!AY1226>=1),\"CLASIFICADO A 80 Km NOVICIOS\",\"\")","v":""},{"$f":"IF(C61='V C CAB'!C61,IF(OR('V C CAB'!BA61=\"\",'V C CAB'!BA61=\"HABILITADO  TEMPORALMENTE A COMPETENCIAS FEI\"),\"\",+'V C CAB'!BA61),\"ERROR\")","v":"NO INICIA SU CLASIFICACIÓN"},{"$f":"IF(C61='V C CAB'!C61,IF(+'V C CAB'!BA61=\"HABILITADO  TEMPORALMENTE A COMPETENCIAS FEI\",\"HABILITADO  TEMPORALMENTE A COMPETENCIAS FEI\",\"\"),\"ERROR\")","v":""}]
[{"$f":"IF('V C CAB'!A62=\"\",\"\",'V C CAB'!A62)","v":"B"},{"$f":"IF('V C CAB'!B62=\"\",\"\",'V C CAB'!B62)","v":"C229"},{"$f":"IF('V C CAB'!C62=\"\",\"\",'V C CAB'!C62)","v":"BULERIA"},{"$f":"IF('V C CAB'!D62=\"\",\"\",'V C CAB'!D62)","v":"LOYOLA VINTIMILLA TEODORO ANDRES"},{"$f":"IF(OR('V C CAB'!AW1227+'V C CAB'!AX1227>=2,AND('V C CAB'!AW1227+'V C CAB'!AX1227>=1,'V L CAB'!AX1235>=40),'V C CAB'!AY1227>=1),\"CLASIFICADO A 80 Km NOVICIOS\",\"\")","v":""},{"$f":"IF(C62='V C CAB'!C62,IF(OR('V C CAB'!BA62=\"\",'V C CAB'!BA62=\"HABILITADO  TEMPORALMENTE A COMPETENCIAS FEI\"),\"\",+'V C CAB'!BA62),\"ERROR\")","v":"HABILITADO A 80KM VELOCIDAD CONTROLADA"},{"$f":"IF(C62='V C CAB'!C62,IF(+'V C CAB'!BA62=\"HABILITADO  TEMPORALMENTE A COMPETENCIAS FEI\",\"HABILITADO  TEMPORALMENTE A COMPETENCIAS FEI\",\"\"),\"ERROR\")","v":""}]
[{"$f":"IF('V C CAB'!A63=\"\",\"\",'V C CAB'!A63)","v":"B"},{"$f":"IF('V C CAB'!B63=\"\",\"\",'V C CAB'!B63)","v":"C011"},{"$f":"IF('V C CAB'!C63=\"\",\"\",'V C CAB'!C63)","v":"BUMERAN"},{"$f":"IF('V C CAB'!D63=\"\",\"\",'V C CAB'!D63)","v":"HECTOR DANIEL ALMEIDA"},{"$f":"IF(OR('V C CAB'!AW1228+'V C CAB'!AX1228>=2,AND('V C CAB'!AW1228+'V C CAB'!AX1228>=1,'V L CAB'!AX1236>=40),'V C CAB'!AY1228>=1),\"CLASIFICADO A 80 Km NOVICIOS\",\"\")","v":""},{"$f":"IF(C63='V C CAB'!C63,IF(OR('V C CAB'!BA63=\"\",'V C CAB'!BA63=\"HABILITADO  TEMPORALMENTE A COMPETENCIAS FEI\"),\"\",+'V C CAB'!BA63),\"ERROR\")","v":"NO INICIA SU CLASIFICACIÓN"},{"$f":"IF(C63='V C CAB'!C63,IF(+'V C CAB'!BA63=\"HABILITADO  TEMPORALMENTE A COMPETENCIAS FEI\",\"HABILITADO  TEMPORALMENTE A COMPETENCIAS FEI\",\"\"),\"ERROR\")","v":""}]
[{"$f":"IF('V C CAB'!A64=\"\",\"\",'V C CAB'!A64)","v":""},{"$f":"IF('V C CAB'!B64=\"\",\"\",'V C CAB'!B64)","v":"C350"},{"$f":"IF('V C CAB'!C64=\"\",\"\",'V C CAB'!C64)","v":"BZ RHEEMAH"},{"$f":"IF('V C CAB'!D64=\"\",\"\",'V C CAB'!D64)","v":"FELIPE ANDRADE"},{"$f":"IF(OR('V C CAB'!AW1229+'V C CAB'!AX1229>=2,AND('V C CAB'!AW1229+'V C CAB'!AX1229>=1,'V L CAB'!AX1237>=40),'V C CAB'!AY1229>=1),\"CLASIFICADO A 80 Km NOVICIOS\",\"\")","v":""},{"$f":"IF(C64='V C CAB'!C64,IF(OR('V C CAB'!BA64=\"\",'V C CAB'!BA64=\"HABILITADO  TEMPORALMENTE A COMPETENCIAS FEI\"),\"\",+'V C CAB'!BA64),\"ERROR\")","v":""},{"$f":"IF(C64='V C CAB'!C64,IF(+'V C CAB'!BA64=\"HABILITADO  TEMPORALMENTE A COMPETENCIAS FEI\",\"HABILITADO  TEMPORALMENTE A COMPETENCIAS FEI\",\"\"),\"ERROR\")","v":"HABILITADO  TEMPORALMENTE A COMPETENCIAS FEI"}]
[{"$f":"IF('V C CAB'!A65=\"\",\"\",'V C CAB'!A65)","v":"C005"},{"$f":"IF('V C CAB'!B65=\"\",\"\",'V C CAB'!B65)","v":"C236"},{"$f":"IF('V C CAB'!C65=\"\",\"\",'V C CAB'!C65)","v":"CABALLO DE GUERRA"},{"$f":"IF('V C CAB'!D65=\"\",\"\",'V C CAB'!D65)","v":"PAULINO VINTIMILLA"},{"$f":"IF(OR('V C CAB'!AW1230+'V C CAB'!AX1230>=2,AND('V C CAB'!AW1230+'V C CAB'!AX1230>=1,'V L CAB'!AX1238>=40),'V C CAB'!AY1230>=1),\"CLASIFICADO A 80 Km NOVICIOS\",\"\")","v":""},{"$f":"IF(C65='V C CAB'!C65,IF(OR('V C CAB'!BA65=\"\",'V C CAB'!BA65=\"HABILITADO  TEMPORALMENTE A COMPETENCIAS FEI\"),\"\",+'V C CAB'!BA65),\"ERROR\")","v":"INICIO SU CLASIFICACIÓN"},{"$f":"IF(C65='V C CAB'!C65,IF(+'V C CAB'!BA65=\"HABILITADO  TEMPORALMENTE A COMPETENCIAS FEI\",\"HABILITADO  TEMPORALMENTE A COMPETENCIAS FEI\",\"\"),\"ERROR\")","v":""}]
[{"$f":"IF('V C CAB'!A66=\"\",\"\",'V C CAB'!A66)","v":"B"},{"$f":"IF('V C CAB'!B66=\"\",\"\",'V C CAB'!B66)","v":"C003"},{"$f":"IF('V C CAB'!C66=\"\",\"\",'V C CAB'!C66)","v":"CAIPIRIÑA"},{"$f":"IF('V C CAB'!D66=\"\",\"\",'V C CAB'!D66)","v":"JUAN VERGARA"},{"$f":"IF(OR('V C CAB'!AW1231+'V C CAB'!AX1231>=2,AND('V C CAB'!AW1231+'V C CAB'!AX1231>=1,'V L CAB'!AX1239>=40),'V C CAB'!AY1231>=1),\"CLASIFICADO A 80 Km NOVICIOS\",\"\")","v":""},{"$f":"IF(C66='V C CAB'!C66,IF(OR('V C CAB'!BA66=\"\",'V C CAB'!BA66=\"HABILITADO  TEMPORALMENTE A COMPETENCIAS FEI\"),\"\",+'V C CAB'!BA66),\"ERROR\")","v":"NO INICIA SU CLASIFICACIÓN"},{"$f":"IF(C66='V C CAB'!C66,IF(+'V C CAB'!BA66=\"HABILITADO  TEMPORALMENTE A COMPETENCIAS FEI\",\"HABILITADO  TEMPORALMENTE A COMPETENCIAS FEI\",\"\"),\"ERROR\")","v":""}]
[{"$f":"IF('V C CAB'!A67=\"\",\"\",'V C CAB'!A67)","v":"B"},{"$f":"IF('V C CAB'!B67=\"\",\"\",'V C CAB'!B67)","v":"C116"},{"$f":"IF('V C CAB'!C67=\"\",\"\",'V C CAB'!C67)","v":"CALEÑA AJ"},{"$f":"IF('V C CAB'!D67=\"\",\"\",'V C CAB'!D67)","v":"NOBOA MAURICIO"},{"$f":"IF(OR('V C CAB'!AW1232+'V C CAB'!AX1232>=2,AND('V C CAB'!AW1232+'V C CAB'!AX1232>=1,'V L CAB'!AX1240>=40),'V C CAB'!AY1232>=1),\"CLASIFICADO A 80 Km NOVICIOS\",\"\")","v":""},{"$f":"IF(C67='V C CAB'!C67,IF(OR('V C CAB'!BA67=\"\",'V C CAB'!BA67=\"HABILITADO  TEMPORALMENTE A COMPETENCIAS FEI\"),\"\",+'V C CAB'!BA67),\"ERROR\")","v":"HABILITADO A 80KM VELOCIDAD CONTROLADA"},{"$f":"IF(C67='V C CAB'!C67,IF(+'V C CAB'!BA67=\"HABILITADO  TEMPORALMENTE A COMPETENCIAS FEI\",\"HABILITADO  TEMPORALMENTE A COMPETENCIAS FEI\",\"\"),\"ERROR\")","v":""}]
[{"$f":"IF('V C CAB'!A68=\"\",\"\",'V C CAB'!A68)","v":""},{"$f":"IF('V C CAB'!B68=\"\",\"\",'V C CAB'!B68)","v":"C238"},{"$f":"IF('V C CAB'!C68=\"\",\"\",'V C CAB'!C68)","v":"CALEÑA CMB"},{"$f":"IF('V C CAB'!D68=\"\",\"\",'V C CAB'!D68)","v":"SIMON NICOLAS"},{"$f":"IF(OR('V C CAB'!AW1233+'V C CAB'!AX1233>=2,AND('V C CAB'!AW1233+'V C CAB'!AX1233>=1,'V L CAB'!AX1241>=40),'V C CAB'!AY1233>=1),\"CLASIFICADO A 80 Km NOVICIOS\",\"\")","v":""},{"$f":"IF(C68='V C CAB'!C68,IF(OR('V C CAB'!BA68=\"\",'V C CAB'!BA68=\"HABILITADO  TEMPORALMENTE A COMPETENCIAS FEI\"),\"\",+'V C CAB'!BA68),\"ERROR\")","v":"HABILITADO A 80KM VELOCIDAD CONTROLADA"},{"$f":"IF(C68='V C CAB'!C68,IF(+'V C CAB'!BA68=\"HABILITADO  TEMPORALMENTE A COMPETENCIAS FEI\",\"HABILITADO  TEMPORALMENTE A COMPETENCIAS FEI\",\"\"),\"ERROR\")","v":""}]
[{"$f":"IF('V C CAB'!A69=\"\",\"\",'V C CAB'!A69)","v":""},{"$f":"IF('V C CAB'!B69=\"\",\"\",'V C CAB'!B69)","v":"C147"},{"$f":"IF('V C CAB'!C69=\"\",\"\",'V C CAB'!C69)","v":"CAMARON"},{"$f":"IF('V C CAB'!D69=\"\",\"\",'V C CAB'!D69)","v":"GUARDERAS JOSE GABRIEL"},{"$f":"IF(OR('V C CAB'!AW1234+'V C CAB'!AX1234>=2,AND('V C CAB'!AW1234+'V C CAB'!AX1234>=1,'V L CAB'!AX1242>=40),'V C CAB'!AY1234>=1),\"CLASIFICADO A 80 Km NOVICIOS\",\"\")","v":""},{"$f":"IF(C69='V C CAB'!C69,IF(OR('V C CAB'!BA69=\"\",'V C CAB'!BA69=\"HABILITADO  TEMPORALMENTE A COMPETENCIAS FEI\"),\"\",+'V C CAB'!BA69),\"ERROR\")","v":"LE FALTA UNA DE 80 A 90 CONTROLADA"},{"$f":"IF(C69='V C CAB'!C69,IF(+'V C CAB'!BA69=\"HABILITADO  TEMPORALMENTE A COMPETENCIAS FEI\",\"HABILITADO  TEMPORALMENTE A COMPETENCIAS FEI\",\"\"),\"ERROR\")","v":""}]
[{"$f":"IF('V C CAB'!A70=\"\",\"\",'V C CAB'!A70)","v":"B"},{"$f":"IF('V C CAB'!B70=\"\",\"\",'V C CAB'!B70)","v":"C"},{"$f":"IF('V C CAB'!C70=\"\",\"\",'V C CAB'!C70)","v":"CAMILA ZK"},{"$f":"IF('V C CAB'!D70=\"\",\"\",'V C CAB'!D70)","v":""},{"$f":"IF(OR('V C CAB'!AW1235+'V C CAB'!AX1235>=2,AND('V C CAB'!AW1235+'V C CAB'!AX1235>=1,'V L CAB'!AX1243>=40),'V C CAB'!AY1235>=1),\"CLASIFICADO A 80 Km NOVICIOS\",\"\")","v":""},{"$f":"IF(C70='V C CAB'!C70,IF(OR('V C CAB'!BA70=\"\",'V C CAB'!BA70=\"HABILITADO  TEMPORALMENTE A COMPETENCIAS FEI\"),\"\",+'V C CAB'!BA70),\"ERROR\")","v":"NO INICIA SU CLASIFICACIÓN"},{"$f":"IF(C70='V C CAB'!C70,IF(+'V C CAB'!BA70=\"HABILITADO  TEMPORALMENTE A COMPETENCIAS FEI\",\"HABILITADO  TEMPORALMENTE A COMPETENCIAS FEI\",\"\"),\"ERROR\")","v":""}]
[{"$f":"IF('V C CAB'!A71=\"\",\"\",'V C CAB'!A71)","v":"B"},{"$f":"IF('V C CAB'!B71=\"\",\"\",'V C CAB'!B71)","v":"C042"},{"$f":"IF('V C CAB'!C71=\"\",\"\",'V C CAB'!C71)","v":"CANELA"},{"$f":"IF('V C CAB'!D71=\"\",\"\",'V C CAB'!D71)","v":"GUSTAVO HIDALGO"},{"$f":"IF(OR('V C CAB'!AW1236+'V C CAB'!AX1236>=2,AND('V C CAB'!AW1236+'V C CAB'!AX1236>=1,'V L CAB'!AX1244>=40),'V C CAB'!AY1236>=1),\"CLASIFICADO A 80 Km NOVICIOS\",\"\")","v":""},{"$f":"IF(C71='V C CAB'!C71,IF(OR('V C CAB'!BA71=\"\",'V C CAB'!BA71=\"HABILITADO  TEMPORALMENTE A COMPETENCIAS FEI\"),\"\",+'V C CAB'!BA71),\"ERROR\")","v":"INICIO SU CLASIFICACIÓN"},{"$f":"IF(C71='V C CAB'!C71,IF(+'V C CAB'!BA71=\"HABILITADO  TEMPORALMENTE A COMPETENCIAS FEI\",\"HABILITADO  TEMPORALMENTE A COMPETENCIAS FEI\",\"\"),\"ERROR\")","v":""}]
[{"$f":"IF('V C CAB'!A72=\"\",\"\",'V C CAB'!A72)","v":"B"},{"$f":"IF('V C CAB'!B72=\"\",\"\",'V C CAB'!B72)","v":"C067"},{"$f":"IF('V C CAB'!C72=\"\",\"\",'V C CAB'!C72)","v":"CANELA PG"},{"$f":"IF('V C CAB'!D72=\"\",\"\",'V C CAB'!D72)","v":"PEDRO JOSE GUARDERAS"},{"$f":"IF(OR('V C CAB'!AW1237+'V C CAB'!AX1237>=2,AND('V C CAB'!AW1237+'V C CAB'!AX1237>=1,'V L CAB'!AX1245>=40),'V C CAB'!AY1237>=1),\"CLASIFICADO A 80 Km NOVICIOS\",\"\")","v":""},{"$f":"IF(C72='V C CAB'!C72,IF(OR('V C CAB'!BA72=\"\",'V C CAB'!BA72=\"HABILITADO  TEMPORALMENTE A COMPETENCIAS FEI\"),\"\",+'V C CAB'!BA72),\"ERROR\")","v":"LE FALTA UNA DE 80 A 90 CONTROLADA"},{"$f":"IF(C72='V C CAB'!C72,IF(+'V C CAB'!BA72=\"HABILITADO  TEMPORALMENTE A COMPETENCIAS FEI\",\"HABILITADO  TEMPORALMENTE A COMPETENCIAS FEI\",\"\"),\"ERROR\")","v":""}]
[{"$f":"IF('V C CAB'!A73=\"\",\"\",'V C CAB'!A73)","v":"B"},{"$f":"IF('V C CAB'!B73=\"\",\"\",'V C CAB'!B73)","v":"C095"},{"$f":"IF('V C CAB'!C73=\"\",\"\",'V C CAB'!C73)","v":"CANELO"},{"$f":"IF('V C CAB'!D73=\"\",\"\",'V C CAB'!D73)","v":"FERNANDA MONROY"},{"$f":"IF(OR('V C CAB'!AW1238+'V C CAB'!AX1238>=2,AND('V C CAB'!AW1238+'V C CAB'!AX1238>=1,'V L CAB'!AX1246>=40),'V C CAB'!AY1238>=1),\"CLASIFICADO A 80 Km NOVICIOS\",\"\")","v":""},{"$f":"IF(C73='V C CAB'!C73,IF(OR('V C CAB'!BA73=\"\",'V C CAB'!BA73=\"HABILITADO  TEMPORALMENTE A COMPETENCIAS FEI\"),\"\",+'V C CAB'!BA73),\"ERROR\")","v":""},{"$f":"IF(C73='V C CAB'!C73,IF(+'V C CAB'!BA73=\"HABILITADO  TEMPORALMENTE A COMPETENCIAS FEI\",\"HABILITADO  TEMPORALMENTE A COMPETENCIAS FEI\",\"\"),\"ERROR\")","v":"HABILITADO  TEMPORALMENTE A COMPETENCIAS FEI"}]
[{"$f":"IF('V C CAB'!A74=\"\",\"\",'V C CAB'!A74)","v":"B"},{"$f":"IF('V C CAB'!B74=\"\",\"\",'V C CAB'!B74)","v":"C"},{"$f":"IF('V C CAB'!C74=\"\",\"\",'V C CAB'!C74)","v":"CANGUIL VE"},{"$f":"IF('V C CAB'!D74=\"\",\"\",'V C CAB'!D74)","v":""},{"$f":"IF(OR('V C CAB'!AW1239+'V C CAB'!AX1239>=2,AND('V C CAB'!AW1239+'V C CAB'!AX1239>=1,'V L CAB'!AX1247>=40),'V C CAB'!AY1239>=1),\"CLASIFICADO A 80 Km NOVICIOS\",\"\")","v":""},{"$f":"IF(C74='V C CAB'!C74,IF(OR('V C CAB'!BA74=\"\",'V C CAB'!BA74=\"HABILITADO  TEMPORALMENTE A COMPETENCIAS FEI\"),\"\",+'V C CAB'!BA74),\"ERROR\")","v":"NO INICIA SU CLASIFICACIÓN"},{"$f":"IF(C74='V C CAB'!C74,IF(+'V C CAB'!BA74=\"HABILITADO  TEMPORALMENTE A COMPETENCIAS FEI\",\"HABILITADO  TEMPORALMENTE A COMPETENCIAS FEI\",\"\"),\"ERROR\")","v":""}]
[{"$f":"IF('V C CAB'!A75=\"\",\"\",'V C CAB'!A75)","v":"C003"},{"$f":"IF('V C CAB'!B75=\"\",\"\",'V C CAB'!B75)","v":"C"},{"$f":"IF('V C CAB'!C75=\"\",\"\",'V C CAB'!C75)","v":"CAPITAN"},{"$f":"IF('V C CAB'!D75=\"\",\"\",'V C CAB'!D75)","v":""},{"$f":"IF(OR('V C CAB'!AW1240+'V C CAB'!AX1240>=2,AND('V C CAB'!AW1240+'V C CAB'!AX1240>=1,'V L CAB'!AX1248>=40),'V C CAB'!AY1240>=1),\"CLASIFICADO A 80 Km NOVICIOS\",\"\")","v":""},{"$f":"IF(C75='V C CAB'!C75,IF(OR('V C CAB'!BA75=\"\",'V C CAB'!BA75=\"HABILITADO  TEMPORALMENTE A COMPETENCIAS FEI\"),\"\",+'V C CAB'!BA75),\"ERROR\")","v":"NO INICIA SU CLASIFICACIÓN"},{"$f":"IF(C75='V C CAB'!C75,IF(+'V C CAB'!BA75=\"HABILITADO  TEMPORALMENTE A COMPETENCIAS FEI\",\"HABILITADO  TEMPORALMENTE A COMPETENCIAS FEI\",\"\"),\"ERROR\")","v":""}]
[{"$f":"IF('V C CAB'!A76=\"\",\"\",'V C CAB'!A76)","v":"CC"},{"$f":"IF('V C CAB'!B76=\"\",\"\",'V C CAB'!B76)","v":"C253"},{"$f":"IF('V C CAB'!C76=\"\",\"\",'V C CAB'!C76)","v":"CAPOEIRA"},{"$f":"IF('V C CAB'!D76=\"\",\"\",'V C CAB'!D76)","v":"TORAL GUERRERO JUAN DIEGO"},{"$f":"IF(OR('V C CAB'!AW1241+'V C CAB'!AX1241>=2,AND('V C CAB'!AW1241+'V C CAB'!AX1241>=1,'V L CAB'!AX1249>=40),'V C CAB'!AY1241>=1),\"CLASIFICADO A 80 Km NOVICIOS\",\"\")","v":""},{"$f":"IF(C76='V C CAB'!C76,IF(OR('V C CAB'!BA76=\"\",'V C CAB'!BA76=\"HABILITADO  TEMPORALMENTE A COMPETENCIAS FEI\"),\"\",+'V C CAB'!BA76),\"ERROR\")","v":"HABILITADO A 80KM VELOCIDAD CONTROLADA"},{"$f":"IF(C76='V C CAB'!C76,IF(+'V C CAB'!BA76=\"HABILITADO  TEMPORALMENTE A COMPETENCIAS FEI\",\"HABILITADO  TEMPORALMENTE A COMPETENCIAS FEI\",\"\"),\"ERROR\")","v":""}]
[{"$f":"IF('V C CAB'!A77=\"\",\"\",'V C CAB'!A77)","v":""},{"$f":"IF('V C CAB'!B77=\"\",\"\",'V C CAB'!B77)","v":"C337"},{"$f":"IF('V C CAB'!C77=\"\",\"\",'V C CAB'!C77)","v":"CAPORAL"},{"$f":"IF('V C CAB'!D77=\"\",\"\",'V C CAB'!D77)","v":"NOBOA MAURICIO"},{"$f":"IF(OR('V C CAB'!AW1242+'V C CAB'!AX1242>=2,AND('V C CAB'!AW1242+'V C CAB'!AX1242>=1,'V L CAB'!AX1250>=40),'V C CAB'!AY1242>=1),\"CLASIFICADO A 80 Km NOVICIOS\",\"\")","v":""},{"$f":"IF(C77='V C CAB'!C77,IF(OR('V C CAB'!BA77=\"\",'V C CAB'!BA77=\"HABILITADO  TEMPORALMENTE A COMPETENCIAS FEI\"),\"\",+'V C CAB'!BA77),\"ERROR\")","v":"HABILITADO A 80KM VELOCIDAD CONTROLADA"},{"$f":"IF(C77='V C CAB'!C77,IF(+'V C CAB'!BA77=\"HABILITADO  TEMPORALMENTE A COMPETENCIAS FEI\",\"HABILITADO  TEMPORALMENTE A COMPETENCIAS FEI\",\"\"),\"ERROR\")","v":""}]
[{"$f":"IF('V C CAB'!A78=\"\",\"\",'V C CAB'!A78)","v":"C237"},{"$f":"IF('V C CAB'!B78=\"\",\"\",'V C CAB'!B78)","v":"C021"},{"$f":"IF('V C CAB'!C78=\"\",\"\",'V C CAB'!C78)","v":"CAPULI"},{"$f":"IF('V C CAB'!D78=\"\",\"\",'V C CAB'!D78)","v":"BARBARA ESPINOZA"},{"$f":"IF(OR('V C CAB'!AW1243+'V C CAB'!AX1243>=2,AND('V C CAB'!AW1243+'V C CAB'!AX1243>=1,'V L CAB'!AX1251>=40),'V C CAB'!AY1243>=1),\"CLASIFICADO A 80 Km NOVICIOS\",\"\")","v":""},{"$f":"IF(C78='V C CAB'!C78,IF(OR('V C CAB'!BA78=\"\",'V C CAB'!BA78=\"HABILITADO  TEMPORALMENTE A COMPETENCIAS FEI\"),\"\",+'V C CAB'!BA78),\"ERROR\")","v":"NO INICIA SU CLASIFICACIÓN"},{"$f":"IF(C78='V C CAB'!C78,IF(+'V C CAB'!BA78=\"HABILITADO  TEMPORALMENTE A COMPETENCIAS FEI\",\"HABILITADO  TEMPORALMENTE A COMPETENCIAS FEI\",\"\"),\"ERROR\")","v":""}]
[{"$f":"IF('V C CAB'!A79=\"\",\"\",'V C CAB'!A79)","v":"CC"},{"$f":"IF('V C CAB'!B79=\"\",\"\",'V C CAB'!B79)","v":"C319"},{"$f":"IF('V C CAB'!C79=\"\",\"\",'V C CAB'!C79)","v":"CAPULI"},{"$f":"IF('V C CAB'!D79=\"\",\"\",'V C CAB'!D79)","v":"VEGA CALDERON ANDRES"},{"$f":"IF(OR('V C CAB'!AW1244+'V C CAB'!AX1244>=2,AND('V C CAB'!AW1244+'V C CAB'!AX1244>=1,'V L CAB'!AX1252>=40),'V C CAB'!AY1244>=1),\"CLASIFICADO A 80 Km NOVICIOS\",\"\")","v":""},{"$f":"IF(C79='V C CAB'!C79,IF(OR('V C CAB'!BA79=\"\",'V C CAB'!BA79=\"HABILITADO  TEMPORALMENTE A COMPETENCIAS FEI\"),\"\",+'V C CAB'!BA79),\"ERROR\")","v":"NO INICIA SU CLASIFICACIÓN"},{"$f":"IF(C79='V C CAB'!C79,IF(+'V C CAB'!BA79=\"HABILITADO  TEMPORALMENTE A COMPETENCIAS FEI\",\"HABILITADO  TEMPORALMENTE A COMPETENCIAS FEI\",\"\"),\"ERROR\")","v":""}]
[{"$f":"IF('V C CAB'!A80=\"\",\"\",'V C CAB'!A80)","v":""},{"$f":"IF('V C CAB'!B80=\"\",\"\",'V C CAB'!B80)","v":"CC"},{"$f":"IF('V C CAB'!C80=\"\",\"\",'V C CAB'!C80)","v":"CAPULINA"},{"$f":"IF('V C CAB'!D80=\"\",\"\",'V C CAB'!D80)","v":"BOADA ABAD DOMENICA"},{"$f":"IF(OR('V C CAB'!AW1245+'V C CAB'!AX1245>=2,AND('V C CAB'!AW1245+'V C CAB'!AX1245>=1,'V L CAB'!AX1253>=40),'V C CAB'!AY1245>=1),\"CLASIFICADO A 80 Km NOVICIOS\",\"\")","v":""},{"$f":"IF(C80='V C CAB'!C80,IF(OR('V C CAB'!BA80=\"\",'V C CAB'!BA80=\"HABILITADO  TEMPORALMENTE A COMPETENCIAS FEI\"),\"\",+'V C CAB'!BA80),\"ERROR\")","v":"HABILITADO A 80KM VELOCIDAD CONTROLADA"},{"$f":"IF(C80='V C CAB'!C80,IF(+'V C CAB'!BA80=\"HABILITADO  TEMPORALMENTE A COMPETENCIAS FEI\",\"HABILITADO  TEMPORALMENTE A COMPETENCIAS FEI\",\"\"),\"ERROR\")","v":""}]
[{"$f":"IF('V C CAB'!A81=\"\",\"\",'V C CAB'!A81)","v":"B"},{"$f":"IF('V C CAB'!B81=\"\",\"\",'V C CAB'!B81)","v":"C135"},{"$f":"IF('V C CAB'!C81=\"\",\"\",'V C CAB'!C81)","v":"CARAGUAY CM"},{"$f":"IF('V C CAB'!D81=\"\",\"\",'V C CAB'!D81)","v":"CORNEJO MANUEL"},{"$f":"IF(OR('V C CAB'!AW1246+'V C CAB'!AX1246>=2,AND('V C CAB'!AW1246+'V C CAB'!AX1246>=1,'V L CAB'!AX1254>=40),'V C CAB'!AY1246>=1),\"CLASIFICADO A 80 Km NOVICIOS\",\"\")","v":""},{"$f":"IF(C81='V C CAB'!C81,IF(OR('V C CAB'!BA81=\"\",'V C CAB'!BA81=\"HABILITADO  TEMPORALMENTE A COMPETENCIAS FEI\"),\"\",+'V C CAB'!BA81),\"ERROR\")","v":""},{"$f":"IF(C81='V C CAB'!C81,IF(+'V C CAB'!BA81=\"HABILITADO  TEMPORALMENTE A COMPETENCIAS FEI\",\"HABILITADO  TEMPORALMENTE A COMPETENCIAS FEI\",\"\"),\"ERROR\")","v":"HABILITADO  TEMPORALMENTE A COMPETENCIAS FEI"}]
[{"$f":"IF('V C CAB'!A82=\"\",\"\",'V C CAB'!A82)","v":"B"},{"$f":"IF('V C CAB'!B82=\"\",\"\",'V C CAB'!B82)","v":"C101"},{"$f":"IF('V C CAB'!C82=\"\",\"\",'V C CAB'!C82)","v":"CARAMELO"},{"$f":"IF('V C CAB'!D82=\"\",\"\",'V C CAB'!D82)","v":"MAZAPANTA KEVIN"},{"$f":"IF(OR('V C CAB'!AW1247+'V C CAB'!AX1247>=2,AND('V C CAB'!AW1247+'V C CAB'!AX1247>=1,'V L CAB'!AX1255>=40),'V C CAB'!AY1247>=1),\"CLASIFICADO A 80 Km NOVICIOS\",\"\")","v":""},{"$f":"IF(C82='V C CAB'!C82,IF(OR('V C CAB'!BA82=\"\",'V C CAB'!BA82=\"HABILITADO  TEMPORALMENTE A COMPETENCIAS FEI\"),\"\",+'V C CAB'!BA82),\"ERROR\")","v":"HABILITADO A 80KM VELOCIDAD CONTROLADA"},{"$f":"IF(C82='V C CAB'!C82,IF(+'V C CAB'!BA82=\"HABILITADO  TEMPORALMENTE A COMPETENCIAS FEI\",\"HABILITADO  TEMPORALMENTE A COMPETENCIAS FEI\",\"\"),\"ERROR\")","v":""}]
[{"$f":"IF('V C CAB'!A83=\"\",\"\",'V C CAB'!A83)","v":""},{"$f":"IF('V C CAB'!B83=\"\",\"\",'V C CAB'!B83)","v":"C351"},{"$f":"IF('V C CAB'!C83=\"\",\"\",'V C CAB'!C83)","v":"CARNIVAL RHYDER"},{"$f":"IF('V C CAB'!D83=\"\",\"\",'V C CAB'!D83)","v":"VINTIMILLA SERRANO PABLO XAVIER"},{"$f":"IF(OR('V C CAB'!AW1248+'V C CAB'!AX1248>=2,AND('V C CAB'!AW1248+'V C CAB'!AX1248>=1,'V L CAB'!AX1256>=40),'V C CAB'!AY1248>=1),\"CLASIFICADO A 80 Km NOVICIOS\",\"\")","v":""},{"$f":"IF(C83='V C CAB'!C83,IF(OR('V C CAB'!BA83=\"\",'V C CAB'!BA83=\"HABILITADO  TEMPORALMENTE A COMPETENCIAS FEI\"),\"\",+'V C CAB'!BA83),\"ERROR\")","v":"INICIO SU CLASIFICACIÓN"},{"$f":"IF(C83='V C CAB'!C83,IF(+'V C CAB'!BA83=\"HABILITADO  TEMPORALMENTE A COMPETENCIAS FEI\",\"HABILITADO  TEMPORALMENTE A COMPETENCIAS FEI\",\"\"),\"ERROR\")","v":""}]
[{"$f":"IF('V C CAB'!A84=\"\",\"\",'V C CAB'!A84)","v":"CC"},{"$f":"IF('V C CAB'!B84=\"\",\"\",'V C CAB'!B84)","v":"C254"},{"$f":"IF('V C CAB'!C84=\"\",\"\",'V C CAB'!C84)","v":"CASANOVA"},{"$f":"IF('V C CAB'!D84=\"\",\"\",'V C CAB'!D84)","v":"MUÑOZ ESTEBAN"},{"$f":"IF(OR('V C CAB'!AW1249+'V C CAB'!AX1249>=2,AND('V C CAB'!AW1249+'V C CAB'!AX1249>=1,'V L CAB'!AX1257>=40),'V C CAB'!AY1249>=1),\"CLASIFICADO A 80 Km NOVICIOS\",\"\")","v":""},{"$f":"IF(C84='V C CAB'!C84,IF(OR('V C CAB'!BA84=\"\",'V C CAB'!BA84=\"HABILITADO  TEMPORALMENTE A COMPETENCIAS FEI\"),\"\",+'V C CAB'!BA84),\"ERROR\")","v":"INICIO SU CLASIFICACIÓN"},{"$f":"IF(C84='V C CAB'!C84,IF(+'V C CAB'!BA84=\"HABILITADO  TEMPORALMENTE A COMPETENCIAS FEI\",\"HABILITADO  TEMPORALMENTE A COMPETENCIAS FEI\",\"\"),\"ERROR\")","v":""}]
[{"$f":"IF('V C CAB'!A85=\"\",\"\",'V C CAB'!A85)","v":"B"},{"$f":"IF('V C CAB'!B85=\"\",\"\",'V C CAB'!B85)","v":"C065"},{"$f":"IF('V C CAB'!C85=\"\",\"\",'V C CAB'!C85)","v":"CASHMERE"},{"$f":"IF('V C CAB'!D85=\"\",\"\",'V C CAB'!D85)","v":"SANTIAGO MIÑO"},{"$f":"IF(OR('V C CAB'!AW1250+'V C CAB'!AX1250>=2,AND('V C CAB'!AW1250+'V C CAB'!AX1250>=1,'V L CAB'!AX1258>=40),'V C CAB'!AY1250>=1),\"CLASIFICADO A 80 Km NOVICIOS\",\"\")","v":""},{"$f":"IF(C85='V C CAB'!C85,IF(OR('V C CAB'!BA85=\"\",'V C CAB'!BA85=\"HABILITADO  TEMPORALMENTE A COMPETENCIAS FEI\"),\"\",+'V C CAB'!BA85),\"ERROR\")","v":"NO INICIA SU CLASIFICACIÓN"},{"$f":"IF(C85='V C CAB'!C85,IF(+'V C CAB'!BA85=\"HABILITADO  TEMPORALMENTE A COMPETENCIAS FEI\",\"HABILITADO  TEMPORALMENTE A COMPETENCIAS FEI\",\"\"),\"ERROR\")","v":""}]
[{"$f":"IF('V C CAB'!A86=\"\",\"\",'V C CAB'!A86)","v":"CC"},{"$f":"IF('V C CAB'!B86=\"\",\"\",'V C CAB'!B86)","v":"C255"},{"$f":"IF('V C CAB'!C86=\"\",\"\",'V C CAB'!C86)","v":"CASIR"},{"$f":"IF('V C CAB'!D86=\"\",\"\",'V C CAB'!D86)","v":"MUÑOZ CALDERON ALBERTO"},{"$f":"IF(OR('V C CAB'!AW1251+'V C CAB'!AX1251>=2,AND('V C CAB'!AW1251+'V C CAB'!AX1251>=1,'V L CAB'!AX1259>=40),'V C CAB'!AY1251>=1),\"CLASIFICADO A 80 Km NOVICIOS\",\"\")","v":""},{"$f":"IF(C86='V C CAB'!C86,IF(OR('V C CAB'!BA86=\"\",'V C CAB'!BA86=\"HABILITADO  TEMPORALMENTE A COMPETENCIAS FEI\"),\"\",+'V C CAB'!BA86),\"ERROR\")","v":"INICIO SU CLASIFICACIÓN"},{"$f":"IF(C86='V C CAB'!C86,IF(+'V C CAB'!BA86=\"HABILITADO  TEMPORALMENTE A COMPETENCIAS FEI\",\"HABILITADO  TEMPORALMENTE A COMPETENCIAS FEI\",\"\"),\"ERROR\")","v":""}]
[{"$f":"IF('V C CAB'!A87=\"\",\"\",'V C CAB'!A87)","v":"CC"},{"$f":"IF('V C CAB'!B87=\"\",\"\",'V C CAB'!B87)","v":"C256"},{"$f":"IF('V C CAB'!C87=\"\",\"\",'V C CAB'!C87)","v":"CASTAÑO"},{"$f":"IF('V C CAB'!D87=\"\",\"\",'V C CAB'!D87)","v":"VINTIMILLA SERRANO PABLO XAVIER"},{"$f":"IF(OR('V C CAB'!AW1252+'V C CAB'!AX1252>=2,AND('V C CAB'!AW1252+'V C CAB'!AX1252>=1,'V L CAB'!AX1260>=40),'V C CAB'!AY1252>=1),\"CLASIFICADO A 80 Km NOVICIOS\",\"\")","v":""},{"$f":"IF(C87='V C CAB'!C87,IF(OR('V C CAB'!BA87=\"\",'V C CAB'!BA87=\"HABILITADO  TEMPORALMENTE A COMPETENCIAS FEI\"),\"\",+'V C CAB'!BA87),\"ERROR\")","v":""},{"$f":"IF(C87='V C CAB'!C87,IF(+'V C CAB'!BA87=\"HABILITADO  TEMPORALMENTE A COMPETENCIAS FEI\",\"HABILITADO  TEMPORALMENTE A COMPETENCIAS FEI\",\"\"),\"ERROR\")","v":"HABILITADO  TEMPORALMENTE A COMPETENCIAS FEI"}]
[{"$f":"IF('V C CAB'!A88=\"\",\"\",'V C CAB'!A88)","v":""},{"$f":"IF('V C CAB'!B88=\"\",\"\",'V C CAB'!B88)","v":"C388"},{"$f":"IF('V C CAB'!C88=\"\",\"\",'V C CAB'!C88)","v":"CASTAÑUELA"},{"$f":"IF('V C CAB'!D88=\"\",\"\",'V C CAB'!D88)","v":"LETORT MENA JOSE"},{"$f":"IF(OR('V C CAB'!AW1253+'V C CAB'!AX1253>=2,AND('V C CAB'!AW1253+'V C CAB'!AX1253>=1,'V L CAB'!AX1261>=40),'V C CAB'!AY1253>=1),\"CLASIFICADO A 80 Km NOVICIOS\",\"\")","v":""},{"$f":"IF(C88='V C CAB'!C88,IF(OR('V C CAB'!BA88=\"\",'V C CAB'!BA88=\"HABILITADO  TEMPORALMENTE A COMPETENCIAS FEI\"),\"\",+'V C CAB'!BA88),\"ERROR\")","v":"INICIO SU CLASIFICACIÓN"},{"$f":"IF(C88='V C CAB'!C88,IF(+'V C CAB'!BA88=\"HABILITADO  TEMPORALMENTE A COMPETENCIAS FEI\",\"HABILITADO  TEMPORALMENTE A COMPETENCIAS FEI\",\"\"),\"ERROR\")","v":""}]
[{"$f":"IF('V C CAB'!A89=\"\",\"\",'V C CAB'!A89)","v":""},{"$f":"IF('V C CAB'!B89=\"\",\"\",'V C CAB'!B89)","v":"C375"},{"$f":"IF('V C CAB'!C89=\"\",\"\",'V C CAB'!C89)","v":"CAYETANA"},{"$f":"IF('V C CAB'!D89=\"\",\"\",'V C CAB'!D89)","v":"ALVEAR JUAN CARLOS"},{"$f":"IF(OR('V C CAB'!AW1254+'V C CAB'!AX1254>=2,AND('V C CAB'!AW1254+'V C CAB'!AX1254>=1,'V L CAB'!AX1262>=40),'V C CAB'!AY1254>=1),\"CLASIFICADO A 80 Km NOVICIOS\",\"\")","v":""},{"$f":"IF(C89='V C CAB'!C89,IF(OR('V C CAB'!BA89=\"\",'V C CAB'!BA89=\"HABILITADO  TEMPORALMENTE A COMPETENCIAS FEI\"),\"\",+'V C CAB'!BA89),\"ERROR\")","v":"INICIO SU CLASIFICACIÓN"},{"$f":"IF(C89='V C CAB'!C89,IF(+'V C CAB'!BA89=\"HABILITADO  TEMPORALMENTE A COMPETENCIAS FEI\",\"HABILITADO  TEMPORALMENTE A COMPETENCIAS FEI\",\"\"),\"ERROR\")","v":""}]
[{"$f":"IF('V C CAB'!A90=\"\",\"\",'V C CAB'!A90)","v":"B"},{"$f":"IF('V C CAB'!B90=\"\",\"\",'V C CAB'!B90)","v":"C076"},{"$f":"IF('V C CAB'!C90=\"\",\"\",'V C CAB'!C90)","v":"CAZIQUE"},{"$f":"IF('V C CAB'!D90=\"\",\"\",'V C CAB'!D90)","v":"MANUEL KAKABADSE"},{"$f":"IF(OR('V C CAB'!AW1255+'V C CAB'!AX1255>=2,AND('V C CAB'!AW1255+'V C CAB'!AX1255>=1,'V L CAB'!AX1263>=40),'V C CAB'!AY1255>=1),\"CLASIFICADO A 80 Km NOVICIOS\",\"\")","v":""},{"$f":"IF(C90='V C CAB'!C90,IF(OR('V C CAB'!BA90=\"\",'V C CAB'!BA90=\"HABILITADO  TEMPORALMENTE A COMPETENCIAS FEI\"),\"\",+'V C CAB'!BA90),\"ERROR\")","v":"NO INICIA SU CLASIFICACIÓN"},{"$f":"IF(C90='V C CAB'!C90,IF(+'V C CAB'!BA90=\"HABILITADO  TEMPORALMENTE A COMPETENCIAS FEI\",\"HABILITADO  TEMPORALMENTE A COMPETENCIAS FEI\",\"\"),\"ERROR\")","v":""}]
[{"$f":"IF('V C CAB'!A91=\"\",\"\",'V C CAB'!A91)","v":"B"},{"$f":"IF('V C CAB'!B91=\"\",\"\",'V C CAB'!B91)","v":"C097"},{"$f":"IF('V C CAB'!C91=\"\",\"\",'V C CAB'!C91)","v":"CENTAURO"},{"$f":"IF('V C CAB'!D91=\"\",\"\",'V C CAB'!D91)","v":"HECTOR ALMEIDA"},{"$f":"IF(OR('V C CAB'!AW1256+'V C CAB'!AX1256>=2,AND('V C CAB'!AW1256+'V C CAB'!AX1256>=1,'V L CAB'!AX1264>=40),'V C CAB'!AY1256>=1),\"CLASIFICADO A 80 Km NOVICIOS\",\"\")","v":""},{"$f":"IF(C91='V C CAB'!C91,IF(OR('V C CAB'!BA91=\"\",'V C CAB'!BA91=\"HABILITADO  TEMPORALMENTE A COMPETENCIAS FEI\"),\"\",+'V C CAB'!BA91),\"ERROR\")","v":""},{"$f":"IF(C91='V C CAB'!C91,IF(+'V C CAB'!BA91=\"HABILITADO  TEMPORALMENTE A COMPETENCIAS FEI\",\"HABILITADO  TEMPORALMENTE A COMPETENCIAS FEI\",\"\"),\"ERROR\")","v":"HABILITADO  TEMPORALMENTE A COMPETENCIAS FEI"}]
[{"$f":"IF('V C CAB'!A92=\"\",\"\",'V C CAB'!A92)","v":"B"},{"$f":"IF('V C CAB'!B92=\"\",\"\",'V C CAB'!B92)","v":"C093"},{"$f":"IF('V C CAB'!C92=\"\",\"\",'V C CAB'!C92)","v":"CG ALLASKI"},{"$f":"IF('V C CAB'!D92=\"\",\"\",'V C CAB'!D92)","v":"NATHALIE WEEMAELS"},{"$f":"IF(OR('V C CAB'!AW1257+'V C CAB'!AX1257>=2,AND('V C CAB'!AW1257+'V C CAB'!AX1257>=1,'V L CAB'!AX1265>=40),'V C CAB'!AY1257>=1),\"CLASIFICADO A 80 Km NOVICIOS\",\"\")","v":""},{"$f":"IF(C92='V C CAB'!C92,IF(OR('V C CAB'!BA92=\"\",'V C CAB'!BA92=\"HABILITADO  TEMPORALMENTE A COMPETENCIAS FEI\"),\"\",+'V C CAB'!BA92),\"ERROR\")","v":""},{"$f":"IF(C92='V C CAB'!C92,IF(+'V C CAB'!BA92=\"HABILITADO  TEMPORALMENTE A COMPETENCIAS FEI\",\"HABILITADO  TEMPORALMENTE A COMPETENCIAS FEI\",\"\"),\"ERROR\")","v":"HABILITADO  TEMPORALMENTE A COMPETENCIAS FEI"}]
[{"$f":"IF('V C CAB'!A93=\"\",\"\",'V C CAB'!A93)","v":"CC"},{"$f":"IF('V C CAB'!B93=\"\",\"\",'V C CAB'!B93)","v":"C257"},{"$f":"IF('V C CAB'!C93=\"\",\"\",'V C CAB'!C93)","v":"CHAGRA"},{"$f":"IF('V C CAB'!D93=\"\",\"\",'V C CAB'!D93)","v":"BUSTAMANTE GUSTAVO"},{"$f":"IF(OR('V C CAB'!AW1258+'V C CAB'!AX1258>=2,AND('V C CAB'!AW1258+'V C CAB'!AX1258>=1,'V L CAB'!AX1266>=40),'V C CAB'!AY1258>=1),\"CLASIFICADO A 80 Km NOVICIOS\",\"\")","v":""},{"$f":"IF(C93='V C CAB'!C93,IF(OR('V C CAB'!BA93=\"\",'V C CAB'!BA93=\"HABILITADO  TEMPORALMENTE A COMPETENCIAS FEI\"),\"\",+'V C CAB'!BA93),\"ERROR\")","v":"HABILITADO A 80KM VELOCIDAD CONTROLADA"},{"$f":"IF(C93='V C CAB'!C93,IF(+'V C CAB'!BA93=\"HABILITADO  TEMPORALMENTE A COMPETENCIAS FEI\",\"HABILITADO  TEMPORALMENTE A COMPETENCIAS FEI\",\"\"),\"ERROR\")","v":""}]
[{"$f":"IF('V C CAB'!A94=\"\",\"\",'V C CAB'!A94)","v":"CC"},{"$f":"IF('V C CAB'!B94=\"\",\"\",'V C CAB'!B94)","v":"C258"},{"$f":"IF('V C CAB'!C94=\"\",\"\",'V C CAB'!C94)","v":"CHAHUAR"},{"$f":"IF('V C CAB'!D94=\"\",\"\",'V C CAB'!D94)","v":"MALO ANDREA"},{"$f":"IF(OR('V C CAB'!AW1259+'V C CAB'!AX1259>=2,AND('V C CAB'!AW1259+'V C CAB'!AX1259>=1,'V L CAB'!AX1267>=40),'V C CAB'!AY1259>=1),\"CLASIFICADO A 80 Km NOVICIOS\",\"\")","v":""},{"$f":"IF(C94='V C CAB'!C94,IF(OR('V C CAB'!BA94=\"\",'V C CAB'!BA94=\"HABILITADO  TEMPORALMENTE A COMPETENCIAS FEI\"),\"\",+'V C CAB'!BA94),\"ERROR\")","v":"HABILITADO A 80KM VELOCIDAD CONTROLADA"},{"$f":"IF(C94='V C CAB'!C94,IF(+'V C CAB'!BA94=\"HABILITADO  TEMPORALMENTE A COMPETENCIAS FEI\",\"HABILITADO  TEMPORALMENTE A COMPETENCIAS FEI\",\"\"),\"ERROR\")","v":""}]
[{"$f":"IF('V C CAB'!A95=\"\",\"\",'V C CAB'!A95)","v":"C343"},{"$f":"IF('V C CAB'!B95=\"\",\"\",'V C CAB'!B95)","v":"C"},{"$f":"IF('V C CAB'!C95=\"\",\"\",'V C CAB'!C95)","v":"CHAKAL MA"},{"$f":"IF('V C CAB'!D95=\"\",\"\",'V C CAB'!D95)","v":""},{"$f":"IF(OR('V C CAB'!AW1260+'V C CAB'!AX1260>=2,AND('V C CAB'!AW1260+'V C CAB'!AX1260>=1,'V L CAB'!AX1268>=40),'V C CAB'!AY1260>=1),\"CLASIFICADO A 80 Km NOVICIOS\",\"\")","v":""},{"$f":"IF(C95='V C CAB'!C95,IF(OR('V C CAB'!BA95=\"\",'V C CAB'!BA95=\"HABILITADO  TEMPORALMENTE A COMPETENCIAS FEI\"),\"\",+'V C CAB'!BA95),\"ERROR\")","v":"INICIO SU CLASIFICACIÓN"},{"$f":"IF(C95='V C CAB'!C95,IF(+'V C CAB'!BA95=\"HABILITADO  TEMPORALMENTE A COMPETENCIAS FEI\",\"HABILITADO  TEMPORALMENTE A COMPETENCIAS FEI\",\"\"),\"ERROR\")","v":""}]
[{"$f":"IF('V C CAB'!A96=\"\",\"\",'V C CAB'!A96)","v":"CC"},{"$f":"IF('V C CAB'!B96=\"\",\"\",'V C CAB'!B96)","v":"C259"},{"$f":"IF('V C CAB'!C96=\"\",\"\",'V C CAB'!C96)","v":"CHAVO"},{"$f":"IF('V C CAB'!D96=\"\",\"\",'V C CAB'!D96)","v":"VINTIMILLA TORRES PAULINO ENRIQUE"},{"$f":"IF(OR('V C CAB'!AW1261+'V C CAB'!AX1261>=2,AND('V C CAB'!AW1261+'V C CAB'!AX1261>=1,'V L CAB'!AX1269>=40),'V C CAB'!AY1261>=1),\"CLASIFICADO A 80 Km NOVICIOS\",\"\")","v":""},{"$f":"IF(C96='V C CAB'!C96,IF(OR('V C CAB'!BA96=\"\",'V C CAB'!BA96=\"HABILITADO  TEMPORALMENTE A COMPETENCIAS FEI\"),\"\",+'V C CAB'!BA96),\"ERROR\")","v":"INICIO SU CLASIFICACIÓN"},{"$f":"IF(C96='V C CAB'!C96,IF(+'V C CAB'!BA96=\"HABILITADO  TEMPORALMENTE A COMPETENCIAS FEI\",\"HABILITADO  TEMPORALMENTE A COMPETENCIAS FEI\",\"\"),\"ERROR\")","v":""}]
[{"$f":"IF('V C CAB'!A97=\"\",\"\",'V C CAB'!A97)","v":""},{"$f":"IF('V C CAB'!B97=\"\",\"\",'V C CAB'!B97)","v":"C383"},{"$f":"IF('V C CAB'!C97=\"\",\"\",'V C CAB'!C97)","v":"CHEQUE"},{"$f":"IF('V C CAB'!D97=\"\",\"\",'V C CAB'!D97)","v":"SAMPER ALVARO"},{"$f":"IF(OR('V C CAB'!AW1262+'V C CAB'!AX1262>=2,AND('V C CAB'!AW1262+'V C CAB'!AX1262>=1,'V L CAB'!AX1270>=40),'V C CAB'!AY1262>=1),\"CLASIFICADO A 80 Km NOVICIOS\",\"\")","v":""},{"$f":"IF(C97='V C CAB'!C97,IF(OR('V C CAB'!BA97=\"\",'V C CAB'!BA97=\"HABILITADO  TEMPORALMENTE A COMPETENCIAS FEI\"),\"\",+'V C CAB'!BA97),\"ERROR\")","v":"INICIO SU CLASIFICACIÓN"},{"$f":"IF(C97='V C CAB'!C97,IF(+'V C CAB'!BA97=\"HABILITADO  TEMPORALMENTE A COMPETENCIAS FEI\",\"HABILITADO  TEMPORALMENTE A COMPETENCIAS FEI\",\"\"),\"ERROR\")","v":""}]
[{"$f":"IF('V C CAB'!A98=\"\",\"\",'V C CAB'!A98)","v":"B"},{"$f":"IF('V C CAB'!B98=\"\",\"\",'V C CAB'!B98)","v":"C"},{"$f":"IF('V C CAB'!C98=\"\",\"\",'V C CAB'!C98)","v":"CHERNA"},{"$f":"IF('V C CAB'!D98=\"\",\"\",'V C CAB'!D98)","v":""},{"$f":"IF(OR('V C CAB'!AW1263+'V C CAB'!AX1263>=2,AND('V C CAB'!AW1263+'V C CAB'!AX1263>=1,'V L CAB'!AX1271>=40),'V C CAB'!AY1263>=1),\"CLASIFICADO A 80 Km NOVICIOS\",\"\")","v":""},{"$f":"IF(C98='V C CAB'!C98,IF(OR('V C CAB'!BA98=\"\",'V C CAB'!BA98=\"HABILITADO  TEMPORALMENTE A COMPETENCIAS FEI\"),\"\",+'V C CAB'!BA98),\"ERROR\")","v":"NO INICIA SU CLASIFICACIÓN"},{"$f":"IF(C98='V C CAB'!C98,IF(+'V C CAB'!BA98=\"HABILITADO  TEMPORALMENTE A COMPETENCIAS FEI\",\"HABILITADO  TEMPORALMENTE A COMPETENCIAS FEI\",\"\"),\"ERROR\")","v":""}]
[{"$f":"IF('V C CAB'!A99=\"\",\"\",'V C CAB'!A99)","v":"B"},{"$f":"IF('V C CAB'!B99=\"\",\"\",'V C CAB'!B99)","v":"C"},{"$f":"IF('V C CAB'!C99=\"\",\"\",'V C CAB'!C99)","v":"CHESTER"},{"$f":"IF('V C CAB'!D99=\"\",\"\",'V C CAB'!D99)","v":""},{"$f":"IF(OR('V C CAB'!AW1264+'V C CAB'!AX1264>=2,AND('V C CAB'!AW1264+'V C CAB'!AX1264>=1,'V L CAB'!AX1272>=40),'V C CAB'!AY1264>=1),\"CLASIFICADO A 80 Km NOVICIOS\",\"\")","v":""},{"$f":"IF(C99='V C CAB'!C99,IF(OR('V C CAB'!BA99=\"\",'V C CAB'!BA99=\"HABILITADO  TEMPORALMENTE A COMPETENCIAS FEI\"),\"\",+'V C CAB'!BA99),\"ERROR\")","v":"NO INICIA SU CLASIFICACIÓN"},{"$f":"IF(C99='V C CAB'!C99,IF(+'V C CAB'!BA99=\"HABILITADO  TEMPORALMENTE A COMPETENCIAS FEI\",\"HABILITADO  TEMPORALMENTE A COMPETENCIAS FEI\",\"\"),\"ERROR\")","v":""}]
[{"$f":"IF('V C CAB'!A100=\"\",\"\",'V C CAB'!A100)","v":"CC"},{"$f":"IF('V C CAB'!B100=\"\",\"\",'V C CAB'!B100)","v":"C260"},{"$f":"IF('V C CAB'!C100=\"\",\"\",'V C CAB'!C100)","v":"CHICO"},{"$f":"IF('V C CAB'!D100=\"\",\"\",'V C CAB'!D100)","v":"PERALTA VALERIA"},{"$f":"IF(OR('V C CAB'!AW1265+'V C CAB'!AX1265>=2,AND('V C CAB'!AW1265+'V C CAB'!AX1265>=1,'V L CAB'!AX1273>=40),'V C CAB'!AY1265>=1),\"CLASIFICADO A 80 Km NOVICIOS\",\"\")","v":""},{"$f":"IF(C100='V C CAB'!C100,IF(OR('V C CAB'!BA100=\"\",'V C CAB'!BA100=\"HABILITADO  TEMPORALMENTE A COMPETENCIAS FEI\"),\"\",+'V C CAB'!BA100),\"ERROR\")","v":"HABILITADO A 80KM VELOCIDAD CONTROLADA"},{"$f":"IF(C100='V C CAB'!C100,IF(+'V C CAB'!BA100=\"HABILITADO  TEMPORALMENTE A COMPETENCIAS FEI\",\"HABILITADO  TEMPORALMENTE A COMPETENCIAS FEI\",\"\"),\"ERROR\")","v":""}]
[{"$f":"IF('V C CAB'!A101=\"\",\"\",'V C CAB'!A101)","v":"CC"},{"$f":"IF('V C CAB'!B101=\"\",\"\",'V C CAB'!B101)","v":"C262"},{"$f":"IF('V C CAB'!C101=\"\",\"\",'V C CAB'!C101)","v":"CHINO"},{"$f":"IF('V C CAB'!D101=\"\",\"\",'V C CAB'!D101)","v":"GONZALEZ JERVES XIMENA"},{"$f":"IF(OR('V C CAB'!AW1266+'V C CAB'!AX1266>=2,AND('V C CAB'!AW1266+'V C CAB'!AX1266>=1,'V L CAB'!AX1274>=40),'V C CAB'!AY1266>=1),\"CLASIFICADO A 80 Km NOVICIOS\",\"\")","v":""},{"$f":"IF(C101='V C CAB'!C101,IF(OR('V C CAB'!BA101=\"\",'V C CAB'!BA101=\"HABILITADO  TEMPORALMENTE A COMPETENCIAS FEI\"),\"\",+'V C CAB'!BA101),\"ERROR\")","v":"INICIO SU CLASIFICACIÓN"},{"$f":"IF(C101='V C CAB'!C101,IF(+'V C CAB'!BA101=\"HABILITADO  TEMPORALMENTE A COMPETENCIAS FEI\",\"HABILITADO  TEMPORALMENTE A COMPETENCIAS FEI\",\"\"),\"ERROR\")","v":""}]
[{"$f":"IF('V C CAB'!A102=\"\",\"\",'V C CAB'!A102)","v":"CC"},{"$f":"IF('V C CAB'!B102=\"\",\"\",'V C CAB'!B102)","v":"C263"},{"$f":"IF('V C CAB'!C102=\"\",\"\",'V C CAB'!C102)","v":"CHISPIOLA"},{"$f":"IF('V C CAB'!D102=\"\",\"\",'V C CAB'!D102)","v":"DAVALOS EMILIA"},{"$f":"IF(OR('V C CAB'!AW1267+'V C CAB'!AX1267>=2,AND('V C CAB'!AW1267+'V C CAB'!AX1267>=1,'V L CAB'!AX1275>=40),'V C CAB'!AY1267>=1),\"CLASIFICADO A 80 Km NOVICIOS\",\"\")","v":""},{"$f":"IF(C102='V C CAB'!C102,IF(OR('V C CAB'!BA102=\"\",'V C CAB'!BA102=\"HABILITADO  TEMPORALMENTE A COMPETENCIAS FEI\"),\"\",+'V C CAB'!BA102),\"ERROR\")","v":"INICIO SU CLASIFICACIÓN"},{"$f":"IF(C102='V C CAB'!C102,IF(+'V C CAB'!BA102=\"HABILITADO  TEMPORALMENTE A COMPETENCIAS FEI\",\"HABILITADO  TEMPORALMENTE A COMPETENCIAS FEI\",\"\"),\"ERROR\")","v":""}]
[{"$f":"IF('V C CAB'!A103=\"\",\"\",'V C CAB'!A103)","v":""},{"$f":"IF('V C CAB'!B103=\"\",\"\",'V C CAB'!B103)","v":"C113"},{"$f":"IF('V C CAB'!C103=\"\",\"\",'V C CAB'!C103)","v":"CHIVIRIKA"},{"$f":"IF('V C CAB'!D103=\"\",\"\",'V C CAB'!D103)","v":"NEUMANN KARINA"},{"$f":"IF(OR('V C CAB'!AW1268+'V C CAB'!AX1268>=2,AND('V C CAB'!AW1268+'V C CAB'!AX1268>=1,'V L CAB'!AX1276>=40),'V C CAB'!AY1268>=1),\"CLASIFICADO A 80 Km NOVICIOS\",\"\")","v":""},{"$f":"IF(C103='V C CAB'!C103,IF(OR('V C CAB'!BA103=\"\",'V C CAB'!BA103=\"HABILITADO  TEMPORALMENTE A COMPETENCIAS FEI\"),\"\",+'V C CAB'!BA103),\"ERROR\")","v":"INICIO SU CLASIFICACIÓN"},{"$f":"IF(C103='V C CAB'!C103,IF(+'V C CAB'!BA103=\"HABILITADO  TEMPORALMENTE A COMPETENCIAS FEI\",\"HABILITADO  TEMPORALMENTE A COMPETENCIAS FEI\",\"\"),\"ERROR\")","v":""}]
[{"$f":"IF('V C CAB'!A104=\"\",\"\",'V C CAB'!A104)","v":"C270"},{"$f":"IF('V C CAB'!B104=\"\",\"\",'V C CAB'!B104)","v":"C"},{"$f":"IF('V C CAB'!C104=\"\",\"\",'V C CAB'!C104)","v":"CHOCO"},{"$f":"IF('V C CAB'!D104=\"\",\"\",'V C CAB'!D104)","v":""},{"$f":"IF(OR('V C CAB'!AW1269+'V C CAB'!AX1269>=2,AND('V C CAB'!AW1269+'V C CAB'!AX1269>=1,'V L CAB'!AX1277>=40),'V C CAB'!AY1269>=1),\"CLASIFICADO A 80 Km NOVICIOS\",\"\")","v":""},{"$f":"IF(C104='V C CAB'!C104,IF(OR('V C CAB'!BA104=\"\",'V C CAB'!BA104=\"HABILITADO  TEMPORALMENTE A COMPETENCIAS FEI\"),\"\",+'V C CAB'!BA104),\"ERROR\")","v":"NO INICIA SU CLASIFICACIÓN"},{"$f":"IF(C104='V C CAB'!C104,IF(+'V C CAB'!BA104=\"HABILITADO  TEMPORALMENTE A COMPETENCIAS FEI\",\"HABILITADO  TEMPORALMENTE A COMPETENCIAS FEI\",\"\"),\"ERROR\")","v":""}]
[{"$f":"IF('V C CAB'!A105=\"\",\"\",'V C CAB'!A105)","v":"C307"},{"$f":"IF('V C CAB'!B105=\"\",\"\",'V C CAB'!B105)","v":"C237"},{"$f":"IF('V C CAB'!C105=\"\",\"\",'V C CAB'!C105)","v":"CHULPI"},{"$f":"IF('V C CAB'!D105=\"\",\"\",'V C CAB'!D105)","v":"BENITO  JARAMILLO"},{"$f":"IF(OR('V C CAB'!AW1270+'V C CAB'!AX1270>=2,AND('V C CAB'!AW1270+'V C CAB'!AX1270>=1,'V L CAB'!AX1278>=40),'V C CAB'!AY1270>=1),\"CLASIFICADO A 80 Km NOVICIOS\",\"\")","v":""},{"$f":"IF(C105='V C CAB'!C105,IF(OR('V C CAB'!BA105=\"\",'V C CAB'!BA105=\"HABILITADO  TEMPORALMENTE A COMPETENCIAS FEI\"),\"\",+'V C CAB'!BA105),\"ERROR\")","v":"HABILITADO A 80KM VELOCIDAD CONTROLADA"},{"$f":"IF(C105='V C CAB'!C105,IF(+'V C CAB'!BA105=\"HABILITADO  TEMPORALMENTE A COMPETENCIAS FEI\",\"HABILITADO  TEMPORALMENTE A COMPETENCIAS FEI\",\"\"),\"ERROR\")","v":""}]
[{"$f":"IF('V C CAB'!A106=\"\",\"\",'V C CAB'!A106)","v":"B"},{"$f":"IF('V C CAB'!B106=\"\",\"\",'V C CAB'!B106)","v":"C210"},{"$f":"IF('V C CAB'!C106=\"\",\"\",'V C CAB'!C106)","v":"CHUQUIRAGUA"},{"$f":"IF('V C CAB'!D106=\"\",\"\",'V C CAB'!D106)","v":"GUSTAVO HIDALGO"},{"$f":"IF(OR('V C CAB'!AW1271+'V C CAB'!AX1271>=2,AND('V C CAB'!AW1271+'V C CAB'!AX1271>=1,'V L CAB'!AX1279>=40),'V C CAB'!AY1271>=1),\"CLASIFICADO A 80 Km NOVICIOS\",\"\")","v":""},{"$f":"IF(C106='V C CAB'!C106,IF(OR('V C CAB'!BA106=\"\",'V C CAB'!BA106=\"HABILITADO  TEMPORALMENTE A COMPETENCIAS FEI\"),\"\",+'V C CAB'!BA106),\"ERROR\")","v":"LE FALTA UNA DE 80 A 90 CONTROLADA"},{"$f":"IF(C106='V C CAB'!C106,IF(+'V C CAB'!BA106=\"HABILITADO  TEMPORALMENTE A COMPETENCIAS FEI\",\"HABILITADO  TEMPORALMENTE A COMPETENCIAS FEI\",\"\"),\"ERROR\")","v":""}]
[{"$f":"IF('V C CAB'!A107=\"\",\"\",'V C CAB'!A107)","v":"B"},{"$f":"IF('V C CAB'!B107=\"\",\"\",'V C CAB'!B107)","v":"C175"},{"$f":"IF('V C CAB'!C107=\"\",\"\",'V C CAB'!C107)","v":"CLAW"},{"$f":"IF('V C CAB'!D107=\"\",\"\",'V C CAB'!D107)","v":""},{"$f":"IF(OR('V C CAB'!AW1272+'V C CAB'!AX1272>=2,AND('V C CAB'!AW1272+'V C CAB'!AX1272>=1,'V L CAB'!AX1280>=40),'V C CAB'!AY1272>=1),\"CLASIFICADO A 80 Km NOVICIOS\",\"\")","v":""},{"$f":"IF(C107='V C CAB'!C107,IF(OR('V C CAB'!BA107=\"\",'V C CAB'!BA107=\"HABILITADO  TEMPORALMENTE A COMPETENCIAS FEI\"),\"\",+'V C CAB'!BA107),\"ERROR\")","v":""},{"$f":"IF(C107='V C CAB'!C107,IF(+'V C CAB'!BA107=\"HABILITADO  TEMPORALMENTE A COMPETENCIAS FEI\",\"HABILITADO  TEMPORALMENTE A COMPETENCIAS FEI\",\"\"),\"ERROR\")","v":"HABILITADO  TEMPORALMENTE A COMPETENCIAS FEI"}]
[{"$f":"IF('V C CAB'!A108=\"\",\"\",'V C CAB'!A108)","v":"CC"},{"$f":"IF('V C CAB'!B108=\"\",\"\",'V C CAB'!B108)","v":"C195"},{"$f":"IF('V C CAB'!C108=\"\",\"\",'V C CAB'!C108)","v":"CLICK"},{"$f":"IF('V C CAB'!D108=\"\",\"\",'V C CAB'!D108)","v":"ANDRADE JOSE DANIEL"},{"$f":"IF(OR('V C CAB'!AW1273+'V C CAB'!AX1273>=2,AND('V C CAB'!AW1273+'V C CAB'!AX1273>=1,'V L CAB'!AX1281>=40),'V C CAB'!AY1273>=1),\"CLASIFICADO A 80 Km NOVICIOS\",\"\")","v":""},{"$f":"IF(C108='V C CAB'!C108,IF(OR('V C CAB'!BA108=\"\",'V C CAB'!BA108=\"HABILITADO  TEMPORALMENTE A COMPETENCIAS FEI\"),\"\",+'V C CAB'!BA108),\"ERROR\")","v":"HABILITADO A 80KM VELOCIDAD CONTROLADA"},{"$f":"IF(C108='V C CAB'!C108,IF(+'V C CAB'!BA108=\"HABILITADO  TEMPORALMENTE A COMPETENCIAS FEI\",\"HABILITADO  TEMPORALMENTE A COMPETENCIAS FEI\",\"\"),\"ERROR\")","v":""}]
[{"$f":"IF('V C CAB'!A109=\"\",\"\",'V C CAB'!A109)","v":""},{"$f":"IF('V C CAB'!B109=\"\",\"\",'V C CAB'!B109)","v":"C150"},{"$f":"IF('V C CAB'!C109=\"\",\"\",'V C CAB'!C109)","v":"COCHIS"},{"$f":"IF('V C CAB'!D109=\"\",\"\",'V C CAB'!D109)","v":"MALO GELIBERT ANDREA"},{"$f":"IF(OR('V C CAB'!AW1274+'V C CAB'!AX1274>=2,AND('V C CAB'!AW1274+'V C CAB'!AX1274>=1,'V L CAB'!AX1282>=40),'V C CAB'!AY1274>=1),\"CLASIFICADO A 80 Km NOVICIOS\",\"\")","v":""},{"$f":"IF(C109='V C CAB'!C109,IF(OR('V C CAB'!BA109=\"\",'V C CAB'!BA109=\"HABILITADO  TEMPORALMENTE A COMPETENCIAS FEI\"),\"\",+'V C CAB'!BA109),\"ERROR\")","v":"INICIO SU CLASIFICACIÓN"},{"$f":"IF(C109='V C CAB'!C109,IF(+'V C CAB'!BA109=\"HABILITADO  TEMPORALMENTE A COMPETENCIAS FEI\",\"HABILITADO  TEMPORALMENTE A COMPETENCIAS FEI\",\"\"),\"ERROR\")","v":""}]
[{"$f":"IF('V C CAB'!A110=\"\",\"\",'V C CAB'!A110)","v":"C155"},{"$f":"IF('V C CAB'!B110=\"\",\"\",'V C CAB'!B110)","v":"C034"},{"$f":"IF('V C CAB'!C110=\"\",\"\",'V C CAB'!C110)","v":"COHETE"},{"$f":"IF('V C CAB'!D110=\"\",\"\",'V C CAB'!D110)","v":"JUAN CARLOS ALVEAR"},{"$f":"IF(OR('V C CAB'!AW1275+'V C CAB'!AX1275>=2,AND('V C CAB'!AW1275+'V C CAB'!AX1275>=1,'V L CAB'!AX1283>=40),'V C CAB'!AY1275>=1),\"CLASIFICADO A 80 Km NOVICIOS\",\"\")","v":""},{"$f":"IF(C110='V C CAB'!C110,IF(OR('V C CAB'!BA110=\"\",'V C CAB'!BA110=\"HABILITADO  TEMPORALMENTE A COMPETENCIAS FEI\"),\"\",+'V C CAB'!BA110),\"ERROR\")","v":"NO INICIA SU CLASIFICACIÓN"},{"$f":"IF(C110='V C CAB'!C110,IF(+'V C CAB'!BA110=\"HABILITADO  TEMPORALMENTE A COMPETENCIAS FEI\",\"HABILITADO  TEMPORALMENTE A COMPETENCIAS FEI\",\"\"),\"ERROR\")","v":""}]
[{"$f":"IF('V C CAB'!A111=\"\",\"\",'V C CAB'!A111)","v":"B"},{"$f":"IF('V C CAB'!B111=\"\",\"\",'V C CAB'!B111)","v":"C162"},{"$f":"IF('V C CAB'!C111=\"\",\"\",'V C CAB'!C111)","v":"COLORADO"},{"$f":"IF('V C CAB'!D111=\"\",\"\",'V C CAB'!D111)","v":"HIDALGO GUSTAVO"},{"$f":"IF(OR('V C CAB'!AW1276+'V C CAB'!AX1276>=2,AND('V C CAB'!AW1276+'V C CAB'!AX1276>=1,'V L CAB'!AX1284>=40),'V C CAB'!AY1276>=1),\"CLASIFICADO A 80 Km NOVICIOS\",\"\")","v":""},{"$f":"IF(C111='V C CAB'!C111,IF(OR('V C CAB'!BA111=\"\",'V C CAB'!BA111=\"HABILITADO  TEMPORALMENTE A COMPETENCIAS FEI\"),\"\",+'V C CAB'!BA111),\"ERROR\")","v":"INICIO SU CLASIFICACIÓN"},{"$f":"IF(C111='V C CAB'!C111,IF(+'V C CAB'!BA111=\"HABILITADO  TEMPORALMENTE A COMPETENCIAS FEI\",\"HABILITADO  TEMPORALMENTE A COMPETENCIAS FEI\",\"\"),\"ERROR\")","v":""}]
[{"$f":"IF('V C CAB'!A112=\"\",\"\",'V C CAB'!A112)","v":"CC"},{"$f":"IF('V C CAB'!B112=\"\",\"\",'V C CAB'!B112)","v":"C264"},{"$f":"IF('V C CAB'!C112=\"\",\"\",'V C CAB'!C112)","v":"COLTA"},{"$f":"IF('V C CAB'!D112=\"\",\"\",'V C CAB'!D112)","v":"LARRIVA JAIME"},{"$f":"IF(OR('V C CAB'!AW1277+'V C CAB'!AX1277>=2,AND('V C CAB'!AW1277+'V C CAB'!AX1277>=1,'V L CAB'!AX1285>=40),'V C CAB'!AY1277>=1),\"CLASIFICADO A 80 Km NOVICIOS\",\"\")","v":""},{"$f":"IF(C112='V C CAB'!C112,IF(OR('V C CAB'!BA112=\"\",'V C CAB'!BA112=\"HABILITADO  TEMPORALMENTE A COMPETENCIAS FEI\"),\"\",+'V C CAB'!BA112),\"ERROR\")","v":"HABILITADO A 80KM VELOCIDAD CONTROLADA"},{"$f":"IF(C112='V C CAB'!C112,IF(+'V C CAB'!BA112=\"HABILITADO  TEMPORALMENTE A COMPETENCIAS FEI\",\"HABILITADO  TEMPORALMENTE A COMPETENCIAS FEI\",\"\"),\"ERROR\")","v":""}]
[{"$f":"IF('V C CAB'!A113=\"\",\"\",'V C CAB'!A113)","v":"CC"},{"$f":"IF('V C CAB'!B113=\"\",\"\",'V C CAB'!B113)","v":"C265"},{"$f":"IF('V C CAB'!C113=\"\",\"\",'V C CAB'!C113)","v":"COMETA"},{"$f":"IF('V C CAB'!D113=\"\",\"\",'V C CAB'!D113)","v":"MUÑOZ CALDERON RAUL ALBERTO"},{"$f":"IF(OR('V C CAB'!AW1278+'V C CAB'!AX1278>=2,AND('V C CAB'!AW1278+'V C CAB'!AX1278>=1,'V L CAB'!AX1286>=40),'V C CAB'!AY1278>=1),\"CLASIFICADO A 80 Km NOVICIOS\",\"\")","v":""},{"$f":"IF(C113='V C CAB'!C113,IF(OR('V C CAB'!BA113=\"\",'V C CAB'!BA113=\"HABILITADO  TEMPORALMENTE A COMPETENCIAS FEI\"),\"\",+'V C CAB'!BA113),\"ERROR\")","v":"HABILITADO A 80KM VELOCIDAD CONTROLADA"},{"$f":"IF(C113='V C CAB'!C113,IF(+'V C CAB'!BA113=\"HABILITADO  TEMPORALMENTE A COMPETENCIAS FEI\",\"HABILITADO  TEMPORALMENTE A COMPETENCIAS FEI\",\"\"),\"ERROR\")","v":""}]
[{"$f":"IF('V C CAB'!A114=\"\",\"\",'V C CAB'!A114)","v":"B"},{"$f":"IF('V C CAB'!B114=\"\",\"\",'V C CAB'!B114)","v":"C"},{"$f":"IF('V C CAB'!C114=\"\",\"\",'V C CAB'!C114)","v":"CONEJO ZC"},{"$f":"IF('V C CAB'!D114=\"\",\"\",'V C CAB'!D114)","v":""},{"$f":"IF(OR('V C CAB'!AW1279+'V C CAB'!AX1279>=2,AND('V C CAB'!AW1279+'V C CAB'!AX1279>=1,'V L CAB'!AX1287>=40),'V C CAB'!AY1279>=1),\"CLASIFICADO A 80 Km NOVICIOS\",\"\")","v":""},{"$f":"IF(C114='V C CAB'!C114,IF(OR('V C CAB'!BA114=\"\",'V C CAB'!BA114=\"HABILITADO  TEMPORALMENTE A COMPETENCIAS FEI\"),\"\",+'V C CAB'!BA114),\"ERROR\")","v":"NO INICIA SU CLASIFICACIÓN"},{"$f":"IF(C114='V C CAB'!C114,IF(+'V C CAB'!BA114=\"HABILITADO  TEMPORALMENTE A COMPETENCIAS FEI\",\"HABILITADO  TEMPORALMENTE A COMPETENCIAS FEI\",\"\"),\"ERROR\")","v":""}]
[{"$f":"IF('V C CAB'!A115=\"\",\"\",'V C CAB'!A115)","v":"B"},{"$f":"IF('V C CAB'!B115=\"\",\"\",'V C CAB'!B115)","v":"C056"},{"$f":"IF('V C CAB'!C115=\"\",\"\",'V C CAB'!C115)","v":"CONTESINA EA"},{"$f":"IF('V C CAB'!D115=\"\",\"\",'V C CAB'!D115)","v":"ALVARO ESPINOZA"},{"$f":"IF(OR('V C CAB'!AW1280+'V C CAB'!AX1280>=2,AND('V C CAB'!AW1280+'V C CAB'!AX1280>=1,'V L CAB'!AX1288>=40),'V C CAB'!AY1280>=1),\"CLASIFICADO A 80 Km NOVICIOS\",\"\")","v":""},{"$f":"IF(C115='V C CAB'!C115,IF(OR('V C CAB'!BA115=\"\",'V C CAB'!BA115=\"HABILITADO  TEMPORALMENTE A COMPETENCIAS FEI\"),\"\",+'V C CAB'!BA115),\"ERROR\")","v":"HABILITADO A 80KM VELOCIDAD CONTROLADA"},{"$f":"IF(C115='V C CAB'!C115,IF(+'V C CAB'!BA115=\"HABILITADO  TEMPORALMENTE A COMPETENCIAS FEI\",\"HABILITADO  TEMPORALMENTE A COMPETENCIAS FEI\",\"\"),\"ERROR\")","v":""}]
[{"$f":"IF('V C CAB'!A116=\"\",\"\",'V C CAB'!A116)","v":"B"},{"$f":"IF('V C CAB'!B116=\"\",\"\",'V C CAB'!B116)","v":"C087"},{"$f":"IF('V C CAB'!C116=\"\",\"\",'V C CAB'!C116)","v":"CORFU CA"},{"$f":"IF('V C CAB'!D116=\"\",\"\",'V C CAB'!D116)","v":"AUGUSTO CHIRIBOGA"},{"$f":"IF(OR('V C CAB'!AW1281+'V C CAB'!AX1281>=2,AND('V C CAB'!AW1281+'V C CAB'!AX1281>=1,'V L CAB'!AX1289>=40),'V C CAB'!AY1281>=1),\"CLASIFICADO A 80 Km NOVICIOS\",\"\")","v":""},{"$f":"IF(C116='V C CAB'!C116,IF(OR('V C CAB'!BA116=\"\",'V C CAB'!BA116=\"HABILITADO  TEMPORALMENTE A COMPETENCIAS FEI\"),\"\",+'V C CAB'!BA116),\"ERROR\")","v":"LE FALTA UNA DE 80 A 90 CONTROLADA"},{"$f":"IF(C116='V C CAB'!C116,IF(+'V C CAB'!BA116=\"HABILITADO  TEMPORALMENTE A COMPETENCIAS FEI\",\"HABILITADO  TEMPORALMENTE A COMPETENCIAS FEI\",\"\"),\"ERROR\")","v":""}]
[{"$f":"IF('V C CAB'!A117=\"\",\"\",'V C CAB'!A117)","v":"B"},{"$f":"IF('V C CAB'!B117=\"\",\"\",'V C CAB'!B117)","v":"C"},{"$f":"IF('V C CAB'!C117=\"\",\"\",'V C CAB'!C117)","v":"COSA ZN"},{"$f":"IF('V C CAB'!D117=\"\",\"\",'V C CAB'!D117)","v":""},{"$f":"IF(OR('V C CAB'!AW1282+'V C CAB'!AX1282>=2,AND('V C CAB'!AW1282+'V C CAB'!AX1282>=1,'V L CAB'!AX1290>=40),'V C CAB'!AY1282>=1),\"CLASIFICADO A 80 Km NOVICIOS\",\"\")","v":""},{"$f":"IF(C117='V C CAB'!C117,IF(OR('V C CAB'!BA117=\"\",'V C CAB'!BA117=\"HABILITADO  TEMPORALMENTE A COMPETENCIAS FEI\"),\"\",+'V C CAB'!BA117),\"ERROR\")","v":"NO INICIA SU CLASIFICACIÓN"},{"$f":"IF(C117='V C CAB'!C117,IF(+'V C CAB'!BA117=\"HABILITADO  TEMPORALMENTE A COMPETENCIAS FEI\",\"HABILITADO  TEMPORALMENTE A COMPETENCIAS FEI\",\"\"),\"ERROR\")","v":""}]
[{"$f":"IF('V C CAB'!A118=\"\",\"\",'V C CAB'!A118)","v":"CC"},{"$f":"IF('V C CAB'!B118=\"\",\"\",'V C CAB'!B118)","v":"C266"},{"$f":"IF('V C CAB'!C118=\"\",\"\",'V C CAB'!C118)","v":"CRIOLLA"},{"$f":"IF('V C CAB'!D118=\"\",\"\",'V C CAB'!D118)","v":"SORIA MARIA DANIELA"},{"$f":"IF(OR('V C CAB'!AW1283+'V C CAB'!AX1283>=2,AND('V C CAB'!AW1283+'V C CAB'!AX1283>=1,'V L CAB'!AX1291>=40),'V C CAB'!AY1283>=1),\"CLASIFICADO A 80 Km NOVICIOS\",\"\")","v":""},{"$f":"IF(C118='V C CAB'!C118,IF(OR('V C CAB'!BA118=\"\",'V C CAB'!BA118=\"HABILITADO  TEMPORALMENTE A COMPETENCIAS FEI\"),\"\",+'V C CAB'!BA118),\"ERROR\")","v":"INICIO SU CLASIFICACIÓN"},{"$f":"IF(C118='V C CAB'!C118,IF(+'V C CAB'!BA118=\"HABILITADO  TEMPORALMENTE A COMPETENCIAS FEI\",\"HABILITADO  TEMPORALMENTE A COMPETENCIAS FEI\",\"\"),\"ERROR\")","v":""}]
[{"$f":"IF('V C CAB'!A119=\"\",\"\",'V C CAB'!A119)","v":"B"},{"$f":"IF('V C CAB'!B119=\"\",\"\",'V C CAB'!B119)","v":"C"},{"$f":"IF('V C CAB'!C119=\"\",\"\",'V C CAB'!C119)","v":"DALIAT TT"},{"$f":"IF('V C CAB'!D119=\"\",\"\",'V C CAB'!D119)","v":""},{"$f":"IF(OR('V C CAB'!AW1284+'V C CAB'!AX1284>=2,AND('V C CAB'!AW1284+'V C CAB'!AX1284>=1,'V L CAB'!AX1292>=40),'V C CAB'!AY1284>=1),\"CLASIFICADO A 80 Km NOVICIOS\",\"\")","v":""},{"$f":"IF(C119='V C CAB'!C119,IF(OR('V C CAB'!BA119=\"\",'V C CAB'!BA119=\"HABILITADO  TEMPORALMENTE A COMPETENCIAS FEI\"),\"\",+'V C CAB'!BA119),\"ERROR\")","v":"NO INICIA SU CLASIFICACIÓN"},{"$f":"IF(C119='V C CAB'!C119,IF(+'V C CAB'!BA119=\"HABILITADO  TEMPORALMENTE A COMPETENCIAS FEI\",\"HABILITADO  TEMPORALMENTE A COMPETENCIAS FEI\",\"\"),\"ERROR\")","v":""}]
[{"$f":"IF('V C CAB'!A120=\"\",\"\",'V C CAB'!A120)","v":"B"},{"$f":"IF('V C CAB'!B120=\"\",\"\",'V C CAB'!B120)","v":"C020"},{"$f":"IF('V C CAB'!C120=\"\",\"\",'V C CAB'!C120)","v":"DAMA"},{"$f":"IF('V C CAB'!D120=\"\",\"\",'V C CAB'!D120)","v":"ISABEL PAZMIÑO"},{"$f":"IF(OR('V C CAB'!AW1285+'V C CAB'!AX1285>=2,AND('V C CAB'!AW1285+'V C CAB'!AX1285>=1,'V L CAB'!AX1293>=40),'V C CAB'!AY1285>=1),\"CLASIFICADO A 80 Km NOVICIOS\",\"\")","v":""},{"$f":"IF(C120='V C CAB'!C120,IF(OR('V C CAB'!BA120=\"\",'V C CAB'!BA120=\"HABILITADO  TEMPORALMENTE A COMPETENCIAS FEI\"),\"\",+'V C CAB'!BA120),\"ERROR\")","v":"INICIO SU CLASIFICACIÓN"},{"$f":"IF(C120='V C CAB'!C120,IF(+'V C CAB'!BA120=\"HABILITADO  TEMPORALMENTE A COMPETENCIAS FEI\",\"HABILITADO  TEMPORALMENTE A COMPETENCIAS FEI\",\"\"),\"ERROR\")","v":""}]
[{"$f":"IF('V C CAB'!A121=\"\",\"\",'V C CAB'!A121)","v":"B"},{"$f":"IF('V C CAB'!B121=\"\",\"\",'V C CAB'!B121)","v":"C092"},{"$f":"IF('V C CAB'!C121=\"\",\"\",'V C CAB'!C121)","v":"DAMASCO"},{"$f":"IF('V C CAB'!D121=\"\",\"\",'V C CAB'!D121)","v":"NICOLAS MORENO"},{"$f":"IF(OR('V C CAB'!AW1286+'V C CAB'!AX1286>=2,AND('V C CAB'!AW1286+'V C CAB'!AX1286>=1,'V L CAB'!AX1294>=40),'V C CAB'!AY1286>=1),\"CLASIFICADO A 80 Km NOVICIOS\",\"\")","v":""},{"$f":"IF(C121='V C CAB'!C121,IF(OR('V C CAB'!BA121=\"\",'V C CAB'!BA121=\"HABILITADO  TEMPORALMENTE A COMPETENCIAS FEI\"),\"\",+'V C CAB'!BA121),\"ERROR\")","v":""},{"$f":"IF(C121='V C CAB'!C121,IF(+'V C CAB'!BA121=\"HABILITADO  TEMPORALMENTE A COMPETENCIAS FEI\",\"HABILITADO  TEMPORALMENTE A COMPETENCIAS FEI\",\"\"),\"ERROR\")","v":"HABILITADO  TEMPORALMENTE A COMPETENCIAS FEI"}]
[{"$f":"IF('V C CAB'!A122=\"\",\"\",'V C CAB'!A122)","v":"CC"},{"$f":"IF('V C CAB'!B122=\"\",\"\",'V C CAB'!B122)","v":"C267"},{"$f":"IF('V C CAB'!C122=\"\",\"\",'V C CAB'!C122)","v":"DEBORA"},{"$f":"IF('V C CAB'!D122=\"\",\"\",'V C CAB'!D122)","v":"MALO JAIME"},{"$f":"IF(OR('V C CAB'!AW1287+'V C CAB'!AX1287>=2,AND('V C CAB'!AW1287+'V C CAB'!AX1287>=1,'V L CAB'!AX1295>=40),'V C CAB'!AY1287>=1),\"CLASIFICADO A 80 Km NOVICIOS\",\"\")","v":""},{"$f":"IF(C122='V C CAB'!C122,IF(OR('V C CAB'!BA122=\"\",'V C CAB'!BA122=\"HABILITADO  TEMPORALMENTE A COMPETENCIAS FEI\"),\"\",+'V C CAB'!BA122),\"ERROR\")","v":"NO INICIA SU CLASIFICACIÓN"},{"$f":"IF(C122='V C CAB'!C122,IF(+'V C CAB'!BA122=\"HABILITADO  TEMPORALMENTE A COMPETENCIAS FEI\",\"HABILITADO  TEMPORALMENTE A COMPETENCIAS FEI\",\"\"),\"ERROR\")","v":""}]
[{"$f":"IF('V C CAB'!A123=\"\",\"\",'V C CAB'!A123)","v":"B"},{"$f":"IF('V C CAB'!B123=\"\",\"\",'V C CAB'!B123)","v":"C"},{"$f":"IF('V C CAB'!C123=\"\",\"\",'V C CAB'!C123)","v":"DIABLO"},{"$f":"IF('V C CAB'!D123=\"\",\"\",'V C CAB'!D123)","v":""},{"$f":"IF(OR('V C CAB'!AW1288+'V C CAB'!AX1288>=2,AND('V C CAB'!AW1288+'V C CAB'!AX1288>=1,'V L CAB'!AX1296>=40),'V C CAB'!AY1288>=1),\"CLASIFICADO A 80 Km NOVICIOS\",\"\")","v":""},{"$f":"IF(C123='V C CAB'!C123,IF(OR('V C CAB'!BA123=\"\",'V C CAB'!BA123=\"HABILITADO  TEMPORALMENTE A COMPETENCIAS FEI\"),\"\",+'V C CAB'!BA123),\"ERROR\")","v":"NO INICIA SU CLASIFICACIÓN"},{"$f":"IF(C123='V C CAB'!C123,IF(+'V C CAB'!BA123=\"HABILITADO  TEMPORALMENTE A COMPETENCIAS FEI\",\"HABILITADO  TEMPORALMENTE A COMPETENCIAS FEI\",\"\"),\"ERROR\")","v":""}]
[{"$f":"IF('V C CAB'!A124=\"\",\"\",'V C CAB'!A124)","v":"CC"},{"$f":"IF('V C CAB'!B124=\"\",\"\",'V C CAB'!B124)","v":"C268"},{"$f":"IF('V C CAB'!C124=\"\",\"\",'V C CAB'!C124)","v":"DISCORDIA"},{"$f":"IF('V C CAB'!D124=\"\",\"\",'V C CAB'!D124)","v":"VINTIMILLA PAULINO"},{"$f":"IF(OR('V C CAB'!AW1289+'V C CAB'!AX1289>=2,AND('V C CAB'!AW1289+'V C CAB'!AX1289>=1,'V L CAB'!AX1297>=40),'V C CAB'!AY1289>=1),\"CLASIFICADO A 80 Km NOVICIOS\",\"\")","v":""},{"$f":"IF(C124='V C CAB'!C124,IF(OR('V C CAB'!BA124=\"\",'V C CAB'!BA124=\"HABILITADO  TEMPORALMENTE A COMPETENCIAS FEI\"),\"\",+'V C CAB'!BA124),\"ERROR\")","v":"NO INICIA SU CLASIFICACIÓN"},{"$f":"IF(C124='V C CAB'!C124,IF(+'V C CAB'!BA124=\"HABILITADO  TEMPORALMENTE A COMPETENCIAS FEI\",\"HABILITADO  TEMPORALMENTE A COMPETENCIAS FEI\",\"\"),\"ERROR\")","v":""}]
[{"$f":"IF('V C CAB'!A125=\"\",\"\",'V C CAB'!A125)","v":"B"},{"$f":"IF('V C CAB'!B125=\"\",\"\",'V C CAB'!B125)","v":"C"},{"$f":"IF('V C CAB'!C125=\"\",\"\",'V C CAB'!C125)","v":"DISTINGUIDO WR"},{"$f":"IF('V C CAB'!D125=\"\",\"\",'V C CAB'!D125)","v":""},{"$f":"IF(OR('V C CAB'!AW1290+'V C CAB'!AX1290>=2,AND('V C CAB'!AW1290+'V C CAB'!AX1290>=1,'V L CAB'!AX1298>=40),'V C CAB'!AY1290>=1),\"CLASIFICADO A 80 Km NOVICIOS\",\"\")","v":""},{"$f":"IF(C125='V C CAB'!C125,IF(OR('V C CAB'!BA125=\"\",'V C CAB'!BA125=\"HABILITADO  TEMPORALMENTE A COMPETENCIAS FEI\"),\"\",+'V C CAB'!BA125),\"ERROR\")","v":""},{"$f":"IF(C125='V C CAB'!C125,IF(+'V C CAB'!BA125=\"HABILITADO  TEMPORALMENTE A COMPETENCIAS FEI\",\"HABILITADO  TEMPORALMENTE A COMPETENCIAS FEI\",\"\"),\"ERROR\")","v":"HABILITADO  TEMPORALMENTE A COMPETENCIAS FEI"}]
[{"$f":"IF('V C CAB'!A126=\"\",\"\",'V C CAB'!A126)","v":""},{"$f":"IF('V C CAB'!B126=\"\",\"\",'V C CAB'!B126)","v":"C346"},{"$f":"IF('V C CAB'!C126=\"\",\"\",'V C CAB'!C126)","v":"DONATELO"},{"$f":"IF('V C CAB'!D126=\"\",\"\",'V C CAB'!D126)","v":"CORDOVA MUÑOZ SUSANA MICHELLE"},{"$f":"IF(OR('V C CAB'!AW1291+'V C CAB'!AX1291>=2,AND('V C CAB'!AW1291+'V C CAB'!AX1291>=1,'V L CAB'!AX1299>=40),'V C CAB'!AY1291>=1),\"CLASIFICADO A 80 Km NOVICIOS\",\"\")","v":""},{"$f":"IF(C126='V C CAB'!C126,IF(OR('V C CAB'!BA126=\"\",'V C CAB'!BA126=\"HABILITADO  TEMPORALMENTE A COMPETENCIAS FEI\"),\"\",+'V C CAB'!BA126),\"ERROR\")","v":"INICIO SU CLASIFICACIÓN"},{"$f":"IF(C126='V C CAB'!C126,IF(+'V C CAB'!BA126=\"HABILITADO  TEMPORALMENTE A COMPETENCIAS FEI\",\"HABILITADO  TEMPORALMENTE A COMPETENCIAS FEI\",\"\"),\"ERROR\")","v":""}]
[{"$f":"IF('V C CAB'!A127=\"\",\"\",'V C CAB'!A127)","v":""},{"$f":"IF('V C CAB'!B127=\"\",\"\",'V C CAB'!B127)","v":"C242"},{"$f":"IF('V C CAB'!C127=\"\",\"\",'V C CAB'!C127)","v":"DUBAI"},{"$f":"IF('V C CAB'!D127=\"\",\"\",'V C CAB'!D127)","v":""},{"$f":"IF(OR('V C CAB'!AW1292+'V C CAB'!AX1292>=2,AND('V C CAB'!AW1292+'V C CAB'!AX1292>=1,'V L CAB'!AX1300>=40),'V C CAB'!AY1292>=1),\"CLASIFICADO A 80 Km NOVICIOS\",\"\")","v":""},{"$f":"IF(C127='V C CAB'!C127,IF(OR('V C CAB'!BA127=\"\",'V C CAB'!BA127=\"HABILITADO  TEMPORALMENTE A COMPETENCIAS FEI\"),\"\",+'V C CAB'!BA127),\"ERROR\")","v":"INICIO SU CLASIFICACIÓN"},{"$f":"IF(C127='V C CAB'!C127,IF(+'V C CAB'!BA127=\"HABILITADO  TEMPORALMENTE A COMPETENCIAS FEI\",\"HABILITADO  TEMPORALMENTE A COMPETENCIAS FEI\",\"\"),\"ERROR\")","v":""}]
[{"$f":"IF('V C CAB'!A128=\"\",\"\",'V C CAB'!A128)","v":"B"},{"$f":"IF('V C CAB'!B128=\"\",\"\",'V C CAB'!B128)","v":"C"},{"$f":"IF('V C CAB'!C128=\"\",\"\",'V C CAB'!C128)","v":"DUN DUN"},{"$f":"IF('V C CAB'!D128=\"\",\"\",'V C CAB'!D128)","v":""},{"$f":"IF(OR('V C CAB'!AW1293+'V C CAB'!AX1293>=2,AND('V C CAB'!AW1293+'V C CAB'!AX1293>=1,'V L CAB'!AX1301>=40),'V C CAB'!AY1293>=1),\"CLASIFICADO A 80 Km NOVICIOS\",\"\")","v":""},{"$f":"IF(C128='V C CAB'!C128,IF(OR('V C CAB'!BA128=\"\",'V C CAB'!BA128=\"HABILITADO  TEMPORALMENTE A COMPETENCIAS FEI\"),\"\",+'V C CAB'!BA128),\"ERROR\")","v":"NO INICIA SU CLASIFICACIÓN"},{"$f":"IF(C128='V C CAB'!C128,IF(+'V C CAB'!BA128=\"HABILITADO  TEMPORALMENTE A COMPETENCIAS FEI\",\"HABILITADO  TEMPORALMENTE A COMPETENCIAS FEI\",\"\"),\"ERROR\")","v":""}]
[{"$f":"IF('V C CAB'!A129=\"\",\"\",'V C CAB'!A129)","v":"B"},{"$f":"IF('V C CAB'!B129=\"\",\"\",'V C CAB'!B129)","v":"C"},{"$f":"IF('V C CAB'!C129=\"\",\"\",'V C CAB'!C129)","v":"DUNGA"},{"$f":"IF('V C CAB'!D129=\"\",\"\",'V C CAB'!D129)","v":""},{"$f":"IF(OR('V C CAB'!AW1294+'V C CAB'!AX1294>=2,AND('V C CAB'!AW1294+'V C CAB'!AX1294>=1,'V L CAB'!AX1302>=40),'V C CAB'!AY1294>=1),\"CLASIFICADO A 80 Km NOVICIOS\",\"\")","v":""},{"$f":"IF(C129='V C CAB'!C129,IF(OR('V C CAB'!BA129=\"\",'V C CAB'!BA129=\"HABILITADO  TEMPORALMENTE A COMPETENCIAS FEI\"),\"\",+'V C CAB'!BA129),\"ERROR\")","v":"NO INICIA SU CLASIFICACIÓN"},{"$f":"IF(C129='V C CAB'!C129,IF(+'V C CAB'!BA129=\"HABILITADO  TEMPORALMENTE A COMPETENCIAS FEI\",\"HABILITADO  TEMPORALMENTE A COMPETENCIAS FEI\",\"\"),\"ERROR\")","v":""}]
[{"$f":"IF('V C CAB'!A130=\"\",\"\",'V C CAB'!A130)","v":"B"},{"$f":"IF('V C CAB'!B130=\"\",\"\",'V C CAB'!B130)","v":"C"},{"$f":"IF('V C CAB'!C130=\"\",\"\",'V C CAB'!C130)","v":"EDY"},{"$f":"IF('V C CAB'!D130=\"\",\"\",'V C CAB'!D130)","v":""},{"$f":"IF(OR('V C CAB'!AW1295+'V C CAB'!AX1295>=2,AND('V C CAB'!AW1295+'V C CAB'!AX1295>=1,'V L CAB'!AX1303>=40),'V C CAB'!AY1295>=1),\"CLASIFICADO A 80 Km NOVICIOS\",\"\")","v":""},{"$f":"IF(C130='V C CAB'!C130,IF(OR('V C CAB'!BA130=\"\",'V C CAB'!BA130=\"HABILITADO  TEMPORALMENTE A COMPETENCIAS FEI\"),\"\",+'V C CAB'!BA130),\"ERROR\")","v":"INICIO SU CLASIFICACIÓN"},{"$f":"IF(C130='V C CAB'!C130,IF(+'V C CAB'!BA130=\"HABILITADO  TEMPORALMENTE A COMPETENCIAS FEI\",\"HABILITADO  TEMPORALMENTE A COMPETENCIAS FEI\",\"\"),\"ERROR\")","v":""}]
[{"$f":"IF('V C CAB'!A131=\"\",\"\",'V C CAB'!A131)","v":"B"},{"$f":"IF('V C CAB'!B131=\"\",\"\",'V C CAB'!B131)","v":"C234"},{"$f":"IF('V C CAB'!C131=\"\",\"\",'V C CAB'!C131)","v":"EL PADRINO"},{"$f":"IF('V C CAB'!D131=\"\",\"\",'V C CAB'!D131)","v":"MALO JAIME"},{"$f":"IF(OR('V C CAB'!AW1296+'V C CAB'!AX1296>=2,AND('V C CAB'!AW1296+'V C CAB'!AX1296>=1,'V L CAB'!AX1304>=40),'V C CAB'!AY1296>=1),\"CLASIFICADO A 80 Km NOVICIOS\",\"\")","v":""},{"$f":"IF(C131='V C CAB'!C131,IF(OR('V C CAB'!BA131=\"\",'V C CAB'!BA131=\"HABILITADO  TEMPORALMENTE A COMPETENCIAS FEI\"),\"\",+'V C CAB'!BA131),\"ERROR\")","v":""},{"$f":"IF(C131='V C CAB'!C131,IF(+'V C CAB'!BA131=\"HABILITADO  TEMPORALMENTE A COMPETENCIAS FEI\",\"HABILITADO  TEMPORALMENTE A COMPETENCIAS FEI\",\"\"),\"ERROR\")","v":"HABILITADO  TEMPORALMENTE A COMPETENCIAS FEI"}]
[{"$f":"IF('V C CAB'!A132=\"\",\"\",'V C CAB'!A132)","v":"CC"},{"$f":"IF('V C CAB'!B132=\"\",\"\",'V C CAB'!B132)","v":"C269"},{"$f":"IF('V C CAB'!C132=\"\",\"\",'V C CAB'!C132)","v":"ESCARLET"},{"$f":"IF('V C CAB'!D132=\"\",\"\",'V C CAB'!D132)","v":"MALO JAIME"},{"$f":"IF(OR('V C CAB'!AW1297+'V C CAB'!AX1297>=2,AND('V C CAB'!AW1297+'V C CAB'!AX1297>=1,'V L CAB'!AX1305>=40),'V C CAB'!AY1297>=1),\"CLASIFICADO A 80 Km NOVICIOS\",\"\")","v":""},{"$f":"IF(C132='V C CAB'!C132,IF(OR('V C CAB'!BA132=\"\",'V C CAB'!BA132=\"HABILITADO  TEMPORALMENTE A COMPETENCIAS FEI\"),\"\",+'V C CAB'!BA132),\"ERROR\")","v":"HABILITADO A 80KM VELOCIDAD CONTROLADA"},{"$f":"IF(C132='V C CAB'!C132,IF(+'V C CAB'!BA132=\"HABILITADO  TEMPORALMENTE A COMPETENCIAS FEI\",\"HABILITADO  TEMPORALMENTE A COMPETENCIAS FEI\",\"\"),\"ERROR\")","v":""}]
[{"$f":"IF('V C CAB'!A133=\"\",\"\",'V C CAB'!A133)","v":"B"},{"$f":"IF('V C CAB'!B133=\"\",\"\",'V C CAB'!B133)","v":"C"},{"$f":"IF('V C CAB'!C133=\"\",\"\",'V C CAB'!C133)","v":"ESFUERZO"},{"$f":"IF('V C CAB'!D133=\"\",\"\",'V C CAB'!D133)","v":""},{"$f":"IF(OR('V C CAB'!AW1298+'V C CAB'!AX1298>=2,AND('V C CAB'!AW1298+'V C CAB'!AX1298>=1,'V L CAB'!AX1306>=40),'V C CAB'!AY1298>=1),\"CLASIFICADO A 80 Km NOVICIOS\",\"\")","v":""},{"$f":"IF(C133='V C CAB'!C133,IF(OR('V C CAB'!BA133=\"\",'V C CAB'!BA133=\"HABILITADO  TEMPORALMENTE A COMPETENCIAS FEI\"),\"\",+'V C CAB'!BA133),\"ERROR\")","v":"NO INICIA SU CLASIFICACIÓN"},{"$f":"IF(C133='V C CAB'!C133,IF(+'V C CAB'!BA133=\"HABILITADO  TEMPORALMENTE A COMPETENCIAS FEI\",\"HABILITADO  TEMPORALMENTE A COMPETENCIAS FEI\",\"\"),\"ERROR\")","v":""}]
[{"$f":"IF('V C CAB'!A134=\"\",\"\",'V C CAB'!A134)","v":""},{"$f":"IF('V C CAB'!B134=\"\",\"\",'V C CAB'!B134)","v":"C339"},{"$f":"IF('V C CAB'!C134=\"\",\"\",'V C CAB'!C134)","v":"ESPARTACO"},{"$f":"IF('V C CAB'!D134=\"\",\"\",'V C CAB'!D134)","v":"TORRES JOSUE"},{"$f":"IF(OR('V C CAB'!AW1299+'V C CAB'!AX1299>=2,AND('V C CAB'!AW1299+'V C CAB'!AX1299>=1,'V L CAB'!AX1307>=40),'V C CAB'!AY1299>=1),\"CLASIFICADO A 80 Km NOVICIOS\",\"\")","v":""},{"$f":"IF(C134='V C CAB'!C134,IF(OR('V C CAB'!BA134=\"\",'V C CAB'!BA134=\"HABILITADO  TEMPORALMENTE A COMPETENCIAS FEI\"),\"\",+'V C CAB'!BA134),\"ERROR\")","v":"HABILITADO A 80KM VELOCIDAD CONTROLADA"},{"$f":"IF(C134='V C CAB'!C134,IF(+'V C CAB'!BA134=\"HABILITADO  TEMPORALMENTE A COMPETENCIAS FEI\",\"HABILITADO  TEMPORALMENTE A COMPETENCIAS FEI\",\"\"),\"ERROR\")","v":""}]
[{"$f":"IF('V C CAB'!A135=\"\",\"\",'V C CAB'!A135)","v":"B"},{"$f":"IF('V C CAB'!B135=\"\",\"\",'V C CAB'!B135)","v":"C"},{"$f":"IF('V C CAB'!C135=\"\",\"\",'V C CAB'!C135)","v":"ESPIRIT DJ"},{"$f":"IF('V C CAB'!D135=\"\",\"\",'V C CAB'!D135)","v":""},{"$f":"IF(OR('V C CAB'!AW1300+'V C CAB'!AX1300>=2,AND('V C CAB'!AW1300+'V C CAB'!AX1300>=1,'V L CAB'!AX1308>=40),'V C CAB'!AY1300>=1),\"CLASIFICADO A 80 Km NOVICIOS\",\"\")","v":""},{"$f":"IF(C135='V C CAB'!C135,IF(OR('V C CAB'!BA135=\"\",'V C CAB'!BA135=\"HABILITADO  TEMPORALMENTE A COMPETENCIAS FEI\"),\"\",+'V C CAB'!BA135),\"ERROR\")","v":"NO INICIA SU CLASIFICACIÓN"},{"$f":"IF(C135='V C CAB'!C135,IF(+'V C CAB'!BA135=\"HABILITADO  TEMPORALMENTE A COMPETENCIAS FEI\",\"HABILITADO  TEMPORALMENTE A COMPETENCIAS FEI\",\"\"),\"ERROR\")","v":""}]
[{"$f":"IF('V C CAB'!A136=\"\",\"\",'V C CAB'!A136)","v":""},{"$f":"IF('V C CAB'!B136=\"\",\"\",'V C CAB'!B136)","v":"C130"},{"$f":"IF('V C CAB'!C136=\"\",\"\",'V C CAB'!C136)","v":"ESPIRITU DEL ECUADOR"},{"$f":"IF('V C CAB'!D136=\"\",\"\",'V C CAB'!D136)","v":"BERREZUETA DELGADO PABLO SANTI"},{"$f":"IF(OR('V C CAB'!AW1301+'V C CAB'!AX1301>=2,AND('V C CAB'!AW1301+'V C CAB'!AX1301>=1,'V L CAB'!AX1309>=40),'V C CAB'!AY1301>=1),\"CLASIFICADO A 80 Km NOVICIOS\",\"\")","v":""},{"$f":"IF(C136='V C CAB'!C136,IF(OR('V C CAB'!BA136=\"\",'V C CAB'!BA136=\"HABILITADO  TEMPORALMENTE A COMPETENCIAS FEI\"),\"\",+'V C CAB'!BA136),\"ERROR\")","v":"HABILITADO A 80KM VELOCIDAD CONTROLADA"},{"$f":"IF(C136='V C CAB'!C136,IF(+'V C CAB'!BA136=\"HABILITADO  TEMPORALMENTE A COMPETENCIAS FEI\",\"HABILITADO  TEMPORALMENTE A COMPETENCIAS FEI\",\"\"),\"ERROR\")","v":""}]
[{"$f":"IF('V C CAB'!A137=\"\",\"\",'V C CAB'!A137)","v":"B"},{"$f":"IF('V C CAB'!B137=\"\",\"\",'V C CAB'!B137)","v":"C"},{"$f":"IF('V C CAB'!C137=\"\",\"\",'V C CAB'!C137)","v":"EVA LUNA"},{"$f":"IF('V C CAB'!D137=\"\",\"\",'V C CAB'!D137)","v":""},{"$f":"IF(OR('V C CAB'!AW1302+'V C CAB'!AX1302>=2,AND('V C CAB'!AW1302+'V C CAB'!AX1302>=1,'V L CAB'!AX1310>=40),'V C CAB'!AY1302>=1),\"CLASIFICADO A 80 Km NOVICIOS\",\"\")","v":""},{"$f":"IF(C137='V C CAB'!C137,IF(OR('V C CAB'!BA137=\"\",'V C CAB'!BA137=\"HABILITADO  TEMPORALMENTE A COMPETENCIAS FEI\"),\"\",+'V C CAB'!BA137),\"ERROR\")","v":"NO INICIA SU CLASIFICACIÓN"},{"$f":"IF(C137='V C CAB'!C137,IF(+'V C CAB'!BA137=\"HABILITADO  TEMPORALMENTE A COMPETENCIAS FEI\",\"HABILITADO  TEMPORALMENTE A COMPETENCIAS FEI\",\"\"),\"ERROR\")","v":""}]
[{"$f":"IF('V C CAB'!A138=\"\",\"\",'V C CAB'!A138)","v":"B"},{"$f":"IF('V C CAB'!B138=\"\",\"\",'V C CAB'!B138)","v":"C"},{"$f":"IF('V C CAB'!C138=\"\",\"\",'V C CAB'!C138)","v":"EXAMINADO"},{"$f":"IF('V C CAB'!D138=\"\",\"\",'V C CAB'!D138)","v":""},{"$f":"IF(OR('V C CAB'!AW1303+'V C CAB'!AX1303>=2,AND('V C CAB'!AW1303+'V C CAB'!AX1303>=1,'V L CAB'!AX1311>=40),'V C CAB'!AY1303>=1),\"CLASIFICADO A 80 Km NOVICIOS\",\"\")","v":""},{"$f":"IF(C138='V C CAB'!C138,IF(OR('V C CAB'!BA138=\"\",'V C CAB'!BA138=\"HABILITADO  TEMPORALMENTE A COMPETENCIAS FEI\"),\"\",+'V C CAB'!BA138),\"ERROR\")","v":"NO INICIA SU CLASIFICACIÓN"},{"$f":"IF(C138='V C CAB'!C138,IF(+'V C CAB'!BA138=\"HABILITADO  TEMPORALMENTE A COMPETENCIAS FEI\",\"HABILITADO  TEMPORALMENTE A COMPETENCIAS FEI\",\"\"),\"ERROR\")","v":""}]
[{"$f":"IF('V C CAB'!A139=\"\",\"\",'V C CAB'!A139)","v":"CC"},{"$f":"IF('V C CAB'!B139=\"\",\"\",'V C CAB'!B139)","v":"C270"},{"$f":"IF('V C CAB'!C139=\"\",\"\",'V C CAB'!C139)","v":"FANDANGO"},{"$f":"IF('V C CAB'!D139=\"\",\"\",'V C CAB'!D139)","v":"GONZALEZ RENATO"},{"$f":"IF(OR('V C CAB'!AW1304+'V C CAB'!AX1304>=2,AND('V C CAB'!AW1304+'V C CAB'!AX1304>=1,'V L CAB'!AX1312>=40),'V C CAB'!AY1304>=1),\"CLASIFICADO A 80 Km NOVICIOS\",\"\")","v":""},{"$f":"IF(C139='V C CAB'!C139,IF(OR('V C CAB'!BA139=\"\",'V C CAB'!BA139=\"HABILITADO  TEMPORALMENTE A COMPETENCIAS FEI\"),\"\",+'V C CAB'!BA139),\"ERROR\")","v":"INICIO SU CLASIFICACIÓN"},{"$f":"IF(C139='V C CAB'!C139,IF(+'V C CAB'!BA139=\"HABILITADO  TEMPORALMENTE A COMPETENCIAS FEI\",\"HABILITADO  TEMPORALMENTE A COMPETENCIAS FEI\",\"\"),\"ERROR\")","v":""}]
[{"$f":"IF('V C CAB'!A140=\"\",\"\",'V C CAB'!A140)","v":"B"},{"$f":"IF('V C CAB'!B140=\"\",\"\",'V C CAB'!B140)","v":"C123"},{"$f":"IF('V C CAB'!C140=\"\",\"\",'V C CAB'!C140)","v":"FARAON"},{"$f":"IF('V C CAB'!D140=\"\",\"\",'V C CAB'!D140)","v":"TORRES WLADIMIRO"},{"$f":"IF(OR('V C CAB'!AW1305+'V C CAB'!AX1305>=2,AND('V C CAB'!AW1305+'V C CAB'!AX1305>=1,'V L CAB'!AX1313>=40),'V C CAB'!AY1305>=1),\"CLASIFICADO A 80 Km NOVICIOS\",\"\")","v":""},{"$f":"IF(C140='V C CAB'!C140,IF(OR('V C CAB'!BA140=\"\",'V C CAB'!BA140=\"HABILITADO  TEMPORALMENTE A COMPETENCIAS FEI\"),\"\",+'V C CAB'!BA140),\"ERROR\")","v":""},{"$f":"IF(C140='V C CAB'!C140,IF(+'V C CAB'!BA140=\"HABILITADO  TEMPORALMENTE A COMPETENCIAS FEI\",\"HABILITADO  TEMPORALMENTE A COMPETENCIAS FEI\",\"\"),\"ERROR\")","v":"HABILITADO  TEMPORALMENTE A COMPETENCIAS FEI"}]
[{"$f":"IF('V C CAB'!A141=\"\",\"\",'V C CAB'!A141)","v":"B"},{"$f":"IF('V C CAB'!B141=\"\",\"\",'V C CAB'!B141)","v":"C131"},{"$f":"IF('V C CAB'!C141=\"\",\"\",'V C CAB'!C141)","v":"FELIPE DE MONACO"},{"$f":"IF('V C CAB'!D141=\"\",\"\",'V C CAB'!D141)","v":"SALAZAR ROSA VICTORIA"},{"$f":"IF(OR('V C CAB'!AW1306+'V C CAB'!AX1306>=2,AND('V C CAB'!AW1306+'V C CAB'!AX1306>=1,'V L CAB'!AX1314>=40),'V C CAB'!AY1306>=1),\"CLASIFICADO A 80 Km NOVICIOS\",\"\")","v":""},{"$f":"IF(C141='V C CAB'!C141,IF(OR('V C CAB'!BA141=\"\",'V C CAB'!BA141=\"HABILITADO  TEMPORALMENTE A COMPETENCIAS FEI\"),\"\",+'V C CAB'!BA141),\"ERROR\")","v":"INICIO SU CLASIFICACIÓN"},{"$f":"IF(C141='V C CAB'!C141,IF(+'V C CAB'!BA141=\"HABILITADO  TEMPORALMENTE A COMPETENCIAS FEI\",\"HABILITADO  TEMPORALMENTE A COMPETENCIAS FEI\",\"\"),\"ERROR\")","v":""}]
[{"$f":"IF('V C CAB'!A142=\"\",\"\",'V C CAB'!A142)","v":"B"},{"$f":"IF('V C CAB'!B142=\"\",\"\",'V C CAB'!B142)","v":"C112"},{"$f":"IF('V C CAB'!C142=\"\",\"\",'V C CAB'!C142)","v":"FELIPE GR"},{"$f":"IF('V C CAB'!D142=\"\",\"\",'V C CAB'!D142)","v":"ALEXANDER GOMEZ"},{"$f":"IF(OR('V C CAB'!AW1307+'V C CAB'!AX1307>=2,AND('V C CAB'!AW1307+'V C CAB'!AX1307>=1,'V L CAB'!AX1315>=40),'V C CAB'!AY1307>=1),\"CLASIFICADO A 80 Km NOVICIOS\",\"\")","v":""},{"$f":"IF(C142='V C CAB'!C142,IF(OR('V C CAB'!BA142=\"\",'V C CAB'!BA142=\"HABILITADO  TEMPORALMENTE A COMPETENCIAS FEI\"),\"\",+'V C CAB'!BA142),\"ERROR\")","v":""},{"$f":"IF(C142='V C CAB'!C142,IF(+'V C CAB'!BA142=\"HABILITADO  TEMPORALMENTE A COMPETENCIAS FEI\",\"HABILITADO  TEMPORALMENTE A COMPETENCIAS FEI\",\"\"),\"ERROR\")","v":"HABILITADO  TEMPORALMENTE A COMPETENCIAS FEI"}]
[{"$f":"IF('V C CAB'!A143=\"\",\"\",'V C CAB'!A143)","v":"B"},{"$f":"IF('V C CAB'!B143=\"\",\"\",'V C CAB'!B143)","v":"C036"},{"$f":"IF('V C CAB'!C143=\"\",\"\",'V C CAB'!C143)","v":"FERMIN"},{"$f":"IF('V C CAB'!D143=\"\",\"\",'V C CAB'!D143)","v":"MARIA PAULA JIJON"},{"$f":"IF(OR('V C CAB'!AW1308+'V C CAB'!AX1308>=2,AND('V C CAB'!AW1308+'V C CAB'!AX1308>=1,'V L CAB'!AX1316>=40),'V C CAB'!AY1308>=1),\"CLASIFICADO A 80 Km NOVICIOS\",\"\")","v":""},{"$f":"IF(C143='V C CAB'!C143,IF(OR('V C CAB'!BA143=\"\",'V C CAB'!BA143=\"HABILITADO  TEMPORALMENTE A COMPETENCIAS FEI\"),\"\",+'V C CAB'!BA143),\"ERROR\")","v":"INICIO SU CLASIFICACIÓN"},{"$f":"IF(C143='V C CAB'!C143,IF(+'V C CAB'!BA143=\"HABILITADO  TEMPORALMENTE A COMPETENCIAS FEI\",\"HABILITADO  TEMPORALMENTE A COMPETENCIAS FEI\",\"\"),\"ERROR\")","v":""}]
[{"$f":"IF('V C CAB'!A144=\"\",\"\",'V C CAB'!A144)","v":"B"},{"$f":"IF('V C CAB'!B144=\"\",\"\",'V C CAB'!B144)","v":"C136"},{"$f":"IF('V C CAB'!C144=\"\",\"\",'V C CAB'!C144)","v":"FHARA CONEJA"},{"$f":"IF('V C CAB'!D144=\"\",\"\",'V C CAB'!D144)","v":"DARQUEA BERNARDO"},{"$f":"IF(OR('V C CAB'!AW1309+'V C CAB'!AX1309>=2,AND('V C CAB'!AW1309+'V C CAB'!AX1309>=1,'V L CAB'!AX1317>=40),'V C CAB'!AY1309>=1),\"CLASIFICADO A 80 Km NOVICIOS\",\"\")","v":""},{"$f":"IF(C144='V C CAB'!C144,IF(OR('V C CAB'!BA144=\"\",'V C CAB'!BA144=\"HABILITADO  TEMPORALMENTE A COMPETENCIAS FEI\"),\"\",+'V C CAB'!BA144),\"ERROR\")","v":""},{"$f":"IF(C144='V C CAB'!C144,IF(+'V C CAB'!BA144=\"HABILITADO  TEMPORALMENTE A COMPETENCIAS FEI\",\"HABILITADO  TEMPORALMENTE A COMPETENCIAS FEI\",\"\"),\"ERROR\")","v":"HABILITADO  TEMPORALMENTE A COMPETENCIAS FEI"}]
[{"$f":"IF('V C CAB'!A145=\"\",\"\",'V C CAB'!A145)","v":"C155"},{"$f":"IF('V C CAB'!B145=\"\",\"\",'V C CAB'!B145)","v":"C024"},{"$f":"IF('V C CAB'!C145=\"\",\"\",'V C CAB'!C145)","v":"FOSFORITO"},{"$f":"IF('V C CAB'!D145=\"\",\"\",'V C CAB'!D145)","v":"GUARDERAS BELEN"},{"$f":"IF(OR('V C CAB'!AW1310+'V C CAB'!AX1310>=2,AND('V C CAB'!AW1310+'V C CAB'!AX1310>=1,'V L CAB'!AX1318>=40),'V C CAB'!AY1310>=1),\"CLASIFICADO A 80 Km NOVICIOS\",\"\")","v":""},{"$f":"IF(C145='V C CAB'!C145,IF(OR('V C CAB'!BA145=\"\",'V C CAB'!BA145=\"HABILITADO  TEMPORALMENTE A COMPETENCIAS FEI\"),\"\",+'V C CAB'!BA145),\"ERROR\")","v":"NO INICIA SU CLASIFICACIÓN"},{"$f":"IF(C145='V C CAB'!C145,IF(+'V C CAB'!BA145=\"HABILITADO  TEMPORALMENTE A COMPETENCIAS FEI\",\"HABILITADO  TEMPORALMENTE A COMPETENCIAS FEI\",\"\"),\"ERROR\")","v":""}]
[{"$f":"IF('V C CAB'!A146=\"\",\"\",'V C CAB'!A146)","v":"B"},{"$f":"IF('V C CAB'!B146=\"\",\"\",'V C CAB'!B146)","v":"C188"},{"$f":"IF('V C CAB'!C146=\"\",\"\",'V C CAB'!C146)","v":"FRODO"},{"$f":"IF('V C CAB'!D146=\"\",\"\",'V C CAB'!D146)","v":"RIBADENEIRA ARTURO"},{"$f":"IF(OR('V C CAB'!AW1311+'V C CAB'!AX1311>=2,AND('V C CAB'!AW1311+'V C CAB'!AX1311>=1,'V L CAB'!AX1319>=40),'V C CAB'!AY1311>=1),\"CLASIFICADO A 80 Km NOVICIOS\",\"\")","v":""},{"$f":"IF(C146='V C CAB'!C146,IF(OR('V C CAB'!BA146=\"\",'V C CAB'!BA146=\"HABILITADO  TEMPORALMENTE A COMPETENCIAS FEI\"),\"\",+'V C CAB'!BA146),\"ERROR\")","v":"NO INICIA SU CLASIFICACIÓN"},{"$f":"IF(C146='V C CAB'!C146,IF(+'V C CAB'!BA146=\"HABILITADO  TEMPORALMENTE A COMPETENCIAS FEI\",\"HABILITADO  TEMPORALMENTE A COMPETENCIAS FEI\",\"\"),\"ERROR\")","v":""}]
[{"$f":"IF('V C CAB'!A147=\"\",\"\",'V C CAB'!A147)","v":"B"},{"$f":"IF('V C CAB'!B147=\"\",\"\",'V C CAB'!B147)","v":"C148"},{"$f":"IF('V C CAB'!C147=\"\",\"\",'V C CAB'!C147)","v":"FUERTE"},{"$f":"IF('V C CAB'!D147=\"\",\"\",'V C CAB'!D147)","v":"ALEXANDER GOMEZ"},{"$f":"IF(OR('V C CAB'!AW1312+'V C CAB'!AX1312>=2,AND('V C CAB'!AW1312+'V C CAB'!AX1312>=1,'V L CAB'!AX1320>=40),'V C CAB'!AY1312>=1),\"CLASIFICADO A 80 Km NOVICIOS\",\"\")","v":""},{"$f":"IF(C147='V C CAB'!C147,IF(OR('V C CAB'!BA147=\"\",'V C CAB'!BA147=\"HABILITADO  TEMPORALMENTE A COMPETENCIAS FEI\"),\"\",+'V C CAB'!BA147),\"ERROR\")","v":""},{"$f":"IF(C147='V C CAB'!C147,IF(+'V C CAB'!BA147=\"HABILITADO  TEMPORALMENTE A COMPETENCIAS FEI\",\"HABILITADO  TEMPORALMENTE A COMPETENCIAS FEI\",\"\"),\"ERROR\")","v":"HABILITADO  TEMPORALMENTE A COMPETENCIAS FEI"}]
[{"$f":"IF('V C CAB'!A148=\"\",\"\",'V C CAB'!A148)","v":"CC"},{"$f":"IF('V C CAB'!B148=\"\",\"\",'V C CAB'!B148)","v":"C272"},{"$f":"IF('V C CAB'!C148=\"\",\"\",'V C CAB'!C148)","v":"FUGAZ"},{"$f":"IF('V C CAB'!D148=\"\",\"\",'V C CAB'!D148)","v":"GONZALEZ JARAMILLO CRISTIAN HUMBERTO"},{"$f":"IF(OR('V C CAB'!AW1313+'V C CAB'!AX1313>=2,AND('V C CAB'!AW1313+'V C CAB'!AX1313>=1,'V L CAB'!AX1321>=40),'V C CAB'!AY1313>=1),\"CLASIFICADO A 80 Km NOVICIOS\",\"\")","v":""},{"$f":"IF(C148='V C CAB'!C148,IF(OR('V C CAB'!BA148=\"\",'V C CAB'!BA148=\"HABILITADO  TEMPORALMENTE A COMPETENCIAS FEI\"),\"\",+'V C CAB'!BA148),\"ERROR\")","v":"INICIO SU CLASIFICACIÓN"},{"$f":"IF(C148='V C CAB'!C148,IF(+'V C CAB'!BA148=\"HABILITADO  TEMPORALMENTE A COMPETENCIAS FEI\",\"HABILITADO  TEMPORALMENTE A COMPETENCIAS FEI\",\"\"),\"ERROR\")","v":""}]
[{"$f":"IF('V C CAB'!A149=\"\",\"\",'V C CAB'!A149)","v":"B"},{"$f":"IF('V C CAB'!B149=\"\",\"\",'V C CAB'!B149)","v":"C088"},{"$f":"IF('V C CAB'!C149=\"\",\"\",'V C CAB'!C149)","v":"FURIOSA"},{"$f":"IF('V C CAB'!D149=\"\",\"\",'V C CAB'!D149)","v":"JUAN ESTEBAN JIJON"},{"$f":"IF(OR('V C CAB'!AW1314+'V C CAB'!AX1314>=2,AND('V C CAB'!AW1314+'V C CAB'!AX1314>=1,'V L CAB'!AX1322>=40),'V C CAB'!AY1314>=1),\"CLASIFICADO A 80 Km NOVICIOS\",\"\")","v":""},{"$f":"IF(C149='V C CAB'!C149,IF(OR('V C CAB'!BA149=\"\",'V C CAB'!BA149=\"HABILITADO  TEMPORALMENTE A COMPETENCIAS FEI\"),\"\",+'V C CAB'!BA149),\"ERROR\")","v":"LE FALTA UNA DE 80 A 90 CONTROLADA"},{"$f":"IF(C149='V C CAB'!C149,IF(+'V C CAB'!BA149=\"HABILITADO  TEMPORALMENTE A COMPETENCIAS FEI\",\"HABILITADO  TEMPORALMENTE A COMPETENCIAS FEI\",\"\"),\"ERROR\")","v":""}]
[{"$f":"IF('V C CAB'!A150=\"\",\"\",'V C CAB'!A150)","v":"B"},{"$f":"IF('V C CAB'!B150=\"\",\"\",'V C CAB'!B150)","v":"C"},{"$f":"IF('V C CAB'!C150=\"\",\"\",'V C CAB'!C150)","v":"GABO ML"},{"$f":"IF('V C CAB'!D150=\"\",\"\",'V C CAB'!D150)","v":""},{"$f":"IF(OR('V C CAB'!AW1315+'V C CAB'!AX1315>=2,AND('V C CAB'!AW1315+'V C CAB'!AX1315>=1,'V L CAB'!AX1323>=40),'V C CAB'!AY1315>=1),\"CLASIFICADO A 80 Km NOVICIOS\",\"\")","v":""},{"$f":"IF(C150='V C CAB'!C150,IF(OR('V C CAB'!BA150=\"\",'V C CAB'!BA150=\"HABILITADO  TEMPORALMENTE A COMPETENCIAS FEI\"),\"\",+'V C CAB'!BA150),\"ERROR\")","v":"NO INICIA SU CLASIFICACIÓN"},{"$f":"IF(C150='V C CAB'!C150,IF(+'V C CAB'!BA150=\"HABILITADO  TEMPORALMENTE A COMPETENCIAS FEI\",\"HABILITADO  TEMPORALMENTE A COMPETENCIAS FEI\",\"\"),\"ERROR\")","v":""}]
[{"$f":"IF('V C CAB'!A151=\"\",\"\",'V C CAB'!A151)","v":"C128"},{"$f":"IF('V C CAB'!B151=\"\",\"\",'V C CAB'!B151)","v":"C139"},{"$f":"IF('V C CAB'!C151=\"\",\"\",'V C CAB'!C151)","v":"GADAFY"},{"$f":"IF('V C CAB'!D151=\"\",\"\",'V C CAB'!D151)","v":""},{"$f":"IF(OR('V C CAB'!AW1316+'V C CAB'!AX1316>=2,AND('V C CAB'!AW1316+'V C CAB'!AX1316>=1,'V L CAB'!AX1324>=40),'V C CAB'!AY1316>=1),\"CLASIFICADO A 80 Km NOVICIOS\",\"\")","v":""},{"$f":"IF(C151='V C CAB'!C151,IF(OR('V C CAB'!BA151=\"\",'V C CAB'!BA151=\"HABILITADO  TEMPORALMENTE A COMPETENCIAS FEI\"),\"\",+'V C CAB'!BA151),\"ERROR\")","v":"NO INICIA SU CLASIFICACIÓN"},{"$f":"IF(C151='V C CAB'!C151,IF(+'V C CAB'!BA151=\"HABILITADO  TEMPORALMENTE A COMPETENCIAS FEI\",\"HABILITADO  TEMPORALMENTE A COMPETENCIAS FEI\",\"\"),\"ERROR\")","v":""}]
[{"$f":"IF('V C CAB'!A152=\"\",\"\",'V C CAB'!A152)","v":""},{"$f":"IF('V C CAB'!B152=\"\",\"\",'V C CAB'!B152)","v":"C218"},{"$f":"IF('V C CAB'!C152=\"\",\"\",'V C CAB'!C152)","v":"GALAN"},{"$f":"IF('V C CAB'!D152=\"\",\"\",'V C CAB'!D152)","v":"DARQUEA DAVALOS ANA MARIA"},{"$f":"IF(OR('V C CAB'!AW1317+'V C CAB'!AX1317>=2,AND('V C CAB'!AW1317+'V C CAB'!AX1317>=1,'V L CAB'!AX1325>=40),'V C CAB'!AY1317>=1),\"CLASIFICADO A 80 Km NOVICIOS\",\"\")","v":""},{"$f":"IF(C152='V C CAB'!C152,IF(OR('V C CAB'!BA152=\"\",'V C CAB'!BA152=\"HABILITADO  TEMPORALMENTE A COMPETENCIAS FEI\"),\"\",+'V C CAB'!BA152),\"ERROR\")","v":"HABILITADO A 80KM VELOCIDAD CONTROLADA"},{"$f":"IF(C152='V C CAB'!C152,IF(+'V C CAB'!BA152=\"HABILITADO  TEMPORALMENTE A COMPETENCIAS FEI\",\"HABILITADO  TEMPORALMENTE A COMPETENCIAS FEI\",\"\"),\"ERROR\")","v":""}]
[{"$f":"IF('V C CAB'!A153=\"\",\"\",'V C CAB'!A153)","v":""},{"$f":"IF('V C CAB'!B153=\"\",\"\",'V C CAB'!B153)","v":"C384"},{"$f":"IF('V C CAB'!C153=\"\",\"\",'V C CAB'!C153)","v":"GALAN"},{"$f":"IF('V C CAB'!D153=\"\",\"\",'V C CAB'!D153)","v":"NOBOA MAURICIO"},{"$f":"IF(OR('V C CAB'!AW1318+'V C CAB'!AX1318>=2,AND('V C CAB'!AW1318+'V C CAB'!AX1318>=1,'V L CAB'!AX1326>=40),'V C CAB'!AY1318>=1),\"CLASIFICADO A 80 Km NOVICIOS\",\"\")","v":""},{"$f":"IF(C153='V C CAB'!C153,IF(OR('V C CAB'!BA153=\"\",'V C CAB'!BA153=\"HABILITADO  TEMPORALMENTE A COMPETENCIAS FEI\"),\"\",+'V C CAB'!BA153),\"ERROR\")","v":"INICIO SU CLASIFICACIÓN"},{"$f":"IF(C153='V C CAB'!C153,IF(+'V C CAB'!BA153=\"HABILITADO  TEMPORALMENTE A COMPETENCIAS FEI\",\"HABILITADO  TEMPORALMENTE A COMPETENCIAS FEI\",\"\"),\"ERROR\")","v":""}]
[{"$f":"IF('V C CAB'!A154=\"\",\"\",'V C CAB'!A154)","v":"C112"},{"$f":"IF('V C CAB'!B154=\"\",\"\",'V C CAB'!B154)","v":"C"},{"$f":"IF('V C CAB'!C154=\"\",\"\",'V C CAB'!C154)","v":"GALEO JM"},{"$f":"IF('V C CAB'!D154=\"\",\"\",'V C CAB'!D154)","v":""},{"$f":"IF(OR('V C CAB'!AW1319+'V C CAB'!AX1319>=2,AND('V C CAB'!AW1319+'V C CAB'!AX1319>=1,'V L CAB'!AX1327>=40),'V C CAB'!AY1319>=1),\"CLASIFICADO A 80 Km NOVICIOS\",\"\")","v":""},{"$f":"IF(C154='V C CAB'!C154,IF(OR('V C CAB'!BA154=\"\",'V C CAB'!BA154=\"HABILITADO  TEMPORALMENTE A COMPETENCIAS FEI\"),\"\",+'V C CAB'!BA154),\"ERROR\")","v":"NO INICIA SU CLASIFICACIÓN"},{"$f":"IF(C154='V C CAB'!C154,IF(+'V C CAB'!BA154=\"HABILITADO  TEMPORALMENTE A COMPETENCIAS FEI\",\"HABILITADO  TEMPORALMENTE A COMPETENCIAS FEI\",\"\"),\"ERROR\")","v":""}]
[{"$f":"IF('V C CAB'!A155=\"\",\"\",'V C CAB'!A155)","v":"B"},{"$f":"IF('V C CAB'!B155=\"\",\"\",'V C CAB'!B155)","v":"C005"},{"$f":"IF('V C CAB'!C155=\"\",\"\",'V C CAB'!C155)","v":"GANDALF"},{"$f":"IF('V C CAB'!D155=\"\",\"\",'V C CAB'!D155)","v":"MALDONADO JOSE"},{"$f":"IF(OR('V C CAB'!AW1320+'V C CAB'!AX1320>=2,AND('V C CAB'!AW1320+'V C CAB'!AX1320>=1,'V L CAB'!AX1328>=40),'V C CAB'!AY1320>=1),\"CLASIFICADO A 80 Km NOVICIOS\",\"\")","v":""},{"$f":"IF(C155='V C CAB'!C155,IF(OR('V C CAB'!BA155=\"\",'V C CAB'!BA155=\"HABILITADO  TEMPORALMENTE A COMPETENCIAS FEI\"),\"\",+'V C CAB'!BA155),\"ERROR\")","v":"HABILITADO A 80KM VELOCIDAD CONTROLADA"},{"$f":"IF(C155='V C CAB'!C155,IF(+'V C CAB'!BA155=\"HABILITADO  TEMPORALMENTE A COMPETENCIAS FEI\",\"HABILITADO  TEMPORALMENTE A COMPETENCIAS FEI\",\"\"),\"ERROR\")","v":""}]
[{"$f":"IF('V C CAB'!A156=\"\",\"\",'V C CAB'!A156)","v":"B"},{"$f":"IF('V C CAB'!B156=\"\",\"\",'V C CAB'!B156)","v":"C198"},{"$f":"IF('V C CAB'!C156=\"\",\"\",'V C CAB'!C156)","v":"GAYTA"},{"$f":"IF('V C CAB'!D156=\"\",\"\",'V C CAB'!D156)","v":"LETORT JOSE IGNACIO"},{"$f":"IF(OR('V C CAB'!AW1321+'V C CAB'!AX1321>=2,AND('V C CAB'!AW1321+'V C CAB'!AX1321>=1,'V L CAB'!AX1329>=40),'V C CAB'!AY1321>=1),\"CLASIFICADO A 80 Km NOVICIOS\",\"\")","v":""},{"$f":"IF(C156='V C CAB'!C156,IF(OR('V C CAB'!BA156=\"\",'V C CAB'!BA156=\"HABILITADO  TEMPORALMENTE A COMPETENCIAS FEI\"),\"\",+'V C CAB'!BA156),\"ERROR\")","v":"LE FALTA UNA DE 80 A 90 CONTROLADA"},{"$f":"IF(C156='V C CAB'!C156,IF(+'V C CAB'!BA156=\"HABILITADO  TEMPORALMENTE A COMPETENCIAS FEI\",\"HABILITADO  TEMPORALMENTE A COMPETENCIAS FEI\",\"\"),\"ERROR\")","v":""}]
[{"$f":"IF('V C CAB'!A157=\"\",\"\",'V C CAB'!A157)","v":"C206"},{"$f":"IF('V C CAB'!B157=\"\",\"\",'V C CAB'!B157)","v":"C170"},{"$f":"IF('V C CAB'!C157=\"\",\"\",'V C CAB'!C157)","v":"GEISHA"},{"$f":"IF('V C CAB'!D157=\"\",\"\",'V C CAB'!D157)","v":""},{"$f":"IF(OR('V C CAB'!AW1322+'V C CAB'!AX1322>=2,AND('V C CAB'!AW1322+'V C CAB'!AX1322>=1,'V L CAB'!AX1330>=40),'V C CAB'!AY1322>=1),\"CLASIFICADO A 80 Km NOVICIOS\",\"\")","v":""},{"$f":"IF(C157='V C CAB'!C157,IF(OR('V C CAB'!BA157=\"\",'V C CAB'!BA157=\"HABILITADO  TEMPORALMENTE A COMPETENCIAS FEI\"),\"\",+'V C CAB'!BA157),\"ERROR\")","v":"INICIO SU CLASIFICACIÓN"},{"$f":"IF(C157='V C CAB'!C157,IF(+'V C CAB'!BA157=\"HABILITADO  TEMPORALMENTE A COMPETENCIAS FEI\",\"HABILITADO  TEMPORALMENTE A COMPETENCIAS FEI\",\"\"),\"ERROR\")","v":""}]
[{"$f":"IF('V C CAB'!A158=\"\",\"\",'V C CAB'!A158)","v":""},{"$f":"IF('V C CAB'!B158=\"\",\"\",'V C CAB'!B158)","v":"C323"},{"$f":"IF('V C CAB'!C158=\"\",\"\",'V C CAB'!C158)","v":"GH MAGIC ONE"},{"$f":"IF('V C CAB'!D158=\"\",\"\",'V C CAB'!D158)","v":""},{"$f":"IF(OR('V C CAB'!AW1323+'V C CAB'!AX1323>=2,AND('V C CAB'!AW1323+'V C CAB'!AX1323>=1,'V L CAB'!AX1331>=40),'V C CAB'!AY1323>=1),\"CLASIFICADO A 80 Km NOVICIOS\",\"\")","v":""},{"$f":"IF(C158='V C CAB'!C158,IF(OR('V C CAB'!BA158=\"\",'V C CAB'!BA158=\"HABILITADO  TEMPORALMENTE A COMPETENCIAS FEI\"),\"\",+'V C CAB'!BA158),\"ERROR\")","v":"INICIO SU CLASIFICACIÓN"},{"$f":"IF(C158='V C CAB'!C158,IF(+'V C CAB'!BA158=\"HABILITADO  TEMPORALMENTE A COMPETENCIAS FEI\",\"HABILITADO  TEMPORALMENTE A COMPETENCIAS FEI\",\"\"),\"ERROR\")","v":""}]
[{"$f":"IF('V C CAB'!A159=\"\",\"\",'V C CAB'!A159)","v":"B"},{"$f":"IF('V C CAB'!B159=\"\",\"\",'V C CAB'!B159)","v":"C086"},{"$f":"IF('V C CAB'!C159=\"\",\"\",'V C CAB'!C159)","v":"GHAFIL"},{"$f":"IF('V C CAB'!D159=\"\",\"\",'V C CAB'!D159)","v":"ROBERTO MARCEL"},{"$f":"IF(OR('V C CAB'!AW1324+'V C CAB'!AX1324>=2,AND('V C CAB'!AW1324+'V C CAB'!AX1324>=1,'V L CAB'!AX1332>=40),'V C CAB'!AY1324>=1),\"CLASIFICADO A 80 Km NOVICIOS\",\"\")","v":""},{"$f":"IF(C159='V C CAB'!C159,IF(OR('V C CAB'!BA159=\"\",'V C CAB'!BA159=\"HABILITADO  TEMPORALMENTE A COMPETENCIAS FEI\"),\"\",+'V C CAB'!BA159),\"ERROR\")","v":""},{"$f":"IF(C159='V C CAB'!C159,IF(+'V C CAB'!BA159=\"HABILITADO  TEMPORALMENTE A COMPETENCIAS FEI\",\"HABILITADO  TEMPORALMENTE A COMPETENCIAS FEI\",\"\"),\"ERROR\")","v":"HABILITADO  TEMPORALMENTE A COMPETENCIAS FEI"}]
[{"$f":"IF('V C CAB'!A160=\"\",\"\",'V C CAB'!A160)","v":""},{"$f":"IF('V C CAB'!B160=\"\",\"\",'V C CAB'!B160)","v":"C344"},{"$f":"IF('V C CAB'!C160=\"\",\"\",'V C CAB'!C160)","v":"GITANA"},{"$f":"IF('V C CAB'!D160=\"\",\"\",'V C CAB'!D160)","v":"ANDRADE ANDRADE EMILIA"},{"$f":"IF(OR('V C CAB'!AW1325+'V C CAB'!AX1325>=2,AND('V C CAB'!AW1325+'V C CAB'!AX1325>=1,'V L CAB'!AX1333>=40),'V C CAB'!AY1325>=1),\"CLASIFICADO A 80 Km NOVICIOS\",\"\")","v":""},{"$f":"IF(C160='V C CAB'!C160,IF(OR('V C CAB'!BA160=\"\",'V C CAB'!BA160=\"HABILITADO  TEMPORALMENTE A COMPETENCIAS FEI\"),\"\",+'V C CAB'!BA160),\"ERROR\")","v":"HABILITADO A 80KM VELOCIDAD CONTROLADA"},{"$f":"IF(C160='V C CAB'!C160,IF(+'V C CAB'!BA160=\"HABILITADO  TEMPORALMENTE A COMPETENCIAS FEI\",\"HABILITADO  TEMPORALMENTE A COMPETENCIAS FEI\",\"\"),\"ERROR\")","v":""}]
[{"$f":"IF('V C CAB'!A161=\"\",\"\",'V C CAB'!A161)","v":"B"},{"$f":"IF('V C CAB'!B161=\"\",\"\",'V C CAB'!B161)","v":"C111"},{"$f":"IF('V C CAB'!C161=\"\",\"\",'V C CAB'!C161)","v":"GITANILLO"},{"$f":"IF('V C CAB'!D161=\"\",\"\",'V C CAB'!D161)","v":"EDUARDO MONROY"},{"$f":"IF(OR('V C CAB'!AW1326+'V C CAB'!AX1326>=2,AND('V C CAB'!AW1326+'V C CAB'!AX1326>=1,'V L CAB'!AX1334>=40),'V C CAB'!AY1326>=1),\"CLASIFICADO A 80 Km NOVICIOS\",\"\")","v":""},{"$f":"IF(C161='V C CAB'!C161,IF(OR('V C CAB'!BA161=\"\",'V C CAB'!BA161=\"HABILITADO  TEMPORALMENTE A COMPETENCIAS FEI\"),\"\",+'V C CAB'!BA161),\"ERROR\")","v":"INICIO SU CLASIFICACIÓN"},{"$f":"IF(C161='V C CAB'!C161,IF(+'V C CAB'!BA161=\"HABILITADO  TEMPORALMENTE A COMPETENCIAS FEI\",\"HABILITADO  TEMPORALMENTE A COMPETENCIAS FEI\",\"\"),\"ERROR\")","v":""}]
[{"$f":"IF('V C CAB'!A162=\"\",\"\",'V C CAB'!A162)","v":"B"},{"$f":"IF('V C CAB'!B162=\"\",\"\",'V C CAB'!B162)","v":"C"},{"$f":"IF('V C CAB'!C162=\"\",\"\",'V C CAB'!C162)","v":"GOLDEN GJ"},{"$f":"IF('V C CAB'!D162=\"\",\"\",'V C CAB'!D162)","v":""},{"$f":"IF(OR('V C CAB'!AW1327+'V C CAB'!AX1327>=2,AND('V C CAB'!AW1327+'V C CAB'!AX1327>=1,'V L CAB'!AX1335>=40),'V C CAB'!AY1327>=1),\"CLASIFICADO A 80 Km NOVICIOS\",\"\")","v":""},{"$f":"IF(C162='V C CAB'!C162,IF(OR('V C CAB'!BA162=\"\",'V C CAB'!BA162=\"HABILITADO  TEMPORALMENTE A COMPETENCIAS FEI\"),\"\",+'V C CAB'!BA162),\"ERROR\")","v":"NO INICIA SU CLASIFICACIÓN"},{"$f":"IF(C162='V C CAB'!C162,IF(+'V C CAB'!BA162=\"HABILITADO  TEMPORALMENTE A COMPETENCIAS FEI\",\"HABILITADO  TEMPORALMENTE A COMPETENCIAS FEI\",\"\"),\"ERROR\")","v":""}]
[{"$f":"IF('V C CAB'!A163=\"\",\"\",'V C CAB'!A163)","v":"C203"},{"$f":"IF('V C CAB'!B163=\"\",\"\",'V C CAB'!B163)","v":"C054"},{"$f":"IF('V C CAB'!C163=\"\",\"\",'V C CAB'!C163)","v":"GOLONDRINA"},{"$f":"IF('V C CAB'!D163=\"\",\"\",'V C CAB'!D163)","v":"PEDRO GUARDERAS ARTETA"},{"$f":"IF(OR('V C CAB'!AW1328+'V C CAB'!AX1328>=2,AND('V C CAB'!AW1328+'V C CAB'!AX1328>=1,'V L CAB'!AX1336>=40),'V C CAB'!AY1328>=1),\"CLASIFICADO A 80 Km NOVICIOS\",\"\")","v":""},{"$f":"IF(C163='V C CAB'!C163,IF(OR('V C CAB'!BA163=\"\",'V C CAB'!BA163=\"HABILITADO  TEMPORALMENTE A COMPETENCIAS FEI\"),\"\",+'V C CAB'!BA163),\"ERROR\")","v":"HABILITADO A 80KM VELOCIDAD CONTROLADA"},{"$f":"IF(C163='V C CAB'!C163,IF(+'V C CAB'!BA163=\"HABILITADO  TEMPORALMENTE A COMPETENCIAS FEI\",\"HABILITADO  TEMPORALMENTE A COMPETENCIAS FEI\",\"\"),\"ERROR\")","v":""}]
[{"$f":"IF('V C CAB'!A164=\"\",\"\",'V C CAB'!A164)","v":"CC"},{"$f":"IF('V C CAB'!B164=\"\",\"\",'V C CAB'!B164)","v":"C273"},{"$f":"IF('V C CAB'!C164=\"\",\"\",'V C CAB'!C164)","v":"GOLOSO"},{"$f":"IF('V C CAB'!D164=\"\",\"\",'V C CAB'!D164)","v":"PEÑA JUAN DIEGO"},{"$f":"IF(OR('V C CAB'!AW1329+'V C CAB'!AX1329>=2,AND('V C CAB'!AW1329+'V C CAB'!AX1329>=1,'V L CAB'!AX1337>=40),'V C CAB'!AY1329>=1),\"CLASIFICADO A 80 Km NOVICIOS\",\"\")","v":""},{"$f":"IF(C164='V C CAB'!C164,IF(OR('V C CAB'!BA164=\"\",'V C CAB'!BA164=\"HABILITADO  TEMPORALMENTE A COMPETENCIAS FEI\"),\"\",+'V C CAB'!BA164),\"ERROR\")","v":"NO INICIA SU CLASIFICACIÓN"},{"$f":"IF(C164='V C CAB'!C164,IF(+'V C CAB'!BA164=\"HABILITADO  TEMPORALMENTE A COMPETENCIAS FEI\",\"HABILITADO  TEMPORALMENTE A COMPETENCIAS FEI\",\"\"),\"ERROR\")","v":""}]
[{"$f":"IF('V C CAB'!A165=\"\",\"\",'V C CAB'!A165)","v":"B"},{"$f":"IF('V C CAB'!B165=\"\",\"\",'V C CAB'!B165)","v":"C"},{"$f":"IF('V C CAB'!C165=\"\",\"\",'V C CAB'!C165)","v":"GORBAN"},{"$f":"IF('V C CAB'!D165=\"\",\"\",'V C CAB'!D165)","v":""},{"$f":"IF(OR('V C CAB'!AW1330+'V C CAB'!AX1330>=2,AND('V C CAB'!AW1330+'V C CAB'!AX1330>=1,'V L CAB'!AX1338>=40),'V C CAB'!AY1330>=1),\"CLASIFICADO A 80 Km NOVICIOS\",\"\")","v":""},{"$f":"IF(C165='V C CAB'!C165,IF(OR('V C CAB'!BA165=\"\",'V C CAB'!BA165=\"HABILITADO  TEMPORALMENTE A COMPETENCIAS FEI\"),\"\",+'V C CAB'!BA165),\"ERROR\")","v":"NO INICIA SU CLASIFICACIÓN"},{"$f":"IF(C165='V C CAB'!C165,IF(+'V C CAB'!BA165=\"HABILITADO  TEMPORALMENTE A COMPETENCIAS FEI\",\"HABILITADO  TEMPORALMENTE A COMPETENCIAS FEI\",\"\"),\"ERROR\")","v":""}]
[{"$f":"IF('V C CAB'!A166=\"\",\"\",'V C CAB'!A166)","v":"B"},{"$f":"IF('V C CAB'!B166=\"\",\"\",'V C CAB'!B166)","v":"C089"},{"$f":"IF('V C CAB'!C166=\"\",\"\",'V C CAB'!C166)","v":"GR COMPADRE PN"},{"$f":"IF('V C CAB'!D166=\"\",\"\",'V C CAB'!D166)","v":""},{"$f":"IF(OR('V C CAB'!AW1331+'V C CAB'!AX1331>=2,AND('V C CAB'!AW1331+'V C CAB'!AX1331>=1,'V L CAB'!AX1339>=40),'V C CAB'!AY1331>=1),\"CLASIFICADO A 80 Km NOVICIOS\",\"\")","v":""},{"$f":"IF(C166='V C CAB'!C166,IF(OR('V C CAB'!BA166=\"\",'V C CAB'!BA166=\"HABILITADO  TEMPORALMENTE A COMPETENCIAS FEI\"),\"\",+'V C CAB'!BA166),\"ERROR\")","v":""},{"$f":"IF(C166='V C CAB'!C166,IF(+'V C CAB'!BA166=\"HABILITADO  TEMPORALMENTE A COMPETENCIAS FEI\",\"HABILITADO  TEMPORALMENTE A COMPETENCIAS FEI\",\"\"),\"ERROR\")","v":"HABILITADO  TEMPORALMENTE A COMPETENCIAS FEI"}]
[{"$f":"IF('V C CAB'!A167=\"\",\"\",'V C CAB'!A167)","v":"B"},{"$f":"IF('V C CAB'!B167=\"\",\"\",'V C CAB'!B167)","v":"C070"},{"$f":"IF('V C CAB'!C167=\"\",\"\",'V C CAB'!C167)","v":"GR NURIA"},{"$f":"IF('V C CAB'!D167=\"\",\"\",'V C CAB'!D167)","v":"JUAN JOSE RECALDE"},{"$f":"IF(OR('V C CAB'!AW1332+'V C CAB'!AX1332>=2,AND('V C CAB'!AW1332+'V C CAB'!AX1332>=1,'V L CAB'!AX1340>=40),'V C CAB'!AY1332>=1),\"CLASIFICADO A 80 Km NOVICIOS\",\"\")","v":""},{"$f":"IF(C167='V C CAB'!C167,IF(OR('V C CAB'!BA167=\"\",'V C CAB'!BA167=\"HABILITADO  TEMPORALMENTE A COMPETENCIAS FEI\"),\"\",+'V C CAB'!BA167),\"ERROR\")","v":""},{"$f":"IF(C167='V C CAB'!C167,IF(+'V C CAB'!BA167=\"HABILITADO  TEMPORALMENTE A COMPETENCIAS FEI\",\"HABILITADO  TEMPORALMENTE A COMPETENCIAS FEI\",\"\"),\"ERROR\")","v":"HABILITADO  TEMPORALMENTE A COMPETENCIAS FEI"}]
[{"$f":"IF('V C CAB'!A168=\"\",\"\",'V C CAB'!A168)","v":"B"},{"$f":"IF('V C CAB'!B168=\"\",\"\",'V C CAB'!B168)","v":"C"},{"$f":"IF('V C CAB'!C168=\"\",\"\",'V C CAB'!C168)","v":"GRANTS"},{"$f":"IF('V C CAB'!D168=\"\",\"\",'V C CAB'!D168)","v":""},{"$f":"IF(OR('V C CAB'!AW1333+'V C CAB'!AX1333>=2,AND('V C CAB'!AW1333+'V C CAB'!AX1333>=1,'V L CAB'!AX1341>=40),'V C CAB'!AY1333>=1),\"CLASIFICADO A 80 Km NOVICIOS\",\"\")","v":""},{"$f":"IF(C168='V C CAB'!C168,IF(OR('V C CAB'!BA168=\"\",'V C CAB'!BA168=\"HABILITADO  TEMPORALMENTE A COMPETENCIAS FEI\"),\"\",+'V C CAB'!BA168),\"ERROR\")","v":"NO INICIA SU CLASIFICACIÓN"},{"$f":"IF(C168='V C CAB'!C168,IF(+'V C CAB'!BA168=\"HABILITADO  TEMPORALMENTE A COMPETENCIAS FEI\",\"HABILITADO  TEMPORALMENTE A COMPETENCIAS FEI\",\"\"),\"ERROR\")","v":""}]
[{"$f":"IF('V C CAB'!A169=\"\",\"\",'V C CAB'!A169)","v":""},{"$f":"IF('V C CAB'!B169=\"\",\"\",'V C CAB'!B169)","v":"C261"},{"$f":"IF('V C CAB'!C169=\"\",\"\",'V C CAB'!C169)","v":"GRINGO"},{"$f":"IF('V C CAB'!D169=\"\",\"\",'V C CAB'!D169)","v":"BARAHONA VACA ANDRES"},{"$f":"IF(OR('V C CAB'!AW1334+'V C CAB'!AX1334>=2,AND('V C CAB'!AW1334+'V C CAB'!AX1334>=1,'V L CAB'!AX1342>=40),'V C CAB'!AY1334>=1),\"CLASIFICADO A 80 Km NOVICIOS\",\"\")","v":""},{"$f":"IF(C169='V C CAB'!C169,IF(OR('V C CAB'!BA169=\"\",'V C CAB'!BA169=\"HABILITADO  TEMPORALMENTE A COMPETENCIAS FEI\"),\"\",+'V C CAB'!BA169),\"ERROR\")","v":"HABILITADO A 80KM VELOCIDAD CONTROLADA"},{"$f":"IF(C169='V C CAB'!C169,IF(+'V C CAB'!BA169=\"HABILITADO  TEMPORALMENTE A COMPETENCIAS FEI\",\"HABILITADO  TEMPORALMENTE A COMPETENCIAS FEI\",\"\"),\"ERROR\")","v":""}]
[{"$f":"IF('V C CAB'!A170=\"\",\"\",'V C CAB'!A170)","v":"C191"},{"$f":"IF('V C CAB'!B170=\"\",\"\",'V C CAB'!B170)","v":"C059"},{"$f":"IF('V C CAB'!C170=\"\",\"\",'V C CAB'!C170)","v":"GS RASHID"},{"$f":"IF('V C CAB'!D170=\"\",\"\",'V C CAB'!D170)","v":"MAURICIO CASTILLO"},{"$f":"IF(OR('V C CAB'!AW1335+'V C CAB'!AX1335>=2,AND('V C CAB'!AW1335+'V C CAB'!AX1335>=1,'V L CAB'!AX1343>=40),'V C CAB'!AY1335>=1),\"CLASIFICADO A 80 Km NOVICIOS\",\"\")","v":""},{"$f":"IF(C170='V C CAB'!C170,IF(OR('V C CAB'!BA170=\"\",'V C CAB'!BA170=\"HABILITADO  TEMPORALMENTE A COMPETENCIAS FEI\"),\"\",+'V C CAB'!BA170),\"ERROR\")","v":"HABILITADO A 80KM VELOCIDAD CONTROLADA"},{"$f":"IF(C170='V C CAB'!C170,IF(+'V C CAB'!BA170=\"HABILITADO  TEMPORALMENTE A COMPETENCIAS FEI\",\"HABILITADO  TEMPORALMENTE A COMPETENCIAS FEI\",\"\"),\"ERROR\")","v":""}]
[{"$f":"IF('V C CAB'!A171=\"\",\"\",'V C CAB'!A171)","v":"CC"},{"$f":"IF('V C CAB'!B171=\"\",\"\",'V C CAB'!B171)","v":"C274"},{"$f":"IF('V C CAB'!C171=\"\",\"\",'V C CAB'!C171)","v":"GUAJIRO"},{"$f":"IF('V C CAB'!D171=\"\",\"\",'V C CAB'!D171)","v":"AUGUSTO CARRASCO"},{"$f":"IF(OR('V C CAB'!AW1336+'V C CAB'!AX1336>=2,AND('V C CAB'!AW1336+'V C CAB'!AX1336>=1,'V L CAB'!AX1344>=40),'V C CAB'!AY1336>=1),\"CLASIFICADO A 80 Km NOVICIOS\",\"\")","v":""},{"$f":"IF(C171='V C CAB'!C171,IF(OR('V C CAB'!BA171=\"\",'V C CAB'!BA171=\"HABILITADO  TEMPORALMENTE A COMPETENCIAS FEI\"),\"\",+'V C CAB'!BA171),\"ERROR\")","v":"NO INICIA SU CLASIFICACIÓN"},{"$f":"IF(C171='V C CAB'!C171,IF(+'V C CAB'!BA171=\"HABILITADO  TEMPORALMENTE A COMPETENCIAS FEI\",\"HABILITADO  TEMPORALMENTE A COMPETENCIAS FEI\",\"\"),\"ERROR\")","v":""}]
[{"$f":"IF('V C CAB'!A172=\"\",\"\",'V C CAB'!A172)","v":"CC"},{"$f":"IF('V C CAB'!B172=\"\",\"\",'V C CAB'!B172)","v":"C275"},{"$f":"IF('V C CAB'!C172=\"\",\"\",'V C CAB'!C172)","v":"GUTA"},{"$f":"IF('V C CAB'!D172=\"\",\"\",'V C CAB'!D172)","v":"MALO MARIBEL"},{"$f":"IF(OR('V C CAB'!AW1337+'V C CAB'!AX1337>=2,AND('V C CAB'!AW1337+'V C CAB'!AX1337>=1,'V L CAB'!AX1345>=40),'V C CAB'!AY1337>=1),\"CLASIFICADO A 80 Km NOVICIOS\",\"\")","v":""},{"$f":"IF(C172='V C CAB'!C172,IF(OR('V C CAB'!BA172=\"\",'V C CAB'!BA172=\"HABILITADO  TEMPORALMENTE A COMPETENCIAS FEI\"),\"\",+'V C CAB'!BA172),\"ERROR\")","v":"NO INICIA SU CLASIFICACIÓN"},{"$f":"IF(C172='V C CAB'!C172,IF(+'V C CAB'!BA172=\"HABILITADO  TEMPORALMENTE A COMPETENCIAS FEI\",\"HABILITADO  TEMPORALMENTE A COMPETENCIAS FEI\",\"\"),\"ERROR\")","v":""}]
[{"$f":"IF('V C CAB'!A173=\"\",\"\",'V C CAB'!A173)","v":"B"},{"$f":"IF('V C CAB'!B173=\"\",\"\",'V C CAB'!B173)","v":"C189"},{"$f":"IF('V C CAB'!C173=\"\",\"\",'V C CAB'!C173)","v":"HAAKIR"},{"$f":"IF('V C CAB'!D173=\"\",\"\",'V C CAB'!D173)","v":"PEDRO CORNEJO"},{"$f":"IF(OR('V C CAB'!AW1338+'V C CAB'!AX1338>=2,AND('V C CAB'!AW1338+'V C CAB'!AX1338>=1,'V L CAB'!AX1346>=40),'V C CAB'!AY1338>=1),\"CLASIFICADO A 80 Km NOVICIOS\",\"\")","v":""},{"$f":"IF(C173='V C CAB'!C173,IF(OR('V C CAB'!BA173=\"\",'V C CAB'!BA173=\"HABILITADO  TEMPORALMENTE A COMPETENCIAS FEI\"),\"\",+'V C CAB'!BA173),\"ERROR\")","v":""},{"$f":"IF(C173='V C CAB'!C173,IF(+'V C CAB'!BA173=\"HABILITADO  TEMPORALMENTE A COMPETENCIAS FEI\",\"HABILITADO  TEMPORALMENTE A COMPETENCIAS FEI\",\"\"),\"ERROR\")","v":"HABILITADO  TEMPORALMENTE A COMPETENCIAS FEI"}]
[{"$f":"IF('V C CAB'!A174=\"\",\"\",'V C CAB'!A174)","v":"C019"},{"$f":"IF('V C CAB'!B174=\"\",\"\",'V C CAB'!B174)","v":"C104"},{"$f":"IF('V C CAB'!C174=\"\",\"\",'V C CAB'!C174)","v":"HALCON"},{"$f":"IF('V C CAB'!D174=\"\",\"\",'V C CAB'!D174)","v":"DIEGO CASTILLO"},{"$f":"IF(OR('V C CAB'!AW1339+'V C CAB'!AX1339>=2,AND('V C CAB'!AW1339+'V C CAB'!AX1339>=1,'V L CAB'!AX1347>=40),'V C CAB'!AY1339>=1),\"CLASIFICADO A 80 Km NOVICIOS\",\"\")","v":""},{"$f":"IF(C174='V C CAB'!C174,IF(OR('V C CAB'!BA174=\"\",'V C CAB'!BA174=\"HABILITADO  TEMPORALMENTE A COMPETENCIAS FEI\"),\"\",+'V C CAB'!BA174),\"ERROR\")","v":"HABILITADO A 80KM VELOCIDAD CONTROLADA"},{"$f":"IF(C174='V C CAB'!C174,IF(+'V C CAB'!BA174=\"HABILITADO  TEMPORALMENTE A COMPETENCIAS FEI\",\"HABILITADO  TEMPORALMENTE A COMPETENCIAS FEI\",\"\"),\"ERROR\")","v":""}]
[{"$f":"IF('V C CAB'!A175=\"\",\"\",'V C CAB'!A175)","v":"CC"},{"$f":"IF('V C CAB'!B175=\"\",\"\",'V C CAB'!B175)","v":"C108"},{"$f":"IF('V C CAB'!C175=\"\",\"\",'V C CAB'!C175)","v":"HASAN"},{"$f":"IF('V C CAB'!D175=\"\",\"\",'V C CAB'!D175)","v":"FELIPE ANDRADE"},{"$f":"IF(OR('V C CAB'!AW1340+'V C CAB'!AX1340>=2,AND('V C CAB'!AW1340+'V C CAB'!AX1340>=1,'V L CAB'!AX1348>=40),'V C CAB'!AY1340>=1),\"CLASIFICADO A 80 Km NOVICIOS\",\"\")","v":""},{"$f":"IF(C175='V C CAB'!C175,IF(OR('V C CAB'!BA175=\"\",'V C CAB'!BA175=\"HABILITADO  TEMPORALMENTE A COMPETENCIAS FEI\"),\"\",+'V C CAB'!BA175),\"ERROR\")","v":"HABILITADO A 80KM VELOCIDAD CONTROLADA"},{"$f":"IF(C175='V C CAB'!C175,IF(+'V C CAB'!BA175=\"HABILITADO  TEMPORALMENTE A COMPETENCIAS FEI\",\"HABILITADO  TEMPORALMENTE A COMPETENCIAS FEI\",\"\"),\"ERROR\")","v":""}]
[{"$f":"IF('V C CAB'!A176=\"\",\"\",'V C CAB'!A176)","v":"B"},{"$f":"IF('V C CAB'!B176=\"\",\"\",'V C CAB'!B176)","v":"C"},{"$f":"IF('V C CAB'!C176=\"\",\"\",'V C CAB'!C176)","v":"HECHIZO CW"},{"$f":"IF('V C CAB'!D176=\"\",\"\",'V C CAB'!D176)","v":""},{"$f":"IF(OR('V C CAB'!AW1341+'V C CAB'!AX1341>=2,AND('V C CAB'!AW1341+'V C CAB'!AX1341>=1,'V L CAB'!AX1349>=40),'V C CAB'!AY1341>=1),\"CLASIFICADO A 80 Km NOVICIOS\",\"\")","v":""},{"$f":"IF(C176='V C CAB'!C176,IF(OR('V C CAB'!BA176=\"\",'V C CAB'!BA176=\"HABILITADO  TEMPORALMENTE A COMPETENCIAS FEI\"),\"\",+'V C CAB'!BA176),\"ERROR\")","v":"NO INICIA SU CLASIFICACIÓN"},{"$f":"IF(C176='V C CAB'!C176,IF(+'V C CAB'!BA176=\"HABILITADO  TEMPORALMENTE A COMPETENCIAS FEI\",\"HABILITADO  TEMPORALMENTE A COMPETENCIAS FEI\",\"\"),\"ERROR\")","v":""}]
[{"$f":"IF('V C CAB'!A177=\"\",\"\",'V C CAB'!A177)","v":"CC"},{"$f":"IF('V C CAB'!B177=\"\",\"\",'V C CAB'!B177)","v":"C276"},{"$f":"IF('V C CAB'!C177=\"\",\"\",'V C CAB'!C177)","v":"HOMERO"},{"$f":"IF('V C CAB'!D177=\"\",\"\",'V C CAB'!D177)","v":"LARRIVA CAROLINA"},{"$f":"IF(OR('V C CAB'!AW1342+'V C CAB'!AX1342>=2,AND('V C CAB'!AW1342+'V C CAB'!AX1342>=1,'V L CAB'!AX1350>=40),'V C CAB'!AY1342>=1),\"CLASIFICADO A 80 Km NOVICIOS\",\"\")","v":""},{"$f":"IF(C177='V C CAB'!C177,IF(OR('V C CAB'!BA177=\"\",'V C CAB'!BA177=\"HABILITADO  TEMPORALMENTE A COMPETENCIAS FEI\"),\"\",+'V C CAB'!BA177),\"ERROR\")","v":"LE FALTA UNA DE 80 A 90 CONTROLADA"},{"$f":"IF(C177='V C CAB'!C177,IF(+'V C CAB'!BA177=\"HABILITADO  TEMPORALMENTE A COMPETENCIAS FEI\",\"HABILITADO  TEMPORALMENTE A COMPETENCIAS FEI\",\"\"),\"ERROR\")","v":""}]
[{"$f":"IF('V C CAB'!A178=\"\",\"\",'V C CAB'!A178)","v":"B"},{"$f":"IF('V C CAB'!B178=\"\",\"\",'V C CAB'!B178)","v":"C151"},{"$f":"IF('V C CAB'!C178=\"\",\"\",'V C CAB'!C178)","v":"ILUSION"},{"$f":"IF('V C CAB'!D178=\"\",\"\",'V C CAB'!D178)","v":""},{"$f":"IF(OR('V C CAB'!AW1343+'V C CAB'!AX1343>=2,AND('V C CAB'!AW1343+'V C CAB'!AX1343>=1,'V L CAB'!AX1351>=40),'V C CAB'!AY1343>=1),\"CLASIFICADO A 80 Km NOVICIOS\",\"\")","v":""},{"$f":"IF(C178='V C CAB'!C178,IF(OR('V C CAB'!BA178=\"\",'V C CAB'!BA178=\"HABILITADO  TEMPORALMENTE A COMPETENCIAS FEI\"),\"\",+'V C CAB'!BA178),\"ERROR\")","v":""},{"$f":"IF(C178='V C CAB'!C178,IF(+'V C CAB'!BA178=\"HABILITADO  TEMPORALMENTE A COMPETENCIAS FEI\",\"HABILITADO  TEMPORALMENTE A COMPETENCIAS FEI\",\"\"),\"ERROR\")","v":"HABILITADO  TEMPORALMENTE A COMPETENCIAS FEI"}]
[{"$f":"IF('V C CAB'!A179=\"\",\"\",'V C CAB'!A179)","v":"B"},{"$f":"IF('V C CAB'!B179=\"\",\"\",'V C CAB'!B179)","v":"C"},{"$f":"IF('V C CAB'!C179=\"\",\"\",'V C CAB'!C179)","v":"IN ALIA"},{"$f":"IF('V C CAB'!D179=\"\",\"\",'V C CAB'!D179)","v":""},{"$f":"IF(OR('V C CAB'!AW1344+'V C CAB'!AX1344>=2,AND('V C CAB'!AW1344+'V C CAB'!AX1344>=1,'V L CAB'!AX1352>=40),'V C CAB'!AY1344>=1),\"CLASIFICADO A 80 Km NOVICIOS\",\"\")","v":""},{"$f":"IF(C179='V C CAB'!C179,IF(OR('V C CAB'!BA179=\"\",'V C CAB'!BA179=\"HABILITADO  TEMPORALMENTE A COMPETENCIAS FEI\"),\"\",+'V C CAB'!BA179),\"ERROR\")","v":"NO INICIA SU CLASIFICACIÓN"},{"$f":"IF(C179='V C CAB'!C179,IF(+'V C CAB'!BA179=\"HABILITADO  TEMPORALMENTE A COMPETENCIAS FEI\",\"HABILITADO  TEMPORALMENTE A COMPETENCIAS FEI\",\"\"),\"ERROR\")","v":""}]
[{"$f":"IF('V C CAB'!A180=\"\",\"\",'V C CAB'!A180)","v":"B"},{"$f":"IF('V C CAB'!B180=\"\",\"\",'V C CAB'!B180)","v":"C"},{"$f":"IF('V C CAB'!C180=\"\",\"\",'V C CAB'!C180)","v":"IN LATIFA"},{"$f":"IF('V C CAB'!D180=\"\",\"\",'V C CAB'!D180)","v":""},{"$f":"IF(OR('V C CAB'!AW1345+'V C CAB'!AX1345>=2,AND('V C CAB'!AW1345+'V C CAB'!AX1345>=1,'V L CAB'!AX1353>=40),'V C CAB'!AY1345>=1),\"CLASIFICADO A 80 Km NOVICIOS\",\"\")","v":""},{"$f":"IF(C180='V C CAB'!C180,IF(OR('V C CAB'!BA180=\"\",'V C CAB'!BA180=\"HABILITADO  TEMPORALMENTE A COMPETENCIAS FEI\"),\"\",+'V C CAB'!BA180),\"ERROR\")","v":"NO INICIA SU CLASIFICACIÓN"},{"$f":"IF(C180='V C CAB'!C180,IF(+'V C CAB'!BA180=\"HABILITADO  TEMPORALMENTE A COMPETENCIAS FEI\",\"HABILITADO  TEMPORALMENTE A COMPETENCIAS FEI\",\"\"),\"ERROR\")","v":""}]
[{"$f":"IF('V C CAB'!A181=\"\",\"\",'V C CAB'!A181)","v":"B"},{"$f":"IF('V C CAB'!B181=\"\",\"\",'V C CAB'!B181)","v":"C"},{"$f":"IF('V C CAB'!C181=\"\",\"\",'V C CAB'!C181)","v":"IN NEMESIS"},{"$f":"IF('V C CAB'!D181=\"\",\"\",'V C CAB'!D181)","v":""},{"$f":"IF(OR('V C CAB'!AW1346+'V C CAB'!AX1346>=2,AND('V C CAB'!AW1346+'V C CAB'!AX1346>=1,'V L CAB'!AX1354>=40),'V C CAB'!AY1346>=1),\"CLASIFICADO A 80 Km NOVICIOS\",\"\")","v":""},{"$f":"IF(C181='V C CAB'!C181,IF(OR('V C CAB'!BA181=\"\",'V C CAB'!BA181=\"HABILITADO  TEMPORALMENTE A COMPETENCIAS FEI\"),\"\",+'V C CAB'!BA181),\"ERROR\")","v":"NO INICIA SU CLASIFICACIÓN"},{"$f":"IF(C181='V C CAB'!C181,IF(+'V C CAB'!BA181=\"HABILITADO  TEMPORALMENTE A COMPETENCIAS FEI\",\"HABILITADO  TEMPORALMENTE A COMPETENCIAS FEI\",\"\"),\"ERROR\")","v":""}]
[{"$f":"IF('V C CAB'!A182=\"\",\"\",'V C CAB'!A182)","v":"B"},{"$f":"IF('V C CAB'!B182=\"\",\"\",'V C CAB'!B182)","v":"C"},{"$f":"IF('V C CAB'!C182=\"\",\"\",'V C CAB'!C182)","v":"INGENIERA NK"},{"$f":"IF('V C CAB'!D182=\"\",\"\",'V C CAB'!D182)","v":""},{"$f":"IF(OR('V C CAB'!AW1347+'V C CAB'!AX1347>=2,AND('V C CAB'!AW1347+'V C CAB'!AX1347>=1,'V L CAB'!AX1355>=40),'V C CAB'!AY1347>=1),\"CLASIFICADO A 80 Km NOVICIOS\",\"\")","v":""},{"$f":"IF(C182='V C CAB'!C182,IF(OR('V C CAB'!BA182=\"\",'V C CAB'!BA182=\"HABILITADO  TEMPORALMENTE A COMPETENCIAS FEI\"),\"\",+'V C CAB'!BA182),\"ERROR\")","v":"HABILITADO A 80KM VELOCIDAD CONTROLADA"},{"$f":"IF(C182='V C CAB'!C182,IF(+'V C CAB'!BA182=\"HABILITADO  TEMPORALMENTE A COMPETENCIAS FEI\",\"HABILITADO  TEMPORALMENTE A COMPETENCIAS FEI\",\"\"),\"ERROR\")","v":""}]
[{"$f":"IF('V C CAB'!A183=\"\",\"\",'V C CAB'!A183)","v":"B"},{"$f":"IF('V C CAB'!B183=\"\",\"\",'V C CAB'!B183)","v":"C"},{"$f":"IF('V C CAB'!C183=\"\",\"\",'V C CAB'!C183)","v":"ISIS"},{"$f":"IF('V C CAB'!D183=\"\",\"\",'V C CAB'!D183)","v":""},{"$f":"IF(OR('V C CAB'!AW1348+'V C CAB'!AX1348>=2,AND('V C CAB'!AW1348+'V C CAB'!AX1348>=1,'V L CAB'!AX1356>=40),'V C CAB'!AY1348>=1),\"CLASIFICADO A 80 Km NOVICIOS\",\"\")","v":""},{"$f":"IF(C183='V C CAB'!C183,IF(OR('V C CAB'!BA183=\"\",'V C CAB'!BA183=\"HABILITADO  TEMPORALMENTE A COMPETENCIAS FEI\"),\"\",+'V C CAB'!BA183),\"ERROR\")","v":""},{"$f":"IF(C183='V C CAB'!C183,IF(+'V C CAB'!BA183=\"HABILITADO  TEMPORALMENTE A COMPETENCIAS FEI\",\"HABILITADO  TEMPORALMENTE A COMPETENCIAS FEI\",\"\"),\"ERROR\")","v":"HABILITADO  TEMPORALMENTE A COMPETENCIAS FEI"}]
[{"$f":"IF('V C CAB'!A184=\"\",\"\",'V C CAB'!A184)","v":"B"},{"$f":"IF('V C CAB'!B184=\"\",\"\",'V C CAB'!B184)","v":"C006"},{"$f":"IF('V C CAB'!C184=\"\",\"\",'V C CAB'!C184)","v":"JAFFAR"},{"$f":"IF('V C CAB'!D184=\"\",\"\",'V C CAB'!D184)","v":""},{"$f":"IF(OR('V C CAB'!AW1349+'V C CAB'!AX1349>=2,AND('V C CAB'!AW1349+'V C CAB'!AX1349>=1,'V L CAB'!AX1357>=40),'V C CAB'!AY1349>=1),\"CLASIFICADO A 80 Km NOVICIOS\",\"\")","v":""},{"$f":"IF(C184='V C CAB'!C184,IF(OR('V C CAB'!BA184=\"\",'V C CAB'!BA184=\"HABILITADO  TEMPORALMENTE A COMPETENCIAS FEI\"),\"\",+'V C CAB'!BA184),\"ERROR\")","v":"HABILITADO A 80KM VELOCIDAD CONTROLADA"},{"$f":"IF(C184='V C CAB'!C184,IF(+'V C CAB'!BA184=\"HABILITADO  TEMPORALMENTE A COMPETENCIAS FEI\",\"HABILITADO  TEMPORALMENTE A COMPETENCIAS FEI\",\"\"),\"ERROR\")","v":""}]
[{"$f":"IF('V C CAB'!A185=\"\",\"\",'V C CAB'!A185)","v":"B"},{"$f":"IF('V C CAB'!B185=\"\",\"\",'V C CAB'!B185)","v":"C149"},{"$f":"IF('V C CAB'!C185=\"\",\"\",'V C CAB'!C185)","v":"JAGGER"},{"$f":"IF('V C CAB'!D185=\"\",\"\",'V C CAB'!D185)","v":""},{"$f":"IF(OR('V C CAB'!AW1350+'V C CAB'!AX1350>=2,AND('V C CAB'!AW1350+'V C CAB'!AX1350>=1,'V L CAB'!AX1358>=40),'V C CAB'!AY1350>=1),\"CLASIFICADO A 80 Km NOVICIOS\",\"\")","v":""},{"$f":"IF(C185='V C CAB'!C185,IF(OR('V C CAB'!BA185=\"\",'V C CAB'!BA185=\"HABILITADO  TEMPORALMENTE A COMPETENCIAS FEI\"),\"\",+'V C CAB'!BA185),\"ERROR\")","v":"INICIO SU CLASIFICACIÓN"},{"$f":"IF(C185='V C CAB'!C185,IF(+'V C CAB'!BA185=\"HABILITADO  TEMPORALMENTE A COMPETENCIAS FEI\",\"HABILITADO  TEMPORALMENTE A COMPETENCIAS FEI\",\"\"),\"ERROR\")","v":""}]
[{"$f":"IF('V C CAB'!A186=\"\",\"\",'V C CAB'!A186)","v":"CC"},{"$f":"IF('V C CAB'!B186=\"\",\"\",'V C CAB'!B186)","v":"C277"},{"$f":"IF('V C CAB'!C186=\"\",\"\",'V C CAB'!C186)","v":"JAQUE MATE"},{"$f":"IF('V C CAB'!D186=\"\",\"\",'V C CAB'!D186)","v":"CARRASCO ABAD ALVARO JAVIER"},{"$f":"IF(OR('V C CAB'!AW1351+'V C CAB'!AX1351>=2,AND('V C CAB'!AW1351+'V C CAB'!AX1351>=1,'V L CAB'!AX1359>=40),'V C CAB'!AY1351>=1),\"CLASIFICADO A 80 Km NOVICIOS\",\"\")","v":""},{"$f":"IF(C186='V C CAB'!C186,IF(OR('V C CAB'!BA186=\"\",'V C CAB'!BA186=\"HABILITADO  TEMPORALMENTE A COMPETENCIAS FEI\"),\"\",+'V C CAB'!BA186),\"ERROR\")","v":"INICIO SU CLASIFICACIÓN"},{"$f":"IF(C186='V C CAB'!C186,IF(+'V C CAB'!BA186=\"HABILITADO  TEMPORALMENTE A COMPETENCIAS FEI\",\"HABILITADO  TEMPORALMENTE A COMPETENCIAS FEI\",\"\"),\"ERROR\")","v":""}]
[{"$f":"IF('V C CAB'!A187=\"\",\"\",'V C CAB'!A187)","v":"C111"},{"$f":"IF('V C CAB'!B187=\"\",\"\",'V C CAB'!B187)","v":"C082"},{"$f":"IF('V C CAB'!C187=\"\",\"\",'V C CAB'!C187)","v":"JEQUE LL"},{"$f":"IF('V C CAB'!D187=\"\",\"\",'V C CAB'!D187)","v":""},{"$f":"IF(OR('V C CAB'!AW1352+'V C CAB'!AX1352>=2,AND('V C CAB'!AW1352+'V C CAB'!AX1352>=1,'V L CAB'!AX1360>=40),'V C CAB'!AY1352>=1),\"CLASIFICADO A 80 Km NOVICIOS\",\"\")","v":""},{"$f":"IF(C187='V C CAB'!C187,IF(OR('V C CAB'!BA187=\"\",'V C CAB'!BA187=\"HABILITADO  TEMPORALMENTE A COMPETENCIAS FEI\"),\"\",+'V C CAB'!BA187),\"ERROR\")","v":""},{"$f":"IF(C187='V C CAB'!C187,IF(+'V C CAB'!BA187=\"HABILITADO  TEMPORALMENTE A COMPETENCIAS FEI\",\"HABILITADO  TEMPORALMENTE A COMPETENCIAS FEI\",\"\"),\"ERROR\")","v":"HABILITADO  TEMPORALMENTE A COMPETENCIAS FEI"}]
[{"$f":"IF('V C CAB'!A188=\"\",\"\",'V C CAB'!A188)","v":"C151"},{"$f":"IF('V C CAB'!B188=\"\",\"\",'V C CAB'!B188)","v":"C"},{"$f":"IF('V C CAB'!C188=\"\",\"\",'V C CAB'!C188)","v":"JEQUE PA"},{"$f":"IF('V C CAB'!D188=\"\",\"\",'V C CAB'!D188)","v":""},{"$f":"IF(OR('V C CAB'!AW1353+'V C CAB'!AX1353>=2,AND('V C CAB'!AW1353+'V C CAB'!AX1353>=1,'V L CAB'!AX1361>=40),'V C CAB'!AY1353>=1),\"CLASIFICADO A 80 Km NOVICIOS\",\"\")","v":""},{"$f":"IF(C188='V C CAB'!C188,IF(OR('V C CAB'!BA188=\"\",'V C CAB'!BA188=\"HABILITADO  TEMPORALMENTE A COMPETENCIAS FEI\"),\"\",+'V C CAB'!BA188),\"ERROR\")","v":"LE FALTA UNA DE 80 A 90 CONTROLADA"},{"$f":"IF(C188='V C CAB'!C188,IF(+'V C CAB'!BA188=\"HABILITADO  TEMPORALMENTE A COMPETENCIAS FEI\",\"HABILITADO  TEMPORALMENTE A COMPETENCIAS FEI\",\"\"),\"ERROR\")","v":""}]
[{"$f":"IF('V C CAB'!A189=\"\",\"\",'V C CAB'!A189)","v":"B"},{"$f":"IF('V C CAB'!B189=\"\",\"\",'V C CAB'!B189)","v":"C"},{"$f":"IF('V C CAB'!C189=\"\",\"\",'V C CAB'!C189)","v":"JEQUE WR"},{"$f":"IF('V C CAB'!D189=\"\",\"\",'V C CAB'!D189)","v":""},{"$f":"IF(OR('V C CAB'!AW1354+'V C CAB'!AX1354>=2,AND('V C CAB'!AW1354+'V C CAB'!AX1354>=1,'V L CAB'!AX1362>=40),'V C CAB'!AY1354>=1),\"CLASIFICADO A 80 Km NOVICIOS\",\"\")","v":""},{"$f":"IF(C189='V C CAB'!C189,IF(OR('V C CAB'!BA189=\"\",'V C CAB'!BA189=\"HABILITADO  TEMPORALMENTE A COMPETENCIAS FEI\"),\"\",+'V C CAB'!BA189),\"ERROR\")","v":"NO INICIA SU CLASIFICACIÓN"},{"$f":"IF(C189='V C CAB'!C189,IF(+'V C CAB'!BA189=\"HABILITADO  TEMPORALMENTE A COMPETENCIAS FEI\",\"HABILITADO  TEMPORALMENTE A COMPETENCIAS FEI\",\"\"),\"ERROR\")","v":""}]
[{"$f":"IF('V C CAB'!A190=\"\",\"\",'V C CAB'!A190)","v":"B"},{"$f":"IF('V C CAB'!B190=\"\",\"\",'V C CAB'!B190)","v":"C"},{"$f":"IF('V C CAB'!C190=\"\",\"\",'V C CAB'!C190)","v":"JERESANO MS"},{"$f":"IF('V C CAB'!D190=\"\",\"\",'V C CAB'!D190)","v":""},{"$f":"IF(OR('V C CAB'!AW1355+'V C CAB'!AX1355>=2,AND('V C CAB'!AW1355+'V C CAB'!AX1355>=1,'V L CAB'!AX1363>=40),'V C CAB'!AY1355>=1),\"CLASIFICADO A 80 Km NOVICIOS\",\"\")","v":""},{"$f":"IF(C190='V C CAB'!C190,IF(OR('V C CAB'!BA190=\"\",'V C CAB'!BA190=\"HABILITADO  TEMPORALMENTE A COMPETENCIAS FEI\"),\"\",+'V C CAB'!BA190),\"ERROR\")","v":"NO INICIA SU CLASIFICACIÓN"},{"$f":"IF(C190='V C CAB'!C190,IF(+'V C CAB'!BA190=\"HABILITADO  TEMPORALMENTE A COMPETENCIAS FEI\",\"HABILITADO  TEMPORALMENTE A COMPETENCIAS FEI\",\"\"),\"ERROR\")","v":""}]
[{"$f":"IF('V C CAB'!A191=\"\",\"\",'V C CAB'!A191)","v":"C259"},{"$f":"IF('V C CAB'!B191=\"\",\"\",'V C CAB'!B191)","v":"C"},{"$f":"IF('V C CAB'!C191=\"\",\"\",'V C CAB'!C191)","v":"JOSELO GP"},{"$f":"IF('V C CAB'!D191=\"\",\"\",'V C CAB'!D191)","v":""},{"$f":"IF(OR('V C CAB'!AW1356+'V C CAB'!AX1356>=2,AND('V C CAB'!AW1356+'V C CAB'!AX1356>=1,'V L CAB'!AX1364>=40),'V C CAB'!AY1356>=1),\"CLASIFICADO A 80 Km NOVICIOS\",\"\")","v":""},{"$f":"IF(C191='V C CAB'!C191,IF(OR('V C CAB'!BA191=\"\",'V C CAB'!BA191=\"HABILITADO  TEMPORALMENTE A COMPETENCIAS FEI\"),\"\",+'V C CAB'!BA191),\"ERROR\")","v":"NO INICIA SU CLASIFICACIÓN"},{"$f":"IF(C191='V C CAB'!C191,IF(+'V C CAB'!BA191=\"HABILITADO  TEMPORALMENTE A COMPETENCIAS FEI\",\"HABILITADO  TEMPORALMENTE A COMPETENCIAS FEI\",\"\"),\"ERROR\")","v":""}]
[{"$f":"IF('V C CAB'!A192=\"\",\"\",'V C CAB'!A192)","v":"C114"},{"$f":"IF('V C CAB'!B192=\"\",\"\",'V C CAB'!B192)","v":"C075"},{"$f":"IF('V C CAB'!C192=\"\",\"\",'V C CAB'!C192)","v":"JR NARA"},{"$f":"IF('V C CAB'!D192=\"\",\"\",'V C CAB'!D192)","v":"KARINA NEUMAN"},{"$f":"IF(OR('V C CAB'!AW1357+'V C CAB'!AX1357>=2,AND('V C CAB'!AW1357+'V C CAB'!AX1357>=1,'V L CAB'!AX1365>=40),'V C CAB'!AY1357>=1),\"CLASIFICADO A 80 Km NOVICIOS\",\"\")","v":""},{"$f":"IF(C192='V C CAB'!C192,IF(OR('V C CAB'!BA192=\"\",'V C CAB'!BA192=\"HABILITADO  TEMPORALMENTE A COMPETENCIAS FEI\"),\"\",+'V C CAB'!BA192),\"ERROR\")","v":"INICIO SU CLASIFICACIÓN"},{"$f":"IF(C192='V C CAB'!C192,IF(+'V C CAB'!BA192=\"HABILITADO  TEMPORALMENTE A COMPETENCIAS FEI\",\"HABILITADO  TEMPORALMENTE A COMPETENCIAS FEI\",\"\"),\"ERROR\")","v":""}]
[{"$f":"IF('V C CAB'!A193=\"\",\"\",'V C CAB'!A193)","v":"C301"},{"$f":"IF('V C CAB'!B193=\"\",\"\",'V C CAB'!B193)","v":"C"},{"$f":"IF('V C CAB'!C193=\"\",\"\",'V C CAB'!C193)","v":"JUAN ANDRES"},{"$f":"IF('V C CAB'!D193=\"\",\"\",'V C CAB'!D193)","v":""},{"$f":"IF(OR('V C CAB'!AW1358+'V C CAB'!AX1358>=2,AND('V C CAB'!AW1358+'V C CAB'!AX1358>=1,'V L CAB'!AX1366>=40),'V C CAB'!AY1358>=1),\"CLASIFICADO A 80 Km NOVICIOS\",\"\")","v":""},{"$f":"IF(C193='V C CAB'!C193,IF(OR('V C CAB'!BA193=\"\",'V C CAB'!BA193=\"HABILITADO  TEMPORALMENTE A COMPETENCIAS FEI\"),\"\",+'V C CAB'!BA193),\"ERROR\")","v":"INICIO SU CLASIFICACIÓN"},{"$f":"IF(C193='V C CAB'!C193,IF(+'V C CAB'!BA193=\"HABILITADO  TEMPORALMENTE A COMPETENCIAS FEI\",\"HABILITADO  TEMPORALMENTE A COMPETENCIAS FEI\",\"\"),\"ERROR\")","v":""}]
[{"$f":"IF('V C CAB'!A194=\"\",\"\",'V C CAB'!A194)","v":"CC"},{"$f":"IF('V C CAB'!B194=\"\",\"\",'V C CAB'!B194)","v":"C278"},{"$f":"IF('V C CAB'!C194=\"\",\"\",'V C CAB'!C194)","v":"JUGUETE"},{"$f":"IF('V C CAB'!D194=\"\",\"\",'V C CAB'!D194)","v":"ESPINOZA JUAN SEBASTIAN"},{"$f":"IF(OR('V C CAB'!AW1359+'V C CAB'!AX1359>=2,AND('V C CAB'!AW1359+'V C CAB'!AX1359>=1,'V L CAB'!AX1367>=40),'V C CAB'!AY1359>=1),\"CLASIFICADO A 80 Km NOVICIOS\",\"\")","v":""},{"$f":"IF(C194='V C CAB'!C194,IF(OR('V C CAB'!BA194=\"\",'V C CAB'!BA194=\"HABILITADO  TEMPORALMENTE A COMPETENCIAS FEI\"),\"\",+'V C CAB'!BA194),\"ERROR\")","v":"LE FALTA UNA DE 80 A 90 CONTROLADA"},{"$f":"IF(C194='V C CAB'!C194,IF(+'V C CAB'!BA194=\"HABILITADO  TEMPORALMENTE A COMPETENCIAS FEI\",\"HABILITADO  TEMPORALMENTE A COMPETENCIAS FEI\",\"\"),\"ERROR\")","v":""}]
[{"$f":"IF('V C CAB'!A195=\"\",\"\",'V C CAB'!A195)","v":"C042"},{"$f":"IF('V C CAB'!B195=\"\",\"\",'V C CAB'!B195)","v":"C134"},{"$f":"IF('V C CAB'!C195=\"\",\"\",'V C CAB'!C195)","v":"JUPITER"},{"$f":"IF('V C CAB'!D195=\"\",\"\",'V C CAB'!D195)","v":"HECTOR ALMEIDA"},{"$f":"IF(OR('V C CAB'!AW1360+'V C CAB'!AX1360>=2,AND('V C CAB'!AW1360+'V C CAB'!AX1360>=1,'V L CAB'!AX1368>=40),'V C CAB'!AY1360>=1),\"CLASIFICADO A 80 Km NOVICIOS\",\"\")","v":""},{"$f":"IF(C195='V C CAB'!C195,IF(OR('V C CAB'!BA195=\"\",'V C CAB'!BA195=\"HABILITADO  TEMPORALMENTE A COMPETENCIAS FEI\"),\"\",+'V C CAB'!BA195),\"ERROR\")","v":""},{"$f":"IF(C195='V C CAB'!C195,IF(+'V C CAB'!BA195=\"HABILITADO  TEMPORALMENTE A COMPETENCIAS FEI\",\"HABILITADO  TEMPORALMENTE A COMPETENCIAS FEI\",\"\"),\"ERROR\")","v":"HABILITADO  TEMPORALMENTE A COMPETENCIAS FEI"}]
[{"$f":"IF('V C CAB'!A196=\"\",\"\",'V C CAB'!A196)","v":"B"},{"$f":"IF('V C CAB'!B196=\"\",\"\",'V C CAB'!B196)","v":"C167"},{"$f":"IF('V C CAB'!C196=\"\",\"\",'V C CAB'!C196)","v":"K BAYO"},{"$f":"IF('V C CAB'!D196=\"\",\"\",'V C CAB'!D196)","v":""},{"$f":"IF(OR('V C CAB'!AW1361+'V C CAB'!AX1361>=2,AND('V C CAB'!AW1361+'V C CAB'!AX1361>=1,'V L CAB'!AX1369>=40),'V C CAB'!AY1361>=1),\"CLASIFICADO A 80 Km NOVICIOS\",\"\")","v":""},{"$f":"IF(C196='V C CAB'!C196,IF(OR('V C CAB'!BA196=\"\",'V C CAB'!BA196=\"HABILITADO  TEMPORALMENTE A COMPETENCIAS FEI\"),\"\",+'V C CAB'!BA196),\"ERROR\")","v":"HABILITADO A 80KM VELOCIDAD CONTROLADA"},{"$f":"IF(C196='V C CAB'!C196,IF(+'V C CAB'!BA196=\"HABILITADO  TEMPORALMENTE A COMPETENCIAS FEI\",\"HABILITADO  TEMPORALMENTE A COMPETENCIAS FEI\",\"\"),\"ERROR\")","v":""}]
[{"$f":"IF('V C CAB'!A197=\"\",\"\",'V C CAB'!A197)","v":""},{"$f":"IF('V C CAB'!B197=\"\",\"\",'V C CAB'!B197)","v":"C327"},{"$f":"IF('V C CAB'!C197=\"\",\"\",'V C CAB'!C197)","v":"KA SAN"},{"$f":"IF('V C CAB'!D197=\"\",\"\",'V C CAB'!D197)","v":"WILLIAMS JEMMA"},{"$f":"IF(OR('V C CAB'!AW1362+'V C CAB'!AX1362>=2,AND('V C CAB'!AW1362+'V C CAB'!AX1362>=1,'V L CAB'!AX1370>=40),'V C CAB'!AY1362>=1),\"CLASIFICADO A 80 Km NOVICIOS\",\"\")","v":""},{"$f":"IF(C197='V C CAB'!C197,IF(OR('V C CAB'!BA197=\"\",'V C CAB'!BA197=\"HABILITADO  TEMPORALMENTE A COMPETENCIAS FEI\"),\"\",+'V C CAB'!BA197),\"ERROR\")","v":"HABILITADO A 80KM VELOCIDAD CONTROLADA"},{"$f":"IF(C197='V C CAB'!C197,IF(+'V C CAB'!BA197=\"HABILITADO  TEMPORALMENTE A COMPETENCIAS FEI\",\"HABILITADO  TEMPORALMENTE A COMPETENCIAS FEI\",\"\"),\"ERROR\")","v":""}]
[{"$f":"IF('V C CAB'!A198=\"\",\"\",'V C CAB'!A198)","v":""},{"$f":"IF('V C CAB'!B198=\"\",\"\",'V C CAB'!B198)","v":"C348"},{"$f":"IF('V C CAB'!C198=\"\",\"\",'V C CAB'!C198)","v":"KA SAU"},{"$f":"IF('V C CAB'!D198=\"\",\"\",'V C CAB'!D198)","v":"NICOLE WILLIAMS"},{"$f":"IF(OR('V C CAB'!AW1363+'V C CAB'!AX1363>=2,AND('V C CAB'!AW1363+'V C CAB'!AX1363>=1,'V L CAB'!AX1371>=40),'V C CAB'!AY1363>=1),\"CLASIFICADO A 80 Km NOVICIOS\",\"\")","v":""},{"$f":"IF(C198='V C CAB'!C198,IF(OR('V C CAB'!BA198=\"\",'V C CAB'!BA198=\"HABILITADO  TEMPORALMENTE A COMPETENCIAS FEI\"),\"\",+'V C CAB'!BA198),\"ERROR\")","v":"HABILITADO A 80KM VELOCIDAD CONTROLADA"},{"$f":"IF(C198='V C CAB'!C198,IF(+'V C CAB'!BA198=\"HABILITADO  TEMPORALMENTE A COMPETENCIAS FEI\",\"HABILITADO  TEMPORALMENTE A COMPETENCIAS FEI\",\"\"),\"ERROR\")","v":""}]
[{"$f":"IF('V C CAB'!A199=\"\",\"\",'V C CAB'!A199)","v":"C171"},{"$f":"IF('V C CAB'!B199=\"\",\"\",'V C CAB'!B199)","v":"C084"},{"$f":"IF('V C CAB'!C199=\"\",\"\",'V C CAB'!C199)","v":"KADAFI"},{"$f":"IF('V C CAB'!D199=\"\",\"\",'V C CAB'!D199)","v":"DANIEL MORENO"},{"$f":"IF(OR('V C CAB'!AW1364+'V C CAB'!AX1364>=2,AND('V C CAB'!AW1364+'V C CAB'!AX1364>=1,'V L CAB'!AX1372>=40),'V C CAB'!AY1364>=1),\"CLASIFICADO A 80 Km NOVICIOS\",\"\")","v":""},{"$f":"IF(C199='V C CAB'!C199,IF(OR('V C CAB'!BA199=\"\",'V C CAB'!BA199=\"HABILITADO  TEMPORALMENTE A COMPETENCIAS FEI\"),\"\",+'V C CAB'!BA199),\"ERROR\")","v":""},{"$f":"IF(C199='V C CAB'!C199,IF(+'V C CAB'!BA199=\"HABILITADO  TEMPORALMENTE A COMPETENCIAS FEI\",\"HABILITADO  TEMPORALMENTE A COMPETENCIAS FEI\",\"\"),\"ERROR\")","v":"HABILITADO  TEMPORALMENTE A COMPETENCIAS FEI"}]
[{"$f":"IF('V C CAB'!A200=\"\",\"\",'V C CAB'!A200)","v":""},{"$f":"IF('V C CAB'!B200=\"\",\"\",'V C CAB'!B200)","v":"C333"},{"$f":"IF('V C CAB'!C200=\"\",\"\",'V C CAB'!C200)","v":"KADIN"},{"$f":"IF('V C CAB'!D200=\"\",\"\",'V C CAB'!D200)","v":"SANCHEZ SANTIAGO"},{"$f":"IF(OR('V C CAB'!AW1365+'V C CAB'!AX1365>=2,AND('V C CAB'!AW1365+'V C CAB'!AX1365>=1,'V L CAB'!AX1373>=40),'V C CAB'!AY1365>=1),\"CLASIFICADO A 80 Km NOVICIOS\",\"\")","v":""},{"$f":"IF(C200='V C CAB'!C200,IF(OR('V C CAB'!BA200=\"\",'V C CAB'!BA200=\"HABILITADO  TEMPORALMENTE A COMPETENCIAS FEI\"),\"\",+'V C CAB'!BA200),\"ERROR\")","v":"HABILITADO A 80KM VELOCIDAD CONTROLADA"},{"$f":"IF(C200='V C CAB'!C200,IF(+'V C CAB'!BA200=\"HABILITADO  TEMPORALMENTE A COMPETENCIAS FEI\",\"HABILITADO  TEMPORALMENTE A COMPETENCIAS FEI\",\"\"),\"ERROR\")","v":""}]
[{"$f":"IF('V C CAB'!A201=\"\",\"\",'V C CAB'!A201)","v":""},{"$f":"IF('V C CAB'!B201=\"\",\"\",'V C CAB'!B201)","v":"C342"},{"$f":"IF('V C CAB'!C201=\"\",\"\",'V C CAB'!C201)","v":"KADIR"},{"$f":"IF('V C CAB'!D201=\"\",\"\",'V C CAB'!D201)","v":"ESPINOZA JUAN SEBASTIAN"},{"$f":"IF(OR('V C CAB'!AW1366+'V C CAB'!AX1366>=2,AND('V C CAB'!AW1366+'V C CAB'!AX1366>=1,'V L CAB'!AX1374>=40),'V C CAB'!AY1366>=1),\"CLASIFICADO A 80 Km NOVICIOS\",\"\")","v":""},{"$f":"IF(C201='V C CAB'!C201,IF(OR('V C CAB'!BA201=\"\",'V C CAB'!BA201=\"HABILITADO  TEMPORALMENTE A COMPETENCIAS FEI\"),\"\",+'V C CAB'!BA201),\"ERROR\")","v":"HABILITADO A 80KM VELOCIDAD CONTROLADA"},{"$f":"IF(C201='V C CAB'!C201,IF(+'V C CAB'!BA201=\"HABILITADO  TEMPORALMENTE A COMPETENCIAS FEI\",\"HABILITADO  TEMPORALMENTE A COMPETENCIAS FEI\",\"\"),\"ERROR\")","v":""}]
[{"$f":"IF('V C CAB'!A202=\"\",\"\",'V C CAB'!A202)","v":"B"},{"$f":"IF('V C CAB'!B202=\"\",\"\",'V C CAB'!B202)","v":"C069"},{"$f":"IF('V C CAB'!C202=\"\",\"\",'V C CAB'!C202)","v":"KAFIR"},{"$f":"IF('V C CAB'!D202=\"\",\"\",'V C CAB'!D202)","v":"MIÑO JOSE RICARDO"},{"$f":"IF(OR('V C CAB'!AW1367+'V C CAB'!AX1367>=2,AND('V C CAB'!AW1367+'V C CAB'!AX1367>=1,'V L CAB'!AX1375>=40),'V C CAB'!AY1367>=1),\"CLASIFICADO A 80 Km NOVICIOS\",\"\")","v":""},{"$f":"IF(C202='V C CAB'!C202,IF(OR('V C CAB'!BA202=\"\",'V C CAB'!BA202=\"HABILITADO  TEMPORALMENTE A COMPETENCIAS FEI\"),\"\",+'V C CAB'!BA202),\"ERROR\")","v":"HABILITADO A 80KM VELOCIDAD CONTROLADA"},{"$f":"IF(C202='V C CAB'!C202,IF(+'V C CAB'!BA202=\"HABILITADO  TEMPORALMENTE A COMPETENCIAS FEI\",\"HABILITADO  TEMPORALMENTE A COMPETENCIAS FEI\",\"\"),\"ERROR\")","v":""}]
[{"$f":"IF('V C CAB'!A203=\"\",\"\",'V C CAB'!A203)","v":"B"},{"$f":"IF('V C CAB'!B203=\"\",\"\",'V C CAB'!B203)","v":"C114"},{"$f":"IF('V C CAB'!C203=\"\",\"\",'V C CAB'!C203)","v":"KAFIR HA"},{"$f":"IF('V C CAB'!D203=\"\",\"\",'V C CAB'!D203)","v":"HECTOR ALMEIDA"},{"$f":"IF(OR('V C CAB'!AW1368+'V C CAB'!AX1368>=2,AND('V C CAB'!AW1368+'V C CAB'!AX1368>=1,'V L CAB'!AX1376>=40),'V C CAB'!AY1368>=1),\"CLASIFICADO A 80 Km NOVICIOS\",\"\")","v":""},{"$f":"IF(C203='V C CAB'!C203,IF(OR('V C CAB'!BA203=\"\",'V C CAB'!BA203=\"HABILITADO  TEMPORALMENTE A COMPETENCIAS FEI\"),\"\",+'V C CAB'!BA203),\"ERROR\")","v":""},{"$f":"IF(C203='V C CAB'!C203,IF(+'V C CAB'!BA203=\"HABILITADO  TEMPORALMENTE A COMPETENCIAS FEI\",\"HABILITADO  TEMPORALMENTE A COMPETENCIAS FEI\",\"\"),\"ERROR\")","v":"HABILITADO  TEMPORALMENTE A COMPETENCIAS FEI"}]
[{"$f":"IF('V C CAB'!A204=\"\",\"\",'V C CAB'!A204)","v":""},{"$f":"IF('V C CAB'!B204=\"\",\"\",'V C CAB'!B204)","v":"C192"},{"$f":"IF('V C CAB'!C204=\"\",\"\",'V C CAB'!C204)","v":"KALA"},{"$f":"IF('V C CAB'!D204=\"\",\"\",'V C CAB'!D204)","v":"SANCHEZ VEGA SANTIAGO"},{"$f":"IF(OR('V C CAB'!AW1369+'V C CAB'!AX1369>=2,AND('V C CAB'!AW1369+'V C CAB'!AX1369>=1,'V L CAB'!AX1377>=40),'V C CAB'!AY1369>=1),\"CLASIFICADO A 80 Km NOVICIOS\",\"\")","v":""},{"$f":"IF(C204='V C CAB'!C204,IF(OR('V C CAB'!BA204=\"\",'V C CAB'!BA204=\"HABILITADO  TEMPORALMENTE A COMPETENCIAS FEI\"),\"\",+'V C CAB'!BA204),\"ERROR\")","v":"HABILITADO A 80KM VELOCIDAD CONTROLADA"},{"$f":"IF(C204='V C CAB'!C204,IF(+'V C CAB'!BA204=\"HABILITADO  TEMPORALMENTE A COMPETENCIAS FEI\",\"HABILITADO  TEMPORALMENTE A COMPETENCIAS FEI\",\"\"),\"ERROR\")","v":""}]
[{"$f":"IF('V C CAB'!A205=\"\",\"\",'V C CAB'!A205)","v":"C328"},{"$f":"IF('V C CAB'!B205=\"\",\"\",'V C CAB'!B205)","v":"C240"},{"$f":"IF('V C CAB'!C205=\"\",\"\",'V C CAB'!C205)","v":"KALIFA"},{"$f":"IF('V C CAB'!D205=\"\",\"\",'V C CAB'!D205)","v":"MEDINA JORGE"},{"$f":"IF(OR('V C CAB'!AW1370+'V C CAB'!AX1370>=2,AND('V C CAB'!AW1370+'V C CAB'!AX1370>=1,'V L CAB'!AX1378>=40),'V C CAB'!AY1370>=1),\"CLASIFICADO A 80 Km NOVICIOS\",\"\")","v":""},{"$f":"IF(C205='V C CAB'!C205,IF(OR('V C CAB'!BA205=\"\",'V C CAB'!BA205=\"HABILITADO  TEMPORALMENTE A COMPETENCIAS FEI\"),\"\",+'V C CAB'!BA205),\"ERROR\")","v":"HABILITADO A 80KM VELOCIDAD CONTROLADA"},{"$f":"IF(C205='V C CAB'!C205,IF(+'V C CAB'!BA205=\"HABILITADO  TEMPORALMENTE A COMPETENCIAS FEI\",\"HABILITADO  TEMPORALMENTE A COMPETENCIAS FEI\",\"\"),\"ERROR\")","v":""}]
[{"$f":"IF('V C CAB'!A206=\"\",\"\",'V C CAB'!A206)","v":"B"},{"$f":"IF('V C CAB'!B206=\"\",\"\",'V C CAB'!B206)","v":"CO49"},{"$f":"IF('V C CAB'!C206=\"\",\"\",'V C CAB'!C206)","v":"KALUA"},{"$f":"IF('V C CAB'!D206=\"\",\"\",'V C CAB'!D206)","v":""},{"$f":"IF(OR('V C CAB'!AW1371+'V C CAB'!AX1371>=2,AND('V C CAB'!AW1371+'V C CAB'!AX1371>=1,'V L CAB'!AX1379>=40),'V C CAB'!AY1371>=1),\"CLASIFICADO A 80 Km NOVICIOS\",\"\")","v":""},{"$f":"IF(C206='V C CAB'!C206,IF(OR('V C CAB'!BA206=\"\",'V C CAB'!BA206=\"HABILITADO  TEMPORALMENTE A COMPETENCIAS FEI\"),\"\",+'V C CAB'!BA206),\"ERROR\")","v":"NO INICIA SU CLASIFICACIÓN"},{"$f":"IF(C206='V C CAB'!C206,IF(+'V C CAB'!BA206=\"HABILITADO  TEMPORALMENTE A COMPETENCIAS FEI\",\"HABILITADO  TEMPORALMENTE A COMPETENCIAS FEI\",\"\"),\"ERROR\")","v":""}]
[{"$f":"IF('V C CAB'!A207=\"\",\"\",'V C CAB'!A207)","v":"CC"},{"$f":"IF('V C CAB'!B207=\"\",\"\",'V C CAB'!B207)","v":"C279"},{"$f":"IF('V C CAB'!C207=\"\",\"\",'V C CAB'!C207)","v":"KARIBE"},{"$f":"IF('V C CAB'!D207=\"\",\"\",'V C CAB'!D207)","v":"GONZALEZ SEBASTIAN"},{"$f":"IF(OR('V C CAB'!AW1372+'V C CAB'!AX1372>=2,AND('V C CAB'!AW1372+'V C CAB'!AX1372>=1,'V L CAB'!AX1380>=40),'V C CAB'!AY1372>=1),\"CLASIFICADO A 80 Km NOVICIOS\",\"\")","v":""},{"$f":"IF(C207='V C CAB'!C207,IF(OR('V C CAB'!BA207=\"\",'V C CAB'!BA207=\"HABILITADO  TEMPORALMENTE A COMPETENCIAS FEI\"),\"\",+'V C CAB'!BA207),\"ERROR\")","v":"INICIO SU CLASIFICACIÓN"},{"$f":"IF(C207='V C CAB'!C207,IF(+'V C CAB'!BA207=\"HABILITADO  TEMPORALMENTE A COMPETENCIAS FEI\",\"HABILITADO  TEMPORALMENTE A COMPETENCIAS FEI\",\"\"),\"ERROR\")","v":""}]
[{"$f":"IF('V C CAB'!A208=\"\",\"\",'V C CAB'!A208)","v":"CC"},{"$f":"IF('V C CAB'!B208=\"\",\"\",'V C CAB'!B208)","v":"C280"},{"$f":"IF('V C CAB'!C208=\"\",\"\",'V C CAB'!C208)","v":"KARIOKA"},{"$f":"IF('V C CAB'!D208=\"\",\"\",'V C CAB'!D208)","v":"TAMARIZ MALO SANTIAGO"},{"$f":"IF(OR('V C CAB'!AW1373+'V C CAB'!AX1373>=2,AND('V C CAB'!AW1373+'V C CAB'!AX1373>=1,'V L CAB'!AX1381>=40),'V C CAB'!AY1373>=1),\"CLASIFICADO A 80 Km NOVICIOS\",\"\")","v":""},{"$f":"IF(C208='V C CAB'!C208,IF(OR('V C CAB'!BA208=\"\",'V C CAB'!BA208=\"HABILITADO  TEMPORALMENTE A COMPETENCIAS FEI\"),\"\",+'V C CAB'!BA208),\"ERROR\")","v":"HABILITADO A 80KM VELOCIDAD CONTROLADA"},{"$f":"IF(C208='V C CAB'!C208,IF(+'V C CAB'!BA208=\"HABILITADO  TEMPORALMENTE A COMPETENCIAS FEI\",\"HABILITADO  TEMPORALMENTE A COMPETENCIAS FEI\",\"\"),\"ERROR\")","v":""}]
[{"$f":"IF('V C CAB'!A209=\"\",\"\",'V C CAB'!A209)","v":"B"},{"$f":"IF('V C CAB'!B209=\"\",\"\",'V C CAB'!B209)","v":"CO66"},{"$f":"IF('V C CAB'!C209=\"\",\"\",'V C CAB'!C209)","v":"KIM SASHA"},{"$f":"IF('V C CAB'!D209=\"\",\"\",'V C CAB'!D209)","v":"SERGIO MORILLO"},{"$f":"IF(OR('V C CAB'!AW1374+'V C CAB'!AX1374>=2,AND('V C CAB'!AW1374+'V C CAB'!AX1374>=1,'V L CAB'!AX1382>=40),'V C CAB'!AY1374>=1),\"CLASIFICADO A 80 Km NOVICIOS\",\"\")","v":""},{"$f":"IF(C209='V C CAB'!C209,IF(OR('V C CAB'!BA209=\"\",'V C CAB'!BA209=\"HABILITADO  TEMPORALMENTE A COMPETENCIAS FEI\"),\"\",+'V C CAB'!BA209),\"ERROR\")","v":"NO INICIA SU CLASIFICACIÓN"},{"$f":"IF(C209='V C CAB'!C209,IF(+'V C CAB'!BA209=\"HABILITADO  TEMPORALMENTE A COMPETENCIAS FEI\",\"HABILITADO  TEMPORALMENTE A COMPETENCIAS FEI\",\"\"),\"ERROR\")","v":""}]
[{"$f":"IF('V C CAB'!A210=\"\",\"\",'V C CAB'!A210)","v":""},{"$f":"IF('V C CAB'!B210=\"\",\"\",'V C CAB'!B210)","v":"C345"},{"$f":"IF('V C CAB'!C210=\"\",\"\",'V C CAB'!C210)","v":"KITOCHI"},{"$f":"IF('V C CAB'!D210=\"\",\"\",'V C CAB'!D210)","v":"MALO MALO MARIA JOSE"},{"$f":"IF(OR('V C CAB'!AW1375+'V C CAB'!AX1375>=2,AND('V C CAB'!AW1375+'V C CAB'!AX1375>=1,'V L CAB'!AX1383>=40),'V C CAB'!AY1375>=1),\"CLASIFICADO A 80 Km NOVICIOS\",\"\")","v":""},{"$f":"IF(C210='V C CAB'!C210,IF(OR('V C CAB'!BA210=\"\",'V C CAB'!BA210=\"HABILITADO  TEMPORALMENTE A COMPETENCIAS FEI\"),\"\",+'V C CAB'!BA210),\"ERROR\")","v":"INICIO SU CLASIFICACIÓN"},{"$f":"IF(C210='V C CAB'!C210,IF(+'V C CAB'!BA210=\"HABILITADO  TEMPORALMENTE A COMPETENCIAS FEI\",\"HABILITADO  TEMPORALMENTE A COMPETENCIAS FEI\",\"\"),\"ERROR\")","v":""}]
[{"$f":"IF('V C CAB'!A211=\"\",\"\",'V C CAB'!A211)","v":"B"},{"$f":"IF('V C CAB'!B211=\"\",\"\",'V C CAB'!B211)","v":"C"},{"$f":"IF('V C CAB'!C211=\"\",\"\",'V C CAB'!C211)","v":"KORFU GS"},{"$f":"IF('V C CAB'!D211=\"\",\"\",'V C CAB'!D211)","v":""},{"$f":"IF(OR('V C CAB'!AW1376+'V C CAB'!AX1376>=2,AND('V C CAB'!AW1376+'V C CAB'!AX1376>=1,'V L CAB'!AX1384>=40),'V C CAB'!AY1376>=1),\"CLASIFICADO A 80 Km NOVICIOS\",\"\")","v":""},{"$f":"IF(C211='V C CAB'!C211,IF(OR('V C CAB'!BA211=\"\",'V C CAB'!BA211=\"HABILITADO  TEMPORALMENTE A COMPETENCIAS FEI\"),\"\",+'V C CAB'!BA211),\"ERROR\")","v":"INICIO SU CLASIFICACIÓN"},{"$f":"IF(C211='V C CAB'!C211,IF(+'V C CAB'!BA211=\"HABILITADO  TEMPORALMENTE A COMPETENCIAS FEI\",\"HABILITADO  TEMPORALMENTE A COMPETENCIAS FEI\",\"\"),\"ERROR\")","v":""}]
[{"$f":"IF('V C CAB'!A212=\"\",\"\",'V C CAB'!A212)","v":""},{"$f":"IF('V C CAB'!B212=\"\",\"\",'V C CAB'!B212)","v":"C331"},{"$f":"IF('V C CAB'!C212=\"\",\"\",'V C CAB'!C212)","v":"LIA"},{"$f":"IF('V C CAB'!D212=\"\",\"\",'V C CAB'!D212)","v":"NOBOA MAURICIO"},{"$f":"IF(OR('V C CAB'!AW1377+'V C CAB'!AX1377>=2,AND('V C CAB'!AW1377+'V C CAB'!AX1377>=1,'V L CAB'!AX1385>=40),'V C CAB'!AY1377>=1),\"CLASIFICADO A 80 Km NOVICIOS\",\"\")","v":""},{"$f":"IF(C212='V C CAB'!C212,IF(OR('V C CAB'!BA212=\"\",'V C CAB'!BA212=\"HABILITADO  TEMPORALMENTE A COMPETENCIAS FEI\"),\"\",+'V C CAB'!BA212),\"ERROR\")","v":"HABILITADO A 80KM VELOCIDAD CONTROLADA"},{"$f":"IF(C212='V C CAB'!C212,IF(+'V C CAB'!BA212=\"HABILITADO  TEMPORALMENTE A COMPETENCIAS FEI\",\"HABILITADO  TEMPORALMENTE A COMPETENCIAS FEI\",\"\"),\"ERROR\")","v":""}]
[{"$f":"IF('V C CAB'!A213=\"\",\"\",'V C CAB'!A213)","v":"B"},{"$f":"IF('V C CAB'!B213=\"\",\"\",'V C CAB'!B213)","v":"C183"},{"$f":"IF('V C CAB'!C213=\"\",\"\",'V C CAB'!C213)","v":"LIMON"},{"$f":"IF('V C CAB'!D213=\"\",\"\",'V C CAB'!D213)","v":""},{"$f":"IF(OR('V C CAB'!AW1378+'V C CAB'!AX1378>=2,AND('V C CAB'!AW1378+'V C CAB'!AX1378>=1,'V L CAB'!AX1386>=40),'V C CAB'!AY1378>=1),\"CLASIFICADO A 80 Km NOVICIOS\",\"\")","v":""},{"$f":"IF(C213='V C CAB'!C213,IF(OR('V C CAB'!BA213=\"\",'V C CAB'!BA213=\"HABILITADO  TEMPORALMENTE A COMPETENCIAS FEI\"),\"\",+'V C CAB'!BA213),\"ERROR\")","v":"INICIO SU CLASIFICACIÓN"},{"$f":"IF(C213='V C CAB'!C213,IF(+'V C CAB'!BA213=\"HABILITADO  TEMPORALMENTE A COMPETENCIAS FEI\",\"HABILITADO  TEMPORALMENTE A COMPETENCIAS FEI\",\"\"),\"ERROR\")","v":""}]
[{"$f":"IF('V C CAB'!A214=\"\",\"\",'V C CAB'!A214)","v":"B"},{"$f":"IF('V C CAB'!B214=\"\",\"\",'V C CAB'!B214)","v":"CO08"},{"$f":"IF('V C CAB'!C214=\"\",\"\",'V C CAB'!C214)","v":"LINDA"},{"$f":"IF('V C CAB'!D214=\"\",\"\",'V C CAB'!D214)","v":"ANGEL PAILACHO"},{"$f":"IF(OR('V C CAB'!AW1379+'V C CAB'!AX1379>=2,AND('V C CAB'!AW1379+'V C CAB'!AX1379>=1,'V L CAB'!AX1387>=40),'V C CAB'!AY1379>=1),\"CLASIFICADO A 80 Km NOVICIOS\",\"\")","v":""},{"$f":"IF(C214='V C CAB'!C214,IF(OR('V C CAB'!BA214=\"\",'V C CAB'!BA214=\"HABILITADO  TEMPORALMENTE A COMPETENCIAS FEI\"),\"\",+'V C CAB'!BA214),\"ERROR\")","v":"INICIO SU CLASIFICACIÓN"},{"$f":"IF(C214='V C CAB'!C214,IF(+'V C CAB'!BA214=\"HABILITADO  TEMPORALMENTE A COMPETENCIAS FEI\",\"HABILITADO  TEMPORALMENTE A COMPETENCIAS FEI\",\"\"),\"ERROR\")","v":""}]
[{"$f":"IF('V C CAB'!A215=\"\",\"\",'V C CAB'!A215)","v":"B"},{"$f":"IF('V C CAB'!B215=\"\",\"\",'V C CAB'!B215)","v":"C119"},{"$f":"IF('V C CAB'!C215=\"\",\"\",'V C CAB'!C215)","v":"LLUVIA CMB"},{"$f":"IF('V C CAB'!D215=\"\",\"\",'V C CAB'!D215)","v":"CESAR MORA BOWEN"},{"$f":"IF(OR('V C CAB'!AW1380+'V C CAB'!AX1380>=2,AND('V C CAB'!AW1380+'V C CAB'!AX1380>=1,'V L CAB'!AX1388>=40),'V C CAB'!AY1380>=1),\"CLASIFICADO A 80 Km NOVICIOS\",\"\")","v":""},{"$f":"IF(C215='V C CAB'!C215,IF(OR('V C CAB'!BA215=\"\",'V C CAB'!BA215=\"HABILITADO  TEMPORALMENTE A COMPETENCIAS FEI\"),\"\",+'V C CAB'!BA215),\"ERROR\")","v":"INICIO SU CLASIFICACIÓN"},{"$f":"IF(C215='V C CAB'!C215,IF(+'V C CAB'!BA215=\"HABILITADO  TEMPORALMENTE A COMPETENCIAS FEI\",\"HABILITADO  TEMPORALMENTE A COMPETENCIAS FEI\",\"\"),\"ERROR\")","v":""}]
[{"$f":"IF('V C CAB'!A216=\"\",\"\",'V C CAB'!A216)","v":"B"},{"$f":"IF('V C CAB'!B216=\"\",\"\",'V C CAB'!B216)","v":"C137"},{"$f":"IF('V C CAB'!C216=\"\",\"\",'V C CAB'!C216)","v":"LLUVIA DG"},{"$f":"IF('V C CAB'!D216=\"\",\"\",'V C CAB'!D216)","v":""},{"$f":"IF(OR('V C CAB'!AW1381+'V C CAB'!AX1381>=2,AND('V C CAB'!AW1381+'V C CAB'!AX1381>=1,'V L CAB'!AX1389>=40),'V C CAB'!AY1381>=1),\"CLASIFICADO A 80 Km NOVICIOS\",\"\")","v":""},{"$f":"IF(C216='V C CAB'!C216,IF(OR('V C CAB'!BA216=\"\",'V C CAB'!BA216=\"HABILITADO  TEMPORALMENTE A COMPETENCIAS FEI\"),\"\",+'V C CAB'!BA216),\"ERROR\")","v":"INICIO SU CLASIFICACIÓN"},{"$f":"IF(C216='V C CAB'!C216,IF(+'V C CAB'!BA216=\"HABILITADO  TEMPORALMENTE A COMPETENCIAS FEI\",\"HABILITADO  TEMPORALMENTE A COMPETENCIAS FEI\",\"\"),\"ERROR\")","v":""}]
[{"$f":"IF('V C CAB'!A217=\"\",\"\",'V C CAB'!A217)","v":"B"},{"$f":"IF('V C CAB'!B217=\"\",\"\",'V C CAB'!B217)","v":"C138"},{"$f":"IF('V C CAB'!C217=\"\",\"\",'V C CAB'!C217)","v":"LOIKA"},{"$f":"IF('V C CAB'!D217=\"\",\"\",'V C CAB'!D217)","v":""},{"$f":"IF(OR('V C CAB'!AW1382+'V C CAB'!AX1382>=2,AND('V C CAB'!AW1382+'V C CAB'!AX1382>=1,'V L CAB'!AX1390>=40),'V C CAB'!AY1382>=1),\"CLASIFICADO A 80 Km NOVICIOS\",\"\")","v":""},{"$f":"IF(C217='V C CAB'!C217,IF(OR('V C CAB'!BA217=\"\",'V C CAB'!BA217=\"HABILITADO  TEMPORALMENTE A COMPETENCIAS FEI\"),\"\",+'V C CAB'!BA217),\"ERROR\")","v":"LE FALTA UNA DE 80 A 90 CONTROLADA"},{"$f":"IF(C217='V C CAB'!C217,IF(+'V C CAB'!BA217=\"HABILITADO  TEMPORALMENTE A COMPETENCIAS FEI\",\"HABILITADO  TEMPORALMENTE A COMPETENCIAS FEI\",\"\"),\"ERROR\")","v":""}]
[{"$f":"IF('V C CAB'!A218=\"\",\"\",'V C CAB'!A218)","v":"C091"},{"$f":"IF('V C CAB'!B218=\"\",\"\",'V C CAB'!B218)","v":"CO16"},{"$f":"IF('V C CAB'!C218=\"\",\"\",'V C CAB'!C218)","v":"LOLA"},{"$f":"IF('V C CAB'!D218=\"\",\"\",'V C CAB'!D218)","v":"JHONATAN TORRES"},{"$f":"IF(OR('V C CAB'!AW1383+'V C CAB'!AX1383>=2,AND('V C CAB'!AW1383+'V C CAB'!AX1383>=1,'V L CAB'!AX1391>=40),'V C CAB'!AY1383>=1),\"CLASIFICADO A 80 Km NOVICIOS\",\"\")","v":""},{"$f":"IF(C218='V C CAB'!C218,IF(OR('V C CAB'!BA218=\"\",'V C CAB'!BA218=\"HABILITADO  TEMPORALMENTE A COMPETENCIAS FEI\"),\"\",+'V C CAB'!BA218),\"ERROR\")","v":"NO INICIA SU CLASIFICACIÓN"},{"$f":"IF(C218='V C CAB'!C218,IF(+'V C CAB'!BA218=\"HABILITADO  TEMPORALMENTE A COMPETENCIAS FEI\",\"HABILITADO  TEMPORALMENTE A COMPETENCIAS FEI\",\"\"),\"ERROR\")","v":""}]
[{"$f":"IF('V C CAB'!A219=\"\",\"\",'V C CAB'!A219)","v":""},{"$f":"IF('V C CAB'!B219=\"\",\"\",'V C CAB'!B219)","v":"C163"},{"$f":"IF('V C CAB'!C219=\"\",\"\",'V C CAB'!C219)","v":"LULY"},{"$f":"IF('V C CAB'!D219=\"\",\"\",'V C CAB'!D219)","v":"FRITZ JULIANA"},{"$f":"IF(OR('V C CAB'!AW1384+'V C CAB'!AX1384>=2,AND('V C CAB'!AW1384+'V C CAB'!AX1384>=1,'V L CAB'!AX1392>=40),'V C CAB'!AY1384>=1),\"CLASIFICADO A 80 Km NOVICIOS\",\"\")","v":""},{"$f":"IF(C219='V C CAB'!C219,IF(OR('V C CAB'!BA219=\"\",'V C CAB'!BA219=\"HABILITADO  TEMPORALMENTE A COMPETENCIAS FEI\"),\"\",+'V C CAB'!BA219),\"ERROR\")","v":"INICIO SU CLASIFICACIÓN"},{"$f":"IF(C219='V C CAB'!C219,IF(+'V C CAB'!BA219=\"HABILITADO  TEMPORALMENTE A COMPETENCIAS FEI\",\"HABILITADO  TEMPORALMENTE A COMPETENCIAS FEI\",\"\"),\"ERROR\")","v":""}]
[{"$f":"IF('V C CAB'!A220=\"\",\"\",'V C CAB'!A220)","v":"C047"},{"$f":"IF('V C CAB'!B220=\"\",\"\",'V C CAB'!B220)","v":"CO58"},{"$f":"IF('V C CAB'!C220=\"\",\"\",'V C CAB'!C220)","v":"MACARENA"},{"$f":"IF('V C CAB'!D220=\"\",\"\",'V C CAB'!D220)","v":"DANIEL PALACIOS"},{"$f":"IF(OR('V C CAB'!AW1385+'V C CAB'!AX1385>=2,AND('V C CAB'!AW1385+'V C CAB'!AX1385>=1,'V L CAB'!AX1393>=40),'V C CAB'!AY1385>=1),\"CLASIFICADO A 80 Km NOVICIOS\",\"\")","v":""},{"$f":"IF(C220='V C CAB'!C220,IF(OR('V C CAB'!BA220=\"\",'V C CAB'!BA220=\"HABILITADO  TEMPORALMENTE A COMPETENCIAS FEI\"),\"\",+'V C CAB'!BA220),\"ERROR\")","v":"HABILITADO A 80KM VELOCIDAD CONTROLADA"},{"$f":"IF(C220='V C CAB'!C220,IF(+'V C CAB'!BA220=\"HABILITADO  TEMPORALMENTE A COMPETENCIAS FEI\",\"HABILITADO  TEMPORALMENTE A COMPETENCIAS FEI\",\"\"),\"ERROR\")","v":""}]
[{"$f":"IF('V C CAB'!A221=\"\",\"\",'V C CAB'!A221)","v":"C258"},{"$f":"IF('V C CAB'!B221=\"\",\"\",'V C CAB'!B221)","v":"C168"},{"$f":"IF('V C CAB'!C221=\"\",\"\",'V C CAB'!C221)","v":"MAGENTA"},{"$f":"IF('V C CAB'!D221=\"\",\"\",'V C CAB'!D221)","v":"CONTRERAS MARIA ALICIA"},{"$f":"IF(OR('V C CAB'!AW1386+'V C CAB'!AX1386>=2,AND('V C CAB'!AW1386+'V C CAB'!AX1386>=1,'V L CAB'!AX1394>=40),'V C CAB'!AY1386>=1),\"CLASIFICADO A 80 Km NOVICIOS\",\"\")","v":""},{"$f":"IF(C221='V C CAB'!C221,IF(OR('V C CAB'!BA221=\"\",'V C CAB'!BA221=\"HABILITADO  TEMPORALMENTE A COMPETENCIAS FEI\"),\"\",+'V C CAB'!BA221),\"ERROR\")","v":"HABILITADO A 80KM VELOCIDAD CONTROLADA"},{"$f":"IF(C221='V C CAB'!C221,IF(+'V C CAB'!BA221=\"HABILITADO  TEMPORALMENTE A COMPETENCIAS FEI\",\"HABILITADO  TEMPORALMENTE A COMPETENCIAS FEI\",\"\"),\"ERROR\")","v":""}]
[{"$f":"IF('V C CAB'!A222=\"\",\"\",'V C CAB'!A222)","v":"CC"},{"$f":"IF('V C CAB'!B222=\"\",\"\",'V C CAB'!B222)","v":"C282"},{"$f":"IF('V C CAB'!C222=\"\",\"\",'V C CAB'!C222)","v":"MAGIC MENES"},{"$f":"IF('V C CAB'!D222=\"\",\"\",'V C CAB'!D222)","v":"KOPPEL VINTIMILLA OSWALDO"},{"$f":"IF(OR('V C CAB'!AW1387+'V C CAB'!AX1387>=2,AND('V C CAB'!AW1387+'V C CAB'!AX1387>=1,'V L CAB'!AX1395>=40),'V C CAB'!AY1387>=1),\"CLASIFICADO A 80 Km NOVICIOS\",\"\")","v":""},{"$f":"IF(C222='V C CAB'!C222,IF(OR('V C CAB'!BA222=\"\",'V C CAB'!BA222=\"HABILITADO  TEMPORALMENTE A COMPETENCIAS FEI\"),\"\",+'V C CAB'!BA222),\"ERROR\")","v":"HABILITADO A 80KM VELOCIDAD CONTROLADA"},{"$f":"IF(C222='V C CAB'!C222,IF(+'V C CAB'!BA222=\"HABILITADO  TEMPORALMENTE A COMPETENCIAS FEI\",\"HABILITADO  TEMPORALMENTE A COMPETENCIAS FEI\",\"\"),\"ERROR\")","v":""}]
[{"$f":"IF('V C CAB'!A223=\"\",\"\",'V C CAB'!A223)","v":"CC"},{"$f":"IF('V C CAB'!B223=\"\",\"\",'V C CAB'!B223)","v":"C283"},{"$f":"IF('V C CAB'!C223=\"\",\"\",'V C CAB'!C223)","v":"MAGIC ONE"},{"$f":"IF('V C CAB'!D223=\"\",\"\",'V C CAB'!D223)","v":"MUÑOZ LOAIZA PAUL ESTEBAN"},{"$f":"IF(OR('V C CAB'!AW1388+'V C CAB'!AX1388>=2,AND('V C CAB'!AW1388+'V C CAB'!AX1388>=1,'V L CAB'!AX1396>=40),'V C CAB'!AY1388>=1),\"CLASIFICADO A 80 Km NOVICIOS\",\"\")","v":""},{"$f":"IF(C223='V C CAB'!C223,IF(OR('V C CAB'!BA223=\"\",'V C CAB'!BA223=\"HABILITADO  TEMPORALMENTE A COMPETENCIAS FEI\"),\"\",+'V C CAB'!BA223),\"ERROR\")","v":"HABILITADO A 80KM VELOCIDAD CONTROLADA"},{"$f":"IF(C223='V C CAB'!C223,IF(+'V C CAB'!BA223=\"HABILITADO  TEMPORALMENTE A COMPETENCIAS FEI\",\"HABILITADO  TEMPORALMENTE A COMPETENCIAS FEI\",\"\"),\"ERROR\")","v":""}]
[{"$f":"IF('V C CAB'!A224=\"\",\"\",'V C CAB'!A224)","v":""},{"$f":"IF('V C CAB'!B224=\"\",\"\",'V C CAB'!B224)","v":"C366"},{"$f":"IF('V C CAB'!C224=\"\",\"\",'V C CAB'!C224)","v":"MAGO GH"},{"$f":"IF('V C CAB'!D224=\"\",\"\",'V C CAB'!D224)","v":"MORAN KEVIN GUILLERMO"},{"$f":"IF(OR('V C CAB'!AW1389+'V C CAB'!AX1389>=2,AND('V C CAB'!AW1389+'V C CAB'!AX1389>=1,'V L CAB'!AX1397>=40),'V C CAB'!AY1389>=1),\"CLASIFICADO A 80 Km NOVICIOS\",\"\")","v":""},{"$f":"IF(C224='V C CAB'!C224,IF(OR('V C CAB'!BA224=\"\",'V C CAB'!BA224=\"HABILITADO  TEMPORALMENTE A COMPETENCIAS FEI\"),\"\",+'V C CAB'!BA224),\"ERROR\")","v":"INICIO SU CLASIFICACIÓN"},{"$f":"IF(C224='V C CAB'!C224,IF(+'V C CAB'!BA224=\"HABILITADO  TEMPORALMENTE A COMPETENCIAS FEI\",\"HABILITADO  TEMPORALMENTE A COMPETENCIAS FEI\",\"\"),\"ERROR\")","v":""}]
[{"$f":"IF('V C CAB'!A225=\"\",\"\",'V C CAB'!A225)","v":"B"},{"$f":"IF('V C CAB'!B225=\"\",\"\",'V C CAB'!B225)","v":"CO48"},{"$f":"IF('V C CAB'!C225=\"\",\"\",'V C CAB'!C225)","v":"MAMBO"},{"$f":"IF('V C CAB'!D225=\"\",\"\",'V C CAB'!D225)","v":"JUAN MARTIN RICAURTE"},{"$f":"IF(OR('V C CAB'!AW1390+'V C CAB'!AX1390>=2,AND('V C CAB'!AW1390+'V C CAB'!AX1390>=1,'V L CAB'!AX1398>=40),'V C CAB'!AY1390>=1),\"CLASIFICADO A 80 Km NOVICIOS\",\"\")","v":""},{"$f":"IF(C225='V C CAB'!C225,IF(OR('V C CAB'!BA225=\"\",'V C CAB'!BA225=\"HABILITADO  TEMPORALMENTE A COMPETENCIAS FEI\"),\"\",+'V C CAB'!BA225),\"ERROR\")","v":"NO INICIA SU CLASIFICACIÓN"},{"$f":"IF(C225='V C CAB'!C225,IF(+'V C CAB'!BA225=\"HABILITADO  TEMPORALMENTE A COMPETENCIAS FEI\",\"HABILITADO  TEMPORALMENTE A COMPETENCIAS FEI\",\"\"),\"ERROR\")","v":""}]
[{"$f":"IF('V C CAB'!A226=\"\",\"\",'V C CAB'!A226)","v":"C043"},{"$f":"IF('V C CAB'!B226=\"\",\"\",'V C CAB'!B226)","v":"C110"},{"$f":"IF('V C CAB'!C226=\"\",\"\",'V C CAB'!C226)","v":"MANOLO"},{"$f":"IF('V C CAB'!D226=\"\",\"\",'V C CAB'!D226)","v":"LUIS LANDAZURI"},{"$f":"IF(OR('V C CAB'!AW1391+'V C CAB'!AX1391>=2,AND('V C CAB'!AW1391+'V C CAB'!AX1391>=1,'V L CAB'!AX1399>=40),'V C CAB'!AY1391>=1),\"CLASIFICADO A 80 Km NOVICIOS\",\"\")","v":""},{"$f":"IF(C226='V C CAB'!C226,IF(OR('V C CAB'!BA226=\"\",'V C CAB'!BA226=\"HABILITADO  TEMPORALMENTE A COMPETENCIAS FEI\"),\"\",+'V C CAB'!BA226),\"ERROR\")","v":"LE FALTA UNA DE 80 A 90 CONTROLADA"},{"$f":"IF(C226='V C CAB'!C226,IF(+'V C CAB'!BA226=\"HABILITADO  TEMPORALMENTE A COMPETENCIAS FEI\",\"HABILITADO  TEMPORALMENTE A COMPETENCIAS FEI\",\"\"),\"ERROR\")","v":""}]
[{"$f":"IF('V C CAB'!A227=\"\",\"\",'V C CAB'!A227)","v":"B"},{"$f":"IF('V C CAB'!B227=\"\",\"\",'V C CAB'!B227)","v":"C045"},{"$f":"IF('V C CAB'!C227=\"\",\"\",'V C CAB'!C227)","v":"MANUELA"},{"$f":"IF('V C CAB'!D227=\"\",\"\",'V C CAB'!D227)","v":"BENITO JARAMILLO"},{"$f":"IF(OR('V C CAB'!AW1392+'V C CAB'!AX1392>=2,AND('V C CAB'!AW1392+'V C CAB'!AX1392>=1,'V L CAB'!AX1400>=40),'V C CAB'!AY1392>=1),\"CLASIFICADO A 80 Km NOVICIOS\",\"\")","v":""},{"$f":"IF(C227='V C CAB'!C227,IF(OR('V C CAB'!BA227=\"\",'V C CAB'!BA227=\"HABILITADO  TEMPORALMENTE A COMPETENCIAS FEI\"),\"\",+'V C CAB'!BA227),\"ERROR\")","v":"HABILITADO A 80KM VELOCIDAD CONTROLADA"},{"$f":"IF(C227='V C CAB'!C227,IF(+'V C CAB'!BA227=\"HABILITADO  TEMPORALMENTE A COMPETENCIAS FEI\",\"HABILITADO  TEMPORALMENTE A COMPETENCIAS FEI\",\"\"),\"ERROR\")","v":""}]
[{"$f":"IF('V C CAB'!A228=\"\",\"\",'V C CAB'!A228)","v":"B"},{"$f":"IF('V C CAB'!B228=\"\",\"\",'V C CAB'!B228)","v":"CO51"},{"$f":"IF('V C CAB'!C228=\"\",\"\",'V C CAB'!C228)","v":"MARIMBA"},{"$f":"IF('V C CAB'!D228=\"\",\"\",'V C CAB'!D228)","v":"FABIAN ROLDAN"},{"$f":"IF(OR('V C CAB'!AW1393+'V C CAB'!AX1393>=2,AND('V C CAB'!AW1393+'V C CAB'!AX1393>=1,'V L CAB'!AX1401>=40),'V C CAB'!AY1393>=1),\"CLASIFICADO A 80 Km NOVICIOS\",\"\")","v":""},{"$f":"IF(C228='V C CAB'!C228,IF(OR('V C CAB'!BA228=\"\",'V C CAB'!BA228=\"HABILITADO  TEMPORALMENTE A COMPETENCIAS FEI\"),\"\",+'V C CAB'!BA228),\"ERROR\")","v":"INICIO SU CLASIFICACIÓN"},{"$f":"IF(C228='V C CAB'!C228,IF(+'V C CAB'!BA228=\"HABILITADO  TEMPORALMENTE A COMPETENCIAS FEI\",\"HABILITADO  TEMPORALMENTE A COMPETENCIAS FEI\",\"\"),\"ERROR\")","v":""}]
[{"$f":"IF('V C CAB'!A229=\"\",\"\",'V C CAB'!A229)","v":"C092"},{"$f":"IF('V C CAB'!B229=\"\",\"\",'V C CAB'!B229)","v":"C017"},{"$f":"IF('V C CAB'!C229=\"\",\"\",'V C CAB'!C229)","v":"MARTIN"},{"$f":"IF('V C CAB'!D229=\"\",\"\",'V C CAB'!D229)","v":"JOSE MARIA LANDAZURI"},{"$f":"IF(OR('V C CAB'!AW1394+'V C CAB'!AX1394>=2,AND('V C CAB'!AW1394+'V C CAB'!AX1394>=1,'V L CAB'!AX1402>=40),'V C CAB'!AY1394>=1),\"CLASIFICADO A 80 Km NOVICIOS\",\"\")","v":""},{"$f":"IF(C229='V C CAB'!C229,IF(OR('V C CAB'!BA229=\"\",'V C CAB'!BA229=\"HABILITADO  TEMPORALMENTE A COMPETENCIAS FEI\"),\"\",+'V C CAB'!BA229),\"ERROR\")","v":"NO INICIA SU CLASIFICACIÓN"},{"$f":"IF(C229='V C CAB'!C229,IF(+'V C CAB'!BA229=\"HABILITADO  TEMPORALMENTE A COMPETENCIAS FEI\",\"HABILITADO  TEMPORALMENTE A COMPETENCIAS FEI\",\"\"),\"ERROR\")","v":""}]
[{"$f":"IF('V C CAB'!A230=\"\",\"\",'V C CAB'!A230)","v":"C038"},{"$f":"IF('V C CAB'!B230=\"\",\"\",'V C CAB'!B230)","v":"C"},{"$f":"IF('V C CAB'!C230=\"\",\"\",'V C CAB'!C230)","v":"MARTIN MS"},{"$f":"IF('V C CAB'!D230=\"\",\"\",'V C CAB'!D230)","v":""},{"$f":"IF(OR('V C CAB'!AW1395+'V C CAB'!AX1395>=2,AND('V C CAB'!AW1395+'V C CAB'!AX1395>=1,'V L CAB'!AX1403>=40),'V C CAB'!AY1395>=1),\"CLASIFICADO A 80 Km NOVICIOS\",\"\")","v":""},{"$f":"IF(C230='V C CAB'!C230,IF(OR('V C CAB'!BA230=\"\",'V C CAB'!BA230=\"HABILITADO  TEMPORALMENTE A COMPETENCIAS FEI\"),\"\",+'V C CAB'!BA230),\"ERROR\")","v":"NO INICIA SU CLASIFICACIÓN"},{"$f":"IF(C230='V C CAB'!C230,IF(+'V C CAB'!BA230=\"HABILITADO  TEMPORALMENTE A COMPETENCIAS FEI\",\"HABILITADO  TEMPORALMENTE A COMPETENCIAS FEI\",\"\"),\"ERROR\")","v":""}]
[{"$f":"IF('V C CAB'!A231=\"\",\"\",'V C CAB'!A231)","v":"B"},{"$f":"IF('V C CAB'!B231=\"\",\"\",'V C CAB'!B231)","v":"CO07"},{"$f":"IF('V C CAB'!C231=\"\",\"\",'V C CAB'!C231)","v":"MASSUH"},{"$f":"IF('V C CAB'!D231=\"\",\"\",'V C CAB'!D231)","v":"ALEGRIA JIJON ANDRADE"},{"$f":"IF(OR('V C CAB'!AW1396+'V C CAB'!AX1396>=2,AND('V C CAB'!AW1396+'V C CAB'!AX1396>=1,'V L CAB'!AX1404>=40),'V C CAB'!AY1396>=1),\"CLASIFICADO A 80 Km NOVICIOS\",\"\")","v":""},{"$f":"IF(C231='V C CAB'!C231,IF(OR('V C CAB'!BA231=\"\",'V C CAB'!BA231=\"HABILITADO  TEMPORALMENTE A COMPETENCIAS FEI\"),\"\",+'V C CAB'!BA231),\"ERROR\")","v":"HABILITADO A 80KM VELOCIDAD CONTROLADA"},{"$f":"IF(C231='V C CAB'!C231,IF(+'V C CAB'!BA231=\"HABILITADO  TEMPORALMENTE A COMPETENCIAS FEI\",\"HABILITADO  TEMPORALMENTE A COMPETENCIAS FEI\",\"\"),\"ERROR\")","v":""}]
[{"$f":"IF('V C CAB'!A232=\"\",\"\",'V C CAB'!A232)","v":"C203"},{"$f":"IF('V C CAB'!B232=\"\",\"\",'V C CAB'!B232)","v":"CO50"},{"$f":"IF('V C CAB'!C232=\"\",\"\",'V C CAB'!C232)","v":"MATADOR COGNAC"},{"$f":"IF('V C CAB'!D232=\"\",\"\",'V C CAB'!D232)","v":""},{"$f":"IF(OR('V C CAB'!AW1397+'V C CAB'!AX1397>=2,AND('V C CAB'!AW1397+'V C CAB'!AX1397>=1,'V L CAB'!AX1405>=40),'V C CAB'!AY1397>=1),\"CLASIFICADO A 80 Km NOVICIOS\",\"\")","v":""},{"$f":"IF(C232='V C CAB'!C232,IF(OR('V C CAB'!BA232=\"\",'V C CAB'!BA232=\"HABILITADO  TEMPORALMENTE A COMPETENCIAS FEI\"),\"\",+'V C CAB'!BA232),\"ERROR\")","v":"HABILITADO A 80KM VELOCIDAD CONTROLADA"},{"$f":"IF(C232='V C CAB'!C232,IF(+'V C CAB'!BA232=\"HABILITADO  TEMPORALMENTE A COMPETENCIAS FEI\",\"HABILITADO  TEMPORALMENTE A COMPETENCIAS FEI\",\"\"),\"ERROR\")","v":""}]
[{"$f":"IF('V C CAB'!A233=\"\",\"\",'V C CAB'!A233)","v":"C143"},{"$f":"IF('V C CAB'!B233=\"\",\"\",'V C CAB'!B233)","v":"C"},{"$f":"IF('V C CAB'!C233=\"\",\"\",'V C CAB'!C233)","v":"MATEO AD"},{"$f":"IF('V C CAB'!D233=\"\",\"\",'V C CAB'!D233)","v":""},{"$f":"IF(OR('V C CAB'!AW1398+'V C CAB'!AX1398>=2,AND('V C CAB'!AW1398+'V C CAB'!AX1398>=1,'V L CAB'!AX1406>=40),'V C CAB'!AY1398>=1),\"CLASIFICADO A 80 Km NOVICIOS\",\"\")","v":""},{"$f":"IF(C233='V C CAB'!C233,IF(OR('V C CAB'!BA233=\"\",'V C CAB'!BA233=\"HABILITADO  TEMPORALMENTE A COMPETENCIAS FEI\"),\"\",+'V C CAB'!BA233),\"ERROR\")","v":"NO INICIA SU CLASIFICACIÓN"},{"$f":"IF(C233='V C CAB'!C233,IF(+'V C CAB'!BA233=\"HABILITADO  TEMPORALMENTE A COMPETENCIAS FEI\",\"HABILITADO  TEMPORALMENTE A COMPETENCIAS FEI\",\"\"),\"ERROR\")","v":""}]
[{"$f":"IF('V C CAB'!A234=\"\",\"\",'V C CAB'!A234)","v":"C247"},{"$f":"IF('V C CAB'!B234=\"\",\"\",'V C CAB'!B234)","v":"C"},{"$f":"IF('V C CAB'!C234=\"\",\"\",'V C CAB'!C234)","v":"MD ARMANI"},{"$f":"IF('V C CAB'!D234=\"\",\"\",'V C CAB'!D234)","v":""},{"$f":"IF(OR('V C CAB'!AW1399+'V C CAB'!AX1399>=2,AND('V C CAB'!AW1399+'V C CAB'!AX1399>=1,'V L CAB'!AX1407>=40),'V C CAB'!AY1399>=1),\"CLASIFICADO A 80 Km NOVICIOS\",\"\")","v":""},{"$f":"IF(C234='V C CAB'!C234,IF(OR('V C CAB'!BA234=\"\",'V C CAB'!BA234=\"HABILITADO  TEMPORALMENTE A COMPETENCIAS FEI\"),\"\",+'V C CAB'!BA234),\"ERROR\")","v":"HABILITADO A 80KM VELOCIDAD CONTROLADA"},{"$f":"IF(C234='V C CAB'!C234,IF(+'V C CAB'!BA234=\"HABILITADO  TEMPORALMENTE A COMPETENCIAS FEI\",\"HABILITADO  TEMPORALMENTE A COMPETENCIAS FEI\",\"\"),\"ERROR\")","v":""}]
[{"$f":"IF('V C CAB'!A235=\"\",\"\",'V C CAB'!A235)","v":"C182"},{"$f":"IF('V C CAB'!B235=\"\",\"\",'V C CAB'!B235)","v":"C120"},{"$f":"IF('V C CAB'!C235=\"\",\"\",'V C CAB'!C235)","v":"MD KABUL"},{"$f":"IF('V C CAB'!D235=\"\",\"\",'V C CAB'!D235)","v":"JOSE DANIEL ANDRADE"},{"$f":"IF(OR('V C CAB'!AW1400+'V C CAB'!AX1400>=2,AND('V C CAB'!AW1400+'V C CAB'!AX1400>=1,'V L CAB'!AX1408>=40),'V C CAB'!AY1400>=1),\"CLASIFICADO A 80 Km NOVICIOS\",\"\")","v":""},{"$f":"IF(C235='V C CAB'!C235,IF(OR('V C CAB'!BA235=\"\",'V C CAB'!BA235=\"HABILITADO  TEMPORALMENTE A COMPETENCIAS FEI\"),\"\",+'V C CAB'!BA235),\"ERROR\")","v":""},{"$f":"IF(C235='V C CAB'!C235,IF(+'V C CAB'!BA235=\"HABILITADO  TEMPORALMENTE A COMPETENCIAS FEI\",\"HABILITADO  TEMPORALMENTE A COMPETENCIAS FEI\",\"\"),\"ERROR\")","v":"HABILITADO  TEMPORALMENTE A COMPETENCIAS FEI"}]
[{"$f":"IF('V C CAB'!A236=\"\",\"\",'V C CAB'!A236)","v":"C081"},{"$f":"IF('V C CAB'!B236=\"\",\"\",'V C CAB'!B236)","v":"C164"},{"$f":"IF('V C CAB'!C236=\"\",\"\",'V C CAB'!C236)","v":"MD RAMSES"},{"$f":"IF('V C CAB'!D236=\"\",\"\",'V C CAB'!D236)","v":"MAURICIO NOBOA"},{"$f":"IF(OR('V C CAB'!AW1401+'V C CAB'!AX1401>=2,AND('V C CAB'!AW1401+'V C CAB'!AX1401>=1,'V L CAB'!AX1409>=40),'V C CAB'!AY1401>=1),\"CLASIFICADO A 80 Km NOVICIOS\",\"\")","v":""},{"$f":"IF(C236='V C CAB'!C236,IF(OR('V C CAB'!BA236=\"\",'V C CAB'!BA236=\"HABILITADO  TEMPORALMENTE A COMPETENCIAS FEI\"),\"\",+'V C CAB'!BA236),\"ERROR\")","v":"HABILITADO A 80KM VELOCIDAD CONTROLADA"},{"$f":"IF(C236='V C CAB'!C236,IF(+'V C CAB'!BA236=\"HABILITADO  TEMPORALMENTE A COMPETENCIAS FEI\",\"HABILITADO  TEMPORALMENTE A COMPETENCIAS FEI\",\"\"),\"ERROR\")","v":""}]
[{"$f":"IF('V C CAB'!A237=\"\",\"\",'V C CAB'!A237)","v":"C069"},{"$f":"IF('V C CAB'!B237=\"\",\"\",'V C CAB'!B237)","v":"C"},{"$f":"IF('V C CAB'!C237=\"\",\"\",'V C CAB'!C237)","v":"MD SERENATA"},{"$f":"IF('V C CAB'!D237=\"\",\"\",'V C CAB'!D237)","v":""},{"$f":"IF(OR('V C CAB'!AW1402+'V C CAB'!AX1402>=2,AND('V C CAB'!AW1402+'V C CAB'!AX1402>=1,'V L CAB'!AX1410>=40),'V C CAB'!AY1402>=1),\"CLASIFICADO A 80 Km NOVICIOS\",\"\")","v":""},{"$f":"IF(C237='V C CAB'!C237,IF(OR('V C CAB'!BA237=\"\",'V C CAB'!BA237=\"HABILITADO  TEMPORALMENTE A COMPETENCIAS FEI\"),\"\",+'V C CAB'!BA237),\"ERROR\")","v":"NO INICIA SU CLASIFICACIÓN"},{"$f":"IF(C237='V C CAB'!C237,IF(+'V C CAB'!BA237=\"HABILITADO  TEMPORALMENTE A COMPETENCIAS FEI\",\"HABILITADO  TEMPORALMENTE A COMPETENCIAS FEI\",\"\"),\"ERROR\")","v":""}]
[{"$f":"IF('V C CAB'!A238=\"\",\"\",'V C CAB'!A238)","v":""},{"$f":"IF('V C CAB'!B238=\"\",\"\",'V C CAB'!B238)","v":"C332"},{"$f":"IF('V C CAB'!C238=\"\",\"\",'V C CAB'!C238)","v":"MD SOHAT"},{"$f":"IF('V C CAB'!D238=\"\",\"\",'V C CAB'!D238)","v":"SERRANO ARMANDO JOSE"},{"$f":"IF(OR('V C CAB'!AW1403+'V C CAB'!AX1403>=2,AND('V C CAB'!AW1403+'V C CAB'!AX1403>=1,'V L CAB'!AX1411>=40),'V C CAB'!AY1403>=1),\"CLASIFICADO A 80 Km NOVICIOS\",\"\")","v":""},{"$f":"IF(C238='V C CAB'!C238,IF(OR('V C CAB'!BA238=\"\",'V C CAB'!BA238=\"HABILITADO  TEMPORALMENTE A COMPETENCIAS FEI\"),\"\",+'V C CAB'!BA238),\"ERROR\")","v":"HABILITADO A 80KM VELOCIDAD CONTROLADA"},{"$f":"IF(C238='V C CAB'!C238,IF(+'V C CAB'!BA238=\"HABILITADO  TEMPORALMENTE A COMPETENCIAS FEI\",\"HABILITADO  TEMPORALMENTE A COMPETENCIAS FEI\",\"\"),\"ERROR\")","v":""}]
[{"$f":"IF('V C CAB'!A239=\"\",\"\",'V C CAB'!A239)","v":"C081"},{"$f":"IF('V C CAB'!B239=\"\",\"\",'V C CAB'!B239)","v":"CO32"},{"$f":"IF('V C CAB'!C239=\"\",\"\",'V C CAB'!C239)","v":"MEDIA LUNA"},{"$f":"IF('V C CAB'!D239=\"\",\"\",'V C CAB'!D239)","v":"MARIA JOSE HIDALGO"},{"$f":"IF(OR('V C CAB'!AW1404+'V C CAB'!AX1404>=2,AND('V C CAB'!AW1404+'V C CAB'!AX1404>=1,'V L CAB'!AX1412>=40),'V C CAB'!AY1404>=1),\"CLASIFICADO A 80 Km NOVICIOS\",\"\")","v":""},{"$f":"IF(C239='V C CAB'!C239,IF(OR('V C CAB'!BA239=\"\",'V C CAB'!BA239=\"HABILITADO  TEMPORALMENTE A COMPETENCIAS FEI\"),\"\",+'V C CAB'!BA239),\"ERROR\")","v":"INICIO SU CLASIFICACIÓN"},{"$f":"IF(C239='V C CAB'!C239,IF(+'V C CAB'!BA239=\"HABILITADO  TEMPORALMENTE A COMPETENCIAS FEI\",\"HABILITADO  TEMPORALMENTE A COMPETENCIAS FEI\",\"\"),\"ERROR\")","v":""}]
[{"$f":"IF('V C CAB'!A240=\"\",\"\",'V C CAB'!A240)","v":"B"},{"$f":"IF('V C CAB'!B240=\"\",\"\",'V C CAB'!B240)","v":"C"},{"$f":"IF('V C CAB'!C240=\"\",\"\",'V C CAB'!C240)","v":"MEGATRON"},{"$f":"IF('V C CAB'!D240=\"\",\"\",'V C CAB'!D240)","v":"MAURICIO NOBOA"},{"$f":"IF(OR('V C CAB'!AW1405+'V C CAB'!AX1405>=2,AND('V C CAB'!AW1405+'V C CAB'!AX1405>=1,'V L CAB'!AX1413>=40),'V C CAB'!AY1405>=1),\"CLASIFICADO A 80 Km NOVICIOS\",\"\")","v":""},{"$f":"IF(C240='V C CAB'!C240,IF(OR('V C CAB'!BA240=\"\",'V C CAB'!BA240=\"HABILITADO  TEMPORALMENTE A COMPETENCIAS FEI\"),\"\",+'V C CAB'!BA240),\"ERROR\")","v":"INICIO SU CLASIFICACIÓN"},{"$f":"IF(C240='V C CAB'!C240,IF(+'V C CAB'!BA240=\"HABILITADO  TEMPORALMENTE A COMPETENCIAS FEI\",\"HABILITADO  TEMPORALMENTE A COMPETENCIAS FEI\",\"\"),\"ERROR\")","v":""}]
[{"$f":"IF('V C CAB'!A241=\"\",\"\",'V C CAB'!A241)","v":"B"},{"$f":"IF('V C CAB'!B241=\"\",\"\",'V C CAB'!B241)","v":"C146"},{"$f":"IF('V C CAB'!C241=\"\",\"\",'V C CAB'!C241)","v":"MELCOCHA"},{"$f":"IF('V C CAB'!D241=\"\",\"\",'V C CAB'!D241)","v":""},{"$f":"IF(OR('V C CAB'!AW1406+'V C CAB'!AX1406>=2,AND('V C CAB'!AW1406+'V C CAB'!AX1406>=1,'V L CAB'!AX1414>=40),'V C CAB'!AY1406>=1),\"CLASIFICADO A 80 Km NOVICIOS\",\"\")","v":""},{"$f":"IF(C241='V C CAB'!C241,IF(OR('V C CAB'!BA241=\"\",'V C CAB'!BA241=\"HABILITADO  TEMPORALMENTE A COMPETENCIAS FEI\"),\"\",+'V C CAB'!BA241),\"ERROR\")","v":"NO INICIA SU CLASIFICACIÓN"},{"$f":"IF(C241='V C CAB'!C241,IF(+'V C CAB'!BA241=\"HABILITADO  TEMPORALMENTE A COMPETENCIAS FEI\",\"HABILITADO  TEMPORALMENTE A COMPETENCIAS FEI\",\"\"),\"ERROR\")","v":""}]
[{"$f":"IF('V C CAB'!A242=\"\",\"\",'V C CAB'!A242)","v":"C074"},{"$f":"IF('V C CAB'!B242=\"\",\"\",'V C CAB'!B242)","v":"C"},{"$f":"IF('V C CAB'!C242=\"\",\"\",'V C CAB'!C242)","v":"MERENGUE"},{"$f":"IF('V C CAB'!D242=\"\",\"\",'V C CAB'!D242)","v":""},{"$f":"IF(OR('V C CAB'!AW1407+'V C CAB'!AX1407>=2,AND('V C CAB'!AW1407+'V C CAB'!AX1407>=1,'V L CAB'!AX1415>=40),'V C CAB'!AY1407>=1),\"CLASIFICADO A 80 Km NOVICIOS\",\"\")","v":""},{"$f":"IF(C242='V C CAB'!C242,IF(OR('V C CAB'!BA242=\"\",'V C CAB'!BA242=\"HABILITADO  TEMPORALMENTE A COMPETENCIAS FEI\"),\"\",+'V C CAB'!BA242),\"ERROR\")","v":"NO INICIA SU CLASIFICACIÓN"},{"$f":"IF(C242='V C CAB'!C242,IF(+'V C CAB'!BA242=\"HABILITADO  TEMPORALMENTE A COMPETENCIAS FEI\",\"HABILITADO  TEMPORALMENTE A COMPETENCIAS FEI\",\"\"),\"ERROR\")","v":""}]
[{"$f":"IF('V C CAB'!A243=\"\",\"\",'V C CAB'!A243)","v":""},{"$f":"IF('V C CAB'!B243=\"\",\"\",'V C CAB'!B243)","v":"C340"},{"$f":"IF('V C CAB'!C243=\"\",\"\",'V C CAB'!C243)","v":"MEZCAL"},{"$f":"IF('V C CAB'!D243=\"\",\"\",'V C CAB'!D243)","v":"MUÑOZ DENNY"},{"$f":"IF(OR('V C CAB'!AW1408+'V C CAB'!AX1408>=2,AND('V C CAB'!AW1408+'V C CAB'!AX1408>=1,'V L CAB'!AX1416>=40),'V C CAB'!AY1408>=1),\"CLASIFICADO A 80 Km NOVICIOS\",\"\")","v":""},{"$f":"IF(C243='V C CAB'!C243,IF(OR('V C CAB'!BA243=\"\",'V C CAB'!BA243=\"HABILITADO  TEMPORALMENTE A COMPETENCIAS FEI\"),\"\",+'V C CAB'!BA243),\"ERROR\")","v":"INICIO SU CLASIFICACIÓN"},{"$f":"IF(C243='V C CAB'!C243,IF(+'V C CAB'!BA243=\"HABILITADO  TEMPORALMENTE A COMPETENCIAS FEI\",\"HABILITADO  TEMPORALMENTE A COMPETENCIAS FEI\",\"\"),\"ERROR\")","v":""}]
[{"$f":"IF('V C CAB'!A244=\"\",\"\",'V C CAB'!A244)","v":"B"},{"$f":"IF('V C CAB'!B244=\"\",\"\",'V C CAB'!B244)","v":"CO22"},{"$f":"IF('V C CAB'!C244=\"\",\"\",'V C CAB'!C244)","v":"MILENIUM"},{"$f":"IF('V C CAB'!D244=\"\",\"\",'V C CAB'!D244)","v":"ALFREDO CHIRIBOGA"},{"$f":"IF(OR('V C CAB'!AW1409+'V C CAB'!AX1409>=2,AND('V C CAB'!AW1409+'V C CAB'!AX1409>=1,'V L CAB'!AX1417>=40),'V C CAB'!AY1409>=1),\"CLASIFICADO A 80 Km NOVICIOS\",\"\")","v":""},{"$f":"IF(C244='V C CAB'!C244,IF(OR('V C CAB'!BA244=\"\",'V C CAB'!BA244=\"HABILITADO  TEMPORALMENTE A COMPETENCIAS FEI\"),\"\",+'V C CAB'!BA244),\"ERROR\")","v":"HABILITADO A 80KM VELOCIDAD CONTROLADA"},{"$f":"IF(C244='V C CAB'!C244,IF(+'V C CAB'!BA244=\"HABILITADO  TEMPORALMENTE A COMPETENCIAS FEI\",\"HABILITADO  TEMPORALMENTE A COMPETENCIAS FEI\",\"\"),\"ERROR\")","v":""}]
[{"$f":"IF('V C CAB'!A245=\"\",\"\",'V C CAB'!A245)","v":"B"},{"$f":"IF('V C CAB'!B245=\"\",\"\",'V C CAB'!B245)","v":"C029"},{"$f":"IF('V C CAB'!C245=\"\",\"\",'V C CAB'!C245)","v":"MILONGA"},{"$f":"IF('V C CAB'!D245=\"\",\"\",'V C CAB'!D245)","v":"JARAMILLO BENITO"},{"$f":"IF(OR('V C CAB'!AW1410+'V C CAB'!AX1410>=2,AND('V C CAB'!AW1410+'V C CAB'!AX1410>=1,'V L CAB'!AX1418>=40),'V C CAB'!AY1410>=1),\"CLASIFICADO A 80 Km NOVICIOS\",\"\")","v":""},{"$f":"IF(C245='V C CAB'!C245,IF(OR('V C CAB'!BA245=\"\",'V C CAB'!BA245=\"HABILITADO  TEMPORALMENTE A COMPETENCIAS FEI\"),\"\",+'V C CAB'!BA245),\"ERROR\")","v":"HABILITADO A 80KM VELOCIDAD CONTROLADA"},{"$f":"IF(C245='V C CAB'!C245,IF(+'V C CAB'!BA245=\"HABILITADO  TEMPORALMENTE A COMPETENCIAS FEI\",\"HABILITADO  TEMPORALMENTE A COMPETENCIAS FEI\",\"\"),\"ERROR\")","v":""}]
[{"$f":"IF('V C CAB'!A246=\"\",\"\",'V C CAB'!A246)","v":"B"},{"$f":"IF('V C CAB'!B246=\"\",\"\",'V C CAB'!B246)","v":"C094"},{"$f":"IF('V C CAB'!C246=\"\",\"\",'V C CAB'!C246)","v":"MISTERIO"},{"$f":"IF('V C CAB'!D246=\"\",\"\",'V C CAB'!D246)","v":"MAURICIO MORILLO"},{"$f":"IF(OR('V C CAB'!AW1411+'V C CAB'!AX1411>=2,AND('V C CAB'!AW1411+'V C CAB'!AX1411>=1,'V L CAB'!AX1419>=40),'V C CAB'!AY1411>=1),\"CLASIFICADO A 80 Km NOVICIOS\",\"\")","v":""},{"$f":"IF(C246='V C CAB'!C246,IF(OR('V C CAB'!BA246=\"\",'V C CAB'!BA246=\"HABILITADO  TEMPORALMENTE A COMPETENCIAS FEI\"),\"\",+'V C CAB'!BA246),\"ERROR\")","v":""},{"$f":"IF(C246='V C CAB'!C246,IF(+'V C CAB'!BA246=\"HABILITADO  TEMPORALMENTE A COMPETENCIAS FEI\",\"HABILITADO  TEMPORALMENTE A COMPETENCIAS FEI\",\"\"),\"ERROR\")","v":"HABILITADO  TEMPORALMENTE A COMPETENCIAS FEI"}]
[{"$f":"IF('V C CAB'!A247=\"\",\"\",'V C CAB'!A247)","v":"C009"},{"$f":"IF('V C CAB'!B247=\"\",\"\",'V C CAB'!B247)","v":"C"},{"$f":"IF('V C CAB'!C247=\"\",\"\",'V C CAB'!C247)","v":"MK CARIBE"},{"$f":"IF('V C CAB'!D247=\"\",\"\",'V C CAB'!D247)","v":""},{"$f":"IF(OR('V C CAB'!AW1412+'V C CAB'!AX1412>=2,AND('V C CAB'!AW1412+'V C CAB'!AX1412>=1,'V L CAB'!AX1420>=40),'V C CAB'!AY1412>=1),\"CLASIFICADO A 80 Km NOVICIOS\",\"\")","v":""},{"$f":"IF(C247='V C CAB'!C247,IF(OR('V C CAB'!BA247=\"\",'V C CAB'!BA247=\"HABILITADO  TEMPORALMENTE A COMPETENCIAS FEI\"),\"\",+'V C CAB'!BA247),\"ERROR\")","v":"INICIO SU CLASIFICACIÓN"},{"$f":"IF(C247='V C CAB'!C247,IF(+'V C CAB'!BA247=\"HABILITADO  TEMPORALMENTE A COMPETENCIAS FEI\",\"HABILITADO  TEMPORALMENTE A COMPETENCIAS FEI\",\"\"),\"ERROR\")","v":""}]
[{"$f":"IF('V C CAB'!A248=\"\",\"\",'V C CAB'!A248)","v":"B"},{"$f":"IF('V C CAB'!B248=\"\",\"\",'V C CAB'!B248)","v":"C"},{"$f":"IF('V C CAB'!C248=\"\",\"\",'V C CAB'!C248)","v":"MK KARANQUI"},{"$f":"IF('V C CAB'!D248=\"\",\"\",'V C CAB'!D248)","v":""},{"$f":"IF(OR('V C CAB'!AW1413+'V C CAB'!AX1413>=2,AND('V C CAB'!AW1413+'V C CAB'!AX1413>=1,'V L CAB'!AX1421>=40),'V C CAB'!AY1413>=1),\"CLASIFICADO A 80 Km NOVICIOS\",\"\")","v":""},{"$f":"IF(C248='V C CAB'!C248,IF(OR('V C CAB'!BA248=\"\",'V C CAB'!BA248=\"HABILITADO  TEMPORALMENTE A COMPETENCIAS FEI\"),\"\",+'V C CAB'!BA248),\"ERROR\")","v":"NO INICIA SU CLASIFICACIÓN"},{"$f":"IF(C248='V C CAB'!C248,IF(+'V C CAB'!BA248=\"HABILITADO  TEMPORALMENTE A COMPETENCIAS FEI\",\"HABILITADO  TEMPORALMENTE A COMPETENCIAS FEI\",\"\"),\"ERROR\")","v":""}]
[{"$f":"IF('V C CAB'!A249=\"\",\"\",'V C CAB'!A249)","v":"CC"},{"$f":"IF('V C CAB'!B249=\"\",\"\",'V C CAB'!B249)","v":"C281"},{"$f":"IF('V C CAB'!C249=\"\",\"\",'V C CAB'!C249)","v":"MK KAROK"},{"$f":"IF('V C CAB'!D249=\"\",\"\",'V C CAB'!D249)","v":"MERIZALDE ANGELA"},{"$f":"IF(OR('V C CAB'!AW1414+'V C CAB'!AX1414>=2,AND('V C CAB'!AW1414+'V C CAB'!AX1414>=1,'V L CAB'!AX1422>=40),'V C CAB'!AY1414>=1),\"CLASIFICADO A 80 Km NOVICIOS\",\"\")","v":""},{"$f":"IF(C249='V C CAB'!C249,IF(OR('V C CAB'!BA249=\"\",'V C CAB'!BA249=\"HABILITADO  TEMPORALMENTE A COMPETENCIAS FEI\"),\"\",+'V C CAB'!BA249),\"ERROR\")","v":""},{"$f":"IF(C249='V C CAB'!C249,IF(+'V C CAB'!BA249=\"HABILITADO  TEMPORALMENTE A COMPETENCIAS FEI\",\"HABILITADO  TEMPORALMENTE A COMPETENCIAS FEI\",\"\"),\"ERROR\")","v":"HABILITADO  TEMPORALMENTE A COMPETENCIAS FEI"}]
[{"$f":"IF('V C CAB'!A250=\"\",\"\",'V C CAB'!A250)","v":"B"},{"$f":"IF('V C CAB'!B250=\"\",\"\",'V C CAB'!B250)","v":"C"},{"$f":"IF('V C CAB'!C250=\"\",\"\",'V C CAB'!C250)","v":"MK KORFU"},{"$f":"IF('V C CAB'!D250=\"\",\"\",'V C CAB'!D250)","v":"ANA MARÍA MORENO"},{"$f":"IF(OR('V C CAB'!AW1415+'V C CAB'!AX1415>=2,AND('V C CAB'!AW1415+'V C CAB'!AX1415>=1,'V L CAB'!AX1423>=40),'V C CAB'!AY1415>=1),\"CLASIFICADO A 80 Km NOVICIOS\",\"\")","v":""},{"$f":"IF(C250='V C CAB'!C250,IF(OR('V C CAB'!BA250=\"\",'V C CAB'!BA250=\"HABILITADO  TEMPORALMENTE A COMPETENCIAS FEI\"),\"\",+'V C CAB'!BA250),\"ERROR\")","v":"HABILITADO A 80KM VELOCIDAD CONTROLADA"},{"$f":"IF(C250='V C CAB'!C250,IF(+'V C CAB'!BA250=\"HABILITADO  TEMPORALMENTE A COMPETENCIAS FEI\",\"HABILITADO  TEMPORALMENTE A COMPETENCIAS FEI\",\"\"),\"ERROR\")","v":""}]
[{"$f":"IF('V C CAB'!A251=\"\",\"\",'V C CAB'!A251)","v":"C309"},{"$f":"IF('V C CAB'!B251=\"\",\"\",'V C CAB'!B251)","v":"C043"},{"$f":"IF('V C CAB'!C251=\"\",\"\",'V C CAB'!C251)","v":"MK KRISTAL"},{"$f":"IF('V C CAB'!D251=\"\",\"\",'V C CAB'!D251)","v":"EDISON KUZME"},{"$f":"IF(OR('V C CAB'!AW1416+'V C CAB'!AX1416>=2,AND('V C CAB'!AW1416+'V C CAB'!AX1416>=1,'V L CAB'!AX1424>=40),'V C CAB'!AY1416>=1),\"CLASIFICADO A 80 Km NOVICIOS\",\"\")","v":""},{"$f":"IF(C251='V C CAB'!C251,IF(OR('V C CAB'!BA251=\"\",'V C CAB'!BA251=\"HABILITADO  TEMPORALMENTE A COMPETENCIAS FEI\"),\"\",+'V C CAB'!BA251),\"ERROR\")","v":"HABILITADO A 80KM VELOCIDAD CONTROLADA"},{"$f":"IF(C251='V C CAB'!C251,IF(+'V C CAB'!BA251=\"HABILITADO  TEMPORALMENTE A COMPETENCIAS FEI\",\"HABILITADO  TEMPORALMENTE A COMPETENCIAS FEI\",\"\"),\"ERROR\")","v":""}]
[{"$f":"IF('V C CAB'!A252=\"\",\"\",'V C CAB'!A252)","v":"B"},{"$f":"IF('V C CAB'!B252=\"\",\"\",'V C CAB'!B252)","v":"C091"},{"$f":"IF('V C CAB'!C252=\"\",\"\",'V C CAB'!C252)","v":"MOCACHINO MA"},{"$f":"IF('V C CAB'!D252=\"\",\"\",'V C CAB'!D252)","v":"DANIELA MORENO"},{"$f":"IF(OR('V C CAB'!AW1417+'V C CAB'!AX1417>=2,AND('V C CAB'!AW1417+'V C CAB'!AX1417>=1,'V L CAB'!AX1425>=40),'V C CAB'!AY1417>=1),\"CLASIFICADO A 80 Km NOVICIOS\",\"\")","v":""},{"$f":"IF(C252='V C CAB'!C252,IF(OR('V C CAB'!BA252=\"\",'V C CAB'!BA252=\"HABILITADO  TEMPORALMENTE A COMPETENCIAS FEI\"),\"\",+'V C CAB'!BA252),\"ERROR\")","v":""},{"$f":"IF(C252='V C CAB'!C252,IF(+'V C CAB'!BA252=\"HABILITADO  TEMPORALMENTE A COMPETENCIAS FEI\",\"HABILITADO  TEMPORALMENTE A COMPETENCIAS FEI\",\"\"),\"ERROR\")","v":"HABILITADO  TEMPORALMENTE A COMPETENCIAS FEI"}]
[{"$f":"IF('V C CAB'!A253=\"\",\"\",'V C CAB'!A253)","v":"C020"},{"$f":"IF('V C CAB'!B253=\"\",\"\",'V C CAB'!B253)","v":"C"},{"$f":"IF('V C CAB'!C253=\"\",\"\",'V C CAB'!C253)","v":"MOCACHINO PM"},{"$f":"IF('V C CAB'!D253=\"\",\"\",'V C CAB'!D253)","v":""},{"$f":"IF(OR('V C CAB'!AW1418+'V C CAB'!AX1418>=2,AND('V C CAB'!AW1418+'V C CAB'!AX1418>=1,'V L CAB'!AX1426>=40),'V C CAB'!AY1418>=1),\"CLASIFICADO A 80 Km NOVICIOS\",\"\")","v":""},{"$f":"IF(C253='V C CAB'!C253,IF(OR('V C CAB'!BA253=\"\",'V C CAB'!BA253=\"HABILITADO  TEMPORALMENTE A COMPETENCIAS FEI\"),\"\",+'V C CAB'!BA253),\"ERROR\")","v":"NO INICIA SU CLASIFICACIÓN"},{"$f":"IF(C253='V C CAB'!C253,IF(+'V C CAB'!BA253=\"HABILITADO  TEMPORALMENTE A COMPETENCIAS FEI\",\"HABILITADO  TEMPORALMENTE A COMPETENCIAS FEI\",\"\"),\"ERROR\")","v":""}]
[{"$f":"IF('V C CAB'!A254=\"\",\"\",'V C CAB'!A254)","v":"C001"},{"$f":"IF('V C CAB'!B254=\"\",\"\",'V C CAB'!B254)","v":"C002"},{"$f":"IF('V C CAB'!C254=\"\",\"\",'V C CAB'!C254)","v":"MOJITO"},{"$f":"IF('V C CAB'!D254=\"\",\"\",'V C CAB'!D254)","v":"FERNANDO ESPINDOLA"},{"$f":"IF(OR('V C CAB'!AW1419+'V C CAB'!AX1419>=2,AND('V C CAB'!AW1419+'V C CAB'!AX1419>=1,'V L CAB'!AX1427>=40),'V C CAB'!AY1419>=1),\"CLASIFICADO A 80 Km NOVICIOS\",\"\")","v":""},{"$f":"IF(C254='V C CAB'!C254,IF(OR('V C CAB'!BA254=\"\",'V C CAB'!BA254=\"HABILITADO  TEMPORALMENTE A COMPETENCIAS FEI\"),\"\",+'V C CAB'!BA254),\"ERROR\")","v":"NO INICIA SU CLASIFICACIÓN"},{"$f":"IF(C254='V C CAB'!C254,IF(+'V C CAB'!BA254=\"HABILITADO  TEMPORALMENTE A COMPETENCIAS FEI\",\"HABILITADO  TEMPORALMENTE A COMPETENCIAS FEI\",\"\"),\"ERROR\")","v":""}]
[{"$f":"IF('V C CAB'!A255=\"\",\"\",'V C CAB'!A255)","v":"C008"},{"$f":"IF('V C CAB'!B255=\"\",\"\",'V C CAB'!B255)","v":"C"},{"$f":"IF('V C CAB'!C255=\"\",\"\",'V C CAB'!C255)","v":"MONTANA"},{"$f":"IF('V C CAB'!D255=\"\",\"\",'V C CAB'!D255)","v":""},{"$f":"IF(OR('V C CAB'!AW1420+'V C CAB'!AX1420>=2,AND('V C CAB'!AW1420+'V C CAB'!AX1420>=1,'V L CAB'!AX1428>=40),'V C CAB'!AY1420>=1),\"CLASIFICADO A 80 Km NOVICIOS\",\"\")","v":""},{"$f":"IF(C255='V C CAB'!C255,IF(OR('V C CAB'!BA255=\"\",'V C CAB'!BA255=\"HABILITADO  TEMPORALMENTE A COMPETENCIAS FEI\"),\"\",+'V C CAB'!BA255),\"ERROR\")","v":"NO INICIA SU CLASIFICACIÓN"},{"$f":"IF(C255='V C CAB'!C255,IF(+'V C CAB'!BA255=\"HABILITADO  TEMPORALMENTE A COMPETENCIAS FEI\",\"HABILITADO  TEMPORALMENTE A COMPETENCIAS FEI\",\"\"),\"ERROR\")","v":""}]
[{"$f":"IF('V C CAB'!A256=\"\",\"\",'V C CAB'!A256)","v":"C216"},{"$f":"IF('V C CAB'!B256=\"\",\"\",'V C CAB'!B256)","v":"C025"},{"$f":"IF('V C CAB'!C256=\"\",\"\",'V C CAB'!C256)","v":"MORANTE"},{"$f":"IF('V C CAB'!D256=\"\",\"\",'V C CAB'!D256)","v":"SANTIAGO GUARDERAS"},{"$f":"IF(OR('V C CAB'!AW1421+'V C CAB'!AX1421>=2,AND('V C CAB'!AW1421+'V C CAB'!AX1421>=1,'V L CAB'!AX1429>=40),'V C CAB'!AY1421>=1),\"CLASIFICADO A 80 Km NOVICIOS\",\"\")","v":""},{"$f":"IF(C256='V C CAB'!C256,IF(OR('V C CAB'!BA256=\"\",'V C CAB'!BA256=\"HABILITADO  TEMPORALMENTE A COMPETENCIAS FEI\"),\"\",+'V C CAB'!BA256),\"ERROR\")","v":""},{"$f":"IF(C256='V C CAB'!C256,IF(+'V C CAB'!BA256=\"HABILITADO  TEMPORALMENTE A COMPETENCIAS FEI\",\"HABILITADO  TEMPORALMENTE A COMPETENCIAS FEI\",\"\"),\"ERROR\")","v":"HABILITADO  TEMPORALMENTE A COMPETENCIAS FEI"}]
[{"$f":"IF('V C CAB'!A257=\"\",\"\",'V C CAB'!A257)","v":"C291"},{"$f":"IF('V C CAB'!B257=\"\",\"\",'V C CAB'!B257)","v":"C027"},{"$f":"IF('V C CAB'!C257=\"\",\"\",'V C CAB'!C257)","v":"MORDOR"},{"$f":"IF('V C CAB'!D257=\"\",\"\",'V C CAB'!D257)","v":"JAIRO TIMANA"},{"$f":"IF(OR('V C CAB'!AW1422+'V C CAB'!AX1422>=2,AND('V C CAB'!AW1422+'V C CAB'!AX1422>=1,'V L CAB'!AX1430>=40),'V C CAB'!AY1422>=1),\"CLASIFICADO A 80 Km NOVICIOS\",\"\")","v":""},{"$f":"IF(C257='V C CAB'!C257,IF(OR('V C CAB'!BA257=\"\",'V C CAB'!BA257=\"HABILITADO  TEMPORALMENTE A COMPETENCIAS FEI\"),\"\",+'V C CAB'!BA257),\"ERROR\")","v":"NO INICIA SU CLASIFICACIÓN"},{"$f":"IF(C257='V C CAB'!C257,IF(+'V C CAB'!BA257=\"HABILITADO  TEMPORALMENTE A COMPETENCIAS FEI\",\"HABILITADO  TEMPORALMENTE A COMPETENCIAS FEI\",\"\"),\"ERROR\")","v":""}]
[{"$f":"IF('V C CAB'!A258=\"\",\"\",'V C CAB'!A258)","v":"B"},{"$f":"IF('V C CAB'!B258=\"\",\"\",'V C CAB'!B258)","v":"C"},{"$f":"IF('V C CAB'!C258=\"\",\"\",'V C CAB'!C258)","v":"MORITA"},{"$f":"IF('V C CAB'!D258=\"\",\"\",'V C CAB'!D258)","v":""},{"$f":"IF(OR('V C CAB'!AW1423+'V C CAB'!AX1423>=2,AND('V C CAB'!AW1423+'V C CAB'!AX1423>=1,'V L CAB'!AX1431>=40),'V C CAB'!AY1423>=1),\"CLASIFICADO A 80 Km NOVICIOS\",\"\")","v":""},{"$f":"IF(C258='V C CAB'!C258,IF(OR('V C CAB'!BA258=\"\",'V C CAB'!BA258=\"HABILITADO  TEMPORALMENTE A COMPETENCIAS FEI\"),\"\",+'V C CAB'!BA258),\"ERROR\")","v":"NO INICIA SU CLASIFICACIÓN"},{"$f":"IF(C258='V C CAB'!C258,IF(+'V C CAB'!BA258=\"HABILITADO  TEMPORALMENTE A COMPETENCIAS FEI\",\"HABILITADO  TEMPORALMENTE A COMPETENCIAS FEI\",\"\"),\"ERROR\")","v":""}]
[{"$f":"IF('V C CAB'!A259=\"\",\"\",'V C CAB'!A259)","v":"B"},{"$f":"IF('V C CAB'!B259=\"\",\"\",'V C CAB'!B259)","v":"C"},{"$f":"IF('V C CAB'!C259=\"\",\"\",'V C CAB'!C259)","v":"MORO LB"},{"$f":"IF('V C CAB'!D259=\"\",\"\",'V C CAB'!D259)","v":""},{"$f":"IF(OR('V C CAB'!AW1424+'V C CAB'!AX1424>=2,AND('V C CAB'!AW1424+'V C CAB'!AX1424>=1,'V L CAB'!AX1432>=40),'V C CAB'!AY1424>=1),\"CLASIFICADO A 80 Km NOVICIOS\",\"\")","v":""},{"$f":"IF(C259='V C CAB'!C259,IF(OR('V C CAB'!BA259=\"\",'V C CAB'!BA259=\"HABILITADO  TEMPORALMENTE A COMPETENCIAS FEI\"),\"\",+'V C CAB'!BA259),\"ERROR\")","v":""},{"$f":"IF(C259='V C CAB'!C259,IF(+'V C CAB'!BA259=\"HABILITADO  TEMPORALMENTE A COMPETENCIAS FEI\",\"HABILITADO  TEMPORALMENTE A COMPETENCIAS FEI\",\"\"),\"ERROR\")","v":"HABILITADO  TEMPORALMENTE A COMPETENCIAS FEI"}]
[{"$f":"IF('V C CAB'!A260=\"\",\"\",'V C CAB'!A260)","v":"C033"},{"$f":"IF('V C CAB'!B260=\"\",\"\",'V C CAB'!B260)","v":"C"},{"$f":"IF('V C CAB'!C260=\"\",\"\",'V C CAB'!C260)","v":"MORO LJ"},{"$f":"IF('V C CAB'!D260=\"\",\"\",'V C CAB'!D260)","v":""},{"$f":"IF(OR('V C CAB'!AW1425+'V C CAB'!AX1425>=2,AND('V C CAB'!AW1425+'V C CAB'!AX1425>=1,'V L CAB'!AX1433>=40),'V C CAB'!AY1425>=1),\"CLASIFICADO A 80 Km NOVICIOS\",\"\")","v":""},{"$f":"IF(C260='V C CAB'!C260,IF(OR('V C CAB'!BA260=\"\",'V C CAB'!BA260=\"HABILITADO  TEMPORALMENTE A COMPETENCIAS FEI\"),\"\",+'V C CAB'!BA260),\"ERROR\")","v":"NO INICIA SU CLASIFICACIÓN"},{"$f":"IF(C260='V C CAB'!C260,IF(+'V C CAB'!BA260=\"HABILITADO  TEMPORALMENTE A COMPETENCIAS FEI\",\"HABILITADO  TEMPORALMENTE A COMPETENCIAS FEI\",\"\"),\"ERROR\")","v":""}]
[{"$f":"IF('V C CAB'!A261=\"\",\"\",'V C CAB'!A261)","v":"C146"},{"$f":"IF('V C CAB'!B261=\"\",\"\",'V C CAB'!B261)","v":"C062"},{"$f":"IF('V C CAB'!C261=\"\",\"\",'V C CAB'!C261)","v":"MORO MP"},{"$f":"IF('V C CAB'!D261=\"\",\"\",'V C CAB'!D261)","v":"MARTINA DEL POZO"},{"$f":"IF(OR('V C CAB'!AW1426+'V C CAB'!AX1426>=2,AND('V C CAB'!AW1426+'V C CAB'!AX1426>=1,'V L CAB'!AX1434>=40),'V C CAB'!AY1426>=1),\"CLASIFICADO A 80 Km NOVICIOS\",\"\")","v":""},{"$f":"IF(C261='V C CAB'!C261,IF(OR('V C CAB'!BA261=\"\",'V C CAB'!BA261=\"HABILITADO  TEMPORALMENTE A COMPETENCIAS FEI\"),\"\",+'V C CAB'!BA261),\"ERROR\")","v":"INICIO SU CLASIFICACIÓN"},{"$f":"IF(C261='V C CAB'!C261,IF(+'V C CAB'!BA261=\"HABILITADO  TEMPORALMENTE A COMPETENCIAS FEI\",\"HABILITADO  TEMPORALMENTE A COMPETENCIAS FEI\",\"\"),\"ERROR\")","v":""}]
[{"$f":"IF('V C CAB'!A262=\"\",\"\",'V C CAB'!A262)","v":"CC"},{"$f":"IF('V C CAB'!B262=\"\",\"\",'V C CAB'!B262)","v":"C271"},{"$f":"IF('V C CAB'!C262=\"\",\"\",'V C CAB'!C262)","v":"MORRISON"},{"$f":"IF('V C CAB'!D262=\"\",\"\",'V C CAB'!D262)","v":"KOPPEL OSWALDO"},{"$f":"IF(OR('V C CAB'!AW1427+'V C CAB'!AX1427>=2,AND('V C CAB'!AW1427+'V C CAB'!AX1427>=1,'V L CAB'!AX1435>=40),'V C CAB'!AY1427>=1),\"CLASIFICADO A 80 Km NOVICIOS\",\"\")","v":""},{"$f":"IF(C262='V C CAB'!C262,IF(OR('V C CAB'!BA262=\"\",'V C CAB'!BA262=\"HABILITADO  TEMPORALMENTE A COMPETENCIAS FEI\"),\"\",+'V C CAB'!BA262),\"ERROR\")","v":"NO INICIA SU CLASIFICACIÓN"},{"$f":"IF(C262='V C CAB'!C262,IF(+'V C CAB'!BA262=\"HABILITADO  TEMPORALMENTE A COMPETENCIAS FEI\",\"HABILITADO  TEMPORALMENTE A COMPETENCIAS FEI\",\"\"),\"ERROR\")","v":""}]
[{"$f":"IF('V C CAB'!A263=\"\",\"\",'V C CAB'!A263)","v":"B"},{"$f":"IF('V C CAB'!B263=\"\",\"\",'V C CAB'!B263)","v":"C200"},{"$f":"IF('V C CAB'!C263=\"\",\"\",'V C CAB'!C263)","v":"MULATA"},{"$f":"IF('V C CAB'!D263=\"\",\"\",'V C CAB'!D263)","v":"LUIS AULES"},{"$f":"IF(OR('V C CAB'!AW1428+'V C CAB'!AX1428>=2,AND('V C CAB'!AW1428+'V C CAB'!AX1428>=1,'V L CAB'!AX1436>=40),'V C CAB'!AY1428>=1),\"CLASIFICADO A 80 Km NOVICIOS\",\"\")","v":""},{"$f":"IF(C263='V C CAB'!C263,IF(OR('V C CAB'!BA263=\"\",'V C CAB'!BA263=\"HABILITADO  TEMPORALMENTE A COMPETENCIAS FEI\"),\"\",+'V C CAB'!BA263),\"ERROR\")","v":"LE FALTA UNA DE 80 A 90 CONTROLADA"},{"$f":"IF(C263='V C CAB'!C263,IF(+'V C CAB'!BA263=\"HABILITADO  TEMPORALMENTE A COMPETENCIAS FEI\",\"HABILITADO  TEMPORALMENTE A COMPETENCIAS FEI\",\"\"),\"ERROR\")","v":""}]
[{"$f":"IF('V C CAB'!A264=\"\",\"\",'V C CAB'!A264)","v":"B"},{"$f":"IF('V C CAB'!B264=\"\",\"\",'V C CAB'!B264)","v":"C255"},{"$f":"IF('V C CAB'!C264=\"\",\"\",'V C CAB'!C264)","v":"MULITA"},{"$f":"IF('V C CAB'!D264=\"\",\"\",'V C CAB'!D264)","v":"MALO DAVID"},{"$f":"IF(OR('V C CAB'!AW1429+'V C CAB'!AX1429>=2,AND('V C CAB'!AW1429+'V C CAB'!AX1429>=1,'V L CAB'!AX1437>=40),'V C CAB'!AY1429>=1),\"CLASIFICADO A 80 Km NOVICIOS\",\"\")","v":""},{"$f":"IF(C264='V C CAB'!C264,IF(OR('V C CAB'!BA264=\"\",'V C CAB'!BA264=\"HABILITADO  TEMPORALMENTE A COMPETENCIAS FEI\"),\"\",+'V C CAB'!BA264),\"ERROR\")","v":"HABILITADO A 80KM VELOCIDAD CONTROLADA"},{"$f":"IF(C264='V C CAB'!C264,IF(+'V C CAB'!BA264=\"HABILITADO  TEMPORALMENTE A COMPETENCIAS FEI\",\"HABILITADO  TEMPORALMENTE A COMPETENCIAS FEI\",\"\"),\"ERROR\")","v":""}]
[{"$f":"IF('V C CAB'!A265=\"\",\"\",'V C CAB'!A265)","v":"C075"},{"$f":"IF('V C CAB'!B265=\"\",\"\",'V C CAB'!B265)","v":"C144"},{"$f":"IF('V C CAB'!C265=\"\",\"\",'V C CAB'!C265)","v":"MUSKATEL"},{"$f":"IF('V C CAB'!D265=\"\",\"\",'V C CAB'!D265)","v":""},{"$f":"IF(OR('V C CAB'!AW1430+'V C CAB'!AX1430>=2,AND('V C CAB'!AW1430+'V C CAB'!AX1430>=1,'V L CAB'!AX1438>=40),'V C CAB'!AY1430>=1),\"CLASIFICADO A 80 Km NOVICIOS\",\"\")","v":""},{"$f":"IF(C265='V C CAB'!C265,IF(OR('V C CAB'!BA265=\"\",'V C CAB'!BA265=\"HABILITADO  TEMPORALMENTE A COMPETENCIAS FEI\"),\"\",+'V C CAB'!BA265),\"ERROR\")","v":"HABILITADO A 80KM VELOCIDAD CONTROLADA"},{"$f":"IF(C265='V C CAB'!C265,IF(+'V C CAB'!BA265=\"HABILITADO  TEMPORALMENTE A COMPETENCIAS FEI\",\"HABILITADO  TEMPORALMENTE A COMPETENCIAS FEI\",\"\"),\"ERROR\")","v":""}]
[{"$f":"IF('V C CAB'!A266=\"\",\"\",'V C CAB'!A266)","v":"C039"},{"$f":"IF('V C CAB'!B266=\"\",\"\",'V C CAB'!B266)","v":"C009"},{"$f":"IF('V C CAB'!C266=\"\",\"\",'V C CAB'!C266)","v":"MUSTAFA"},{"$f":"IF('V C CAB'!D266=\"\",\"\",'V C CAB'!D266)","v":"MARIA ELENA YEROVI"},{"$f":"IF(OR('V C CAB'!AW1431+'V C CAB'!AX1431>=2,AND('V C CAB'!AW1431+'V C CAB'!AX1431>=1,'V L CAB'!AX1439>=40),'V C CAB'!AY1431>=1),\"CLASIFICADO A 80 Km NOVICIOS\",\"\")","v":""},{"$f":"IF(C266='V C CAB'!C266,IF(OR('V C CAB'!BA266=\"\",'V C CAB'!BA266=\"HABILITADO  TEMPORALMENTE A COMPETENCIAS FEI\"),\"\",+'V C CAB'!BA266),\"ERROR\")","v":"NO INICIA SU CLASIFICACIÓN"},{"$f":"IF(C266='V C CAB'!C266,IF(+'V C CAB'!BA266=\"HABILITADO  TEMPORALMENTE A COMPETENCIAS FEI\",\"HABILITADO  TEMPORALMENTE A COMPETENCIAS FEI\",\"\"),\"ERROR\")","v":""}]
[{"$f":"IF('V C CAB'!A267=\"\",\"\",'V C CAB'!A267)","v":"C208"},{"$f":"IF('V C CAB'!B267=\"\",\"\",'V C CAB'!B267)","v":"C"},{"$f":"IF('V C CAB'!C267=\"\",\"\",'V C CAB'!C267)","v":"MUSTAFA II SF"},{"$f":"IF('V C CAB'!D267=\"\",\"\",'V C CAB'!D267)","v":""},{"$f":"IF(OR('V C CAB'!AW1432+'V C CAB'!AX1432>=2,AND('V C CAB'!AW1432+'V C CAB'!AX1432>=1,'V L CAB'!AX1440>=40),'V C CAB'!AY1432>=1),\"CLASIFICADO A 80 Km NOVICIOS\",\"\")","v":""},{"$f":"IF(C267='V C CAB'!C267,IF(OR('V C CAB'!BA267=\"\",'V C CAB'!BA267=\"HABILITADO  TEMPORALMENTE A COMPETENCIAS FEI\"),\"\",+'V C CAB'!BA267),\"ERROR\")","v":"NO INICIA SU CLASIFICACIÓN"},{"$f":"IF(C267='V C CAB'!C267,IF(+'V C CAB'!BA267=\"HABILITADO  TEMPORALMENTE A COMPETENCIAS FEI\",\"HABILITADO  TEMPORALMENTE A COMPETENCIAS FEI\",\"\"),\"ERROR\")","v":""}]
[{"$f":"IF('V C CAB'!A268=\"\",\"\",'V C CAB'!A268)","v":"C188"},{"$f":"IF('V C CAB'!B268=\"\",\"\",'V C CAB'!B268)","v":"C"},{"$f":"IF('V C CAB'!C268=\"\",\"\",'V C CAB'!C268)","v":"MUSTAFA MD"},{"$f":"IF('V C CAB'!D268=\"\",\"\",'V C CAB'!D268)","v":""},{"$f":"IF(OR('V C CAB'!AW1433+'V C CAB'!AX1433>=2,AND('V C CAB'!AW1433+'V C CAB'!AX1433>=1,'V L CAB'!AX1441>=40),'V C CAB'!AY1433>=1),\"CLASIFICADO A 80 Km NOVICIOS\",\"\")","v":""},{"$f":"IF(C268='V C CAB'!C268,IF(OR('V C CAB'!BA268=\"\",'V C CAB'!BA268=\"HABILITADO  TEMPORALMENTE A COMPETENCIAS FEI\"),\"\",+'V C CAB'!BA268),\"ERROR\")","v":"NO INICIA SU CLASIFICACIÓN"},{"$f":"IF(C268='V C CAB'!C268,IF(+'V C CAB'!BA268=\"HABILITADO  TEMPORALMENTE A COMPETENCIAS FEI\",\"HABILITADO  TEMPORALMENTE A COMPETENCIAS FEI\",\"\"),\"ERROR\")","v":""}]
[{"$f":"IF('V C CAB'!A269=\"\",\"\",'V C CAB'!A269)","v":"C052"},{"$f":"IF('V C CAB'!B269=\"\",\"\",'V C CAB'!B269)","v":"C"},{"$f":"IF('V C CAB'!C269=\"\",\"\",'V C CAB'!C269)","v":"MUSTAFA PI"},{"$f":"IF('V C CAB'!D269=\"\",\"\",'V C CAB'!D269)","v":""},{"$f":"IF(OR('V C CAB'!AW1434+'V C CAB'!AX1434>=2,AND('V C CAB'!AW1434+'V C CAB'!AX1434>=1,'V L CAB'!AX1442>=40),'V C CAB'!AY1434>=1),\"CLASIFICADO A 80 Km NOVICIOS\",\"\")","v":""},{"$f":"IF(C269='V C CAB'!C269,IF(OR('V C CAB'!BA269=\"\",'V C CAB'!BA269=\"HABILITADO  TEMPORALMENTE A COMPETENCIAS FEI\"),\"\",+'V C CAB'!BA269),\"ERROR\")","v":""},{"$f":"IF(C269='V C CAB'!C269,IF(+'V C CAB'!BA269=\"HABILITADO  TEMPORALMENTE A COMPETENCIAS FEI\",\"HABILITADO  TEMPORALMENTE A COMPETENCIAS FEI\",\"\"),\"ERROR\")","v":"HABILITADO  TEMPORALMENTE A COMPETENCIAS FEI"}]
[{"$f":"IF('V C CAB'!A270=\"\",\"\",'V C CAB'!A270)","v":"C113"},{"$f":"IF('V C CAB'!B270=\"\",\"\",'V C CAB'!B270)","v":"C030"},{"$f":"IF('V C CAB'!C270=\"\",\"\",'V C CAB'!C270)","v":"NAIPE"},{"$f":"IF('V C CAB'!D270=\"\",\"\",'V C CAB'!D270)","v":"MARCEL ROBERTO"},{"$f":"IF(OR('V C CAB'!AW1435+'V C CAB'!AX1435>=2,AND('V C CAB'!AW1435+'V C CAB'!AX1435>=1,'V L CAB'!AX1443>=40),'V C CAB'!AY1435>=1),\"CLASIFICADO A 80 Km NOVICIOS\",\"\")","v":""},{"$f":"IF(C270='V C CAB'!C270,IF(OR('V C CAB'!BA270=\"\",'V C CAB'!BA270=\"HABILITADO  TEMPORALMENTE A COMPETENCIAS FEI\"),\"\",+'V C CAB'!BA270),\"ERROR\")","v":"INICIO SU CLASIFICACIÓN"},{"$f":"IF(C270='V C CAB'!C270,IF(+'V C CAB'!BA270=\"HABILITADO  TEMPORALMENTE A COMPETENCIAS FEI\",\"HABILITADO  TEMPORALMENTE A COMPETENCIAS FEI\",\"\"),\"ERROR\")","v":""}]
[{"$f":"IF('V C CAB'!A271=\"\",\"\",'V C CAB'!A271)","v":"C063"},{"$f":"IF('V C CAB'!B271=\"\",\"\",'V C CAB'!B271)","v":"C"},{"$f":"IF('V C CAB'!C271=\"\",\"\",'V C CAB'!C271)","v":"NARA"},{"$f":"IF('V C CAB'!D271=\"\",\"\",'V C CAB'!D271)","v":""},{"$f":"IF(OR('V C CAB'!AW1436+'V C CAB'!AX1436>=2,AND('V C CAB'!AW1436+'V C CAB'!AX1436>=1,'V L CAB'!AX1444>=40),'V C CAB'!AY1436>=1),\"CLASIFICADO A 80 Km NOVICIOS\",\"\")","v":""},{"$f":"IF(C271='V C CAB'!C271,IF(OR('V C CAB'!BA271=\"\",'V C CAB'!BA271=\"HABILITADO  TEMPORALMENTE A COMPETENCIAS FEI\"),\"\",+'V C CAB'!BA271),\"ERROR\")","v":"INICIO SU CLASIFICACIÓN"},{"$f":"IF(C271='V C CAB'!C271,IF(+'V C CAB'!BA271=\"HABILITADO  TEMPORALMENTE A COMPETENCIAS FEI\",\"HABILITADO  TEMPORALMENTE A COMPETENCIAS FEI\",\"\"),\"ERROR\")","v":""}]
[{"$f":"IF('V C CAB'!A272=\"\",\"\",'V C CAB'!A272)","v":"C103"},{"$f":"IF('V C CAB'!B272=\"\",\"\",'V C CAB'!B272)","v":"C044"},{"$f":"IF('V C CAB'!C272=\"\",\"\",'V C CAB'!C272)","v":"NATANYA"},{"$f":"IF('V C CAB'!D272=\"\",\"\",'V C CAB'!D272)","v":"LUIS ENRIQUE LANDAZURI"},{"$f":"IF(OR('V C CAB'!AW1437+'V C CAB'!AX1437>=2,AND('V C CAB'!AW1437+'V C CAB'!AX1437>=1,'V L CAB'!AX1445>=40),'V C CAB'!AY1437>=1),\"CLASIFICADO A 80 Km NOVICIOS\",\"\")","v":""},{"$f":"IF(C272='V C CAB'!C272,IF(OR('V C CAB'!BA272=\"\",'V C CAB'!BA272=\"HABILITADO  TEMPORALMENTE A COMPETENCIAS FEI\"),\"\",+'V C CAB'!BA272),\"ERROR\")","v":"INICIO SU CLASIFICACIÓN"},{"$f":"IF(C272='V C CAB'!C272,IF(+'V C CAB'!BA272=\"HABILITADO  TEMPORALMENTE A COMPETENCIAS FEI\",\"HABILITADO  TEMPORALMENTE A COMPETENCIAS FEI\",\"\"),\"ERROR\")","v":""}]
[{"$f":"IF('V C CAB'!A273=\"\",\"\",'V C CAB'!A273)","v":"CC"},{"$f":"IF('V C CAB'!B273=\"\",\"\",'V C CAB'!B273)","v":"C285"},{"$f":"IF('V C CAB'!C273=\"\",\"\",'V C CAB'!C273)","v":"NEGRA"},{"$f":"IF('V C CAB'!D273=\"\",\"\",'V C CAB'!D273)","v":"VINTIMILLA SERRANO PABLO"},{"$f":"IF(OR('V C CAB'!AW1438+'V C CAB'!AX1438>=2,AND('V C CAB'!AW1438+'V C CAB'!AX1438>=1,'V L CAB'!AX1446>=40),'V C CAB'!AY1438>=1),\"CLASIFICADO A 80 Km NOVICIOS\",\"\")","v":""},{"$f":"IF(C273='V C CAB'!C273,IF(OR('V C CAB'!BA273=\"\",'V C CAB'!BA273=\"HABILITADO  TEMPORALMENTE A COMPETENCIAS FEI\"),\"\",+'V C CAB'!BA273),\"ERROR\")","v":"INICIO SU CLASIFICACIÓN"},{"$f":"IF(C273='V C CAB'!C273,IF(+'V C CAB'!BA273=\"HABILITADO  TEMPORALMENTE A COMPETENCIAS FEI\",\"HABILITADO  TEMPORALMENTE A COMPETENCIAS FEI\",\"\"),\"ERROR\")","v":""}]
[{"$f":"IF('V C CAB'!A274=\"\",\"\",'V C CAB'!A274)","v":"C064"},{"$f":"IF('V C CAB'!B274=\"\",\"\",'V C CAB'!B274)","v":"C"},{"$f":"IF('V C CAB'!C274=\"\",\"\",'V C CAB'!C274)","v":"NEGRO BD"},{"$f":"IF('V C CAB'!D274=\"\",\"\",'V C CAB'!D274)","v":""},{"$f":"IF(OR('V C CAB'!AW1439+'V C CAB'!AX1439>=2,AND('V C CAB'!AW1439+'V C CAB'!AX1439>=1,'V L CAB'!AX1447>=40),'V C CAB'!AY1439>=1),\"CLASIFICADO A 80 Km NOVICIOS\",\"\")","v":""},{"$f":"IF(C274='V C CAB'!C274,IF(OR('V C CAB'!BA274=\"\",'V C CAB'!BA274=\"HABILITADO  TEMPORALMENTE A COMPETENCIAS FEI\"),\"\",+'V C CAB'!BA274),\"ERROR\")","v":"NO INICIA SU CLASIFICACIÓN"},{"$f":"IF(C274='V C CAB'!C274,IF(+'V C CAB'!BA274=\"HABILITADO  TEMPORALMENTE A COMPETENCIAS FEI\",\"HABILITADO  TEMPORALMENTE A COMPETENCIAS FEI\",\"\"),\"ERROR\")","v":""}]
[{"$f":"IF('V C CAB'!A275=\"\",\"\",'V C CAB'!A275)","v":"CC"},{"$f":"IF('V C CAB'!B275=\"\",\"\",'V C CAB'!B275)","v":"C286"},{"$f":"IF('V C CAB'!C275=\"\",\"\",'V C CAB'!C275)","v":"NEGRO EG"},{"$f":"IF('V C CAB'!D275=\"\",\"\",'V C CAB'!D275)","v":"BURBANO VILLAVICENCIO JAIME SEBASTIAN"},{"$f":"IF(OR('V C CAB'!AW1440+'V C CAB'!AX1440>=2,AND('V C CAB'!AW1440+'V C CAB'!AX1440>=1,'V L CAB'!AX1448>=40),'V C CAB'!AY1440>=1),\"CLASIFICADO A 80 Km NOVICIOS\",\"\")","v":""},{"$f":"IF(C275='V C CAB'!C275,IF(OR('V C CAB'!BA275=\"\",'V C CAB'!BA275=\"HABILITADO  TEMPORALMENTE A COMPETENCIAS FEI\"),\"\",+'V C CAB'!BA275),\"ERROR\")","v":"HABILITADO A 80KM VELOCIDAD CONTROLADA"},{"$f":"IF(C275='V C CAB'!C275,IF(+'V C CAB'!BA275=\"HABILITADO  TEMPORALMENTE A COMPETENCIAS FEI\",\"HABILITADO  TEMPORALMENTE A COMPETENCIAS FEI\",\"\"),\"ERROR\")","v":""}]
[{"$f":"IF('V C CAB'!A276=\"\",\"\",'V C CAB'!A276)","v":"C161"},{"$f":"IF('V C CAB'!B276=\"\",\"\",'V C CAB'!B276)","v":"C"},{"$f":"IF('V C CAB'!C276=\"\",\"\",'V C CAB'!C276)","v":"NEMO VM"},{"$f":"IF('V C CAB'!D276=\"\",\"\",'V C CAB'!D276)","v":""},{"$f":"IF(OR('V C CAB'!AW1441+'V C CAB'!AX1441>=2,AND('V C CAB'!AW1441+'V C CAB'!AX1441>=1,'V L CAB'!AX1449>=40),'V C CAB'!AY1441>=1),\"CLASIFICADO A 80 Km NOVICIOS\",\"\")","v":""},{"$f":"IF(C276='V C CAB'!C276,IF(OR('V C CAB'!BA276=\"\",'V C CAB'!BA276=\"HABILITADO  TEMPORALMENTE A COMPETENCIAS FEI\"),\"\",+'V C CAB'!BA276),\"ERROR\")","v":"NO INICIA SU CLASIFICACIÓN"},{"$f":"IF(C276='V C CAB'!C276,IF(+'V C CAB'!BA276=\"HABILITADO  TEMPORALMENTE A COMPETENCIAS FEI\",\"HABILITADO  TEMPORALMENTE A COMPETENCIAS FEI\",\"\"),\"ERROR\")","v":""}]
[{"$f":"IF('V C CAB'!A277=\"\",\"\",'V C CAB'!A277)","v":"CC"},{"$f":"IF('V C CAB'!B277=\"\",\"\",'V C CAB'!B277)","v":"C287"},{"$f":"IF('V C CAB'!C277=\"\",\"\",'V C CAB'!C277)","v":"NENA"},{"$f":"IF('V C CAB'!D277=\"\",\"\",'V C CAB'!D277)","v":"BURBANO SERRANO JUAN JOSE"},{"$f":"IF(OR('V C CAB'!AW1442+'V C CAB'!AX1442>=2,AND('V C CAB'!AW1442+'V C CAB'!AX1442>=1,'V L CAB'!AX1450>=40),'V C CAB'!AY1442>=1),\"CLASIFICADO A 80 Km NOVICIOS\",\"\")","v":""},{"$f":"IF(C277='V C CAB'!C277,IF(OR('V C CAB'!BA277=\"\",'V C CAB'!BA277=\"HABILITADO  TEMPORALMENTE A COMPETENCIAS FEI\"),\"\",+'V C CAB'!BA277),\"ERROR\")","v":"NO INICIA SU CLASIFICACIÓN"},{"$f":"IF(C277='V C CAB'!C277,IF(+'V C CAB'!BA277=\"HABILITADO  TEMPORALMENTE A COMPETENCIAS FEI\",\"HABILITADO  TEMPORALMENTE A COMPETENCIAS FEI\",\"\"),\"ERROR\")","v":""}]
[{"$f":"IF('V C CAB'!A278=\"\",\"\",'V C CAB'!A278)","v":"C066"},{"$f":"IF('V C CAB'!B278=\"\",\"\",'V C CAB'!B278)","v":"C"},{"$f":"IF('V C CAB'!C278=\"\",\"\",'V C CAB'!C278)","v":"NERU LP BJ"},{"$f":"IF('V C CAB'!D278=\"\",\"\",'V C CAB'!D278)","v":""},{"$f":"IF(OR('V C CAB'!AW1443+'V C CAB'!AX1443>=2,AND('V C CAB'!AW1443+'V C CAB'!AX1443>=1,'V L CAB'!AX1451>=40),'V C CAB'!AY1443>=1),\"CLASIFICADO A 80 Km NOVICIOS\",\"\")","v":""},{"$f":"IF(C278='V C CAB'!C278,IF(OR('V C CAB'!BA278=\"\",'V C CAB'!BA278=\"HABILITADO  TEMPORALMENTE A COMPETENCIAS FEI\"),\"\",+'V C CAB'!BA278),\"ERROR\")","v":"NO INICIA SU CLASIFICACIÓN"},{"$f":"IF(C278='V C CAB'!C278,IF(+'V C CAB'!BA278=\"HABILITADO  TEMPORALMENTE A COMPETENCIAS FEI\",\"HABILITADO  TEMPORALMENTE A COMPETENCIAS FEI\",\"\"),\"ERROR\")","v":""}]
[{"$f":"IF('V C CAB'!A279=\"\",\"\",'V C CAB'!A279)","v":"CC"},{"$f":"IF('V C CAB'!B279=\"\",\"\",'V C CAB'!B279)","v":"C288"},{"$f":"IF('V C CAB'!C279=\"\",\"\",'V C CAB'!C279)","v":"NEVADO"},{"$f":"IF('V C CAB'!D279=\"\",\"\",'V C CAB'!D279)","v":"SORIA VASQUEZ MARIA DANIELA"},{"$f":"IF(OR('V C CAB'!AW1444+'V C CAB'!AX1444>=2,AND('V C CAB'!AW1444+'V C CAB'!AX1444>=1,'V L CAB'!AX1452>=40),'V C CAB'!AY1444>=1),\"CLASIFICADO A 80 Km NOVICIOS\",\"\")","v":""},{"$f":"IF(C279='V C CAB'!C279,IF(OR('V C CAB'!BA279=\"\",'V C CAB'!BA279=\"HABILITADO  TEMPORALMENTE A COMPETENCIAS FEI\"),\"\",+'V C CAB'!BA279),\"ERROR\")","v":"INICIO SU CLASIFICACIÓN"},{"$f":"IF(C279='V C CAB'!C279,IF(+'V C CAB'!BA279=\"HABILITADO  TEMPORALMENTE A COMPETENCIAS FEI\",\"HABILITADO  TEMPORALMENTE A COMPETENCIAS FEI\",\"\"),\"ERROR\")","v":""}]
[{"$f":"IF('V C CAB'!A280=\"\",\"\",'V C CAB'!A280)","v":"C181"},{"$f":"IF('V C CAB'!B280=\"\",\"\",'V C CAB'!B280)","v":"C019"},{"$f":"IF('V C CAB'!C280=\"\",\"\",'V C CAB'!C280)","v":"NICOLAS"},{"$f":"IF('V C CAB'!D280=\"\",\"\",'V C CAB'!D280)","v":"MANUELA JARAMILLO"},{"$f":"IF(OR('V C CAB'!AW1445+'V C CAB'!AX1445>=2,AND('V C CAB'!AW1445+'V C CAB'!AX1445>=1,'V L CAB'!AX1453>=40),'V C CAB'!AY1445>=1),\"CLASIFICADO A 80 Km NOVICIOS\",\"\")","v":""},{"$f":"IF(C280='V C CAB'!C280,IF(OR('V C CAB'!BA280=\"\",'V C CAB'!BA280=\"HABILITADO  TEMPORALMENTE A COMPETENCIAS FEI\"),\"\",+'V C CAB'!BA280),\"ERROR\")","v":""},{"$f":"IF(C280='V C CAB'!C280,IF(+'V C CAB'!BA280=\"HABILITADO  TEMPORALMENTE A COMPETENCIAS FEI\",\"HABILITADO  TEMPORALMENTE A COMPETENCIAS FEI\",\"\"),\"ERROR\")","v":"HABILITADO  TEMPORALMENTE A COMPETENCIAS FEI"}]
[{"$f":"IF('V C CAB'!A281=\"\",\"\",'V C CAB'!A281)","v":"CC"},{"$f":"IF('V C CAB'!B281=\"\",\"\",'V C CAB'!B281)","v":"C289"},{"$f":"IF('V C CAB'!C281=\"\",\"\",'V C CAB'!C281)","v":"ÑATO"},{"$f":"IF('V C CAB'!D281=\"\",\"\",'V C CAB'!D281)","v":"FEICAN ANDRES"},{"$f":"IF(OR('V C CAB'!AW1446+'V C CAB'!AX1446>=2,AND('V C CAB'!AW1446+'V C CAB'!AX1446>=1,'V L CAB'!AX1454>=40),'V C CAB'!AY1446>=1),\"CLASIFICADO A 80 Km NOVICIOS\",\"\")","v":""},{"$f":"IF(C281='V C CAB'!C281,IF(OR('V C CAB'!BA281=\"\",'V C CAB'!BA281=\"HABILITADO  TEMPORALMENTE A COMPETENCIAS FEI\"),\"\",+'V C CAB'!BA281),\"ERROR\")","v":"NO INICIA SU CLASIFICACIÓN"},{"$f":"IF(C281='V C CAB'!C281,IF(+'V C CAB'!BA281=\"HABILITADO  TEMPORALMENTE A COMPETENCIAS FEI\",\"HABILITADO  TEMPORALMENTE A COMPETENCIAS FEI\",\"\"),\"ERROR\")","v":""}]
[{"$f":"IF('V C CAB'!A282=\"\",\"\",'V C CAB'!A282)","v":"CC"},{"$f":"IF('V C CAB'!B282=\"\",\"\",'V C CAB'!B282)","v":"C290"},{"$f":"IF('V C CAB'!C282=\"\",\"\",'V C CAB'!C282)","v":"PADRINO"},{"$f":"IF('V C CAB'!D282=\"\",\"\",'V C CAB'!D282)","v":"GONZALEZ ANA MARIA"},{"$f":"IF(OR('V C CAB'!AW1447+'V C CAB'!AX1447>=2,AND('V C CAB'!AW1447+'V C CAB'!AX1447>=1,'V L CAB'!AX1455>=40),'V C CAB'!AY1447>=1),\"CLASIFICADO A 80 Km NOVICIOS\",\"\")","v":""},{"$f":"IF(C282='V C CAB'!C282,IF(OR('V C CAB'!BA282=\"\",'V C CAB'!BA282=\"HABILITADO  TEMPORALMENTE A COMPETENCIAS FEI\"),\"\",+'V C CAB'!BA282),\"ERROR\")","v":"HABILITADO A 80KM VELOCIDAD CONTROLADA"},{"$f":"IF(C282='V C CAB'!C282,IF(+'V C CAB'!BA282=\"HABILITADO  TEMPORALMENTE A COMPETENCIAS FEI\",\"HABILITADO  TEMPORALMENTE A COMPETENCIAS FEI\",\"\"),\"ERROR\")","v":""}]
[{"$f":"IF('V C CAB'!A283=\"\",\"\",'V C CAB'!A283)","v":""},{"$f":"IF('V C CAB'!B283=\"\",\"\",'V C CAB'!B283)","v":"C199"},{"$f":"IF('V C CAB'!C283=\"\",\"\",'V C CAB'!C283)","v":"PAINT HORSES"},{"$f":"IF('V C CAB'!D283=\"\",\"\",'V C CAB'!D283)","v":"MALO GELLIBERT ANDREA NATALY"},{"$f":"IF(OR('V C CAB'!AW1448+'V C CAB'!AX1448>=2,AND('V C CAB'!AW1448+'V C CAB'!AX1448>=1,'V L CAB'!AX1456>=40),'V C CAB'!AY1448>=1),\"CLASIFICADO A 80 Km NOVICIOS\",\"\")","v":""},{"$f":"IF(C283='V C CAB'!C283,IF(OR('V C CAB'!BA283=\"\",'V C CAB'!BA283=\"HABILITADO  TEMPORALMENTE A COMPETENCIAS FEI\"),\"\",+'V C CAB'!BA283),\"ERROR\")","v":"INICIO SU CLASIFICACIÓN"},{"$f":"IF(C283='V C CAB'!C283,IF(+'V C CAB'!BA283=\"HABILITADO  TEMPORALMENTE A COMPETENCIAS FEI\",\"HABILITADO  TEMPORALMENTE A COMPETENCIAS FEI\",\"\"),\"ERROR\")","v":""}]
[{"$f":"IF('V C CAB'!A284=\"\",\"\",'V C CAB'!A284)","v":"CC"},{"$f":"IF('V C CAB'!B284=\"\",\"\",'V C CAB'!B284)","v":"C291"},{"$f":"IF('V C CAB'!C284=\"\",\"\",'V C CAB'!C284)","v":"PALERMO"},{"$f":"IF('V C CAB'!D284=\"\",\"\",'V C CAB'!D284)","v":"MALO MARIBEL"},{"$f":"IF(OR('V C CAB'!AW1449+'V C CAB'!AX1449>=2,AND('V C CAB'!AW1449+'V C CAB'!AX1449>=1,'V L CAB'!AX1457>=40),'V C CAB'!AY1449>=1),\"CLASIFICADO A 80 Km NOVICIOS\",\"\")","v":""},{"$f":"IF(C284='V C CAB'!C284,IF(OR('V C CAB'!BA284=\"\",'V C CAB'!BA284=\"HABILITADO  TEMPORALMENTE A COMPETENCIAS FEI\"),\"\",+'V C CAB'!BA284),\"ERROR\")","v":"INICIO SU CLASIFICACIÓN"},{"$f":"IF(C284='V C CAB'!C284,IF(+'V C CAB'!BA284=\"HABILITADO  TEMPORALMENTE A COMPETENCIAS FEI\",\"HABILITADO  TEMPORALMENTE A COMPETENCIAS FEI\",\"\"),\"ERROR\")","v":""}]
[{"$f":"IF('V C CAB'!A285=\"\",\"\",'V C CAB'!A285)","v":"B"},{"$f":"IF('V C CAB'!B285=\"\",\"\",'V C CAB'!B285)","v":"C039"},{"$f":"IF('V C CAB'!C285=\"\",\"\",'V C CAB'!C285)","v":"PALOMA"},{"$f":"IF('V C CAB'!D285=\"\",\"\",'V C CAB'!D285)","v":"VLADIMIR TORRES"},{"$f":"IF(OR('V C CAB'!AW1450+'V C CAB'!AX1450>=2,AND('V C CAB'!AW1450+'V C CAB'!AX1450>=1,'V L CAB'!AX1458>=40),'V C CAB'!AY1450>=1),\"CLASIFICADO A 80 Km NOVICIOS\",\"\")","v":""},{"$f":"IF(C285='V C CAB'!C285,IF(OR('V C CAB'!BA285=\"\",'V C CAB'!BA285=\"HABILITADO  TEMPORALMENTE A COMPETENCIAS FEI\"),\"\",+'V C CAB'!BA285),\"ERROR\")","v":"INICIO SU CLASIFICACIÓN"},{"$f":"IF(C285='V C CAB'!C285,IF(+'V C CAB'!BA285=\"HABILITADO  TEMPORALMENTE A COMPETENCIAS FEI\",\"HABILITADO  TEMPORALMENTE A COMPETENCIAS FEI\",\"\"),\"ERROR\")","v":""}]
[{"$f":"IF('V C CAB'!A286=\"\",\"\",'V C CAB'!A286)","v":"B"},{"$f":"IF('V C CAB'!B286=\"\",\"\",'V C CAB'!B286)","v":"C"},{"$f":"IF('V C CAB'!C286=\"\",\"\",'V C CAB'!C286)","v":"PAPILLON"},{"$f":"IF('V C CAB'!D286=\"\",\"\",'V C CAB'!D286)","v":""},{"$f":"IF(OR('V C CAB'!AW1451+'V C CAB'!AX1451>=2,AND('V C CAB'!AW1451+'V C CAB'!AX1451>=1,'V L CAB'!AX1459>=40),'V C CAB'!AY1451>=1),\"CLASIFICADO A 80 Km NOVICIOS\",\"\")","v":""},{"$f":"IF(C286='V C CAB'!C286,IF(OR('V C CAB'!BA286=\"\",'V C CAB'!BA286=\"HABILITADO  TEMPORALMENTE A COMPETENCIAS FEI\"),\"\",+'V C CAB'!BA286),\"ERROR\")","v":"NO INICIA SU CLASIFICACIÓN"},{"$f":"IF(C286='V C CAB'!C286,IF(+'V C CAB'!BA286=\"HABILITADO  TEMPORALMENTE A COMPETENCIAS FEI\",\"HABILITADO  TEMPORALMENTE A COMPETENCIAS FEI\",\"\"),\"ERROR\")","v":""}]
[{"$f":"IF('V C CAB'!A287=\"\",\"\",'V C CAB'!A287)","v":"CC"},{"$f":"IF('V C CAB'!B287=\"\",\"\",'V C CAB'!B287)","v":"C197"},{"$f":"IF('V C CAB'!C287=\"\",\"\",'V C CAB'!C287)","v":"PATACON"},{"$f":"IF('V C CAB'!D287=\"\",\"\",'V C CAB'!D287)","v":"CLAUDIA LOYOLA"},{"$f":"IF(OR('V C CAB'!AW1452+'V C CAB'!AX1452>=2,AND('V C CAB'!AW1452+'V C CAB'!AX1452>=1,'V L CAB'!AX1460>=40),'V C CAB'!AY1452>=1),\"CLASIFICADO A 80 Km NOVICIOS\",\"\")","v":""},{"$f":"IF(C287='V C CAB'!C287,IF(OR('V C CAB'!BA287=\"\",'V C CAB'!BA287=\"HABILITADO  TEMPORALMENTE A COMPETENCIAS FEI\"),\"\",+'V C CAB'!BA287),\"ERROR\")","v":""},{"$f":"IF(C287='V C CAB'!C287,IF(+'V C CAB'!BA287=\"HABILITADO  TEMPORALMENTE A COMPETENCIAS FEI\",\"HABILITADO  TEMPORALMENTE A COMPETENCIAS FEI\",\"\"),\"ERROR\")","v":"HABILITADO  TEMPORALMENTE A COMPETENCIAS FEI"}]
[{"$f":"IF('V C CAB'!A288=\"\",\"\",'V C CAB'!A288)","v":"C139"},{"$f":"IF('V C CAB'!B288=\"\",\"\",'V C CAB'!B288)","v":"C"},{"$f":"IF('V C CAB'!C288=\"\",\"\",'V C CAB'!C288)","v":"PAVAROTI VM"},{"$f":"IF('V C CAB'!D288=\"\",\"\",'V C CAB'!D288)","v":""},{"$f":"IF(OR('V C CAB'!AW1453+'V C CAB'!AX1453>=2,AND('V C CAB'!AW1453+'V C CAB'!AX1453>=1,'V L CAB'!AX1461>=40),'V C CAB'!AY1453>=1),\"CLASIFICADO A 80 Km NOVICIOS\",\"\")","v":""},{"$f":"IF(C288='V C CAB'!C288,IF(OR('V C CAB'!BA288=\"\",'V C CAB'!BA288=\"HABILITADO  TEMPORALMENTE A COMPETENCIAS FEI\"),\"\",+'V C CAB'!BA288),\"ERROR\")","v":"NO INICIA SU CLASIFICACIÓN"},{"$f":"IF(C288='V C CAB'!C288,IF(+'V C CAB'!BA288=\"HABILITADO  TEMPORALMENTE A COMPETENCIAS FEI\",\"HABILITADO  TEMPORALMENTE A COMPETENCIAS FEI\",\"\"),\"ERROR\")","v":""}]
[{"$f":"IF('V C CAB'!A289=\"\",\"\",'V C CAB'!A289)","v":""},{"$f":"IF('V C CAB'!B289=\"\",\"\",'V C CAB'!B289)","v":"C243"},{"$f":"IF('V C CAB'!C289=\"\",\"\",'V C CAB'!C289)","v":"PAVITA"},{"$f":"IF('V C CAB'!D289=\"\",\"\",'V C CAB'!D289)","v":"MEDINA CARVAJAL JORGE"},{"$f":"IF(OR('V C CAB'!AW1454+'V C CAB'!AX1454>=2,AND('V C CAB'!AW1454+'V C CAB'!AX1454>=1,'V L CAB'!AX1462>=40),'V C CAB'!AY1454>=1),\"CLASIFICADO A 80 Km NOVICIOS\",\"\")","v":""},{"$f":"IF(C289='V C CAB'!C289,IF(OR('V C CAB'!BA289=\"\",'V C CAB'!BA289=\"HABILITADO  TEMPORALMENTE A COMPETENCIAS FEI\"),\"\",+'V C CAB'!BA289),\"ERROR\")","v":"HABILITADO A 80KM VELOCIDAD CONTROLADA"},{"$f":"IF(C289='V C CAB'!C289,IF(+'V C CAB'!BA289=\"HABILITADO  TEMPORALMENTE A COMPETENCIAS FEI\",\"HABILITADO  TEMPORALMENTE A COMPETENCIAS FEI\",\"\"),\"ERROR\")","v":""}]
[{"$f":"IF('V C CAB'!A290=\"\",\"\",'V C CAB'!A290)","v":"B"},{"$f":"IF('V C CAB'!B290=\"\",\"\",'V C CAB'!B290)","v":"C040"},{"$f":"IF('V C CAB'!C290=\"\",\"\",'V C CAB'!C290)","v":"PECAS GR"},{"$f":"IF('V C CAB'!D290=\"\",\"\",'V C CAB'!D290)","v":"GALO RECALDE"},{"$f":"IF(OR('V C CAB'!AW1455+'V C CAB'!AX1455>=2,AND('V C CAB'!AW1455+'V C CAB'!AX1455>=1,'V L CAB'!AX1463>=40),'V C CAB'!AY1455>=1),\"CLASIFICADO A 80 Km NOVICIOS\",\"\")","v":""},{"$f":"IF(C290='V C CAB'!C290,IF(OR('V C CAB'!BA290=\"\",'V C CAB'!BA290=\"HABILITADO  TEMPORALMENTE A COMPETENCIAS FEI\"),\"\",+'V C CAB'!BA290),\"ERROR\")","v":"HABILITADO A 80KM VELOCIDAD CONTROLADA"},{"$f":"IF(C290='V C CAB'!C290,IF(+'V C CAB'!BA290=\"HABILITADO  TEMPORALMENTE A COMPETENCIAS FEI\",\"HABILITADO  TEMPORALMENTE A COMPETENCIAS FEI\",\"\"),\"ERROR\")","v":""}]
[{"$f":"IF('V C CAB'!A291=\"\",\"\",'V C CAB'!A291)","v":"C026"},{"$f":"IF('V C CAB'!B291=\"\",\"\",'V C CAB'!B291)","v":"C"},{"$f":"IF('V C CAB'!C291=\"\",\"\",'V C CAB'!C291)","v":"PECAS WM"},{"$f":"IF('V C CAB'!D291=\"\",\"\",'V C CAB'!D291)","v":""},{"$f":"IF(OR('V C CAB'!AW1456+'V C CAB'!AX1456>=2,AND('V C CAB'!AW1456+'V C CAB'!AX1456>=1,'V L CAB'!AX1464>=40),'V C CAB'!AY1456>=1),\"CLASIFICADO A 80 Km NOVICIOS\",\"\")","v":""},{"$f":"IF(C291='V C CAB'!C291,IF(OR('V C CAB'!BA291=\"\",'V C CAB'!BA291=\"HABILITADO  TEMPORALMENTE A COMPETENCIAS FEI\"),\"\",+'V C CAB'!BA291),\"ERROR\")","v":"LE FALTA UNA DE 80 A 90 CONTROLADA"},{"$f":"IF(C291='V C CAB'!C291,IF(+'V C CAB'!BA291=\"HABILITADO  TEMPORALMENTE A COMPETENCIAS FEI\",\"HABILITADO  TEMPORALMENTE A COMPETENCIAS FEI\",\"\"),\"ERROR\")","v":""}]
[{"$f":"IF('V C CAB'!A292=\"\",\"\",'V C CAB'!A292)","v":"C269"},{"$f":"IF('V C CAB'!B292=\"\",\"\",'V C CAB'!B292)","v":"C"},{"$f":"IF('V C CAB'!C292=\"\",\"\",'V C CAB'!C292)","v":"PEPE TRUENO"},{"$f":"IF('V C CAB'!D292=\"\",\"\",'V C CAB'!D292)","v":""},{"$f":"IF(OR('V C CAB'!AW1457+'V C CAB'!AX1457>=2,AND('V C CAB'!AW1457+'V C CAB'!AX1457>=1,'V L CAB'!AX1465>=40),'V C CAB'!AY1457>=1),\"CLASIFICADO A 80 Km NOVICIOS\",\"\")","v":""},{"$f":"IF(C292='V C CAB'!C292,IF(OR('V C CAB'!BA292=\"\",'V C CAB'!BA292=\"HABILITADO  TEMPORALMENTE A COMPETENCIAS FEI\"),\"\",+'V C CAB'!BA292),\"ERROR\")","v":"NO INICIA SU CLASIFICACIÓN"},{"$f":"IF(C292='V C CAB'!C292,IF(+'V C CAB'!BA292=\"HABILITADO  TEMPORALMENTE A COMPETENCIAS FEI\",\"HABILITADO  TEMPORALMENTE A COMPETENCIAS FEI\",\"\"),\"ERROR\")","v":""}]
[{"$f":"IF('V C CAB'!A293=\"\",\"\",'V C CAB'!A293)","v":"C271"},{"$f":"IF('V C CAB'!B293=\"\",\"\",'V C CAB'!B293)","v":"C"},{"$f":"IF('V C CAB'!C293=\"\",\"\",'V C CAB'!C293)","v":"PERCAL"},{"$f":"IF('V C CAB'!D293=\"\",\"\",'V C CAB'!D293)","v":""},{"$f":"IF(OR('V C CAB'!AW1458+'V C CAB'!AX1458>=2,AND('V C CAB'!AW1458+'V C CAB'!AX1458>=1,'V L CAB'!AX1466>=40),'V C CAB'!AY1458>=1),\"CLASIFICADO A 80 Km NOVICIOS\",\"\")","v":""},{"$f":"IF(C293='V C CAB'!C293,IF(OR('V C CAB'!BA293=\"\",'V C CAB'!BA293=\"HABILITADO  TEMPORALMENTE A COMPETENCIAS FEI\"),\"\",+'V C CAB'!BA293),\"ERROR\")","v":"NO INICIA SU CLASIFICACIÓN"},{"$f":"IF(C293='V C CAB'!C293,IF(+'V C CAB'!BA293=\"HABILITADO  TEMPORALMENTE A COMPETENCIAS FEI\",\"HABILITADO  TEMPORALMENTE A COMPETENCIAS FEI\",\"\"),\"ERROR\")","v":""}]
[{"$f":"IF('V C CAB'!A294=\"\",\"\",'V C CAB'!A294)","v":""},{"$f":"IF('V C CAB'!B294=\"\",\"\",'V C CAB'!B294)","v":"C330"},{"$f":"IF('V C CAB'!C294=\"\",\"\",'V C CAB'!C294)","v":"PIBE"},{"$f":"IF('V C CAB'!D294=\"\",\"\",'V C CAB'!D294)","v":"BURBANO SERRANO JAIME ROLANDO"},{"$f":"IF(OR('V C CAB'!AW1459+'V C CAB'!AX1459>=2,AND('V C CAB'!AW1459+'V C CAB'!AX1459>=1,'V L CAB'!AX1467>=40),'V C CAB'!AY1459>=1),\"CLASIFICADO A 80 Km NOVICIOS\",\"\")","v":""},{"$f":"IF(C294='V C CAB'!C294,IF(OR('V C CAB'!BA294=\"\",'V C CAB'!BA294=\"HABILITADO  TEMPORALMENTE A COMPETENCIAS FEI\"),\"\",+'V C CAB'!BA294),\"ERROR\")","v":"INICIO SU CLASIFICACIÓN"},{"$f":"IF(C294='V C CAB'!C294,IF(+'V C CAB'!BA294=\"HABILITADO  TEMPORALMENTE A COMPETENCIAS FEI\",\"HABILITADO  TEMPORALMENTE A COMPETENCIAS FEI\",\"\"),\"ERROR\")","v":""}]
[{"$f":"IF('V C CAB'!A295=\"\",\"\",'V C CAB'!A295)","v":"CC"},{"$f":"IF('V C CAB'!B295=\"\",\"\",'V C CAB'!B295)","v":"C292"},{"$f":"IF('V C CAB'!C295=\"\",\"\",'V C CAB'!C295)","v":"PINTO"},{"$f":"IF('V C CAB'!D295=\"\",\"\",'V C CAB'!D295)","v":"ALVEAR HERNAN"},{"$f":"IF(OR('V C CAB'!AW1460+'V C CAB'!AX1460>=2,AND('V C CAB'!AW1460+'V C CAB'!AX1460>=1,'V L CAB'!AX1468>=40),'V C CAB'!AY1460>=1),\"CLASIFICADO A 80 Km NOVICIOS\",\"\")","v":""},{"$f":"IF(C295='V C CAB'!C295,IF(OR('V C CAB'!BA295=\"\",'V C CAB'!BA295=\"HABILITADO  TEMPORALMENTE A COMPETENCIAS FEI\"),\"\",+'V C CAB'!BA295),\"ERROR\")","v":"NO INICIA SU CLASIFICACIÓN"},{"$f":"IF(C295='V C CAB'!C295,IF(+'V C CAB'!BA295=\"HABILITADO  TEMPORALMENTE A COMPETENCIAS FEI\",\"HABILITADO  TEMPORALMENTE A COMPETENCIAS FEI\",\"\"),\"ERROR\")","v":""}]
[{"$f":"IF('V C CAB'!A296=\"\",\"\",'V C CAB'!A296)","v":"C021"},{"$f":"IF('V C CAB'!B296=\"\",\"\",'V C CAB'!B296)","v":"C"},{"$f":"IF('V C CAB'!C296=\"\",\"\",'V C CAB'!C296)","v":"PINTO ZK"},{"$f":"IF('V C CAB'!D296=\"\",\"\",'V C CAB'!D296)","v":""},{"$f":"IF(OR('V C CAB'!AW1461+'V C CAB'!AX1461>=2,AND('V C CAB'!AW1461+'V C CAB'!AX1461>=1,'V L CAB'!AX1469>=40),'V C CAB'!AY1461>=1),\"CLASIFICADO A 80 Km NOVICIOS\",\"\")","v":""},{"$f":"IF(C296='V C CAB'!C296,IF(OR('V C CAB'!BA296=\"\",'V C CAB'!BA296=\"HABILITADO  TEMPORALMENTE A COMPETENCIAS FEI\"),\"\",+'V C CAB'!BA296),\"ERROR\")","v":"NO INICIA SU CLASIFICACIÓN"},{"$f":"IF(C296='V C CAB'!C296,IF(+'V C CAB'!BA296=\"HABILITADO  TEMPORALMENTE A COMPETENCIAS FEI\",\"HABILITADO  TEMPORALMENTE A COMPETENCIAS FEI\",\"\"),\"ERROR\")","v":""}]
[{"$f":"IF('V C CAB'!A297=\"\",\"\",'V C CAB'!A297)","v":"C304"},{"$f":"IF('V C CAB'!B297=\"\",\"\",'V C CAB'!B297)","v":"C"},{"$f":"IF('V C CAB'!C297=\"\",\"\",'V C CAB'!C297)","v":"PIROPO RM"},{"$f":"IF('V C CAB'!D297=\"\",\"\",'V C CAB'!D297)","v":""},{"$f":"IF(OR('V C CAB'!AW1462+'V C CAB'!AX1462>=2,AND('V C CAB'!AW1462+'V C CAB'!AX1462>=1,'V L CAB'!AX1470>=40),'V C CAB'!AY1462>=1),\"CLASIFICADO A 80 Km NOVICIOS\",\"\")","v":""},{"$f":"IF(C297='V C CAB'!C297,IF(OR('V C CAB'!BA297=\"\",'V C CAB'!BA297=\"HABILITADO  TEMPORALMENTE A COMPETENCIAS FEI\"),\"\",+'V C CAB'!BA297),\"ERROR\")","v":"NO INICIA SU CLASIFICACIÓN"},{"$f":"IF(C297='V C CAB'!C297,IF(+'V C CAB'!BA297=\"HABILITADO  TEMPORALMENTE A COMPETENCIAS FEI\",\"HABILITADO  TEMPORALMENTE A COMPETENCIAS FEI\",\"\"),\"ERROR\")","v":""}]
[{"$f":"IF('V C CAB'!A298=\"\",\"\",'V C CAB'!A298)","v":"CC"},{"$f":"IF('V C CAB'!B298=\"\",\"\",'V C CAB'!B298)","v":"C293"},{"$f":"IF('V C CAB'!C298=\"\",\"\",'V C CAB'!C298)","v":"POPEYE"},{"$f":"IF('V C CAB'!D298=\"\",\"\",'V C CAB'!D298)","v":"GONZALEZ CARVALLO BERNARDA"},{"$f":"IF(OR('V C CAB'!AW1463+'V C CAB'!AX1463>=2,AND('V C CAB'!AW1463+'V C CAB'!AX1463>=1,'V L CAB'!AX1471>=40),'V C CAB'!AY1463>=1),\"CLASIFICADO A 80 Km NOVICIOS\",\"\")","v":""},{"$f":"IF(C298='V C CAB'!C298,IF(OR('V C CAB'!BA298=\"\",'V C CAB'!BA298=\"HABILITADO  TEMPORALMENTE A COMPETENCIAS FEI\"),\"\",+'V C CAB'!BA298),\"ERROR\")","v":"INICIO SU CLASIFICACIÓN"},{"$f":"IF(C298='V C CAB'!C298,IF(+'V C CAB'!BA298=\"HABILITADO  TEMPORALMENTE A COMPETENCIAS FEI\",\"HABILITADO  TEMPORALMENTE A COMPETENCIAS FEI\",\"\"),\"ERROR\")","v":""}]
[{"$f":"IF('V C CAB'!A299=\"\",\"\",'V C CAB'!A299)","v":"C096"},{"$f":"IF('V C CAB'!B299=\"\",\"\",'V C CAB'!B299)","v":"C"},{"$f":"IF('V C CAB'!C299=\"\",\"\",'V C CAB'!C299)","v":"PREFERIDO NA"},{"$f":"IF('V C CAB'!D299=\"\",\"\",'V C CAB'!D299)","v":""},{"$f":"IF(OR('V C CAB'!AW1464+'V C CAB'!AX1464>=2,AND('V C CAB'!AW1464+'V C CAB'!AX1464>=1,'V L CAB'!AX1472>=40),'V C CAB'!AY1464>=1),\"CLASIFICADO A 80 Km NOVICIOS\",\"\")","v":""},{"$f":"IF(C299='V C CAB'!C299,IF(OR('V C CAB'!BA299=\"\",'V C CAB'!BA299=\"HABILITADO  TEMPORALMENTE A COMPETENCIAS FEI\"),\"\",+'V C CAB'!BA299),\"ERROR\")","v":"NO INICIA SU CLASIFICACIÓN"},{"$f":"IF(C299='V C CAB'!C299,IF(+'V C CAB'!BA299=\"HABILITADO  TEMPORALMENTE A COMPETENCIAS FEI\",\"HABILITADO  TEMPORALMENTE A COMPETENCIAS FEI\",\"\"),\"ERROR\")","v":""}]
[{"$f":"IF('V C CAB'!A300=\"\",\"\",'V C CAB'!A300)","v":"B"},{"$f":"IF('V C CAB'!B300=\"\",\"\",'V C CAB'!B300)","v":"C"},{"$f":"IF('V C CAB'!C300=\"\",\"\",'V C CAB'!C300)","v":"PRIMAVERA TV"},{"$f":"IF('V C CAB'!D300=\"\",\"\",'V C CAB'!D300)","v":""},{"$f":"IF(OR('V C CAB'!AW1465+'V C CAB'!AX1465>=2,AND('V C CAB'!AW1465+'V C CAB'!AX1465>=1,'V L CAB'!AX1473>=40),'V C CAB'!AY1465>=1),\"CLASIFICADO A 80 Km NOVICIOS\",\"\")","v":""},{"$f":"IF(C300='V C CAB'!C300,IF(OR('V C CAB'!BA300=\"\",'V C CAB'!BA300=\"HABILITADO  TEMPORALMENTE A COMPETENCIAS FEI\"),\"\",+'V C CAB'!BA300),\"ERROR\")","v":"NO INICIA SU CLASIFICACIÓN"},{"$f":"IF(C300='V C CAB'!C300,IF(+'V C CAB'!BA300=\"HABILITADO  TEMPORALMENTE A COMPETENCIAS FEI\",\"HABILITADO  TEMPORALMENTE A COMPETENCIAS FEI\",\"\"),\"ERROR\")","v":""}]
[{"$f":"IF('V C CAB'!A301=\"\",\"\",'V C CAB'!A301)","v":"C096"},{"$f":"IF('V C CAB'!B301=\"\",\"\",'V C CAB'!B301)","v":"C033"},{"$f":"IF('V C CAB'!C301=\"\",\"\",'V C CAB'!C301)","v":"PRINCIPE"},{"$f":"IF('V C CAB'!D301=\"\",\"\",'V C CAB'!D301)","v":"DIEGO ARMANDO LUNA"},{"$f":"IF(OR('V C CAB'!AW1466+'V C CAB'!AX1466>=2,AND('V C CAB'!AW1466+'V C CAB'!AX1466>=1,'V L CAB'!AX1474>=40),'V C CAB'!AY1466>=1),\"CLASIFICADO A 80 Km NOVICIOS\",\"\")","v":""},{"$f":"IF(C301='V C CAB'!C301,IF(OR('V C CAB'!BA301=\"\",'V C CAB'!BA301=\"HABILITADO  TEMPORALMENTE A COMPETENCIAS FEI\"),\"\",+'V C CAB'!BA301),\"ERROR\")","v":"NO INICIA SU CLASIFICACIÓN"},{"$f":"IF(C301='V C CAB'!C301,IF(+'V C CAB'!BA301=\"HABILITADO  TEMPORALMENTE A COMPETENCIAS FEI\",\"HABILITADO  TEMPORALMENTE A COMPETENCIAS FEI\",\"\"),\"ERROR\")","v":""}]
[{"$f":"IF('V C CAB'!A302=\"\",\"\",'V C CAB'!A302)","v":"B"},{"$f":"IF('V C CAB'!B302=\"\",\"\",'V C CAB'!B302)","v":"C"},{"$f":"IF('V C CAB'!C302=\"\",\"\",'V C CAB'!C302)","v":"PRODIGO"},{"$f":"IF('V C CAB'!D302=\"\",\"\",'V C CAB'!D302)","v":""},{"$f":"IF(OR('V C CAB'!AW1467+'V C CAB'!AX1467>=2,AND('V C CAB'!AW1467+'V C CAB'!AX1467>=1,'V L CAB'!AX1475>=40),'V C CAB'!AY1467>=1),\"CLASIFICADO A 80 Km NOVICIOS\",\"\")","v":""},{"$f":"IF(C302='V C CAB'!C302,IF(OR('V C CAB'!BA302=\"\",'V C CAB'!BA302=\"HABILITADO  TEMPORALMENTE A COMPETENCIAS FEI\"),\"\",+'V C CAB'!BA302),\"ERROR\")","v":"INICIO SU CLASIFICACIÓN"},{"$f":"IF(C302='V C CAB'!C302,IF(+'V C CAB'!BA302=\"HABILITADO  TEMPORALMENTE A COMPETENCIAS FEI\",\"HABILITADO  TEMPORALMENTE A COMPETENCIAS FEI\",\"\"),\"ERROR\")","v":""}]
[{"$f":"IF('V C CAB'!A303=\"\",\"\",'V C CAB'!A303)","v":""},{"$f":"IF('V C CAB'!B303=\"\",\"\",'V C CAB'!B303)","v":"C360"},{"$f":"IF('V C CAB'!C303=\"\",\"\",'V C CAB'!C303)","v":"PSICOTICO"},{"$f":"IF('V C CAB'!D303=\"\",\"\",'V C CAB'!D303)","v":"MANCHENO GALO PATRICIO"},{"$f":"IF(OR('V C CAB'!AW1468+'V C CAB'!AX1468>=2,AND('V C CAB'!AW1468+'V C CAB'!AX1468>=1,'V L CAB'!AX1476>=40),'V C CAB'!AY1468>=1),\"CLASIFICADO A 80 Km NOVICIOS\",\"\")","v":""},{"$f":"IF(C303='V C CAB'!C303,IF(OR('V C CAB'!BA303=\"\",'V C CAB'!BA303=\"HABILITADO  TEMPORALMENTE A COMPETENCIAS FEI\"),\"\",+'V C CAB'!BA303),\"ERROR\")","v":"NO INICIA SU CLASIFICACIÓN"},{"$f":"IF(C303='V C CAB'!C303,IF(+'V C CAB'!BA303=\"HABILITADO  TEMPORALMENTE A COMPETENCIAS FEI\",\"HABILITADO  TEMPORALMENTE A COMPETENCIAS FEI\",\"\"),\"ERROR\")","v":""}]
[{"$f":"IF('V C CAB'!A304=\"\",\"\",'V C CAB'!A304)","v":""},{"$f":"IF('V C CAB'!B304=\"\",\"\",'V C CAB'!B304)","v":"C325"},{"$f":"IF('V C CAB'!C304=\"\",\"\",'V C CAB'!C304)","v":"PSYNCINATTI"},{"$f":"IF('V C CAB'!D304=\"\",\"\",'V C CAB'!D304)","v":"WILLIAMS JEMMA"},{"$f":"IF(OR('V C CAB'!AW1469+'V C CAB'!AX1469>=2,AND('V C CAB'!AW1469+'V C CAB'!AX1469>=1,'V L CAB'!AX1477>=40),'V C CAB'!AY1469>=1),\"CLASIFICADO A 80 Km NOVICIOS\",\"\")","v":""},{"$f":"IF(C304='V C CAB'!C304,IF(OR('V C CAB'!BA304=\"\",'V C CAB'!BA304=\"HABILITADO  TEMPORALMENTE A COMPETENCIAS FEI\"),\"\",+'V C CAB'!BA304),\"ERROR\")","v":"HABILITADO A 80KM VELOCIDAD CONTROLADA"},{"$f":"IF(C304='V C CAB'!C304,IF(+'V C CAB'!BA304=\"HABILITADO  TEMPORALMENTE A COMPETENCIAS FEI\",\"HABILITADO  TEMPORALMENTE A COMPETENCIAS FEI\",\"\"),\"ERROR\")","v":""}]
[{"$f":"IF('V C CAB'!A305=\"\",\"\",'V C CAB'!A305)","v":"B"},{"$f":"IF('V C CAB'!B305=\"\",\"\",'V C CAB'!B305)","v":"C014"},{"$f":"IF('V C CAB'!C305=\"\",\"\",'V C CAB'!C305)","v":"QUICK PARROT"},{"$f":"IF('V C CAB'!D305=\"\",\"\",'V C CAB'!D305)","v":"JUAN GABRIEL REYES"},{"$f":"IF(OR('V C CAB'!AW1470+'V C CAB'!AX1470>=2,AND('V C CAB'!AW1470+'V C CAB'!AX1470>=1,'V L CAB'!AX1478>=40),'V C CAB'!AY1470>=1),\"CLASIFICADO A 80 Km NOVICIOS\",\"\")","v":""},{"$f":"IF(C305='V C CAB'!C305,IF(OR('V C CAB'!BA305=\"\",'V C CAB'!BA305=\"HABILITADO  TEMPORALMENTE A COMPETENCIAS FEI\"),\"\",+'V C CAB'!BA305),\"ERROR\")","v":"NO INICIA SU CLASIFICACIÓN"},{"$f":"IF(C305='V C CAB'!C305,IF(+'V C CAB'!BA305=\"HABILITADO  TEMPORALMENTE A COMPETENCIAS FEI\",\"HABILITADO  TEMPORALMENTE A COMPETENCIAS FEI\",\"\"),\"ERROR\")","v":""}]
[{"$f":"IF('V C CAB'!A306=\"\",\"\",'V C CAB'!A306)","v":"C076"},{"$f":"IF('V C CAB'!B306=\"\",\"\",'V C CAB'!B306)","v":"C161"},{"$f":"IF('V C CAB'!C306=\"\",\"\",'V C CAB'!C306)","v":"QUISHUAR"},{"$f":"IF('V C CAB'!D306=\"\",\"\",'V C CAB'!D306)","v":""},{"$f":"IF(OR('V C CAB'!AW1471+'V C CAB'!AX1471>=2,AND('V C CAB'!AW1471+'V C CAB'!AX1471>=1,'V L CAB'!AX1479>=40),'V C CAB'!AY1471>=1),\"CLASIFICADO A 80 Km NOVICIOS\",\"\")","v":""},{"$f":"IF(C306='V C CAB'!C306,IF(OR('V C CAB'!BA306=\"\",'V C CAB'!BA306=\"HABILITADO  TEMPORALMENTE A COMPETENCIAS FEI\"),\"\",+'V C CAB'!BA306),\"ERROR\")","v":"INICIO SU CLASIFICACIÓN"},{"$f":"IF(C306='V C CAB'!C306,IF(+'V C CAB'!BA306=\"HABILITADO  TEMPORALMENTE A COMPETENCIAS FEI\",\"HABILITADO  TEMPORALMENTE A COMPETENCIAS FEI\",\"\"),\"ERROR\")","v":""}]
[{"$f":"IF('V C CAB'!A307=\"\",\"\",'V C CAB'!A307)","v":"B"},{"$f":"IF('V C CAB'!B307=\"\",\"\",'V C CAB'!B307)","v":"C072"},{"$f":"IF('V C CAB'!C307=\"\",\"\",'V C CAB'!C307)","v":"QUITA PENAS"},{"$f":"IF('V C CAB'!D307=\"\",\"\",'V C CAB'!D307)","v":"ILIANA RUIZ"},{"$f":"IF(OR('V C CAB'!AW1472+'V C CAB'!AX1472>=2,AND('V C CAB'!AW1472+'V C CAB'!AX1472>=1,'V L CAB'!AX1480>=40),'V C CAB'!AY1472>=1),\"CLASIFICADO A 80 Km NOVICIOS\",\"\")","v":""},{"$f":"IF(C307='V C CAB'!C307,IF(OR('V C CAB'!BA307=\"\",'V C CAB'!BA307=\"HABILITADO  TEMPORALMENTE A COMPETENCIAS FEI\"),\"\",+'V C CAB'!BA307),\"ERROR\")","v":""},{"$f":"IF(C307='V C CAB'!C307,IF(+'V C CAB'!BA307=\"HABILITADO  TEMPORALMENTE A COMPETENCIAS FEI\",\"HABILITADO  TEMPORALMENTE A COMPETENCIAS FEI\",\"\"),\"ERROR\")","v":"HABILITADO  TEMPORALMENTE A COMPETENCIAS FEI"}]
[{"$f":"IF('V C CAB'!A308=\"\",\"\",'V C CAB'!A308)","v":""},{"$f":"IF('V C CAB'!B308=\"\",\"\",'V C CAB'!B308)","v":"C324"},{"$f":"IF('V C CAB'!C308=\"\",\"\",'V C CAB'!C308)","v":"RANCHERO"},{"$f":"IF('V C CAB'!D308=\"\",\"\",'V C CAB'!D308)","v":"MORALES ANDRES"},{"$f":"IF(OR('V C CAB'!AW1473+'V C CAB'!AX1473>=2,AND('V C CAB'!AW1473+'V C CAB'!AX1473>=1,'V L CAB'!AX1481>=40),'V C CAB'!AY1473>=1),\"CLASIFICADO A 80 Km NOVICIOS\",\"\")","v":""},{"$f":"IF(C308='V C CAB'!C308,IF(OR('V C CAB'!BA308=\"\",'V C CAB'!BA308=\"HABILITADO  TEMPORALMENTE A COMPETENCIAS FEI\"),\"\",+'V C CAB'!BA308),\"ERROR\")","v":"HABILITADO A 80KM VELOCIDAD CONTROLADA"},{"$f":"IF(C308='V C CAB'!C308,IF(+'V C CAB'!BA308=\"HABILITADO  TEMPORALMENTE A COMPETENCIAS FEI\",\"HABILITADO  TEMPORALMENTE A COMPETENCIAS FEI\",\"\"),\"ERROR\")","v":""}]
[{"$f":"IF('V C CAB'!A309=\"\",\"\",'V C CAB'!A309)","v":"C187"},{"$f":"IF('V C CAB'!B309=\"\",\"\",'V C CAB'!B309)","v":"C"},{"$f":"IF('V C CAB'!C309=\"\",\"\",'V C CAB'!C309)","v":"RAYMI"},{"$f":"IF('V C CAB'!D309=\"\",\"\",'V C CAB'!D309)","v":""},{"$f":"IF(OR('V C CAB'!AW1474+'V C CAB'!AX1474>=2,AND('V C CAB'!AW1474+'V C CAB'!AX1474>=1,'V L CAB'!AX1482>=40),'V C CAB'!AY1474>=1),\"CLASIFICADO A 80 Km NOVICIOS\",\"\")","v":""},{"$f":"IF(C309='V C CAB'!C309,IF(OR('V C CAB'!BA309=\"\",'V C CAB'!BA309=\"HABILITADO  TEMPORALMENTE A COMPETENCIAS FEI\"),\"\",+'V C CAB'!BA309),\"ERROR\")","v":"INICIO SU CLASIFICACIÓN"},{"$f":"IF(C309='V C CAB'!C309,IF(+'V C CAB'!BA309=\"HABILITADO  TEMPORALMENTE A COMPETENCIAS FEI\",\"HABILITADO  TEMPORALMENTE A COMPETENCIAS FEI\",\"\"),\"ERROR\")","v":""}]
[{"$f":"IF('V C CAB'!A310=\"\",\"\",'V C CAB'!A310)","v":""},{"$f":"IF('V C CAB'!B310=\"\",\"\",'V C CAB'!B310)","v":"C181"},{"$f":"IF('V C CAB'!C310=\"\",\"\",'V C CAB'!C310)","v":"RAYUELA"},{"$f":"IF('V C CAB'!D310=\"\",\"\",'V C CAB'!D310)","v":"POLIT JULIA"},{"$f":"IF(OR('V C CAB'!AW1475+'V C CAB'!AX1475>=2,AND('V C CAB'!AW1475+'V C CAB'!AX1475>=1,'V L CAB'!AX1483>=40),'V C CAB'!AY1475>=1),\"CLASIFICADO A 80 Km NOVICIOS\",\"\")","v":""},{"$f":"IF(C310='V C CAB'!C310,IF(OR('V C CAB'!BA310=\"\",'V C CAB'!BA310=\"HABILITADO  TEMPORALMENTE A COMPETENCIAS FEI\"),\"\",+'V C CAB'!BA310),\"ERROR\")","v":"INICIO SU CLASIFICACIÓN"},{"$f":"IF(C310='V C CAB'!C310,IF(+'V C CAB'!BA310=\"HABILITADO  TEMPORALMENTE A COMPETENCIAS FEI\",\"HABILITADO  TEMPORALMENTE A COMPETENCIAS FEI\",\"\"),\"ERROR\")","v":""}]
[{"$f":"IF('V C CAB'!A311=\"\",\"\",'V C CAB'!A311)","v":"C096"},{"$f":"IF('V C CAB'!B311=\"\",\"\",'V C CAB'!B311)","v":"C001"},{"$f":"IF('V C CAB'!C311=\"\",\"\",'V C CAB'!C311)","v":"REBELDE"},{"$f":"IF('V C CAB'!D311=\"\",\"\",'V C CAB'!D311)","v":"PAULINO VINTIMILLA"},{"$f":"IF(OR('V C CAB'!AW1476+'V C CAB'!AX1476>=2,AND('V C CAB'!AW1476+'V C CAB'!AX1476>=1,'V L CAB'!AX1484>=40),'V C CAB'!AY1476>=1),\"CLASIFICADO A 80 Km NOVICIOS\",\"\")","v":""},{"$f":"IF(C311='V C CAB'!C311,IF(OR('V C CAB'!BA311=\"\",'V C CAB'!BA311=\"HABILITADO  TEMPORALMENTE A COMPETENCIAS FEI\"),\"\",+'V C CAB'!BA311),\"ERROR\")","v":"NO INICIA SU CLASIFICACIÓN"},{"$f":"IF(C311='V C CAB'!C311,IF(+'V C CAB'!BA311=\"HABILITADO  TEMPORALMENTE A COMPETENCIAS FEI\",\"HABILITADO  TEMPORALMENTE A COMPETENCIAS FEI\",\"\"),\"ERROR\")","v":""}]
[{"$f":"IF('V C CAB'!A312=\"\",\"\",'V C CAB'!A312)","v":"B"},{"$f":"IF('V C CAB'!B312=\"\",\"\",'V C CAB'!B312)","v":"C"},{"$f":"IF('V C CAB'!C312=\"\",\"\",'V C CAB'!C312)","v":"REGUETON AE"},{"$f":"IF('V C CAB'!D312=\"\",\"\",'V C CAB'!D312)","v":""},{"$f":"IF(OR('V C CAB'!AW1477+'V C CAB'!AX1477>=2,AND('V C CAB'!AW1477+'V C CAB'!AX1477>=1,'V L CAB'!AX1485>=40),'V C CAB'!AY1477>=1),\"CLASIFICADO A 80 Km NOVICIOS\",\"\")","v":""},{"$f":"IF(C312='V C CAB'!C312,IF(OR('V C CAB'!BA312=\"\",'V C CAB'!BA312=\"HABILITADO  TEMPORALMENTE A COMPETENCIAS FEI\"),\"\",+'V C CAB'!BA312),\"ERROR\")","v":"NO INICIA SU CLASIFICACIÓN"},{"$f":"IF(C312='V C CAB'!C312,IF(+'V C CAB'!BA312=\"HABILITADO  TEMPORALMENTE A COMPETENCIAS FEI\",\"HABILITADO  TEMPORALMENTE A COMPETENCIAS FEI\",\"\"),\"ERROR\")","v":""}]
[{"$f":"IF('V C CAB'!A313=\"\",\"\",'V C CAB'!A313)","v":"CC"},{"$f":"IF('V C CAB'!B313=\"\",\"\",'V C CAB'!B313)","v":"C294"},{"$f":"IF('V C CAB'!C313=\"\",\"\",'V C CAB'!C313)","v":"REMOLACHA"},{"$f":"IF('V C CAB'!D313=\"\",\"\",'V C CAB'!D313)","v":"MALO GELLIBERT ANDREA NATALY"},{"$f":"IF(OR('V C CAB'!AW1478+'V C CAB'!AX1478>=2,AND('V C CAB'!AW1478+'V C CAB'!AX1478>=1,'V L CAB'!AX1486>=40),'V C CAB'!AY1478>=1),\"CLASIFICADO A 80 Km NOVICIOS\",\"\")","v":""},{"$f":"IF(C313='V C CAB'!C313,IF(OR('V C CAB'!BA313=\"\",'V C CAB'!BA313=\"HABILITADO  TEMPORALMENTE A COMPETENCIAS FEI\"),\"\",+'V C CAB'!BA313),\"ERROR\")","v":"LE FALTA UNA DE 80 A 90 CONTROLADA"},{"$f":"IF(C313='V C CAB'!C313,IF(+'V C CAB'!BA313=\"HABILITADO  TEMPORALMENTE A COMPETENCIAS FEI\",\"HABILITADO  TEMPORALMENTE A COMPETENCIAS FEI\",\"\"),\"ERROR\")","v":""}]
[{"$f":"IF('V C CAB'!A314=\"\",\"\",'V C CAB'!A314)","v":"CC"},{"$f":"IF('V C CAB'!B314=\"\",\"\",'V C CAB'!B314)","v":"C295"},{"$f":"IF('V C CAB'!C314=\"\",\"\",'V C CAB'!C314)","v":"RHANIA"},{"$f":"IF('V C CAB'!D314=\"\",\"\",'V C CAB'!D314)","v":"VINTIMILLA SERRANO PABLO XAVIER"},{"$f":"IF(OR('V C CAB'!AW1479+'V C CAB'!AX1479>=2,AND('V C CAB'!AW1479+'V C CAB'!AX1479>=1,'V L CAB'!AX1487>=40),'V C CAB'!AY1479>=1),\"CLASIFICADO A 80 Km NOVICIOS\",\"\")","v":""},{"$f":"IF(C314='V C CAB'!C314,IF(OR('V C CAB'!BA314=\"\",'V C CAB'!BA314=\"HABILITADO  TEMPORALMENTE A COMPETENCIAS FEI\"),\"\",+'V C CAB'!BA314),\"ERROR\")","v":"INICIO SU CLASIFICACIÓN"},{"$f":"IF(C314='V C CAB'!C314,IF(+'V C CAB'!BA314=\"HABILITADO  TEMPORALMENTE A COMPETENCIAS FEI\",\"HABILITADO  TEMPORALMENTE A COMPETENCIAS FEI\",\"\"),\"ERROR\")","v":""}]
[{"$f":"IF('V C CAB'!A315=\"\",\"\",'V C CAB'!A315)","v":""},{"$f":"IF('V C CAB'!B315=\"\",\"\",'V C CAB'!B315)","v":"C241"},{"$f":"IF('V C CAB'!C315=\"\",\"\",'V C CAB'!C315)","v":"RHYDER"},{"$f":"IF('V C CAB'!D315=\"\",\"\",'V C CAB'!D315)","v":""},{"$f":"IF(OR('V C CAB'!AW1480+'V C CAB'!AX1480>=2,AND('V C CAB'!AW1480+'V C CAB'!AX1480>=1,'V L CAB'!AX1488>=40),'V C CAB'!AY1480>=1),\"CLASIFICADO A 80 Km NOVICIOS\",\"\")","v":""},{"$f":"IF(C315='V C CAB'!C315,IF(OR('V C CAB'!BA315=\"\",'V C CAB'!BA315=\"HABILITADO  TEMPORALMENTE A COMPETENCIAS FEI\"),\"\",+'V C CAB'!BA315),\"ERROR\")","v":"INICIO SU CLASIFICACIÓN"},{"$f":"IF(C315='V C CAB'!C315,IF(+'V C CAB'!BA315=\"HABILITADO  TEMPORALMENTE A COMPETENCIAS FEI\",\"HABILITADO  TEMPORALMENTE A COMPETENCIAS FEI\",\"\"),\"ERROR\")","v":""}]
[{"$f":"IF('V C CAB'!A316=\"\",\"\",'V C CAB'!A316)","v":""},{"$f":"IF('V C CAB'!B316=\"\",\"\",'V C CAB'!B316)","v":"C202"},{"$f":"IF('V C CAB'!C316=\"\",\"\",'V C CAB'!C316)","v":"RIGUEL"},{"$f":"IF('V C CAB'!D316=\"\",\"\",'V C CAB'!D316)","v":"VINTIMILLA CORDERO PABLO JOSE"},{"$f":"IF(OR('V C CAB'!AW1481+'V C CAB'!AX1481>=2,AND('V C CAB'!AW1481+'V C CAB'!AX1481>=1,'V L CAB'!AX1489>=40),'V C CAB'!AY1481>=1),\"CLASIFICADO A 80 Km NOVICIOS\",\"\")","v":""},{"$f":"IF(C316='V C CAB'!C316,IF(OR('V C CAB'!BA316=\"\",'V C CAB'!BA316=\"HABILITADO  TEMPORALMENTE A COMPETENCIAS FEI\"),\"\",+'V C CAB'!BA316),\"ERROR\")","v":""},{"$f":"IF(C316='V C CAB'!C316,IF(+'V C CAB'!BA316=\"HABILITADO  TEMPORALMENTE A COMPETENCIAS FEI\",\"HABILITADO  TEMPORALMENTE A COMPETENCIAS FEI\",\"\"),\"ERROR\")","v":"HABILITADO  TEMPORALMENTE A COMPETENCIAS FEI"}]
[{"$f":"IF('V C CAB'!A317=\"\",\"\",'V C CAB'!A317)","v":"B"},{"$f":"IF('V C CAB'!B317=\"\",\"\",'V C CAB'!B317)","v":"C057"},{"$f":"IF('V C CAB'!C317=\"\",\"\",'V C CAB'!C317)","v":"ROBERTO"},{"$f":"IF('V C CAB'!D317=\"\",\"\",'V C CAB'!D317)","v":"JOSE GOMEZ DE LA TORRE"},{"$f":"IF(OR('V C CAB'!AW1482+'V C CAB'!AX1482>=2,AND('V C CAB'!AW1482+'V C CAB'!AX1482>=1,'V L CAB'!AX1490>=40),'V C CAB'!AY1482>=1),\"CLASIFICADO A 80 Km NOVICIOS\",\"\")","v":""},{"$f":"IF(C317='V C CAB'!C317,IF(OR('V C CAB'!BA317=\"\",'V C CAB'!BA317=\"HABILITADO  TEMPORALMENTE A COMPETENCIAS FEI\"),\"\",+'V C CAB'!BA317),\"ERROR\")","v":"NO INICIA SU CLASIFICACIÓN"},{"$f":"IF(C317='V C CAB'!C317,IF(+'V C CAB'!BA317=\"HABILITADO  TEMPORALMENTE A COMPETENCIAS FEI\",\"HABILITADO  TEMPORALMENTE A COMPETENCIAS FEI\",\"\"),\"ERROR\")","v":""}]
[{"$f":"IF('V C CAB'!A318=\"\",\"\",'V C CAB'!A318)","v":"C076"},{"$f":"IF('V C CAB'!B318=\"\",\"\",'V C CAB'!B318)","v":"C"},{"$f":"IF('V C CAB'!C318=\"\",\"\",'V C CAB'!C318)","v":"ROBERTO CN"},{"$f":"IF('V C CAB'!D318=\"\",\"\",'V C CAB'!D318)","v":""},{"$f":"IF(OR('V C CAB'!AW1483+'V C CAB'!AX1483>=2,AND('V C CAB'!AW1483+'V C CAB'!AX1483>=1,'V L CAB'!AX1491>=40),'V C CAB'!AY1483>=1),\"CLASIFICADO A 80 Km NOVICIOS\",\"\")","v":""},{"$f":"IF(C318='V C CAB'!C318,IF(OR('V C CAB'!BA318=\"\",'V C CAB'!BA318=\"HABILITADO  TEMPORALMENTE A COMPETENCIAS FEI\"),\"\",+'V C CAB'!BA318),\"ERROR\")","v":"INICIO SU CLASIFICACIÓN"},{"$f":"IF(C318='V C CAB'!C318,IF(+'V C CAB'!BA318=\"HABILITADO  TEMPORALMENTE A COMPETENCIAS FEI\",\"HABILITADO  TEMPORALMENTE A COMPETENCIAS FEI\",\"\"),\"ERROR\")","v":""}]
[{"$f":"IF('V C CAB'!A319=\"\",\"\",'V C CAB'!A319)","v":"C187"},{"$f":"IF('V C CAB'!B319=\"\",\"\",'V C CAB'!B319)","v":"C"},{"$f":"IF('V C CAB'!C319=\"\",\"\",'V C CAB'!C319)","v":"ROBERTO ET"},{"$f":"IF('V C CAB'!D319=\"\",\"\",'V C CAB'!D319)","v":""},{"$f":"IF(OR('V C CAB'!AW1484+'V C CAB'!AX1484>=2,AND('V C CAB'!AW1484+'V C CAB'!AX1484>=1,'V L CAB'!AX1492>=40),'V C CAB'!AY1484>=1),\"CLASIFICADO A 80 Km NOVICIOS\",\"\")","v":""},{"$f":"IF(C319='V C CAB'!C319,IF(OR('V C CAB'!BA319=\"\",'V C CAB'!BA319=\"HABILITADO  TEMPORALMENTE A COMPETENCIAS FEI\"),\"\",+'V C CAB'!BA319),\"ERROR\")","v":"NO INICIA SU CLASIFICACIÓN"},{"$f":"IF(C319='V C CAB'!C319,IF(+'V C CAB'!BA319=\"HABILITADO  TEMPORALMENTE A COMPETENCIAS FEI\",\"HABILITADO  TEMPORALMENTE A COMPETENCIAS FEI\",\"\"),\"ERROR\")","v":""}]
[{"$f":"IF('V C CAB'!A320=\"\",\"\",'V C CAB'!A320)","v":"C082"},{"$f":"IF('V C CAB'!B320=\"\",\"\",'V C CAB'!B320)","v":"C117"},{"$f":"IF('V C CAB'!C320=\"\",\"\",'V C CAB'!C320)","v":"RONCO"},{"$f":"IF('V C CAB'!D320=\"\",\"\",'V C CAB'!D320)","v":"MARIA FERNANDA BRAUER"},{"$f":"IF(OR('V C CAB'!AW1485+'V C CAB'!AX1485>=2,AND('V C CAB'!AW1485+'V C CAB'!AX1485>=1,'V L CAB'!AX1493>=40),'V C CAB'!AY1485>=1),\"CLASIFICADO A 80 Km NOVICIOS\",\"\")","v":""},{"$f":"IF(C320='V C CAB'!C320,IF(OR('V C CAB'!BA320=\"\",'V C CAB'!BA320=\"HABILITADO  TEMPORALMENTE A COMPETENCIAS FEI\"),\"\",+'V C CAB'!BA320),\"ERROR\")","v":"HABILITADO A 80KM VELOCIDAD CONTROLADA"},{"$f":"IF(C320='V C CAB'!C320,IF(+'V C CAB'!BA320=\"HABILITADO  TEMPORALMENTE A COMPETENCIAS FEI\",\"HABILITADO  TEMPORALMENTE A COMPETENCIAS FEI\",\"\"),\"ERROR\")","v":""}]
[{"$f":"IF('V C CAB'!A321=\"\",\"\",'V C CAB'!A321)","v":"B"},{"$f":"IF('V C CAB'!B321=\"\",\"\",'V C CAB'!B321)","v":"C"},{"$f":"IF('V C CAB'!C321=\"\",\"\",'V C CAB'!C321)","v":"ROSA ELENA"},{"$f":"IF('V C CAB'!D321=\"\",\"\",'V C CAB'!D321)","v":""},{"$f":"IF(OR('V C CAB'!AW1486+'V C CAB'!AX1486>=2,AND('V C CAB'!AW1486+'V C CAB'!AX1486>=1,'V L CAB'!AX1494>=40),'V C CAB'!AY1486>=1),\"CLASIFICADO A 80 Km NOVICIOS\",\"\")","v":""},{"$f":"IF(C321='V C CAB'!C321,IF(OR('V C CAB'!BA321=\"\",'V C CAB'!BA321=\"HABILITADO  TEMPORALMENTE A COMPETENCIAS FEI\"),\"\",+'V C CAB'!BA321),\"ERROR\")","v":"NO INICIA SU CLASIFICACIÓN"},{"$f":"IF(C321='V C CAB'!C321,IF(+'V C CAB'!BA321=\"HABILITADO  TEMPORALMENTE A COMPETENCIAS FEI\",\"HABILITADO  TEMPORALMENTE A COMPETENCIAS FEI\",\"\"),\"ERROR\")","v":""}]
[{"$f":"IF('V C CAB'!A322=\"\",\"\",'V C CAB'!A322)","v":"CC"},{"$f":"IF('V C CAB'!B322=\"\",\"\",'V C CAB'!B322)","v":"C296"},{"$f":"IF('V C CAB'!C322=\"\",\"\",'V C CAB'!C322)","v":"ROSILLO"},{"$f":"IF('V C CAB'!D322=\"\",\"\",'V C CAB'!D322)","v":"SORIA JUAN MANUEL"},{"$f":"IF(OR('V C CAB'!AW1487+'V C CAB'!AX1487>=2,AND('V C CAB'!AW1487+'V C CAB'!AX1487>=1,'V L CAB'!AX1495>=40),'V C CAB'!AY1487>=1),\"CLASIFICADO A 80 Km NOVICIOS\",\"\")","v":""},{"$f":"IF(C322='V C CAB'!C322,IF(OR('V C CAB'!BA322=\"\",'V C CAB'!BA322=\"HABILITADO  TEMPORALMENTE A COMPETENCIAS FEI\"),\"\",+'V C CAB'!BA322),\"ERROR\")","v":"INICIO SU CLASIFICACIÓN"},{"$f":"IF(C322='V C CAB'!C322,IF(+'V C CAB'!BA322=\"HABILITADO  TEMPORALMENTE A COMPETENCIAS FEI\",\"HABILITADO  TEMPORALMENTE A COMPETENCIAS FEI\",\"\"),\"ERROR\")","v":""}]
[{"$f":"IF('V C CAB'!A323=\"\",\"\",'V C CAB'!A323)","v":"C027"},{"$f":"IF('V C CAB'!B323=\"\",\"\",'V C CAB'!B323)","v":"C035"},{"$f":"IF('V C CAB'!C323=\"\",\"\",'V C CAB'!C323)","v":"RUMBERO"},{"$f":"IF('V C CAB'!D323=\"\",\"\",'V C CAB'!D323)","v":"DENYS SANCHEZ"},{"$f":"IF(OR('V C CAB'!AW1488+'V C CAB'!AX1488>=2,AND('V C CAB'!AW1488+'V C CAB'!AX1488>=1,'V L CAB'!AX1496>=40),'V C CAB'!AY1488>=1),\"CLASIFICADO A 80 Km NOVICIOS\",\"\")","v":""},{"$f":"IF(C323='V C CAB'!C323,IF(OR('V C CAB'!BA323=\"\",'V C CAB'!BA323=\"HABILITADO  TEMPORALMENTE A COMPETENCIAS FEI\"),\"\",+'V C CAB'!BA323),\"ERROR\")","v":"NO INICIA SU CLASIFICACIÓN"},{"$f":"IF(C323='V C CAB'!C323,IF(+'V C CAB'!BA323=\"HABILITADO  TEMPORALMENTE A COMPETENCIAS FEI\",\"HABILITADO  TEMPORALMENTE A COMPETENCIAS FEI\",\"\"),\"ERROR\")","v":""}]
[{"$f":"IF('V C CAB'!A324=\"\",\"\",'V C CAB'!A324)","v":"C016"},{"$f":"IF('V C CAB'!B324=\"\",\"\",'V C CAB'!B324)","v":"C"},{"$f":"IF('V C CAB'!C324=\"\",\"\",'V C CAB'!C324)","v":"SAFIR VE"},{"$f":"IF('V C CAB'!D324=\"\",\"\",'V C CAB'!D324)","v":""},{"$f":"IF(OR('V C CAB'!AW1489+'V C CAB'!AX1489>=2,AND('V C CAB'!AW1489+'V C CAB'!AX1489>=1,'V L CAB'!AX1497>=40),'V C CAB'!AY1489>=1),\"CLASIFICADO A 80 Km NOVICIOS\",\"\")","v":""},{"$f":"IF(C324='V C CAB'!C324,IF(OR('V C CAB'!BA324=\"\",'V C CAB'!BA324=\"HABILITADO  TEMPORALMENTE A COMPETENCIAS FEI\"),\"\",+'V C CAB'!BA324),\"ERROR\")","v":"NO INICIA SU CLASIFICACIÓN"},{"$f":"IF(C324='V C CAB'!C324,IF(+'V C CAB'!BA324=\"HABILITADO  TEMPORALMENTE A COMPETENCIAS FEI\",\"HABILITADO  TEMPORALMENTE A COMPETENCIAS FEI\",\"\"),\"ERROR\")","v":""}]
[{"$f":"IF('V C CAB'!A325=\"\",\"\",'V C CAB'!A325)","v":"B"},{"$f":"IF('V C CAB'!B325=\"\",\"\",'V C CAB'!B325)","v":"C026"},{"$f":"IF('V C CAB'!C325=\"\",\"\",'V C CAB'!C325)","v":"SAHIR SE"},{"$f":"IF('V C CAB'!D325=\"\",\"\",'V C CAB'!D325)","v":"EMILIA SALAZAR"},{"$f":"IF(OR('V C CAB'!AW1490+'V C CAB'!AX1490>=2,AND('V C CAB'!AW1490+'V C CAB'!AX1490>=1,'V L CAB'!AX1498>=40),'V C CAB'!AY1490>=1),\"CLASIFICADO A 80 Km NOVICIOS\",\"\")","v":""},{"$f":"IF(C325='V C CAB'!C325,IF(OR('V C CAB'!BA325=\"\",'V C CAB'!BA325=\"HABILITADO  TEMPORALMENTE A COMPETENCIAS FEI\"),\"\",+'V C CAB'!BA325),\"ERROR\")","v":"NO INICIA SU CLASIFICACIÓN"},{"$f":"IF(C325='V C CAB'!C325,IF(+'V C CAB'!BA325=\"HABILITADO  TEMPORALMENTE A COMPETENCIAS FEI\",\"HABILITADO  TEMPORALMENTE A COMPETENCIAS FEI\",\"\"),\"ERROR\")","v":""}]
[{"$f":"IF('V C CAB'!A326=\"\",\"\",'V C CAB'!A326)","v":"B"},{"$f":"IF('V C CAB'!B326=\"\",\"\",'V C CAB'!B326)","v":"C047"},{"$f":"IF('V C CAB'!C326=\"\",\"\",'V C CAB'!C326)","v":"SAID HC"},{"$f":"IF('V C CAB'!D326=\"\",\"\",'V C CAB'!D326)","v":"RICARDO GARZON"},{"$f":"IF(OR('V C CAB'!AW1491+'V C CAB'!AX1491>=2,AND('V C CAB'!AW1491+'V C CAB'!AX1491>=1,'V L CAB'!AX1499>=40),'V C CAB'!AY1491>=1),\"CLASIFICADO A 80 Km NOVICIOS\",\"\")","v":""},{"$f":"IF(C326='V C CAB'!C326,IF(OR('V C CAB'!BA326=\"\",'V C CAB'!BA326=\"HABILITADO  TEMPORALMENTE A COMPETENCIAS FEI\"),\"\",+'V C CAB'!BA326),\"ERROR\")","v":"INICIO SU CLASIFICACIÓN"},{"$f":"IF(C326='V C CAB'!C326,IF(+'V C CAB'!BA326=\"HABILITADO  TEMPORALMENTE A COMPETENCIAS FEI\",\"HABILITADO  TEMPORALMENTE A COMPETENCIAS FEI\",\"\"),\"ERROR\")","v":""}]
[{"$f":"IF('V C CAB'!A327=\"\",\"\",'V C CAB'!A327)","v":"CC"},{"$f":"IF('V C CAB'!B327=\"\",\"\",'V C CAB'!B327)","v":"C297"},{"$f":"IF('V C CAB'!C327=\"\",\"\",'V C CAB'!C327)","v":"SAILER EG"},{"$f":"IF('V C CAB'!D327=\"\",\"\",'V C CAB'!D327)","v":"BURBANO SERRANO JAIME ROLANDO"},{"$f":"IF(OR('V C CAB'!AW1492+'V C CAB'!AX1492>=2,AND('V C CAB'!AW1492+'V C CAB'!AX1492>=1,'V L CAB'!AX1500>=40),'V C CAB'!AY1492>=1),\"CLASIFICADO A 80 Km NOVICIOS\",\"\")","v":""},{"$f":"IF(C327='V C CAB'!C327,IF(OR('V C CAB'!BA327=\"\",'V C CAB'!BA327=\"HABILITADO  TEMPORALMENTE A COMPETENCIAS FEI\"),\"\",+'V C CAB'!BA327),\"ERROR\")","v":"HABILITADO A 80KM VELOCIDAD CONTROLADA"},{"$f":"IF(C327='V C CAB'!C327,IF(+'V C CAB'!BA327=\"HABILITADO  TEMPORALMENTE A COMPETENCIAS FEI\",\"HABILITADO  TEMPORALMENTE A COMPETENCIAS FEI\",\"\"),\"ERROR\")","v":""}]
[{"$f":"IF('V C CAB'!A328=\"\",\"\",'V C CAB'!A328)","v":"C062"},{"$f":"IF('V C CAB'!B328=\"\",\"\",'V C CAB'!B328)","v":"C"},{"$f":"IF('V C CAB'!C328=\"\",\"\",'V C CAB'!C328)","v":"SALTAMONTES"},{"$f":"IF('V C CAB'!D328=\"\",\"\",'V C CAB'!D328)","v":""},{"$f":"IF(OR('V C CAB'!AW1493+'V C CAB'!AX1493>=2,AND('V C CAB'!AW1493+'V C CAB'!AX1493>=1,'V L CAB'!AX1501>=40),'V C CAB'!AY1493>=1),\"CLASIFICADO A 80 Km NOVICIOS\",\"\")","v":""},{"$f":"IF(C328='V C CAB'!C328,IF(OR('V C CAB'!BA328=\"\",'V C CAB'!BA328=\"HABILITADO  TEMPORALMENTE A COMPETENCIAS FEI\"),\"\",+'V C CAB'!BA328),\"ERROR\")","v":"NO INICIA SU CLASIFICACIÓN"},{"$f":"IF(C328='V C CAB'!C328,IF(+'V C CAB'!BA328=\"HABILITADO  TEMPORALMENTE A COMPETENCIAS FEI\",\"HABILITADO  TEMPORALMENTE A COMPETENCIAS FEI\",\"\"),\"ERROR\")","v":""}]
[{"$f":"IF('V C CAB'!A329=\"\",\"\",'V C CAB'!A329)","v":"B"},{"$f":"IF('V C CAB'!B329=\"\",\"\",'V C CAB'!B329)","v":"C071"},{"$f":"IF('V C CAB'!C329=\"\",\"\",'V C CAB'!C329)","v":"SARA"},{"$f":"IF('V C CAB'!D329=\"\",\"\",'V C CAB'!D329)","v":"WLADIMIRO TORRES"},{"$f":"IF(OR('V C CAB'!AW1494+'V C CAB'!AX1494>=2,AND('V C CAB'!AW1494+'V C CAB'!AX1494>=1,'V L CAB'!AX1502>=40),'V C CAB'!AY1494>=1),\"CLASIFICADO A 80 Km NOVICIOS\",\"\")","v":""},{"$f":"IF(C329='V C CAB'!C329,IF(OR('V C CAB'!BA329=\"\",'V C CAB'!BA329=\"HABILITADO  TEMPORALMENTE A COMPETENCIAS FEI\"),\"\",+'V C CAB'!BA329),\"ERROR\")","v":""},{"$f":"IF(C329='V C CAB'!C329,IF(+'V C CAB'!BA329=\"HABILITADO  TEMPORALMENTE A COMPETENCIAS FEI\",\"HABILITADO  TEMPORALMENTE A COMPETENCIAS FEI\",\"\"),\"ERROR\")","v":"HABILITADO  TEMPORALMENTE A COMPETENCIAS FEI"}]
[{"$f":"IF('V C CAB'!A330=\"\",\"\",'V C CAB'!A330)","v":"C014"},{"$f":"IF('V C CAB'!B330=\"\",\"\",'V C CAB'!B330)","v":"C073"},{"$f":"IF('V C CAB'!C330=\"\",\"\",'V C CAB'!C330)","v":"SARA CMB"},{"$f":"IF('V C CAB'!D330=\"\",\"\",'V C CAB'!D330)","v":"CESAR MORABOWEN"},{"$f":"IF(OR('V C CAB'!AW1495+'V C CAB'!AX1495>=2,AND('V C CAB'!AW1495+'V C CAB'!AX1495>=1,'V L CAB'!AX1503>=40),'V C CAB'!AY1495>=1),\"CLASIFICADO A 80 Km NOVICIOS\",\"\")","v":""},{"$f":"IF(C330='V C CAB'!C330,IF(OR('V C CAB'!BA330=\"\",'V C CAB'!BA330=\"HABILITADO  TEMPORALMENTE A COMPETENCIAS FEI\"),\"\",+'V C CAB'!BA330),\"ERROR\")","v":"HABILITADO A 80KM VELOCIDAD CONTROLADA"},{"$f":"IF(C330='V C CAB'!C330,IF(+'V C CAB'!BA330=\"HABILITADO  TEMPORALMENTE A COMPETENCIAS FEI\",\"HABILITADO  TEMPORALMENTE A COMPETENCIAS FEI\",\"\"),\"ERROR\")","v":""}]
[{"$f":"IF('V C CAB'!A331=\"\",\"\",'V C CAB'!A331)","v":"CC"},{"$f":"IF('V C CAB'!B331=\"\",\"\",'V C CAB'!B331)","v":"C298"},{"$f":"IF('V C CAB'!C331=\"\",\"\",'V C CAB'!C331)","v":"SARAÑUSCA"},{"$f":"IF('V C CAB'!D331=\"\",\"\",'V C CAB'!D331)","v":"CORDOVA JAVIER"},{"$f":"IF(OR('V C CAB'!AW1496+'V C CAB'!AX1496>=2,AND('V C CAB'!AW1496+'V C CAB'!AX1496>=1,'V L CAB'!AX1504>=40),'V C CAB'!AY1496>=1),\"CLASIFICADO A 80 Km NOVICIOS\",\"\")","v":""},{"$f":"IF(C331='V C CAB'!C331,IF(OR('V C CAB'!BA331=\"\",'V C CAB'!BA331=\"HABILITADO  TEMPORALMENTE A COMPETENCIAS FEI\"),\"\",+'V C CAB'!BA331),\"ERROR\")","v":"INICIO SU CLASIFICACIÓN"},{"$f":"IF(C331='V C CAB'!C331,IF(+'V C CAB'!BA331=\"HABILITADO  TEMPORALMENTE A COMPETENCIAS FEI\",\"HABILITADO  TEMPORALMENTE A COMPETENCIAS FEI\",\"\"),\"ERROR\")","v":""}]
[{"$f":"IF('V C CAB'!A332=\"\",\"\",'V C CAB'!A332)","v":"CC"},{"$f":"IF('V C CAB'!B332=\"\",\"\",'V C CAB'!B332)","v":"C299"},{"$f":"IF('V C CAB'!C332=\"\",\"\",'V C CAB'!C332)","v":"SARAVI"},{"$f":"IF('V C CAB'!D332=\"\",\"\",'V C CAB'!D332)","v":"PEÑA SOFIA"},{"$f":"IF(OR('V C CAB'!AW1497+'V C CAB'!AX1497>=2,AND('V C CAB'!AW1497+'V C CAB'!AX1497>=1,'V L CAB'!AX1505>=40),'V C CAB'!AY1497>=1),\"CLASIFICADO A 80 Km NOVICIOS\",\"\")","v":""},{"$f":"IF(C332='V C CAB'!C332,IF(OR('V C CAB'!BA332=\"\",'V C CAB'!BA332=\"HABILITADO  TEMPORALMENTE A COMPETENCIAS FEI\"),\"\",+'V C CAB'!BA332),\"ERROR\")","v":"NO INICIA SU CLASIFICACIÓN"},{"$f":"IF(C332='V C CAB'!C332,IF(+'V C CAB'!BA332=\"HABILITADO  TEMPORALMENTE A COMPETENCIAS FEI\",\"HABILITADO  TEMPORALMENTE A COMPETENCIAS FEI\",\"\"),\"ERROR\")","v":""}]
[{"$f":"IF('V C CAB'!A333=\"\",\"\",'V C CAB'!A333)","v":"B"},{"$f":"IF('V C CAB'!B333=\"\",\"\",'V C CAB'!B333)","v":"C053"},{"$f":"IF('V C CAB'!C333=\"\",\"\",'V C CAB'!C333)","v":"SC HURR"},{"$f":"IF('V C CAB'!D333=\"\",\"\",'V C CAB'!D333)","v":"MATEO TOBAR"},{"$f":"IF(OR('V C CAB'!AW1498+'V C CAB'!AX1498>=2,AND('V C CAB'!AW1498+'V C CAB'!AX1498>=1,'V L CAB'!AX1506>=40),'V C CAB'!AY1498>=1),\"CLASIFICADO A 80 Km NOVICIOS\",\"\")","v":""},{"$f":"IF(C333='V C CAB'!C333,IF(OR('V C CAB'!BA333=\"\",'V C CAB'!BA333=\"HABILITADO  TEMPORALMENTE A COMPETENCIAS FEI\"),\"\",+'V C CAB'!BA333),\"ERROR\")","v":"INICIO SU CLASIFICACIÓN"},{"$f":"IF(C333='V C CAB'!C333,IF(+'V C CAB'!BA333=\"HABILITADO  TEMPORALMENTE A COMPETENCIAS FEI\",\"HABILITADO  TEMPORALMENTE A COMPETENCIAS FEI\",\"\"),\"ERROR\")","v":""}]
[{"$f":"IF('V C CAB'!A334=\"\",\"\",'V C CAB'!A334)","v":"B"},{"$f":"IF('V C CAB'!B334=\"\",\"\",'V C CAB'!B334)","v":"C140"},{"$f":"IF('V C CAB'!C334=\"\",\"\",'V C CAB'!C334)","v":"SC SADIQ"},{"$f":"IF('V C CAB'!D334=\"\",\"\",'V C CAB'!D334)","v":"HÉCTOR ALMEIDA"},{"$f":"IF(OR('V C CAB'!AW1499+'V C CAB'!AX1499>=2,AND('V C CAB'!AW1499+'V C CAB'!AX1499>=1,'V L CAB'!AX1507>=40),'V C CAB'!AY1499>=1),\"CLASIFICADO A 80 Km NOVICIOS\",\"\")","v":""},{"$f":"IF(C334='V C CAB'!C334,IF(OR('V C CAB'!BA334=\"\",'V C CAB'!BA334=\"HABILITADO  TEMPORALMENTE A COMPETENCIAS FEI\"),\"\",+'V C CAB'!BA334),\"ERROR\")","v":""},{"$f":"IF(C334='V C CAB'!C334,IF(+'V C CAB'!BA334=\"HABILITADO  TEMPORALMENTE A COMPETENCIAS FEI\",\"HABILITADO  TEMPORALMENTE A COMPETENCIAS FEI\",\"\"),\"ERROR\")","v":"HABILITADO  TEMPORALMENTE A COMPETENCIAS FEI"}]
[{"$f":"IF('V C CAB'!A335=\"\",\"\",'V C CAB'!A335)","v":"C238"},{"$f":"IF('V C CAB'!B335=\"\",\"\",'V C CAB'!B335)","v":"C052"},{"$f":"IF('V C CAB'!C335=\"\",\"\",'V C CAB'!C335)","v":"SC SHARA"},{"$f":"IF('V C CAB'!D335=\"\",\"\",'V C CAB'!D335)","v":"JOSE MARTIN MONCAYO"},{"$f":"IF(OR('V C CAB'!AW1500+'V C CAB'!AX1500>=2,AND('V C CAB'!AW1500+'V C CAB'!AX1500>=1,'V L CAB'!AX1508>=40),'V C CAB'!AY1500>=1),\"CLASIFICADO A 80 Km NOVICIOS\",\"\")","v":""},{"$f":"IF(C335='V C CAB'!C335,IF(OR('V C CAB'!BA335=\"\",'V C CAB'!BA335=\"HABILITADO  TEMPORALMENTE A COMPETENCIAS FEI\"),\"\",+'V C CAB'!BA335),\"ERROR\")","v":"INICIO SU CLASIFICACIÓN"},{"$f":"IF(C335='V C CAB'!C335,IF(+'V C CAB'!BA335=\"HABILITADO  TEMPORALMENTE A COMPETENCIAS FEI\",\"HABILITADO  TEMPORALMENTE A COMPETENCIAS FEI\",\"\"),\"ERROR\")","v":""}]
[{"$f":"IF('V C CAB'!A336=\"\",\"\",'V C CAB'!A336)","v":"C274"},{"$f":"IF('V C CAB'!B336=\"\",\"\",'V C CAB'!B336)","v":"C160"},{"$f":"IF('V C CAB'!C336=\"\",\"\",'V C CAB'!C336)","v":"SECRETARIA"},{"$f":"IF('V C CAB'!D336=\"\",\"\",'V C CAB'!D336)","v":""},{"$f":"IF(OR('V C CAB'!AW1501+'V C CAB'!AX1501>=2,AND('V C CAB'!AW1501+'V C CAB'!AX1501>=1,'V L CAB'!AX1509>=40),'V C CAB'!AY1501>=1),\"CLASIFICADO A 80 Km NOVICIOS\",\"\")","v":""},{"$f":"IF(C336='V C CAB'!C336,IF(OR('V C CAB'!BA336=\"\",'V C CAB'!BA336=\"HABILITADO  TEMPORALMENTE A COMPETENCIAS FEI\"),\"\",+'V C CAB'!BA336),\"ERROR\")","v":"NO INICIA SU CLASIFICACIÓN"},{"$f":"IF(C336='V C CAB'!C336,IF(+'V C CAB'!BA336=\"HABILITADO  TEMPORALMENTE A COMPETENCIAS FEI\",\"HABILITADO  TEMPORALMENTE A COMPETENCIAS FEI\",\"\"),\"ERROR\")","v":""}]
[{"$f":"IF('V C CAB'!A337=\"\",\"\",'V C CAB'!A337)","v":"C234"},{"$f":"IF('V C CAB'!B337=\"\",\"\",'V C CAB'!B337)","v":"C"},{"$f":"IF('V C CAB'!C337=\"\",\"\",'V C CAB'!C337)","v":"SECRETO GL"},{"$f":"IF('V C CAB'!D337=\"\",\"\",'V C CAB'!D337)","v":""},{"$f":"IF(OR('V C CAB'!AW1502+'V C CAB'!AX1502>=2,AND('V C CAB'!AW1502+'V C CAB'!AX1502>=1,'V L CAB'!AX1510>=40),'V C CAB'!AY1502>=1),\"CLASIFICADO A 80 Km NOVICIOS\",\"\")","v":""},{"$f":"IF(C337='V C CAB'!C337,IF(OR('V C CAB'!BA337=\"\",'V C CAB'!BA337=\"HABILITADO  TEMPORALMENTE A COMPETENCIAS FEI\"),\"\",+'V C CAB'!BA337),\"ERROR\")","v":"INICIO SU CLASIFICACIÓN"},{"$f":"IF(C337='V C CAB'!C337,IF(+'V C CAB'!BA337=\"HABILITADO  TEMPORALMENTE A COMPETENCIAS FEI\",\"HABILITADO  TEMPORALMENTE A COMPETENCIAS FEI\",\"\"),\"ERROR\")","v":""}]
[{"$f":"IF('V C CAB'!A338=\"\",\"\",'V C CAB'!A338)","v":"C080"},{"$f":"IF('V C CAB'!B338=\"\",\"\",'V C CAB'!B338)","v":"C"},{"$f":"IF('V C CAB'!C338=\"\",\"\",'V C CAB'!C338)","v":"SEDA SF"},{"$f":"IF('V C CAB'!D338=\"\",\"\",'V C CAB'!D338)","v":""},{"$f":"IF(OR('V C CAB'!AW1503+'V C CAB'!AX1503>=2,AND('V C CAB'!AW1503+'V C CAB'!AX1503>=1,'V L CAB'!AX1511>=40),'V C CAB'!AY1503>=1),\"CLASIFICADO A 80 Km NOVICIOS\",\"\")","v":""},{"$f":"IF(C338='V C CAB'!C338,IF(OR('V C CAB'!BA338=\"\",'V C CAB'!BA338=\"HABILITADO  TEMPORALMENTE A COMPETENCIAS FEI\"),\"\",+'V C CAB'!BA338),\"ERROR\")","v":"HABILITADO A 80KM VELOCIDAD CONTROLADA"},{"$f":"IF(C338='V C CAB'!C338,IF(+'V C CAB'!BA338=\"HABILITADO  TEMPORALMENTE A COMPETENCIAS FEI\",\"HABILITADO  TEMPORALMENTE A COMPETENCIAS FEI\",\"\"),\"ERROR\")","v":""}]
[{"$f":"IF('V C CAB'!A339=\"\",\"\",'V C CAB'!A339)","v":""},{"$f":"IF('V C CAB'!B339=\"\",\"\",'V C CAB'!B339)","v":"C329"},{"$f":"IF('V C CAB'!C339=\"\",\"\",'V C CAB'!C339)","v":"SERENATA CMB"},{"$f":"IF('V C CAB'!D339=\"\",\"\",'V C CAB'!D339)","v":"MORABOWEN CESAR"},{"$f":"IF(OR('V C CAB'!AW1504+'V C CAB'!AX1504>=2,AND('V C CAB'!AW1504+'V C CAB'!AX1504>=1,'V L CAB'!AX1512>=40),'V C CAB'!AY1504>=1),\"CLASIFICADO A 80 Km NOVICIOS\",\"\")","v":""},{"$f":"IF(C339='V C CAB'!C339,IF(OR('V C CAB'!BA339=\"\",'V C CAB'!BA339=\"HABILITADO  TEMPORALMENTE A COMPETENCIAS FEI\"),\"\",+'V C CAB'!BA339),\"ERROR\")","v":""},{"$f":"IF(C339='V C CAB'!C339,IF(+'V C CAB'!BA339=\"HABILITADO  TEMPORALMENTE A COMPETENCIAS FEI\",\"HABILITADO  TEMPORALMENTE A COMPETENCIAS FEI\",\"\"),\"ERROR\")","v":"HABILITADO  TEMPORALMENTE A COMPETENCIAS FEI"}]
[{"$f":"IF('V C CAB'!A340=\"\",\"\",'V C CAB'!A340)","v":"C057"},{"$f":"IF('V C CAB'!B340=\"\",\"\",'V C CAB'!B340)","v":"C060"},{"$f":"IF('V C CAB'!C340=\"\",\"\",'V C CAB'!C340)","v":"SHAKAL"},{"$f":"IF('V C CAB'!D340=\"\",\"\",'V C CAB'!D340)","v":"LUIS PASPUEZAN"},{"$f":"IF(OR('V C CAB'!AW1505+'V C CAB'!AX1505>=2,AND('V C CAB'!AW1505+'V C CAB'!AX1505>=1,'V L CAB'!AX1513>=40),'V C CAB'!AY1505>=1),\"CLASIFICADO A 80 Km NOVICIOS\",\"\")","v":""},{"$f":"IF(C340='V C CAB'!C340,IF(OR('V C CAB'!BA340=\"\",'V C CAB'!BA340=\"HABILITADO  TEMPORALMENTE A COMPETENCIAS FEI\"),\"\",+'V C CAB'!BA340),\"ERROR\")","v":"HABILITADO A 80KM VELOCIDAD CONTROLADA"},{"$f":"IF(C340='V C CAB'!C340,IF(+'V C CAB'!BA340=\"HABILITADO  TEMPORALMENTE A COMPETENCIAS FEI\",\"HABILITADO  TEMPORALMENTE A COMPETENCIAS FEI\",\"\"),\"ERROR\")","v":""}]
[{"$f":"IF('V C CAB'!A341=\"\",\"\",'V C CAB'!A341)","v":"B"},{"$f":"IF('V C CAB'!B341=\"\",\"\",'V C CAB'!B341)","v":"C154"},{"$f":"IF('V C CAB'!C341=\"\",\"\",'V C CAB'!C341)","v":"SHAKIRA"},{"$f":"IF('V C CAB'!D341=\"\",\"\",'V C CAB'!D341)","v":"JOSÉ LETORT MENA"},{"$f":"IF(OR('V C CAB'!AW1506+'V C CAB'!AX1506>=2,AND('V C CAB'!AW1506+'V C CAB'!AX1506>=1,'V L CAB'!AX1514>=40),'V C CAB'!AY1506>=1),\"CLASIFICADO A 80 Km NOVICIOS\",\"\")","v":""},{"$f":"IF(C341='V C CAB'!C341,IF(OR('V C CAB'!BA341=\"\",'V C CAB'!BA341=\"HABILITADO  TEMPORALMENTE A COMPETENCIAS FEI\"),\"\",+'V C CAB'!BA341),\"ERROR\")","v":""},{"$f":"IF(C341='V C CAB'!C341,IF(+'V C CAB'!BA341=\"HABILITADO  TEMPORALMENTE A COMPETENCIAS FEI\",\"HABILITADO  TEMPORALMENTE A COMPETENCIAS FEI\",\"\"),\"ERROR\")","v":"HABILITADO  TEMPORALMENTE A COMPETENCIAS FEI"}]
[{"$f":"IF('V C CAB'!A342=\"\",\"\",'V C CAB'!A342)","v":""},{"$f":"IF('V C CAB'!B342=\"\",\"\",'V C CAB'!B342)","v":"C367"},{"$f":"IF('V C CAB'!C342=\"\",\"\",'V C CAB'!C342)","v":"SHAKIRA MO"},{"$f":"IF('V C CAB'!D342=\"\",\"\",'V C CAB'!D342)","v":"GONZALEZ SEBASTIAN"},{"$f":"IF(OR('V C CAB'!AW1507+'V C CAB'!AX1507>=2,AND('V C CAB'!AW1507+'V C CAB'!AX1507>=1,'V L CAB'!AX1515>=40),'V C CAB'!AY1507>=1),\"CLASIFICADO A 80 Km NOVICIOS\",\"\")","v":""},{"$f":"IF(C342='V C CAB'!C342,IF(OR('V C CAB'!BA342=\"\",'V C CAB'!BA342=\"HABILITADO  TEMPORALMENTE A COMPETENCIAS FEI\"),\"\",+'V C CAB'!BA342),\"ERROR\")","v":"INICIO SU CLASIFICACIÓN"},{"$f":"IF(C342='V C CAB'!C342,IF(+'V C CAB'!BA342=\"HABILITADO  TEMPORALMENTE A COMPETENCIAS FEI\",\"HABILITADO  TEMPORALMENTE A COMPETENCIAS FEI\",\"\"),\"ERROR\")","v":""}]
[{"$f":"IF('V C CAB'!A343=\"\",\"\",'V C CAB'!A343)","v":"B"},{"$f":"IF('V C CAB'!B343=\"\",\"\",'V C CAB'!B343)","v":"C090"},{"$f":"IF('V C CAB'!C343=\"\",\"\",'V C CAB'!C343)","v":"SHALEA"},{"$f":"IF('V C CAB'!D343=\"\",\"\",'V C CAB'!D343)","v":"RAFAELA DARQUEA"},{"$f":"IF(OR('V C CAB'!AW1508+'V C CAB'!AX1508>=2,AND('V C CAB'!AW1508+'V C CAB'!AX1508>=1,'V L CAB'!AX1516>=40),'V C CAB'!AY1508>=1),\"CLASIFICADO A 80 Km NOVICIOS\",\"\")","v":""},{"$f":"IF(C343='V C CAB'!C343,IF(OR('V C CAB'!BA343=\"\",'V C CAB'!BA343=\"HABILITADO  TEMPORALMENTE A COMPETENCIAS FEI\"),\"\",+'V C CAB'!BA343),\"ERROR\")","v":""},{"$f":"IF(C343='V C CAB'!C343,IF(+'V C CAB'!BA343=\"HABILITADO  TEMPORALMENTE A COMPETENCIAS FEI\",\"HABILITADO  TEMPORALMENTE A COMPETENCIAS FEI\",\"\"),\"ERROR\")","v":"HABILITADO  TEMPORALMENTE A COMPETENCIAS FEI"}]
[{"$f":"IF('V C CAB'!A344=\"\",\"\",'V C CAB'!A344)","v":"C251"},{"$f":"IF('V C CAB'!B344=\"\",\"\",'V C CAB'!B344)","v":"C079"},{"$f":"IF('V C CAB'!C344=\"\",\"\",'V C CAB'!C344)","v":"SHAMIR SOLIN"},{"$f":"IF('V C CAB'!D344=\"\",\"\",'V C CAB'!D344)","v":"FELIPE SERRANO"},{"$f":"IF(OR('V C CAB'!AW1509+'V C CAB'!AX1509>=2,AND('V C CAB'!AW1509+'V C CAB'!AX1509>=1,'V L CAB'!AX1517>=40),'V C CAB'!AY1509>=1),\"CLASIFICADO A 80 Km NOVICIOS\",\"\")","v":""},{"$f":"IF(C344='V C CAB'!C344,IF(OR('V C CAB'!BA344=\"\",'V C CAB'!BA344=\"HABILITADO  TEMPORALMENTE A COMPETENCIAS FEI\"),\"\",+'V C CAB'!BA344),\"ERROR\")","v":"HABILITADO A 80KM VELOCIDAD CONTROLADA"},{"$f":"IF(C344='V C CAB'!C344,IF(+'V C CAB'!BA344=\"HABILITADO  TEMPORALMENTE A COMPETENCIAS FEI\",\"HABILITADO  TEMPORALMENTE A COMPETENCIAS FEI\",\"\"),\"ERROR\")","v":""}]
[{"$f":"IF('V C CAB'!A345=\"\",\"\",'V C CAB'!A345)","v":"CC"},{"$f":"IF('V C CAB'!B345=\"\",\"\",'V C CAB'!B345)","v":"C300"},{"$f":"IF('V C CAB'!C345=\"\",\"\",'V C CAB'!C345)","v":"SHANAYA"},{"$f":"IF('V C CAB'!D345=\"\",\"\",'V C CAB'!D345)","v":"LOYOLA JERVES HERNAN GUSTAVO"},{"$f":"IF(OR('V C CAB'!AW1510+'V C CAB'!AX1510>=2,AND('V C CAB'!AW1510+'V C CAB'!AX1510>=1,'V L CAB'!AX1518>=40),'V C CAB'!AY1510>=1),\"CLASIFICADO A 80 Km NOVICIOS\",\"\")","v":""},{"$f":"IF(C345='V C CAB'!C345,IF(OR('V C CAB'!BA345=\"\",'V C CAB'!BA345=\"HABILITADO  TEMPORALMENTE A COMPETENCIAS FEI\"),\"\",+'V C CAB'!BA345),\"ERROR\")","v":"INICIO SU CLASIFICACIÓN"},{"$f":"IF(C345='V C CAB'!C345,IF(+'V C CAB'!BA345=\"HABILITADO  TEMPORALMENTE A COMPETENCIAS FEI\",\"HABILITADO  TEMPORALMENTE A COMPETENCIAS FEI\",\"\"),\"ERROR\")","v":""}]
[{"$f":"IF('V C CAB'!A346=\"\",\"\",'V C CAB'!A346)","v":"CC"},{"$f":"IF('V C CAB'!B346=\"\",\"\",'V C CAB'!B346)","v":"C201"},{"$f":"IF('V C CAB'!C346=\"\",\"\",'V C CAB'!C346)","v":"SHASHENKA"},{"$f":"IF('V C CAB'!D346=\"\",\"\",'V C CAB'!D346)","v":"MATUTE PEDRO JOSE"},{"$f":"IF(OR('V C CAB'!AW1511+'V C CAB'!AX1511>=2,AND('V C CAB'!AW1511+'V C CAB'!AX1511>=1,'V L CAB'!AX1519>=40),'V C CAB'!AY1511>=1),\"CLASIFICADO A 80 Km NOVICIOS\",\"\")","v":""},{"$f":"IF(C346='V C CAB'!C346,IF(OR('V C CAB'!BA346=\"\",'V C CAB'!BA346=\"HABILITADO  TEMPORALMENTE A COMPETENCIAS FEI\"),\"\",+'V C CAB'!BA346),\"ERROR\")","v":"LE FALTA UNA DE 80 A 90 CONTROLADA"},{"$f":"IF(C346='V C CAB'!C346,IF(+'V C CAB'!BA346=\"HABILITADO  TEMPORALMENTE A COMPETENCIAS FEI\",\"HABILITADO  TEMPORALMENTE A COMPETENCIAS FEI\",\"\"),\"ERROR\")","v":""}]
[{"$f":"IF('V C CAB'!A347=\"\",\"\",'V C CAB'!A347)","v":""},{"$f":"IF('V C CAB'!B347=\"\",\"\",'V C CAB'!B347)","v":"C364"},{"$f":"IF('V C CAB'!C347=\"\",\"\",'V C CAB'!C347)","v":"SHIMA"},{"$f":"IF('V C CAB'!D347=\"\",\"\",'V C CAB'!D347)","v":"SAMPER ALVARO"},{"$f":"IF(OR('V C CAB'!AW1512+'V C CAB'!AX1512>=2,AND('V C CAB'!AW1512+'V C CAB'!AX1512>=1,'V L CAB'!AX1520>=40),'V C CAB'!AY1512>=1),\"CLASIFICADO A 80 Km NOVICIOS\",\"\")","v":""},{"$f":"IF(C347='V C CAB'!C347,IF(OR('V C CAB'!BA347=\"\",'V C CAB'!BA347=\"HABILITADO  TEMPORALMENTE A COMPETENCIAS FEI\"),\"\",+'V C CAB'!BA347),\"ERROR\")","v":"HABILITADO A 80KM VELOCIDAD CONTROLADA"},{"$f":"IF(C347='V C CAB'!C347,IF(+'V C CAB'!BA347=\"HABILITADO  TEMPORALMENTE A COMPETENCIAS FEI\",\"HABILITADO  TEMPORALMENTE A COMPETENCIAS FEI\",\"\"),\"ERROR\")","v":""}]
[{"$f":"IF('V C CAB'!A348=\"\",\"\",'V C CAB'!A348)","v":"CC"},{"$f":"IF('V C CAB'!B348=\"\",\"\",'V C CAB'!B348)","v":"C193"},{"$f":"IF('V C CAB'!C348=\"\",\"\",'V C CAB'!C348)","v":"SHIVAGO"},{"$f":"IF('V C CAB'!D348=\"\",\"\",'V C CAB'!D348)","v":"ANDRADE PAREDES JOSE DANIEL"},{"$f":"IF(OR('V C CAB'!AW1513+'V C CAB'!AX1513>=2,AND('V C CAB'!AW1513+'V C CAB'!AX1513>=1,'V L CAB'!AX1521>=40),'V C CAB'!AY1513>=1),\"CLASIFICADO A 80 Km NOVICIOS\",\"\")","v":""},{"$f":"IF(C348='V C CAB'!C348,IF(OR('V C CAB'!BA348=\"\",'V C CAB'!BA348=\"HABILITADO  TEMPORALMENTE A COMPETENCIAS FEI\"),\"\",+'V C CAB'!BA348),\"ERROR\")","v":""},{"$f":"IF(C348='V C CAB'!C348,IF(+'V C CAB'!BA348=\"HABILITADO  TEMPORALMENTE A COMPETENCIAS FEI\",\"HABILITADO  TEMPORALMENTE A COMPETENCIAS FEI\",\"\"),\"ERROR\")","v":"HABILITADO  TEMPORALMENTE A COMPETENCIAS FEI"}]
[{"$f":"IF('V C CAB'!A349=\"\",\"\",'V C CAB'!A349)","v":"C137"},{"$f":"IF('V C CAB'!B349=\"\",\"\",'V C CAB'!B349)","v":"C018"},{"$f":"IF('V C CAB'!C349=\"\",\"\",'V C CAB'!C349)","v":"SILUETA"},{"$f":"IF('V C CAB'!D349=\"\",\"\",'V C CAB'!D349)","v":"BENITO JOSE JARAMILLO"},{"$f":"IF(OR('V C CAB'!AW1514+'V C CAB'!AX1514>=2,AND('V C CAB'!AW1514+'V C CAB'!AX1514>=1,'V L CAB'!AX1522>=40),'V C CAB'!AY1514>=1),\"CLASIFICADO A 80 Km NOVICIOS\",\"\")","v":""},{"$f":"IF(C349='V C CAB'!C349,IF(OR('V C CAB'!BA349=\"\",'V C CAB'!BA349=\"HABILITADO  TEMPORALMENTE A COMPETENCIAS FEI\"),\"\",+'V C CAB'!BA349),\"ERROR\")","v":"NO INICIA SU CLASIFICACIÓN"},{"$f":"IF(C349='V C CAB'!C349,IF(+'V C CAB'!BA349=\"HABILITADO  TEMPORALMENTE A COMPETENCIAS FEI\",\"HABILITADO  TEMPORALMENTE A COMPETENCIAS FEI\",\"\"),\"ERROR\")","v":""}]
[{"$f":"IF('V C CAB'!A350=\"\",\"\",'V C CAB'!A350)","v":"C177"},{"$f":"IF('V C CAB'!B350=\"\",\"\",'V C CAB'!B350)","v":"C064"},{"$f":"IF('V C CAB'!C350=\"\",\"\",'V C CAB'!C350)","v":"SIMBA"},{"$f":"IF('V C CAB'!D350=\"\",\"\",'V C CAB'!D350)","v":"BERNARDA LETORT"},{"$f":"IF(OR('V C CAB'!AW1515+'V C CAB'!AX1515>=2,AND('V C CAB'!AW1515+'V C CAB'!AX1515>=1,'V L CAB'!AX1523>=40),'V C CAB'!AY1515>=1),\"CLASIFICADO A 80 Km NOVICIOS\",\"\")","v":""},{"$f":"IF(C350='V C CAB'!C350,IF(OR('V C CAB'!BA350=\"\",'V C CAB'!BA350=\"HABILITADO  TEMPORALMENTE A COMPETENCIAS FEI\"),\"\",+'V C CAB'!BA350),\"ERROR\")","v":"HABILITADO A 80KM VELOCIDAD CONTROLADA"},{"$f":"IF(C350='V C CAB'!C350,IF(+'V C CAB'!BA350=\"HABILITADO  TEMPORALMENTE A COMPETENCIAS FEI\",\"HABILITADO  TEMPORALMENTE A COMPETENCIAS FEI\",\"\"),\"ERROR\")","v":""}]
[{"$f":"IF('V C CAB'!A351=\"\",\"\",'V C CAB'!A351)","v":"CC"},{"$f":"IF('V C CAB'!B351=\"\",\"\",'V C CAB'!B351)","v":"C302"},{"$f":"IF('V C CAB'!C351=\"\",\"\",'V C CAB'!C351)","v":"SIMON"},{"$f":"IF('V C CAB'!D351=\"\",\"\",'V C CAB'!D351)","v":"BURBANO SERRANO JUAN JOSE"},{"$f":"IF(OR('V C CAB'!AW1516+'V C CAB'!AX1516>=2,AND('V C CAB'!AW1516+'V C CAB'!AX1516>=1,'V L CAB'!AX1524>=40),'V C CAB'!AY1516>=1),\"CLASIFICADO A 80 Km NOVICIOS\",\"\")","v":""},{"$f":"IF(C351='V C CAB'!C351,IF(OR('V C CAB'!BA351=\"\",'V C CAB'!BA351=\"HABILITADO  TEMPORALMENTE A COMPETENCIAS FEI\"),\"\",+'V C CAB'!BA351),\"ERROR\")","v":"INICIO SU CLASIFICACIÓN"},{"$f":"IF(C351='V C CAB'!C351,IF(+'V C CAB'!BA351=\"HABILITADO  TEMPORALMENTE A COMPETENCIAS FEI\",\"HABILITADO  TEMPORALMENTE A COMPETENCIAS FEI\",\"\"),\"ERROR\")","v":""}]
[{"$f":"IF('V C CAB'!A352=\"\",\"\",'V C CAB'!A352)","v":"B"},{"$f":"IF('V C CAB'!B352=\"\",\"\",'V C CAB'!B352)","v":"C"},{"$f":"IF('V C CAB'!C352=\"\",\"\",'V C CAB'!C352)","v":"SIMON VM"},{"$f":"IF('V C CAB'!D352=\"\",\"\",'V C CAB'!D352)","v":""},{"$f":"IF(OR('V C CAB'!AW1517+'V C CAB'!AX1517>=2,AND('V C CAB'!AW1517+'V C CAB'!AX1517>=1,'V L CAB'!AX1525>=40),'V C CAB'!AY1517>=1),\"CLASIFICADO A 80 Km NOVICIOS\",\"\")","v":""},{"$f":"IF(C352='V C CAB'!C352,IF(OR('V C CAB'!BA352=\"\",'V C CAB'!BA352=\"HABILITADO  TEMPORALMENTE A COMPETENCIAS FEI\"),\"\",+'V C CAB'!BA352),\"ERROR\")","v":"NO INICIA SU CLASIFICACIÓN"},{"$f":"IF(C352='V C CAB'!C352,IF(+'V C CAB'!BA352=\"HABILITADO  TEMPORALMENTE A COMPETENCIAS FEI\",\"HABILITADO  TEMPORALMENTE A COMPETENCIAS FEI\",\"\"),\"ERROR\")","v":""}]
[{"$f":"IF('V C CAB'!A353=\"\",\"\",'V C CAB'!A353)","v":"B"},{"$f":"IF('V C CAB'!B353=\"\",\"\",'V C CAB'!B353)","v":"C031"},{"$f":"IF('V C CAB'!C353=\"\",\"\",'V C CAB'!C353)","v":"SL SAGU"},{"$f":"IF('V C CAB'!D353=\"\",\"\",'V C CAB'!D353)","v":"JOSE LUIS NIETO"},{"$f":"IF(OR('V C CAB'!AW1518+'V C CAB'!AX1518>=2,AND('V C CAB'!AW1518+'V C CAB'!AX1518>=1,'V L CAB'!AX1526>=40),'V C CAB'!AY1518>=1),\"CLASIFICADO A 80 Km NOVICIOS\",\"\")","v":""},{"$f":"IF(C353='V C CAB'!C353,IF(OR('V C CAB'!BA353=\"\",'V C CAB'!BA353=\"HABILITADO  TEMPORALMENTE A COMPETENCIAS FEI\"),\"\",+'V C CAB'!BA353),\"ERROR\")","v":"NO INICIA SU CLASIFICACIÓN"},{"$f":"IF(C353='V C CAB'!C353,IF(+'V C CAB'!BA353=\"HABILITADO  TEMPORALMENTE A COMPETENCIAS FEI\",\"HABILITADO  TEMPORALMENTE A COMPETENCIAS FEI\",\"\"),\"ERROR\")","v":""}]
[{"$f":"IF('V C CAB'!A354=\"\",\"\",'V C CAB'!A354)","v":"CC"},{"$f":"IF('V C CAB'!B354=\"\",\"\",'V C CAB'!B354)","v":"C303"},{"$f":"IF('V C CAB'!C354=\"\",\"\",'V C CAB'!C354)","v":"SOCRATES"},{"$f":"IF('V C CAB'!D354=\"\",\"\",'V C CAB'!D354)","v":"ESPINOZA IZQUIERDO PEDRO JOSE"},{"$f":"IF(OR('V C CAB'!AW1519+'V C CAB'!AX1519>=2,AND('V C CAB'!AW1519+'V C CAB'!AX1519>=1,'V L CAB'!AX1527>=40),'V C CAB'!AY1519>=1),\"CLASIFICADO A 80 Km NOVICIOS\",\"\")","v":""},{"$f":"IF(C354='V C CAB'!C354,IF(OR('V C CAB'!BA354=\"\",'V C CAB'!BA354=\"HABILITADO  TEMPORALMENTE A COMPETENCIAS FEI\"),\"\",+'V C CAB'!BA354),\"ERROR\")","v":"HABILITADO A 80KM VELOCIDAD CONTROLADA"},{"$f":"IF(C354='V C CAB'!C354,IF(+'V C CAB'!BA354=\"HABILITADO  TEMPORALMENTE A COMPETENCIAS FEI\",\"HABILITADO  TEMPORALMENTE A COMPETENCIAS FEI\",\"\"),\"ERROR\")","v":""}]
[{"$f":"IF('V C CAB'!A355=\"\",\"\",'V C CAB'!A355)","v":"CC"},{"$f":"IF('V C CAB'!B355=\"\",\"\",'V C CAB'!B355)","v":"C304"},{"$f":"IF('V C CAB'!C355=\"\",\"\",'V C CAB'!C355)","v":"SOFIA"},{"$f":"IF('V C CAB'!D355=\"\",\"\",'V C CAB'!D355)","v":"MALO GELLIBERT ANDREA"},{"$f":"IF(OR('V C CAB'!AW1520+'V C CAB'!AX1520>=2,AND('V C CAB'!AW1520+'V C CAB'!AX1520>=1,'V L CAB'!AX1528>=40),'V C CAB'!AY1520>=1),\"CLASIFICADO A 80 Km NOVICIOS\",\"\")","v":""},{"$f":"IF(C355='V C CAB'!C355,IF(OR('V C CAB'!BA355=\"\",'V C CAB'!BA355=\"HABILITADO  TEMPORALMENTE A COMPETENCIAS FEI\"),\"\",+'V C CAB'!BA355),\"ERROR\")","v":"HABILITADO A 80KM VELOCIDAD CONTROLADA"},{"$f":"IF(C355='V C CAB'!C355,IF(+'V C CAB'!BA355=\"HABILITADO  TEMPORALMENTE A COMPETENCIAS FEI\",\"HABILITADO  TEMPORALMENTE A COMPETENCIAS FEI\",\"\"),\"ERROR\")","v":""}]
[{"$f":"IF('V C CAB'!A356=\"\",\"\",'V C CAB'!A356)","v":"CC"},{"$f":"IF('V C CAB'!B356=\"\",\"\",'V C CAB'!B356)","v":"C305"},{"$f":"IF('V C CAB'!C356=\"\",\"\",'V C CAB'!C356)","v":"SPARTACO"},{"$f":"IF('V C CAB'!D356=\"\",\"\",'V C CAB'!D356)","v":"MATUTE RIOFRIO PEDRO FERMIN"},{"$f":"IF(OR('V C CAB'!AW1521+'V C CAB'!AX1521>=2,AND('V C CAB'!AW1521+'V C CAB'!AX1521>=1,'V L CAB'!AX1529>=40),'V C CAB'!AY1521>=1),\"CLASIFICADO A 80 Km NOVICIOS\",\"\")","v":""},{"$f":"IF(C356='V C CAB'!C356,IF(OR('V C CAB'!BA356=\"\",'V C CAB'!BA356=\"HABILITADO  TEMPORALMENTE A COMPETENCIAS FEI\"),\"\",+'V C CAB'!BA356),\"ERROR\")","v":"INICIO SU CLASIFICACIÓN"},{"$f":"IF(C356='V C CAB'!C356,IF(+'V C CAB'!BA356=\"HABILITADO  TEMPORALMENTE A COMPETENCIAS FEI\",\"HABILITADO  TEMPORALMENTE A COMPETENCIAS FEI\",\"\"),\"ERROR\")","v":""}]
[{"$f":"IF('V C CAB'!A357=\"\",\"\",'V C CAB'!A357)","v":"CC"},{"$f":"IF('V C CAB'!B357=\"\",\"\",'V C CAB'!B357)","v":"C306"},{"$f":"IF('V C CAB'!C357=\"\",\"\",'V C CAB'!C357)","v":"SPIRIT"},{"$f":"IF('V C CAB'!D357=\"\",\"\",'V C CAB'!D357)","v":"PRADO CAMILO"},{"$f":"IF(OR('V C CAB'!AW1522+'V C CAB'!AX1522>=2,AND('V C CAB'!AW1522+'V C CAB'!AX1522>=1,'V L CAB'!AX1530>=40),'V C CAB'!AY1522>=1),\"CLASIFICADO A 80 Km NOVICIOS\",\"\")","v":""},{"$f":"IF(C357='V C CAB'!C357,IF(OR('V C CAB'!BA357=\"\",'V C CAB'!BA357=\"HABILITADO  TEMPORALMENTE A COMPETENCIAS FEI\"),\"\",+'V C CAB'!BA357),\"ERROR\")","v":"INICIO SU CLASIFICACIÓN"},{"$f":"IF(C357='V C CAB'!C357,IF(+'V C CAB'!BA357=\"HABILITADO  TEMPORALMENTE A COMPETENCIAS FEI\",\"HABILITADO  TEMPORALMENTE A COMPETENCIAS FEI\",\"\"),\"ERROR\")","v":""}]
[{"$f":"IF('V C CAB'!A358=\"\",\"\",'V C CAB'!A358)","v":"C086"},{"$f":"IF('V C CAB'!B358=\"\",\"\",'V C CAB'!B358)","v":"C"},{"$f":"IF('V C CAB'!C358=\"\",\"\",'V C CAB'!C358)","v":"SPIRIT GV"},{"$f":"IF('V C CAB'!D358=\"\",\"\",'V C CAB'!D358)","v":""},{"$f":"IF(OR('V C CAB'!AW1523+'V C CAB'!AX1523>=2,AND('V C CAB'!AW1523+'V C CAB'!AX1523>=1,'V L CAB'!AX1531>=40),'V C CAB'!AY1523>=1),\"CLASIFICADO A 80 Km NOVICIOS\",\"\")","v":""},{"$f":"IF(C358='V C CAB'!C358,IF(OR('V C CAB'!BA358=\"\",'V C CAB'!BA358=\"HABILITADO  TEMPORALMENTE A COMPETENCIAS FEI\"),\"\",+'V C CAB'!BA358),\"ERROR\")","v":"NO INICIA SU CLASIFICACIÓN"},{"$f":"IF(C358='V C CAB'!C358,IF(+'V C CAB'!BA358=\"HABILITADO  TEMPORALMENTE A COMPETENCIAS FEI\",\"HABILITADO  TEMPORALMENTE A COMPETENCIAS FEI\",\"\"),\"ERROR\")","v":""}]
[{"$f":"IF('V C CAB'!A359=\"\",\"\",'V C CAB'!A359)","v":"CC"},{"$f":"IF('V C CAB'!B359=\"\",\"\",'V C CAB'!B359)","v":"C322"},{"$f":"IF('V C CAB'!C359=\"\",\"\",'V C CAB'!C359)","v":"SUCO"},{"$f":"IF('V C CAB'!D359=\"\",\"\",'V C CAB'!D359)","v":"VINTIMILLA CORDERO PABLO JOSÉ"},{"$f":"IF(OR('V C CAB'!AW1524+'V C CAB'!AX1524>=2,AND('V C CAB'!AW1524+'V C CAB'!AX1524>=1,'V L CAB'!AX1532>=40),'V C CAB'!AY1524>=1),\"CLASIFICADO A 80 Km NOVICIOS\",\"\")","v":""},{"$f":"IF(C359='V C CAB'!C359,IF(OR('V C CAB'!BA359=\"\",'V C CAB'!BA359=\"HABILITADO  TEMPORALMENTE A COMPETENCIAS FEI\"),\"\",+'V C CAB'!BA359),\"ERROR\")","v":""},{"$f":"IF(C359='V C CAB'!C359,IF(+'V C CAB'!BA359=\"HABILITADO  TEMPORALMENTE A COMPETENCIAS FEI\",\"HABILITADO  TEMPORALMENTE A COMPETENCIAS FEI\",\"\"),\"ERROR\")","v":"HABILITADO  TEMPORALMENTE A COMPETENCIAS FEI"}]
[{"$f":"IF('V C CAB'!A360=\"\",\"\",'V C CAB'!A360)","v":"C025"},{"$f":"IF('V C CAB'!B360=\"\",\"\",'V C CAB'!B360)","v":"C081"},{"$f":"IF('V C CAB'!C360=\"\",\"\",'V C CAB'!C360)","v":"SUE"},{"$f":"IF('V C CAB'!D360=\"\",\"\",'V C CAB'!D360)","v":"ANDRES BARAHONA VACA"},{"$f":"IF(OR('V C CAB'!AW1525+'V C CAB'!AX1525>=2,AND('V C CAB'!AW1525+'V C CAB'!AX1525>=1,'V L CAB'!AX1533>=40),'V C CAB'!AY1525>=1),\"CLASIFICADO A 80 Km NOVICIOS\",\"\")","v":""},{"$f":"IF(C360='V C CAB'!C360,IF(OR('V C CAB'!BA360=\"\",'V C CAB'!BA360=\"HABILITADO  TEMPORALMENTE A COMPETENCIAS FEI\"),\"\",+'V C CAB'!BA360),\"ERROR\")","v":""},{"$f":"IF(C360='V C CAB'!C360,IF(+'V C CAB'!BA360=\"HABILITADO  TEMPORALMENTE A COMPETENCIAS FEI\",\"HABILITADO  TEMPORALMENTE A COMPETENCIAS FEI\",\"\"),\"ERROR\")","v":"HABILITADO  TEMPORALMENTE A COMPETENCIAS FEI"}]
[{"$f":"IF('V C CAB'!A361=\"\",\"\",'V C CAB'!A361)","v":"C002"},{"$f":"IF('V C CAB'!B361=\"\",\"\",'V C CAB'!B361)","v":"C078"},{"$f":"IF('V C CAB'!C361=\"\",\"\",'V C CAB'!C361)","v":"SUKO"},{"$f":"IF('V C CAB'!D361=\"\",\"\",'V C CAB'!D361)","v":"RICARDO DARQUEA"},{"$f":"IF(OR('V C CAB'!AW1526+'V C CAB'!AX1526>=2,AND('V C CAB'!AW1526+'V C CAB'!AX1526>=1,'V L CAB'!AX1534>=40),'V C CAB'!AY1526>=1),\"CLASIFICADO A 80 Km NOVICIOS\",\"\")","v":""},{"$f":"IF(C361='V C CAB'!C361,IF(OR('V C CAB'!BA361=\"\",'V C CAB'!BA361=\"HABILITADO  TEMPORALMENTE A COMPETENCIAS FEI\"),\"\",+'V C CAB'!BA361),\"ERROR\")","v":"HABILITADO A 80KM VELOCIDAD CONTROLADA"},{"$f":"IF(C361='V C CAB'!C361,IF(+'V C CAB'!BA361=\"HABILITADO  TEMPORALMENTE A COMPETENCIAS FEI\",\"HABILITADO  TEMPORALMENTE A COMPETENCIAS FEI\",\"\"),\"ERROR\")","v":""}]
[{"$f":"IF('V C CAB'!A362=\"\",\"\",'V C CAB'!A362)","v":"C071"},{"$f":"IF('V C CAB'!B362=\"\",\"\",'V C CAB'!B362)","v":"C"},{"$f":"IF('V C CAB'!C362=\"\",\"\",'V C CAB'!C362)","v":"SUNAMI CR"},{"$f":"IF('V C CAB'!D362=\"\",\"\",'V C CAB'!D362)","v":""},{"$f":"IF(OR('V C CAB'!AW1527+'V C CAB'!AX1527>=2,AND('V C CAB'!AW1527+'V C CAB'!AX1527>=1,'V L CAB'!AX1535>=40),'V C CAB'!AY1527>=1),\"CLASIFICADO A 80 Km NOVICIOS\",\"\")","v":""},{"$f":"IF(C362='V C CAB'!C362,IF(OR('V C CAB'!BA362=\"\",'V C CAB'!BA362=\"HABILITADO  TEMPORALMENTE A COMPETENCIAS FEI\"),\"\",+'V C CAB'!BA362),\"ERROR\")","v":"NO INICIA SU CLASIFICACIÓN"},{"$f":"IF(C362='V C CAB'!C362,IF(+'V C CAB'!BA362=\"HABILITADO  TEMPORALMENTE A COMPETENCIAS FEI\",\"HABILITADO  TEMPORALMENTE A COMPETENCIAS FEI\",\"\"),\"ERROR\")","v":""}]
[{"$f":"IF('V C CAB'!A363=\"\",\"\",'V C CAB'!A363)","v":"CC"},{"$f":"IF('V C CAB'!B363=\"\",\"\",'V C CAB'!B363)","v":"C307"},{"$f":"IF('V C CAB'!C363=\"\",\"\",'V C CAB'!C363)","v":"TABATHA"},{"$f":"IF('V C CAB'!D363=\"\",\"\",'V C CAB'!D363)","v":"SORIA MARIA DANIELA"},{"$f":"IF(OR('V C CAB'!AW1528+'V C CAB'!AX1528>=2,AND('V C CAB'!AW1528+'V C CAB'!AX1528>=1,'V L CAB'!AX1536>=40),'V C CAB'!AY1528>=1),\"CLASIFICADO A 80 Km NOVICIOS\",\"\")","v":""},{"$f":"IF(C363='V C CAB'!C363,IF(OR('V C CAB'!BA363=\"\",'V C CAB'!BA363=\"HABILITADO  TEMPORALMENTE A COMPETENCIAS FEI\"),\"\",+'V C CAB'!BA363),\"ERROR\")","v":"INICIO SU CLASIFICACIÓN"},{"$f":"IF(C363='V C CAB'!C363,IF(+'V C CAB'!BA363=\"HABILITADO  TEMPORALMENTE A COMPETENCIAS FEI\",\"HABILITADO  TEMPORALMENTE A COMPETENCIAS FEI\",\"\"),\"ERROR\")","v":""}]
[{"$f":"IF('V C CAB'!A364=\"\",\"\",'V C CAB'!A364)","v":"CC"},{"$f":"IF('V C CAB'!B364=\"\",\"\",'V C CAB'!B364)","v":"C308"},{"$f":"IF('V C CAB'!C364=\"\",\"\",'V C CAB'!C364)","v":"TABITA"},{"$f":"IF('V C CAB'!D364=\"\",\"\",'V C CAB'!D364)","v":"SORIA MARIA DANIELA"},{"$f":"IF(OR('V C CAB'!AW1529+'V C CAB'!AX1529>=2,AND('V C CAB'!AW1529+'V C CAB'!AX1529>=1,'V L CAB'!AX1537>=40),'V C CAB'!AY1529>=1),\"CLASIFICADO A 80 Km NOVICIOS\",\"\")","v":""},{"$f":"IF(C364='V C CAB'!C364,IF(OR('V C CAB'!BA364=\"\",'V C CAB'!BA364=\"HABILITADO  TEMPORALMENTE A COMPETENCIAS FEI\"),\"\",+'V C CAB'!BA364),\"ERROR\")","v":"INICIO SU CLASIFICACIÓN"},{"$f":"IF(C364='V C CAB'!C364,IF(+'V C CAB'!BA364=\"HABILITADO  TEMPORALMENTE A COMPETENCIAS FEI\",\"HABILITADO  TEMPORALMENTE A COMPETENCIAS FEI\",\"\"),\"ERROR\")","v":""}]
[{"$f":"IF('V C CAB'!A365=\"\",\"\",'V C CAB'!A365)","v":"B"},{"$f":"IF('V C CAB'!B365=\"\",\"\",'V C CAB'!B365)","v":"C"},{"$f":"IF('V C CAB'!C365=\"\",\"\",'V C CAB'!C365)","v":"TACONEADO CE"},{"$f":"IF('V C CAB'!D365=\"\",\"\",'V C CAB'!D365)","v":""},{"$f":"IF(OR('V C CAB'!AW1530+'V C CAB'!AX1530>=2,AND('V C CAB'!AW1530+'V C CAB'!AX1530>=1,'V L CAB'!AX1538>=40),'V C CAB'!AY1530>=1),\"CLASIFICADO A 80 Km NOVICIOS\",\"\")","v":""},{"$f":"IF(C365='V C CAB'!C365,IF(OR('V C CAB'!BA365=\"\",'V C CAB'!BA365=\"HABILITADO  TEMPORALMENTE A COMPETENCIAS FEI\"),\"\",+'V C CAB'!BA365),\"ERROR\")","v":"NO INICIA SU CLASIFICACIÓN"},{"$f":"IF(C365='V C CAB'!C365,IF(+'V C CAB'!BA365=\"HABILITADO  TEMPORALMENTE A COMPETENCIAS FEI\",\"HABILITADO  TEMPORALMENTE A COMPETENCIAS FEI\",\"\"),\"ERROR\")","v":""}]
[{"$f":"IF('V C CAB'!A366=\"\",\"\",'V C CAB'!A366)","v":"CC"},{"$f":"IF('V C CAB'!B366=\"\",\"\",'V C CAB'!B366)","v":"C309"},{"$f":"IF('V C CAB'!C366=\"\",\"\",'V C CAB'!C366)","v":"TAMBO RULIMAN"},{"$f":"IF('V C CAB'!D366=\"\",\"\",'V C CAB'!D366)","v":"DAVALOS EMILIA"},{"$f":"IF(OR('V C CAB'!AW1531+'V C CAB'!AX1531>=2,AND('V C CAB'!AW1531+'V C CAB'!AX1531>=1,'V L CAB'!AX1539>=40),'V C CAB'!AY1531>=1),\"CLASIFICADO A 80 Km NOVICIOS\",\"\")","v":""},{"$f":"IF(C366='V C CAB'!C366,IF(OR('V C CAB'!BA366=\"\",'V C CAB'!BA366=\"HABILITADO  TEMPORALMENTE A COMPETENCIAS FEI\"),\"\",+'V C CAB'!BA366),\"ERROR\")","v":"INICIO SU CLASIFICACIÓN"},{"$f":"IF(C366='V C CAB'!C366,IF(+'V C CAB'!BA366=\"HABILITADO  TEMPORALMENTE A COMPETENCIAS FEI\",\"HABILITADO  TEMPORALMENTE A COMPETENCIAS FEI\",\"\"),\"ERROR\")","v":""}]
[{"$f":"IF('V C CAB'!A367=\"\",\"\",'V C CAB'!A367)","v":"B"},{"$f":"IF('V C CAB'!B367=\"\",\"\",'V C CAB'!B367)","v":"C153"},{"$f":"IF('V C CAB'!C367=\"\",\"\",'V C CAB'!C367)","v":"TANGER"},{"$f":"IF('V C CAB'!D367=\"\",\"\",'V C CAB'!D367)","v":"RODRIGO JIJION"},{"$f":"IF(OR('V C CAB'!AW1532+'V C CAB'!AX1532>=2,AND('V C CAB'!AW1532+'V C CAB'!AX1532>=1,'V L CAB'!AX1540>=40),'V C CAB'!AY1532>=1),\"CLASIFICADO A 80 Km NOVICIOS\",\"\")","v":""},{"$f":"IF(C367='V C CAB'!C367,IF(OR('V C CAB'!BA367=\"\",'V C CAB'!BA367=\"HABILITADO  TEMPORALMENTE A COMPETENCIAS FEI\"),\"\",+'V C CAB'!BA367),\"ERROR\")","v":"HABILITADO A 80KM VELOCIDAD CONTROLADA"},{"$f":"IF(C367='V C CAB'!C367,IF(+'V C CAB'!BA367=\"HABILITADO  TEMPORALMENTE A COMPETENCIAS FEI\",\"HABILITADO  TEMPORALMENTE A COMPETENCIAS FEI\",\"\"),\"ERROR\")","v":""}]
[{"$f":"IF('V C CAB'!A368=\"\",\"\",'V C CAB'!A368)","v":"C322"},{"$f":"IF('V C CAB'!B368=\"\",\"\",'V C CAB'!B368)","v":"C061"},{"$f":"IF('V C CAB'!C368=\"\",\"\",'V C CAB'!C368)","v":"TANGO"},{"$f":"IF('V C CAB'!D368=\"\",\"\",'V C CAB'!D368)","v":"ROSA VICTORIA"},{"$f":"IF(OR('V C CAB'!AW1533+'V C CAB'!AX1533>=2,AND('V C CAB'!AW1533+'V C CAB'!AX1533>=1,'V L CAB'!AX1541>=40),'V C CAB'!AY1533>=1),\"CLASIFICADO A 80 Km NOVICIOS\",\"\")","v":""},{"$f":"IF(C368='V C CAB'!C368,IF(OR('V C CAB'!BA368=\"\",'V C CAB'!BA368=\"HABILITADO  TEMPORALMENTE A COMPETENCIAS FEI\"),\"\",+'V C CAB'!BA368),\"ERROR\")","v":"HABILITADO A 80KM VELOCIDAD CONTROLADA"},{"$f":"IF(C368='V C CAB'!C368,IF(+'V C CAB'!BA368=\"HABILITADO  TEMPORALMENTE A COMPETENCIAS FEI\",\"HABILITADO  TEMPORALMENTE A COMPETENCIAS FEI\",\"\"),\"ERROR\")","v":""}]
[{"$f":"IF('V C CAB'!A369=\"\",\"\",'V C CAB'!A369)","v":"C232"},{"$f":"IF('V C CAB'!B369=\"\",\"\",'V C CAB'!B369)","v":"C"},{"$f":"IF('V C CAB'!C369=\"\",\"\",'V C CAB'!C369)","v":"TANGO LB"},{"$f":"IF('V C CAB'!D369=\"\",\"\",'V C CAB'!D369)","v":""},{"$f":"IF(OR('V C CAB'!AW1534+'V C CAB'!AX1534>=2,AND('V C CAB'!AW1534+'V C CAB'!AX1534>=1,'V L CAB'!AX1542>=40),'V C CAB'!AY1534>=1),\"CLASIFICADO A 80 Km NOVICIOS\",\"\")","v":""},{"$f":"IF(C369='V C CAB'!C369,IF(OR('V C CAB'!BA369=\"\",'V C CAB'!BA369=\"HABILITADO  TEMPORALMENTE A COMPETENCIAS FEI\"),\"\",+'V C CAB'!BA369),\"ERROR\")","v":"INICIO SU CLASIFICACIÓN"},{"$f":"IF(C369='V C CAB'!C369,IF(+'V C CAB'!BA369=\"HABILITADO  TEMPORALMENTE A COMPETENCIAS FEI\",\"HABILITADO  TEMPORALMENTE A COMPETENCIAS FEI\",\"\"),\"ERROR\")","v":""}]
[{"$f":"IF('V C CAB'!A370=\"\",\"\",'V C CAB'!A370)","v":"B"},{"$f":"IF('V C CAB'!B370=\"\",\"\",'V C CAB'!B370)","v":"C152"},{"$f":"IF('V C CAB'!C370=\"\",\"\",'V C CAB'!C370)","v":"TARA"},{"$f":"IF('V C CAB'!D370=\"\",\"\",'V C CAB'!D370)","v":""},{"$f":"IF(OR('V C CAB'!AW1535+'V C CAB'!AX1535>=2,AND('V C CAB'!AW1535+'V C CAB'!AX1535>=1,'V L CAB'!AX1543>=40),'V C CAB'!AY1535>=1),\"CLASIFICADO A 80 Km NOVICIOS\",\"\")","v":""},{"$f":"IF(C370='V C CAB'!C370,IF(OR('V C CAB'!BA370=\"\",'V C CAB'!BA370=\"HABILITADO  TEMPORALMENTE A COMPETENCIAS FEI\"),\"\",+'V C CAB'!BA370),\"ERROR\")","v":"NO INICIA SU CLASIFICACIÓN"},{"$f":"IF(C370='V C CAB'!C370,IF(+'V C CAB'!BA370=\"HABILITADO  TEMPORALMENTE A COMPETENCIAS FEI\",\"HABILITADO  TEMPORALMENTE A COMPETENCIAS FEI\",\"\"),\"ERROR\")","v":""}]
[{"$f":"IF('V C CAB'!A371=\"\",\"\",'V C CAB'!A371)","v":"C012"},{"$f":"IF('V C CAB'!B371=\"\",\"\",'V C CAB'!B371)","v":"C"},{"$f":"IF('V C CAB'!C371=\"\",\"\",'V C CAB'!C371)","v":"TARIK PI"},{"$f":"IF('V C CAB'!D371=\"\",\"\",'V C CAB'!D371)","v":""},{"$f":"IF(OR('V C CAB'!AW1536+'V C CAB'!AX1536>=2,AND('V C CAB'!AW1536+'V C CAB'!AX1536>=1,'V L CAB'!AX1544>=40),'V C CAB'!AY1536>=1),\"CLASIFICADO A 80 Km NOVICIOS\",\"\")","v":""},{"$f":"IF(C371='V C CAB'!C371,IF(OR('V C CAB'!BA371=\"\",'V C CAB'!BA371=\"HABILITADO  TEMPORALMENTE A COMPETENCIAS FEI\"),\"\",+'V C CAB'!BA371),\"ERROR\")","v":"NO INICIA SU CLASIFICACIÓN"},{"$f":"IF(C371='V C CAB'!C371,IF(+'V C CAB'!BA371=\"HABILITADO  TEMPORALMENTE A COMPETENCIAS FEI\",\"HABILITADO  TEMPORALMENTE A COMPETENCIAS FEI\",\"\"),\"ERROR\")","v":""}]
[{"$f":"IF('V C CAB'!A372=\"\",\"\",'V C CAB'!A372)","v":"B"},{"$f":"IF('V C CAB'!B372=\"\",\"\",'V C CAB'!B372)","v":"C"},{"$f":"IF('V C CAB'!C372=\"\",\"\",'V C CAB'!C372)","v":"TARQUI W"},{"$f":"IF('V C CAB'!D372=\"\",\"\",'V C CAB'!D372)","v":""},{"$f":"IF(OR('V C CAB'!AW1537+'V C CAB'!AX1537>=2,AND('V C CAB'!AW1537+'V C CAB'!AX1537>=1,'V L CAB'!AX1545>=40),'V C CAB'!AY1537>=1),\"CLASIFICADO A 80 Km NOVICIOS\",\"\")","v":""},{"$f":"IF(C372='V C CAB'!C372,IF(OR('V C CAB'!BA372=\"\",'V C CAB'!BA372=\"HABILITADO  TEMPORALMENTE A COMPETENCIAS FEI\"),\"\",+'V C CAB'!BA372),\"ERROR\")","v":"INICIO SU CLASIFICACIÓN"},{"$f":"IF(C372='V C CAB'!C372,IF(+'V C CAB'!BA372=\"HABILITADO  TEMPORALMENTE A COMPETENCIAS FEI\",\"HABILITADO  TEMPORALMENTE A COMPETENCIAS FEI\",\"\"),\"ERROR\")","v":""}]
[{"$f":"IF('V C CAB'!A373=\"\",\"\",'V C CAB'!A373)","v":""},{"$f":"IF('V C CAB'!B373=\"\",\"\",'V C CAB'!B373)","v":"C341"},{"$f":"IF('V C CAB'!C373=\"\",\"\",'V C CAB'!C373)","v":"TENGRI"},{"$f":"IF('V C CAB'!D373=\"\",\"\",'V C CAB'!D373)","v":"VELEZ MENA MARIA CONSUELO"},{"$f":"IF(OR('V C CAB'!AW1538+'V C CAB'!AX1538>=2,AND('V C CAB'!AW1538+'V C CAB'!AX1538>=1,'V L CAB'!AX1546>=40),'V C CAB'!AY1538>=1),\"CLASIFICADO A 80 Km NOVICIOS\",\"\")","v":""},{"$f":"IF(C373='V C CAB'!C373,IF(OR('V C CAB'!BA373=\"\",'V C CAB'!BA373=\"HABILITADO  TEMPORALMENTE A COMPETENCIAS FEI\"),\"\",+'V C CAB'!BA373),\"ERROR\")","v":""},{"$f":"IF(C373='V C CAB'!C373,IF(+'V C CAB'!BA373=\"HABILITADO  TEMPORALMENTE A COMPETENCIAS FEI\",\"HABILITADO  TEMPORALMENTE A COMPETENCIAS FEI\",\"\"),\"ERROR\")","v":"HABILITADO  TEMPORALMENTE A COMPETENCIAS FEI"}]
[{"$f":"IF('V C CAB'!A374=\"\",\"\",'V C CAB'!A374)","v":"B"},{"$f":"IF('V C CAB'!B374=\"\",\"\",'V C CAB'!B374)","v":"C004"},{"$f":"IF('V C CAB'!C374=\"\",\"\",'V C CAB'!C374)","v":"TEQUILA"},{"$f":"IF('V C CAB'!D374=\"\",\"\",'V C CAB'!D374)","v":"WILLIAM CATUCUAMBA"},{"$f":"IF(OR('V C CAB'!AW1539+'V C CAB'!AX1539>=2,AND('V C CAB'!AW1539+'V C CAB'!AX1539>=1,'V L CAB'!AX1547>=40),'V C CAB'!AY1539>=1),\"CLASIFICADO A 80 Km NOVICIOS\",\"\")","v":""},{"$f":"IF(C374='V C CAB'!C374,IF(OR('V C CAB'!BA374=\"\",'V C CAB'!BA374=\"HABILITADO  TEMPORALMENTE A COMPETENCIAS FEI\"),\"\",+'V C CAB'!BA374),\"ERROR\")","v":"HABILITADO A 80KM VELOCIDAD CONTROLADA"},{"$f":"IF(C374='V C CAB'!C374,IF(+'V C CAB'!BA374=\"HABILITADO  TEMPORALMENTE A COMPETENCIAS FEI\",\"HABILITADO  TEMPORALMENTE A COMPETENCIAS FEI\",\"\"),\"ERROR\")","v":""}]
[{"$f":"IF('V C CAB'!A375=\"\",\"\",'V C CAB'!A375)","v":""},{"$f":"IF('V C CAB'!B375=\"\",\"\",'V C CAB'!B375)","v":"C191"},{"$f":"IF('V C CAB'!C375=\"\",\"\",'V C CAB'!C375)","v":"TEQUILA"},{"$f":"IF('V C CAB'!D375=\"\",\"\",'V C CAB'!D375)","v":"ALLAICO CHIMBORAZO JOSE EMILIO"},{"$f":"IF(OR('V C CAB'!AW1540+'V C CAB'!AX1540>=2,AND('V C CAB'!AW1540+'V C CAB'!AX1540>=1,'V L CAB'!AX1548>=40),'V C CAB'!AY1540>=1),\"CLASIFICADO A 80 Km NOVICIOS\",\"\")","v":""},{"$f":"IF(C375='V C CAB'!C375,IF(OR('V C CAB'!BA375=\"\",'V C CAB'!BA375=\"HABILITADO  TEMPORALMENTE A COMPETENCIAS FEI\"),\"\",+'V C CAB'!BA375),\"ERROR\")","v":"INICIO SU CLASIFICACIÓN"},{"$f":"IF(C375='V C CAB'!C375,IF(+'V C CAB'!BA375=\"HABILITADO  TEMPORALMENTE A COMPETENCIAS FEI\",\"HABILITADO  TEMPORALMENTE A COMPETENCIAS FEI\",\"\"),\"ERROR\")","v":""}]
[{"$f":"IF('V C CAB'!A376=\"\",\"\",'V C CAB'!A376)","v":"C056"},{"$f":"IF('V C CAB'!B376=\"\",\"\",'V C CAB'!B376)","v":"C"},{"$f":"IF('V C CAB'!C376=\"\",\"\",'V C CAB'!C376)","v":"TEQUILA YA"},{"$f":"IF('V C CAB'!D376=\"\",\"\",'V C CAB'!D376)","v":""},{"$f":"IF(OR('V C CAB'!AW1541+'V C CAB'!AX1541>=2,AND('V C CAB'!AW1541+'V C CAB'!AX1541>=1,'V L CAB'!AX1549>=40),'V C CAB'!AY1541>=1),\"CLASIFICADO A 80 Km NOVICIOS\",\"\")","v":""},{"$f":"IF(C376='V C CAB'!C376,IF(OR('V C CAB'!BA376=\"\",'V C CAB'!BA376=\"HABILITADO  TEMPORALMENTE A COMPETENCIAS FEI\"),\"\",+'V C CAB'!BA376),\"ERROR\")","v":"NO INICIA SU CLASIFICACIÓN"},{"$f":"IF(C376='V C CAB'!C376,IF(+'V C CAB'!BA376=\"HABILITADO  TEMPORALMENTE A COMPETENCIAS FEI\",\"HABILITADO  TEMPORALMENTE A COMPETENCIAS FEI\",\"\"),\"ERROR\")","v":""}]
[{"$f":"IF('V C CAB'!A377=\"\",\"\",'V C CAB'!A377)","v":""},{"$f":"IF('V C CAB'!B377=\"\",\"\",'V C CAB'!B377)","v":"C352"},{"$f":"IF('V C CAB'!C377=\"\",\"\",'V C CAB'!C377)","v":"TIBE"},{"$f":"IF('V C CAB'!D377=\"\",\"\",'V C CAB'!D377)","v":"ALVEAR JUAN CARLOS"},{"$f":"IF(OR('V C CAB'!AW1542+'V C CAB'!AX1542>=2,AND('V C CAB'!AW1542+'V C CAB'!AX1542>=1,'V L CAB'!AX1550>=40),'V C CAB'!AY1542>=1),\"CLASIFICADO A 80 Km NOVICIOS\",\"\")","v":""},{"$f":"IF(C377='V C CAB'!C377,IF(OR('V C CAB'!BA377=\"\",'V C CAB'!BA377=\"HABILITADO  TEMPORALMENTE A COMPETENCIAS FEI\"),\"\",+'V C CAB'!BA377),\"ERROR\")","v":"INICIO SU CLASIFICACIÓN"},{"$f":"IF(C377='V C CAB'!C377,IF(+'V C CAB'!BA377=\"HABILITADO  TEMPORALMENTE A COMPETENCIAS FEI\",\"HABILITADO  TEMPORALMENTE A COMPETENCIAS FEI\",\"\"),\"ERROR\")","v":""}]
[{"$f":"IF('V C CAB'!A378=\"\",\"\",'V C CAB'!A378)","v":"CC"},{"$f":"IF('V C CAB'!B378=\"\",\"\",'V C CAB'!B378)","v":"C310"},{"$f":"IF('V C CAB'!C378=\"\",\"\",'V C CAB'!C378)","v":"TICTAC"},{"$f":"IF('V C CAB'!D378=\"\",\"\",'V C CAB'!D378)","v":"VALDIVIESO ISABEL"},{"$f":"IF(OR('V C CAB'!AW1543+'V C CAB'!AX1543>=2,AND('V C CAB'!AW1543+'V C CAB'!AX1543>=1,'V L CAB'!AX1551>=40),'V C CAB'!AY1543>=1),\"CLASIFICADO A 80 Km NOVICIOS\",\"\")","v":""},{"$f":"IF(C378='V C CAB'!C378,IF(OR('V C CAB'!BA378=\"\",'V C CAB'!BA378=\"HABILITADO  TEMPORALMENTE A COMPETENCIAS FEI\"),\"\",+'V C CAB'!BA378),\"ERROR\")","v":"HABILITADO A 80KM VELOCIDAD CONTROLADA"},{"$f":"IF(C378='V C CAB'!C378,IF(+'V C CAB'!BA378=\"HABILITADO  TEMPORALMENTE A COMPETENCIAS FEI\",\"HABILITADO  TEMPORALMENTE A COMPETENCIAS FEI\",\"\"),\"ERROR\")","v":""}]
[{"$f":"IF('V C CAB'!A379=\"\",\"\",'V C CAB'!A379)","v":"B"},{"$f":"IF('V C CAB'!B379=\"\",\"\",'V C CAB'!B379)","v":"C235"},{"$f":"IF('V C CAB'!C379=\"\",\"\",'V C CAB'!C379)","v":"TOACHI"},{"$f":"IF('V C CAB'!D379=\"\",\"\",'V C CAB'!D379)","v":"SEBASTIAN GONZALEZ"},{"$f":"IF(OR('V C CAB'!AW1544+'V C CAB'!AX1544>=2,AND('V C CAB'!AW1544+'V C CAB'!AX1544>=1,'V L CAB'!AX1552>=40),'V C CAB'!AY1544>=1),\"CLASIFICADO A 80 Km NOVICIOS\",\"\")","v":""},{"$f":"IF(C379='V C CAB'!C379,IF(OR('V C CAB'!BA379=\"\",'V C CAB'!BA379=\"HABILITADO  TEMPORALMENTE A COMPETENCIAS FEI\"),\"\",+'V C CAB'!BA379),\"ERROR\")","v":"NO INICIA SU CLASIFICACIÓN"},{"$f":"IF(C379='V C CAB'!C379,IF(+'V C CAB'!BA379=\"HABILITADO  TEMPORALMENTE A COMPETENCIAS FEI\",\"HABILITADO  TEMPORALMENTE A COMPETENCIAS FEI\",\"\"),\"ERROR\")","v":""}]
[{"$f":"IF('V C CAB'!A380=\"\",\"\",'V C CAB'!A380)","v":""},{"$f":"IF('V C CAB'!B380=\"\",\"\",'V C CAB'!B380)","v":"C353"},{"$f":"IF('V C CAB'!C380=\"\",\"\",'V C CAB'!C380)","v":"TOCHI"},{"$f":"IF('V C CAB'!D380=\"\",\"\",'V C CAB'!D380)","v":"GONZALEZ SEBASTIAN"},{"$f":"IF(OR('V C CAB'!AW1545+'V C CAB'!AX1545>=2,AND('V C CAB'!AW1545+'V C CAB'!AX1545>=1,'V L CAB'!AX1553>=40),'V C CAB'!AY1545>=1),\"CLASIFICADO A 80 Km NOVICIOS\",\"\")","v":""},{"$f":"IF(C380='V C CAB'!C380,IF(OR('V C CAB'!BA380=\"\",'V C CAB'!BA380=\"HABILITADO  TEMPORALMENTE A COMPETENCIAS FEI\"),\"\",+'V C CAB'!BA380),\"ERROR\")","v":"HABILITADO A 80KM VELOCIDAD CONTROLADA"},{"$f":"IF(C380='V C CAB'!C380,IF(+'V C CAB'!BA380=\"HABILITADO  TEMPORALMENTE A COMPETENCIAS FEI\",\"HABILITADO  TEMPORALMENTE A COMPETENCIAS FEI\",\"\"),\"ERROR\")","v":""}]
[{"$f":"IF('V C CAB'!A381=\"\",\"\",'V C CAB'!A381)","v":"CC"},{"$f":"IF('V C CAB'!B381=\"\",\"\",'V C CAB'!B381)","v":"C311"},{"$f":"IF('V C CAB'!C381=\"\",\"\",'V C CAB'!C381)","v":"TOCTE"},{"$f":"IF('V C CAB'!D381=\"\",\"\",'V C CAB'!D381)","v":"SALINAS HERRERA CARLOS"},{"$f":"IF(OR('V C CAB'!AW1546+'V C CAB'!AX1546>=2,AND('V C CAB'!AW1546+'V C CAB'!AX1546>=1,'V L CAB'!AX1554>=40),'V C CAB'!AY1546>=1),\"CLASIFICADO A 80 Km NOVICIOS\",\"\")","v":""},{"$f":"IF(C381='V C CAB'!C381,IF(OR('V C CAB'!BA381=\"\",'V C CAB'!BA381=\"HABILITADO  TEMPORALMENTE A COMPETENCIAS FEI\"),\"\",+'V C CAB'!BA381),\"ERROR\")","v":"INICIO SU CLASIFICACIÓN"},{"$f":"IF(C381='V C CAB'!C381,IF(+'V C CAB'!BA381=\"HABILITADO  TEMPORALMENTE A COMPETENCIAS FEI\",\"HABILITADO  TEMPORALMENTE A COMPETENCIAS FEI\",\"\"),\"ERROR\")","v":""}]
[{"$f":"IF('V C CAB'!A382=\"\",\"\",'V C CAB'!A382)","v":"CC"},{"$f":"IF('V C CAB'!B382=\"\",\"\",'V C CAB'!B382)","v":"C312"},{"$f":"IF('V C CAB'!C382=\"\",\"\",'V C CAB'!C382)","v":"TORDILLO"},{"$f":"IF('V C CAB'!D382=\"\",\"\",'V C CAB'!D382)","v":"GONZALEZ CARVALLO BERNANRDA"},{"$f":"IF(OR('V C CAB'!AW1547+'V C CAB'!AX1547>=2,AND('V C CAB'!AW1547+'V C CAB'!AX1547>=1,'V L CAB'!AX1555>=40),'V C CAB'!AY1547>=1),\"CLASIFICADO A 80 Km NOVICIOS\",\"\")","v":""},{"$f":"IF(C382='V C CAB'!C382,IF(OR('V C CAB'!BA382=\"\",'V C CAB'!BA382=\"HABILITADO  TEMPORALMENTE A COMPETENCIAS FEI\"),\"\",+'V C CAB'!BA382),\"ERROR\")","v":""},{"$f":"IF(C382='V C CAB'!C382,IF(+'V C CAB'!BA382=\"HABILITADO  TEMPORALMENTE A COMPETENCIAS FEI\",\"HABILITADO  TEMPORALMENTE A COMPETENCIAS FEI\",\"\"),\"ERROR\")","v":"HABILITADO  TEMPORALMENTE A COMPETENCIAS FEI"}]
[{"$f":"IF('V C CAB'!A383=\"\",\"\",'V C CAB'!A383)","v":"B"},{"$f":"IF('V C CAB'!B383=\"\",\"\",'V C CAB'!B383)","v":"C"},{"$f":"IF('V C CAB'!C383=\"\",\"\",'V C CAB'!C383)","v":"TORERO"},{"$f":"IF('V C CAB'!D383=\"\",\"\",'V C CAB'!D383)","v":""},{"$f":"IF(OR('V C CAB'!AW1548+'V C CAB'!AX1548>=2,AND('V C CAB'!AW1548+'V C CAB'!AX1548>=1,'V L CAB'!AX1556>=40),'V C CAB'!AY1548>=1),\"CLASIFICADO A 80 Km NOVICIOS\",\"\")","v":""},{"$f":"IF(C383='V C CAB'!C383,IF(OR('V C CAB'!BA383=\"\",'V C CAB'!BA383=\"HABILITADO  TEMPORALMENTE A COMPETENCIAS FEI\"),\"\",+'V C CAB'!BA383),\"ERROR\")","v":"NO INICIA SU CLASIFICACIÓN"},{"$f":"IF(C383='V C CAB'!C383,IF(+'V C CAB'!BA383=\"HABILITADO  TEMPORALMENTE A COMPETENCIAS FEI\",\"HABILITADO  TEMPORALMENTE A COMPETENCIAS FEI\",\"\"),\"ERROR\")","v":""}]
[{"$f":"IF('V C CAB'!A384=\"\",\"\",'V C CAB'!A384)","v":"CC"},{"$f":"IF('V C CAB'!B384=\"\",\"\",'V C CAB'!B384)","v":"C313"},{"$f":"IF('V C CAB'!C384=\"\",\"\",'V C CAB'!C384)","v":"TOSTADO"},{"$f":"IF('V C CAB'!D384=\"\",\"\",'V C CAB'!D384)","v":"CRESPO ACOSTA ROBERTO JOSE"},{"$f":"IF(OR('V C CAB'!AW1549+'V C CAB'!AX1549>=2,AND('V C CAB'!AW1549+'V C CAB'!AX1549>=1,'V L CAB'!AX1557>=40),'V C CAB'!AY1549>=1),\"CLASIFICADO A 80 Km NOVICIOS\",\"\")","v":""},{"$f":"IF(C384='V C CAB'!C384,IF(OR('V C CAB'!BA384=\"\",'V C CAB'!BA384=\"HABILITADO  TEMPORALMENTE A COMPETENCIAS FEI\"),\"\",+'V C CAB'!BA384),\"ERROR\")","v":"HABILITADO A 80KM VELOCIDAD CONTROLADA"},{"$f":"IF(C384='V C CAB'!C384,IF(+'V C CAB'!BA384=\"HABILITADO  TEMPORALMENTE A COMPETENCIAS FEI\",\"HABILITADO  TEMPORALMENTE A COMPETENCIAS FEI\",\"\"),\"ERROR\")","v":""}]
[{"$f":"IF('V C CAB'!A385=\"\",\"\",'V C CAB'!A385)","v":"CC"},{"$f":"IF('V C CAB'!B385=\"\",\"\",'V C CAB'!B385)","v":"C314"},{"$f":"IF('V C CAB'!C385=\"\",\"\",'V C CAB'!C385)","v":"TOYTOY"},{"$f":"IF('V C CAB'!D385=\"\",\"\",'V C CAB'!D385)","v":"GONZALEZ SEBASTIAN"},{"$f":"IF(OR('V C CAB'!AW1550+'V C CAB'!AX1550>=2,AND('V C CAB'!AW1550+'V C CAB'!AX1550>=1,'V L CAB'!AX1558>=40),'V C CAB'!AY1550>=1),\"CLASIFICADO A 80 Km NOVICIOS\",\"\")","v":""},{"$f":"IF(C385='V C CAB'!C385,IF(OR('V C CAB'!BA385=\"\",'V C CAB'!BA385=\"HABILITADO  TEMPORALMENTE A COMPETENCIAS FEI\"),\"\",+'V C CAB'!BA385),\"ERROR\")","v":"INICIO SU CLASIFICACIÓN"},{"$f":"IF(C385='V C CAB'!C385,IF(+'V C CAB'!BA385=\"HABILITADO  TEMPORALMENTE A COMPETENCIAS FEI\",\"HABILITADO  TEMPORALMENTE A COMPETENCIAS FEI\",\"\"),\"ERROR\")","v":""}]
[{"$f":"IF('V C CAB'!A386=\"\",\"\",'V C CAB'!A386)","v":"B"},{"$f":"IF('V C CAB'!B386=\"\",\"\",'V C CAB'!B386)","v":"C172"},{"$f":"IF('V C CAB'!C386=\"\",\"\",'V C CAB'!C386)","v":"TRES AMORES"},{"$f":"IF('V C CAB'!D386=\"\",\"\",'V C CAB'!D386)","v":""},{"$f":"IF(OR('V C CAB'!AW1551+'V C CAB'!AX1551>=2,AND('V C CAB'!AW1551+'V C CAB'!AX1551>=1,'V L CAB'!AX1559>=40),'V C CAB'!AY1551>=1),\"CLASIFICADO A 80 Km NOVICIOS\",\"\")","v":""},{"$f":"IF(C386='V C CAB'!C386,IF(OR('V C CAB'!BA386=\"\",'V C CAB'!BA386=\"HABILITADO  TEMPORALMENTE A COMPETENCIAS FEI\"),\"\",+'V C CAB'!BA386),\"ERROR\")","v":"INICIO SU CLASIFICACIÓN"},{"$f":"IF(C386='V C CAB'!C386,IF(+'V C CAB'!BA386=\"HABILITADO  TEMPORALMENTE A COMPETENCIAS FEI\",\"HABILITADO  TEMPORALMENTE A COMPETENCIAS FEI\",\"\"),\"ERROR\")","v":""}]
[{"$f":"IF('V C CAB'!A387=\"\",\"\",'V C CAB'!A387)","v":"B"},{"$f":"IF('V C CAB'!B387=\"\",\"\",'V C CAB'!B387)","v":"C"},{"$f":"IF('V C CAB'!C387=\"\",\"\",'V C CAB'!C387)","v":"TRIANA"},{"$f":"IF('V C CAB'!D387=\"\",\"\",'V C CAB'!D387)","v":""},{"$f":"IF(OR('V C CAB'!AW1552+'V C CAB'!AX1552>=2,AND('V C CAB'!AW1552+'V C CAB'!AX1552>=1,'V L CAB'!AX1560>=40),'V C CAB'!AY1552>=1),\"CLASIFICADO A 80 Km NOVICIOS\",\"\")","v":""},{"$f":"IF(C387='V C CAB'!C387,IF(OR('V C CAB'!BA387=\"\",'V C CAB'!BA387=\"HABILITADO  TEMPORALMENTE A COMPETENCIAS FEI\"),\"\",+'V C CAB'!BA387),\"ERROR\")","v":"HABILITADO A 80KM VELOCIDAD CONTROLADA"},{"$f":"IF(C387='V C CAB'!C387,IF(+'V C CAB'!BA387=\"HABILITADO  TEMPORALMENTE A COMPETENCIAS FEI\",\"HABILITADO  TEMPORALMENTE A COMPETENCIAS FEI\",\"\"),\"ERROR\")","v":""}]
[{"$f":"IF('V C CAB'!A388=\"\",\"\",'V C CAB'!A388)","v":"B"},{"$f":"IF('V C CAB'!B388=\"\",\"\",'V C CAB'!B388)","v":"C"},{"$f":"IF('V C CAB'!C388=\"\",\"\",'V C CAB'!C388)","v":"TROMPETA"},{"$f":"IF('V C CAB'!D388=\"\",\"\",'V C CAB'!D388)","v":""},{"$f":"IF(OR('V C CAB'!AW1553+'V C CAB'!AX1553>=2,AND('V C CAB'!AW1553+'V C CAB'!AX1553>=1,'V L CAB'!AX1561>=40),'V C CAB'!AY1553>=1),\"CLASIFICADO A 80 Km NOVICIOS\",\"\")","v":""},{"$f":"IF(C388='V C CAB'!C388,IF(OR('V C CAB'!BA388=\"\",'V C CAB'!BA388=\"HABILITADO  TEMPORALMENTE A COMPETENCIAS FEI\"),\"\",+'V C CAB'!BA388),\"ERROR\")","v":"NO INICIA SU CLASIFICACIÓN"},{"$f":"IF(C388='V C CAB'!C388,IF(+'V C CAB'!BA388=\"HABILITADO  TEMPORALMENTE A COMPETENCIAS FEI\",\"HABILITADO  TEMPORALMENTE A COMPETENCIAS FEI\",\"\"),\"ERROR\")","v":""}]
[{"$f":"IF('V C CAB'!A389=\"\",\"\",'V C CAB'!A389)","v":"B"},{"$f":"IF('V C CAB'!B389=\"\",\"\",'V C CAB'!B389)","v":"C099"},{"$f":"IF('V C CAB'!C389=\"\",\"\",'V C CAB'!C389)","v":"TRUENO"},{"$f":"IF('V C CAB'!D389=\"\",\"\",'V C CAB'!D389)","v":""},{"$f":"IF(OR('V C CAB'!AW1554+'V C CAB'!AX1554>=2,AND('V C CAB'!AW1554+'V C CAB'!AX1554>=1,'V L CAB'!AX1562>=40),'V C CAB'!AY1554>=1),\"CLASIFICADO A 80 Km NOVICIOS\",\"\")","v":""},{"$f":"IF(C389='V C CAB'!C389,IF(OR('V C CAB'!BA389=\"\",'V C CAB'!BA389=\"HABILITADO  TEMPORALMENTE A COMPETENCIAS FEI\"),\"\",+'V C CAB'!BA389),\"ERROR\")","v":""},{"$f":"IF(C389='V C CAB'!C389,IF(+'V C CAB'!BA389=\"HABILITADO  TEMPORALMENTE A COMPETENCIAS FEI\",\"HABILITADO  TEMPORALMENTE A COMPETENCIAS FEI\",\"\"),\"ERROR\")","v":"HABILITADO  TEMPORALMENTE A COMPETENCIAS FEI"}]
[{"$f":"IF('V C CAB'!A390=\"\",\"\",'V C CAB'!A390)","v":""},{"$f":"IF('V C CAB'!B390=\"\",\"\",'V C CAB'!B390)","v":"C055"},{"$f":"IF('V C CAB'!C390=\"\",\"\",'V C CAB'!C390)","v":"TUMBA HOMBRES"},{"$f":"IF('V C CAB'!D390=\"\",\"\",'V C CAB'!D390)","v":"MALO TORAL DAVID"},{"$f":"IF(OR('V C CAB'!AW1555+'V C CAB'!AX1555>=2,AND('V C CAB'!AW1555+'V C CAB'!AX1555>=1,'V L CAB'!AX1563>=40),'V C CAB'!AY1555>=1),\"CLASIFICADO A 80 Km NOVICIOS\",\"\")","v":""},{"$f":"IF(C390='V C CAB'!C390,IF(OR('V C CAB'!BA390=\"\",'V C CAB'!BA390=\"HABILITADO  TEMPORALMENTE A COMPETENCIAS FEI\"),\"\",+'V C CAB'!BA390),\"ERROR\")","v":"INICIO SU CLASIFICACIÓN"},{"$f":"IF(C390='V C CAB'!C390,IF(+'V C CAB'!BA390=\"HABILITADO  TEMPORALMENTE A COMPETENCIAS FEI\",\"HABILITADO  TEMPORALMENTE A COMPETENCIAS FEI\",\"\"),\"ERROR\")","v":""}]
[{"$f":"IF('V C CAB'!A391=\"\",\"\",'V C CAB'!A391)","v":"B"},{"$f":"IF('V C CAB'!B391=\"\",\"\",'V C CAB'!B391)","v":"C"},{"$f":"IF('V C CAB'!C391=\"\",\"\",'V C CAB'!C391)","v":"VENADO"},{"$f":"IF('V C CAB'!D391=\"\",\"\",'V C CAB'!D391)","v":""},{"$f":"IF(OR('V C CAB'!AW1556+'V C CAB'!AX1556>=2,AND('V C CAB'!AW1556+'V C CAB'!AX1556>=1,'V L CAB'!AX1564>=40),'V C CAB'!AY1556>=1),\"CLASIFICADO A 80 Km NOVICIOS\",\"\")","v":""},{"$f":"IF(C391='V C CAB'!C391,IF(OR('V C CAB'!BA391=\"\",'V C CAB'!BA391=\"HABILITADO  TEMPORALMENTE A COMPETENCIAS FEI\"),\"\",+'V C CAB'!BA391),\"ERROR\")","v":"NO INICIA SU CLASIFICACIÓN"},{"$f":"IF(C391='V C CAB'!C391,IF(+'V C CAB'!BA391=\"HABILITADO  TEMPORALMENTE A COMPETENCIAS FEI\",\"HABILITADO  TEMPORALMENTE A COMPETENCIAS FEI\",\"\"),\"ERROR\")","v":""}]
[{"$f":"IF('V C CAB'!A392=\"\",\"\",'V C CAB'!A392)","v":"B"},{"$f":"IF('V C CAB'!B392=\"\",\"\",'V C CAB'!B392)","v":"C166"},{"$f":"IF('V C CAB'!C392=\"\",\"\",'V C CAB'!C392)","v":"VENUS"},{"$f":"IF('V C CAB'!D392=\"\",\"\",'V C CAB'!D392)","v":"ESPINOZA TOMAS"},{"$f":"IF(OR('V C CAB'!AW1557+'V C CAB'!AX1557>=2,AND('V C CAB'!AW1557+'V C CAB'!AX1557>=1,'V L CAB'!AX1565>=40),'V C CAB'!AY1557>=1),\"CLASIFICADO A 80 Km NOVICIOS\",\"\")","v":""},{"$f":"IF(C392='V C CAB'!C392,IF(OR('V C CAB'!BA392=\"\",'V C CAB'!BA392=\"HABILITADO  TEMPORALMENTE A COMPETENCIAS FEI\"),\"\",+'V C CAB'!BA392),\"ERROR\")","v":"HABILITADO A 80KM VELOCIDAD CONTROLADA"},{"$f":"IF(C392='V C CAB'!C392,IF(+'V C CAB'!BA392=\"HABILITADO  TEMPORALMENTE A COMPETENCIAS FEI\",\"HABILITADO  TEMPORALMENTE A COMPETENCIAS FEI\",\"\"),\"ERROR\")","v":""}]
[{"$f":"IF('V C CAB'!A393=\"\",\"\",'V C CAB'!A393)","v":"B"},{"$f":"IF('V C CAB'!B393=\"\",\"\",'V C CAB'!B393)","v":"C"},{"$f":"IF('V C CAB'!C393=\"\",\"\",'V C CAB'!C393)","v":"VICTOR GH"},{"$f":"IF('V C CAB'!D393=\"\",\"\",'V C CAB'!D393)","v":""},{"$f":"IF(OR('V C CAB'!AW1558+'V C CAB'!AX1558>=2,AND('V C CAB'!AW1558+'V C CAB'!AX1558>=1,'V L CAB'!AX1566>=40),'V C CAB'!AY1558>=1),\"CLASIFICADO A 80 Km NOVICIOS\",\"\")","v":""},{"$f":"IF(C393='V C CAB'!C393,IF(OR('V C CAB'!BA393=\"\",'V C CAB'!BA393=\"HABILITADO  TEMPORALMENTE A COMPETENCIAS FEI\"),\"\",+'V C CAB'!BA393),\"ERROR\")","v":"NO INICIA SU CLASIFICACIÓN"},{"$f":"IF(C393='V C CAB'!C393,IF(+'V C CAB'!BA393=\"HABILITADO  TEMPORALMENTE A COMPETENCIAS FEI\",\"HABILITADO  TEMPORALMENTE A COMPETENCIAS FEI\",\"\"),\"ERROR\")","v":""}]
[{"$f":"IF('V C CAB'!A394=\"\",\"\",'V C CAB'!A394)","v":"CC"},{"$f":"IF('V C CAB'!B394=\"\",\"\",'V C CAB'!B394)","v":"C315"},{"$f":"IF('V C CAB'!C394=\"\",\"\",'V C CAB'!C394)","v":"VIKINGO"},{"$f":"IF('V C CAB'!D394=\"\",\"\",'V C CAB'!D394)","v":"LUGMAÑA JUAN CARLOS"},{"$f":"IF(OR('V C CAB'!AW1559+'V C CAB'!AX1559>=2,AND('V C CAB'!AW1559+'V C CAB'!AX1559>=1,'V L CAB'!AX1567>=40),'V C CAB'!AY1559>=1),\"CLASIFICADO A 80 Km NOVICIOS\",\"\")","v":""},{"$f":"IF(C394='V C CAB'!C394,IF(OR('V C CAB'!BA394=\"\",'V C CAB'!BA394=\"HABILITADO  TEMPORALMENTE A COMPETENCIAS FEI\"),\"\",+'V C CAB'!BA394),\"ERROR\")","v":"NO INICIA SU CLASIFICACIÓN"},{"$f":"IF(C394='V C CAB'!C394,IF(+'V C CAB'!BA394=\"HABILITADO  TEMPORALMENTE A COMPETENCIAS FEI\",\"HABILITADO  TEMPORALMENTE A COMPETENCIAS FEI\",\"\"),\"ERROR\")","v":""}]
[null,{"$f":"IF('V C CAB'!B395=\"\",\"\",'V C CAB'!B395)","v":"C"},{"$f":"IF('V C CAB'!C395=\"\",\"\",'V C CAB'!C395)","v":"VP RHAMYA"},{"$f":"IF('V C CAB'!D395=\"\",\"\",'V C CAB'!D395)","v":""},{"$f":"IF(OR('V C CAB'!AW1559+'V C CAB'!AX1559>=2,AND('V C CAB'!AW1559+'V C CAB'!AX1559>=1,'V L CAB'!AX1567>=40),'V C CAB'!AY1559>=1),\"CLASIFICADO A 80 Km NOVICIOS\",\"\")","v":""},{"$f":"IF(C395='V C CAB'!C395,IF(OR('V C CAB'!BA395=\"\",'V C CAB'!BA395=\"HABILITADO  TEMPORALMENTE A COMPETENCIAS FEI\"),\"\",+'V C CAB'!BA395),\"ERROR\")","v":"INICIO SU CLASIFICACIÓN"},{"$f":"IF(C395='V C CAB'!C395,IF(+'V C CAB'!BA395=\"HABILITADO  TEMPORALMENTE A COMPETENCIAS FEI\",\"HABILITADO  TEMPORALMENTE A COMPETENCIAS FEI\",\"\"),\"ERROR\")","v":""}]
[null,{"$f":"IF('V C CAB'!B396=\"\",\"\",'V C CAB'!B396)","v":"C074"},{"$f":"IF('V C CAB'!C396=\"\",\"\",'V C CAB'!C396)","v":"WISKY"},{"$f":"IF('V C CAB'!D396=\"\",\"\",'V C CAB'!D396)","v":"MAURICIO NOBOA"},{"$f":"IF(OR('V C CAB'!AW1559+'V C CAB'!AX1559>=2,AND('V C CAB'!AW1559+'V C CAB'!AX1559>=1,'V L CAB'!AX1567>=40),'V C CAB'!AY1559>=1),\"CLASIFICADO A 80 Km NOVICIOS\",\"\")","v":""},{"$f":"IF(C396='V C CAB'!C396,IF(OR('V C CAB'!BA396=\"\",'V C CAB'!BA396=\"HABILITADO  TEMPORALMENTE A COMPETENCIAS FEI\"),\"\",+'V C CAB'!BA396),\"ERROR\")","v":""},{"$f":"IF(C396='V C CAB'!C396,IF(+'V C CAB'!BA396=\"HABILITADO  TEMPORALMENTE A COMPETENCIAS FEI\",\"HABILITADO  TEMPORALMENTE A COMPETENCIAS FEI\",\"\"),\"ERROR\")","v":"HABILITADO  TEMPORALMENTE A COMPETENCIAS FEI"}]
[{"$f":"IF('V C CAB'!A397=\"\",\"\",'V C CAB'!A397)","v":"B"},{"$f":"IF('V C CAB'!B397=\"\",\"\",'V C CAB'!B397)","v":"C015"},{"$f":"IF('V C CAB'!C397=\"\",\"\",'V C CAB'!C397)","v":"ZAFIRA"},{"$f":"IF('V C CAB'!D397=\"\",\"\",'V C CAB'!D397)","v":"ANDRES AYALA"},{"$f":"IF(OR('V C CAB'!AW1559+'V C CAB'!AX1559>=2,AND('V C CAB'!AW1559+'V C CAB'!AX1559>=1,'V L CAB'!AX1567>=40),'V C CAB'!AY1559>=1),\"CLASIFICADO A 80 Km NOVICIOS\",\"\")","v":""},{"$f":"IF(C397='V C CAB'!C397,IF(OR('V C CAB'!BA397=\"\",'V C CAB'!BA397=\"HABILITADO  TEMPORALMENTE A COMPETENCIAS FEI\"),\"\",+'V C CAB'!BA397),\"ERROR\")","v":"NO INICIA SU CLASIFICACIÓN"},{"$f":"IF(C397='V C CAB'!C397,IF(+'V C CAB'!BA397=\"HABILITADO  TEMPORALMENTE A COMPETENCIAS FEI\",\"HABILITADO  TEMPORALMENTE A COMPETENCIAS FEI\",\"\"),\"ERROR\")","v":""}]
[{"$f":"IF('V C CAB'!A398=\"\",\"\",'V C CAB'!A398)","v":"CC"},{"$f":"IF('V C CAB'!B398=\"\",\"\",'V C CAB'!B398)","v":"C316"},{"$f":"IF('V C CAB'!C398=\"\",\"\",'V C CAB'!C398)","v":"ZAHIR"},{"$f":"IF('V C CAB'!D398=\"\",\"\",'V C CAB'!D398)","v":"KOPPEL OSWALDO"},{"$f":"IF(OR('V C CAB'!AW1559+'V C CAB'!AX1559>=2,AND('V C CAB'!AW1559+'V C CAB'!AX1559>=1,'V L CAB'!AX1567>=40),'V C CAB'!AY1559>=1),\"CLASIFICADO A 80 Km NOVICIOS\",\"\")","v":""},{"$f":"IF(C398='V C CAB'!C398,IF(OR('V C CAB'!BA398=\"\",'V C CAB'!BA398=\"HABILITADO  TEMPORALMENTE A COMPETENCIAS FEI\"),\"\",+'V C CAB'!BA398),\"ERROR\")","v":"INICIO SU CLASIFICACIÓN"},{"$f":"IF(C398='V C CAB'!C398,IF(+'V C CAB'!BA398=\"HABILITADO  TEMPORALMENTE A COMPETENCIAS FEI\",\"HABILITADO  TEMPORALMENTE A COMPETENCIAS FEI\",\"\"),\"ERROR\")","v":""}]
[{"$f":"IF('V C CAB'!A399=\"\",\"\",'V C CAB'!A399)","v":"B"},{"$f":"IF('V C CAB'!B399=\"\",\"\",'V C CAB'!B399)","v":"C106"},{"$f":"IF('V C CAB'!C399=\"\",\"\",'V C CAB'!C399)","v":"ZEUS LL"},{"$f":"IF('V C CAB'!D399=\"\",\"\",'V C CAB'!D399)","v":"LUIS ENRIQUE LANDAZURI"},{"$f":"IF(OR('V C CAB'!AW1559+'V C CAB'!AX1559>=2,AND('V C CAB'!AW1559+'V C CAB'!AX1559>=1,'V L CAB'!AX1567>=40),'V C CAB'!AY1559>=1),\"CLASIFICADO A 80 Km NOVICIOS\",\"\")","v":""},{"$f":"IF(C399='V C CAB'!C399,IF(OR('V C CAB'!BA399=\"\",'V C CAB'!BA399=\"HABILITADO  TEMPORALMENTE A COMPETENCIAS FEI\"),\"\",+'V C CAB'!BA399),\"ERROR\")","v":""},{"$f":"IF(C399='V C CAB'!C399,IF(+'V C CAB'!BA399=\"HABILITADO  TEMPORALMENTE A COMPETENCIAS FEI\",\"HABILITADO  TEMPORALMENTE A COMPETENCIAS FEI\",\"\"),\"ERROR\")","v":"HABILITADO  TEMPORALMENTE A COMPETENCIAS FEI"}]
[null,{"$f":"IF('V C CAB'!B400=\"\",\"\",'V C CAB'!B400)","v":"C077"},{"$f":"IF('V C CAB'!C400=\"\",\"\",'V C CAB'!C400)","v":"ZEUS PB"},{"$f":"IF('V C CAB'!D400=\"\",\"\",'V C CAB'!D400)","v":"PEDRO JOSE BACA"},{"$f":"IF(OR('V C CAB'!AW1559+'V C CAB'!AX1559>=2,AND('V C CAB'!AW1559+'V C CAB'!AX1559>=1,'V L CAB'!AX1567>=40),'V C CAB'!AY1559>=1),\"CLASIFICADO A 80 Km NOVICIOS\",\"\")","v":""},{"$f":"IF(C400='V C CAB'!C400,IF(OR('V C CAB'!BA400=\"\",'V C CAB'!BA400=\"HABILITADO  TEMPORALMENTE A COMPETENCIAS FEI\"),\"\",+'V C CAB'!BA400),\"ERROR\")","v":"LE FALTA UNA DE 80 A 90 CONTROLADA"},{"$f":"IF(C400='V C CAB'!C400,IF(+'V C CAB'!BA400=\"HABILITADO  TEMPORALMENTE A COMPETENCIAS FEI\",\"HABILITADO  TEMPORALMENTE A COMPETENCIAS FEI\",\"\"),\"ERROR\")","v":""}]
[null,{"$f":"IF('V C CAB'!B401=\"\",\"\",'V C CAB'!B401)","v":"C317"},{"$f":"IF('V C CAB'!C401=\"\",\"\",'V C CAB'!C401)","v":"ZINGARA"},{"$f":"IF('V C CAB'!D401=\"\",\"\",'V C CAB'!D401)","v":"NEIRA MALO MARTIN"},{"$f":"IF(OR('V C CAB'!AW1559+'V C CAB'!AX1559>=2,AND('V C CAB'!AW1559+'V C CAB'!AX1559>=1,'V L CAB'!AX1567>=40),'V C CAB'!AY1559>=1),\"CLASIFICADO A 80 Km NOVICIOS\",\"\")","v":""},{"$f":"IF(C401='V C CAB'!C401,IF(OR('V C CAB'!BA401=\"\",'V C CAB'!BA401=\"HABILITADO  TEMPORALMENTE A COMPETENCIAS FEI\"),\"\",+'V C CAB'!BA401),\"ERROR\")","v":"HABILITADO A 80KM VELOCIDAD CONTROLADA"},{"$f":"IF(C401='V C CAB'!C401,IF(+'V C CAB'!BA401=\"HABILITADO  TEMPORALMENTE A COMPETENCIAS FEI\",\"HABILITADO  TEMPORALMENTE A COMPETENCIAS FEI\",\"\"),\"ERROR\")","v":""}]
[null,{"$f":"IF('V C CAB'!B402=\"\",\"\",'V C CAB'!B402)","v":"C174"},{"$f":"IF('V C CAB'!C402=\"\",\"\",'V C CAB'!C402)","v":"ZT SATFANTDU"},{"$f":"IF('V C CAB'!D402=\"\",\"\",'V C CAB'!D402)","v":"ARTURO RIBADENEIRA"},{"$f":"IF(OR('V C CAB'!AW1559+'V C CAB'!AX1559>=2,AND('V C CAB'!AW1559+'V C CAB'!AX1559>=1,'V L CAB'!AX1567>=40),'V C CAB'!AY1559>=1),\"CLASIFICADO A 80 Km NOVICIOS\",\"\")","v":""},{"$f":"IF(C402='V C CAB'!C402,IF(OR('V C CAB'!BA402=\"\",'V C CAB'!BA402=\"HABILITADO  TEMPORALMENTE A COMPETENCIAS FEI\"),\"\",+'V C CAB'!BA402),\"ERROR\")","v":"LE FALTA UNA DE 80 A 90 CONTROLADA"},{"$f":"IF(C402='V C CAB'!C402,IF(+'V C CAB'!BA402=\"HABILITADO  TEMPORALMENTE A COMPETENCIAS FEI\",\"HABILITADO  TEMPORALMENTE A COMPETENCIAS FEI\",\"\"),\"ERROR\")","v":""}]
[null,{"$f":"IF('V C CAB'!B403=\"\",\"\",'V C CAB'!B403)","v":"C041"},{"$f":"IF('V C CAB'!C403=\"\",\"\",'V C CAB'!C403)","v":"ZUCO"},{"$f":"IF('V C CAB'!D403=\"\",\"\",'V C CAB'!D403)","v":"CESAR IGNACIO LEON ARAUJO"},{"$f":"IF(OR('V C CAB'!AW1559+'V C CAB'!AX1559>=2,AND('V C CAB'!AW1559+'V C CAB'!AX1559>=1,'V L CAB'!AX1567>=40),'V C CAB'!AY1559>=1),\"CLASIFICADO A 80 Km NOVICIOS\",\"\")","v":""},{"$f":"IF(C403='V C CAB'!C403,IF(OR('V C CAB'!BA403=\"\",'V C CAB'!BA403=\"HABILITADO  TEMPORALMENTE A COMPETENCIAS FEI\"),\"\",+'V C CAB'!BA403),\"ERROR\")","v":"INICIO SU CLASIFICACIÓN"},{"$f":"IF(C403='V C CAB'!C403,IF(+'V C CAB'!BA403=\"HABILITADO  TEMPORALMENTE A COMPETENCIAS FEI\",\"HABILITADO  TEMPORALMENTE A COMPETENCIAS FEI\",\"\"),\"ERROR\")","v":""}]
[{"$f":"IF('V C CAB'!A404=\"\",\"\",'V C CAB'!A404)","v":""},{"$f":"IF('V C CAB'!B404=\"\",\"\",'V C CAB'!B404)","v":"C328"},{"$f":"IF('V C CAB'!C404=\"\",\"\",'V C CAB'!C404)","v":"ZULA"},{"$f":"IF('V C CAB'!D404=\"\",\"\",'V C CAB'!D404)","v":"MEDINA JORGE"},{"$f":"IF(OR('V C CAB'!AW1560+'V C CAB'!AX1560>=2,AND('V C CAB'!AW1560+'V C CAB'!AX1560>=1,'V L CAB'!AX1568>=40),'V C CAB'!AY1560>=1),\"CLASIFICADO A 80 Km NOVICIOS\",\"\")","v":""},{"$f":"IF(C404='V C CAB'!C404,IF(OR('V C CAB'!BA404=\"\",'V C CAB'!BA404=\"HABILITADO  TEMPORALMENTE A COMPETENCIAS FEI\"),\"\",+'V C CAB'!BA404),\"ERROR\")","v":"INICIO SU CLASIFICACIÓN"},{"$f":"IF(C404='V C CAB'!C404,IF(+'V C CAB'!BA404=\"HABILITADO  TEMPORALMENTE A COMPETENCIAS FEI\",\"HABILITADO  TEMPORALMENTE A COMPETENCIAS FEI\",\"\"),\"ERROR\")","v":""}]
[{"$f":"IF('V C CAB'!A405=\"\",\"\",'V C CAB'!A405)","v":1000},{"$f":"IF('V C CAB'!B405=\"\",\"\",'V C CAB'!B405)","v":1000},{"$f":"IF('V C CAB'!C405=\"\",\"\",'V C CAB'!C405)","v":"ZZZZZZZZZ"},{"$f":"IF('V C CAB'!D405=\"\",\"\",'V C CAB'!D405)","v":""},{"$f":"IF(OR('V C CAB'!AW1561+'V C CAB'!AX1561>=2,AND('V C CAB'!AW1561+'V C CAB'!AX1561>=1,'V L CAB'!AX1569>=40),'V C CAB'!AY1561>=1),\"CLASIFICADO A 80 Km NOVICIOS\",\"\")","v":""},{"$f":"IF(C405='V C CAB'!C405,IF(OR('V C CAB'!BA405=\"\",'V C CAB'!BA405=\"HABILITADO  TEMPORALMENTE A COMPETENCIAS FEI\"),\"\",+'V C CAB'!BA405),\"ERROR\")","v":""},{"$f":"IF(C405='V C CAB'!C405,IF(+'V C CAB'!BA405=\"HABILITADO  TEMPORALMENTE A COMPETENCIAS FEI\",\"HABILITADO  TEMPORALMENTE A COMPETENCIAS FEI\",\"\"),\"ERROR\")","v":""}]

{"sheet":"V C JUV","index":15,"n_rows":130,"n_cols":59,"rows_kept":130,"cut":false,"hidden":false,"merged":[[3,0,3,1],[4,0,4,1],[0,5,1,47],[3,3,3,18],[3,19,3,49],[4,3,4,8],[4,9,4,13],[4,14,4,19],[4,20,4,26],[4,37,4,46],[4,27,4,36]]}
[null,"DERECHO ADQUIRIDO",null,null,null,null,null,null,null,null,null,null,null,null,null,null,null,null,null,null,null,null,null,null,null,null,null,null,null,null,null,null,null,null,null,null,null,null,null,null,null,null,null,null,null,null,null,null,null,null,null,"AUMENTAR JINETES JUVENILES","CLASIFICADO A COMPETENCIAS FEI",{"$f":"COUNTIF(BA6:BA362, \"CLASIFICADO A COMPETENCIAS FEI\")","v":23}]
[null,null,"VEL0CIDAD CONTROLADA",null,null,null,null,null,null,null,null,null,null,null,null,null,null,null,null,null,null,null,null,null,null,null,null,null,null,null,null,null,null,null,null,null,null,null,null,null,null,null,null,null,null,null,null,null,null,null,null,"ORDENAR POR EL NONMBRE","LE FALTA UNA DE 40 Km",{"$f":"COUNTIF(BA6:BA363, \"LE FALTA UNA DE 40 Km\")","v":2}]
[null,null,null,null,null,null,null,null,null,null,null,null,null,null,null,null,null,null,null,null,{"$f":"IFERROR($BD3,\"\")","v":0},null,{"$f":"IFERROR($BD3,\"\")","v":0},{"$f":"IFERROR($BD3,\"\")","v":0},{"$f":"IFERROR($BD3,\"\")","v":0},{"$f":"IFERROR($BD3,\"\")","v":0},{"$f":"IFERROR($BD3,\"\")","v":0},null,null,null,null,null,null,null,null,null,null,null,null,null,null,null,null,null,null,null,null,null,null,null,null,null,"LE FALTA UNA DE 60 Km",{"$f":"COUNTIF(BA6:BA364, \"LE FALTA UNA DE 60 Km\")","v":0}]
[null,null,"JUVENIL","KILOMETRAJE",null,null,null,null,null,null,null,null,null,null,null,null,null,null,null,null,null,null,null,null,null,null,null,null,null,null,null,null,null,null,null,null,null,null,null,null,null,null,null,null,null,null,null,null,null,null,null,"OBSERVACIONES","LE FALTA UNA DE 80 KM",{"$f":"COUNTIF(BA6:BA363, \"LE FALTA UNA DE 80 KM\")","v":4}]
["CODIGO",null,null,2009,null,null,null,null,null,2010,null,null,null,null,2011,null,null,null,null,null,2012,null,null,null,null,null,null,2013,null,null,null,null,null,null,null,null,null,2014,null,null,null,null,null,null,null,null,null,null,"RESUMEN",null,null,"SEGÚN REGLAMENTO FEI","TOTAL",{"$f":"SUM(BB1:BB4)","v":29},null,null,null,null,"CRTL+MAY+ O"]
["ANTERIOR","NUEVO","JINETE","I CHONE","II CHONE","III CHONE","IV CHONE","V CHONE","VI CHONE","I CHONE","II CHONE","III CHONE","IV CHONE","V CHONE","I CHONE","II CHONE","III CHONE","IV CHONE","V CHONE","VI CHONE","I CHONE"," I CUENCA","II CHONE","III CHONE","IV CHONE","V CHONE","VI CHONE","I CHONE","II CHONE","III CHONE","IV CHONE","V CHONE","VI CHONE","VII CHONE","VIII CHONE","IX CHONE","X CHONE","I CHONE","II CHONE","III CHONE","IV CHONE","V CHONE","VI CHONE","VII CHONE","VIII CHONE","IX CHONE","X CHONE",">=40<60",">=60<80",">=80","ACUMULADO",null,null,null,null,{"$f":"VLOOKUP(B6,#REF!,3,FALSE)","v":{"$error":"#REF!"}}]
["J021","J","ALARCON MONCA ESTEBAN ANDRES",null,{"$f":"IF(AND('V L AB'!D12>0,'V L CAB'!E67>0),'V L AB'!D12,IF(AND('V C AB'!D12>0,'V C CAB'!E67>0),'V C AB'!D12,\"\"))","v":""},null,null,null,null,null,null,null,null,null,null,null,null,null,null,null,null,null,null,null,null,null,null,null,null,null,null,null,null,null,null,null,null,"","","","",{"$f":"IF(AND('V L AB'!AO12>0,'V L CAB'!AP67>0),'V L AB'!AO12,IF(AND('V C AB'!AO12>0,'V C CAB'!AP67>0),'V C AB'!AO12,\"\"))","v":""},"","","",null,{"$f":"IF(AND('V L AB'!AT12>0,'V L CAB'!AU67>0),'V L AB'!AT12,IF(AND('V C AB'!AT12>0,'V C CAB'!AU67>0),'V C AB'!AT12,\"\"))","v":""},{"$f":"COUNTIF(D7:AU7,\"<60\")","v":0},{"$f":"COUNT(D7:AU7)-AV7-AX7","v":0},{"$f":"COUNTIF(D7:AU7,\">=80\")","v":0},{"$f":"SUM(D7:AU7)","v":0},{"$f":"IF(OR(AX7>2,AND(AX7>1,(AV7+AW7)>1)),\"HABILITADO  TEMPORALMENTE A COMPETENCIAS FEI\",IF(AND(AX7=1,(AV7+AW7)>1),\"LE FALTA UNA DE 80 A 90 CONTROLADA\",IF((AV7+AW7)>1,\"HABILITADO A 80KM VELOCIDAD CONTROLADA\",IF((AV7+AW7)>0,\"INICIO SU CLASIFICACIÓN\",\"NO INICIA SU CLASIFICACIÓN\"))))","v":"NO INICIA SU CLASIFICACIÓN"},{"$f":"+IF(AND(AY7>240,AX7>=1),\"CLASIFICADO A COMPETENCIAS FEI\",IF(AND(AY7>199,AX7>=1),\"LE FALTA UNA DE 40 Km\",IF(AND(AY7>179,AX7>=1),\"LE FALTA UNA DE 60 Km\",IF(AND(AY7>160),\"LE FALTA UNA DE 80 Km\",\"LE FALTA  \"&240-AY7&\"Km\"))))","v":"LE FALTA  240Km"},null,null,{"$f":"VLOOKUP(B7,#REF!,3,FALSE)","v":{"$error":"#REF!"}}]
[null,"I012","ALZAMORA CAROLINA",null,{"$f":"IF(AND('V L AB'!D13>0,'V L CAB'!E68>0),'V L AB'!D13,IF(AND('V C AB'!D13>0,'V C CAB'!E68>0),'V C AB'!D13,\"\"))","v":""},null,null,null,null,null,null,null,null,null,null,null,null,null,null,null,null,null,null,null,null,null,36,"",null,"",null,"",null,null,null,null,null,"","","","",null,"","","",null,null,1,0,0,36,"INICIO SU CLASIFICACIÓN","LE FALTA  204Km",null,null,{"$f":"VLOOKUP(B8,#REF!,3,FALSE)","v":{"$error":"#REF!"}}]
[null,"J082","ANDRADE ANDRADE EMILIA",null,null,null,null,null,null,null,null,null,null,null,null,null,null,null,null,null,null,null,null,null,null,null,null,null,null,null,null,null,null,null,null,null,null,45,"","","",47,"","",42,null,null,3,0,0,134,"HABILITADO A 80KM VELOCIDAD CONTROLADA","LE FALTA  106Km",null,null,{"$f":"VLOOKUP(B9,#REF!,3,FALSE)","v":{"$error":"#REF!"}}]
[null,"J083","ANDRADE ANDRADE PAULA",null,null,null,null,null,null,null,null,null,null,null,null,null,null,null,null,null,null,null,null,null,null,null,null,null,null,null,null,null,null,null,null,null,null,45,"","","",null,"","","",null,null,1,0,0,45,"INICIO SU CLASIFICACIÓN","LE FALTA  195Km",null,null,{"$f":"VLOOKUP(B10,#REF!,3,FALSE)","v":{"$error":"#REF!"}}]
["I043","J034","ANDRADE JOSE DANIEL",null,null,null,null,null,null,null,null,null,null,null,{"$f":"IFERROR(#REF!,\"\")","v":""},"","",44,"",42,"",null,60,null,60,"","","",null,"",44,42,83,null,null,null,null,80,"","","",47,"","","",null,null,5,2,2,502,"HABILITADO  TEMPORALMENTE A COMPETENCIAS FEI","CLASIFICADO A COMPETENCIAS FEI",null,null,{"$f":"VLOOKUP(B11,#REF!,3,FALSE)","v":{"$error":"#REF!"}}]
["J008","J","ASTUDILLO ESTALIN",null,null,null,null,null,null,null,null,null,null,null,"","","","","","","",null,null,null,"","","","",null,"",null,"",null,null,null,null,null,"","","","",null,"","","",null,null,0,0,0,0,"NO INICIA SU CLASIFICACIÓN","LE FALTA  240Km",null,null,{"$f":"VLOOKUP(B12,#REF!,3,FALSE)","v":{"$error":"#REF!"}}]
["I054","J018","BACA PEDRO JOSE",null,null,null,null,null,null,null,null,null,null,null,44,"",44,"",43,"","",null,null,null,"","","","",null,"",null,"",null,null,null,null,null,"","","","",null,"","","",null,null,3,0,0,131,"HABILITADO A 80KM VELOCIDAD CONTROLADA","LE FALTA  109Km",null,null,{"$f":"VLOOKUP(B13,#REF!,3,FALSE)","v":{"$error":"#REF!"}}]
["C","J058","BERNAL MARTIN",null,null,null,null,null,null,null,null,null,null,null,null,null,null,null,null,null,null,null,null,40,null,null,null,null,null,null,null,null,null,null,null,null,null,"","","","",null,"","","",null,null,1,0,0,40,"INICIO SU CLASIFICACIÓN",null,null,null,{"$f":"VLOOKUP(B14,#REF!,3,FALSE)","v":{"$error":"#REF!"}}]
[null,"J091","BERREZUETA DELGADO PABLO SANTI",null,null,null,null,null,null,null,null,null,null,null,{"$f":"IFERROR(#REF!,\"\")","v":""},"","","",{"$f":"IFERROR(#REF!,\"\")","v":""},{"$f":"IFERROR(#REF!,\"\")","v":""},"",null,null,null,null,null,null,null,null,null,null,null,null,null,null,null,null,null,null,null,null,null,null,42,42,42,null,3,0,0,126,"HABILITADO A 80KM VELOCIDAD CONTROLADA",{"$f":"+IF(AND(AY15>240,AX15>=1),\"CLASIFICADO A COMPETENCIAS FEI\",IF(AND(AY15>199,AX15>=1),\"LE FALTA UNA DE 40 Km\",IF(AND(AY15>179,AX15>=1),\"LE FALTA UNA DE 60 Km\",IF(AND(AY15>160),\"LE FALTA UNA DE 80 Km\",\"LE FALTA  \"&240-AY15&\"Km\"))))","v":"LE FALTA  114Km"},null,null,{"$f":"VLOOKUP(B15,#REF!,3,FALSE)","v":{"$error":"#REF!"}}]
[null,"C","BOADA ABAD DOMENICA",null,null,null,null,null,null,null,null,null,null,null,null,null,null,null,null,null,null,null,40,40,40,null,null,null,null,null,null,null,null,null,null,null,null,null,null,"","",null,"","","","",null,3,0,0,120,"HABILITADO A 80KM VELOCIDAD CONTROLADA",null,null,null,{"$f":"VLOOKUP(B16,#REF!,3,FALSE)","v":{"$error":"#REF!"}}]
["J016","J","BUITRON DANIEL",null,null,null,null,null,null,null,null,null,null,null,"","","","","","","",null,null,null,"","","","",null,"",null,"",null,null,null,null,null,"","","","",null,"","","","",null,0,0,0,0,"NO INICIA SU CLASIFICACIÓN",{"$f":"+IF(AND(AY17>240,AX17>=1),\"CLASIFICADO A COMPETENCIAS FEI\",IF(AND(AY17>199,AX17>=1),\"LE FALTA UNA DE 40 Km\",IF(AND(AY17>179,AX17>=1),\"LE FALTA UNA DE 60 Km\",IF(AND(AY17>160),\"LE FALTA UNA DE 80 Km\",\"LE FALTA  \"&240-AY17&\"Km\"))))","v":"LE FALTA  240Km"},null,null,{"$f":"VLOOKUP(B17,#REF!,3,FALSE)","v":{"$error":"#REF!"}}]
["C","C","BURBANO  PEZANTES PEDRO JOSE",null,null,null,null,null,null,null,null,null,null,null,null,null,null,null,null,null,null,null,null,null,null,null,null,null,null,null,null,null,null,null,null,null,null,"","","","",null,"","","","",null,0,0,0,0,"NO INICIA SU CLASIFICACIÓN",null,null,null,{"$f":"VLOOKUP(B18,#REF!,3,FALSE)","v":{"$error":"#REF!"}}]
["C","C","BURBANO SERRANO JAIME SEBASTIAN",null,null,null,null,null,null,null,null,null,null,null,null,null,null,null,null,null,null,null,null,null,null,null,null,null,null,null,null,null,63,null,68,null,null,"","","","",null,"","","","",null,0,2,0,131,"HABILITADO A 80KM VELOCIDAD CONTROLADA",null,null,null,{"$f":"VLOOKUP(B19,#REF!,3,FALSE)","v":{"$error":"#REF!"}}]
["C","J067","BURBANO VILLAVICENCIO JAIME SEBASTIAN",null,null,null,null,null,null,null,null,null,null,null,null,null,null,null,null,null,null,null,null,null,null,null,null,null,44,null,44,null,null,null,null,null,null,"","","","",null,"","","","",null,2,0,0,88,"HABILITADO A 80KM VELOCIDAD CONTROLADA",null,null,null,{"$f":"VLOOKUP(B20,#REF!,3,FALSE)","v":{"$error":"#REF!"}}]
[null,"I007","CHIRIBOGA ALFREDO",null,null,null,null,null,null,null,null,null,null,null,null,null,null,null,null,null,null,null,null,null,null,null,null,48,null,null,null,null,null,null,null,null,null,"","","","",null,"","","","",null,1,0,0,48,"INICIO SU CLASIFICACIÓN",null,null,null,{"$f":"VLOOKUP(B21,#REF!,3,FALSE)","v":{"$error":"#REF!"}}]
["I049","J","CHIRIBOGA DANIEL",null,null,null,null,null,null,null,null,null,null,null,null,41,"","","","","",null,null,null,"","","","",null,"",null,"",null,null,null,null,null,"","","","",{"$f":"IF(AND('V L JUV'!AO62>0,'V L CAB'!AP90>0),'V L JUV'!AO62,IF(AND('V C JUV'!AO62>0,'V C CAB'!AP90>0),'V C JUV'!AO62,\"\"))","v":""},"","","","",{"$f":"IF(AND('V L JUV'!AT62>0,'V L CAB'!AU90>0),'V L JUV'!AT62,IF(AND('V C JUV'!AT62>0,'V C CAB'!AU90>0),'V C JUV'!AT62,\"\"))","v":""},1,0,0,41,"INICIO SU CLASIFICACIÓN",{"$f":"+IF(AND(AY22>240,AX22>=1),\"CLASIFICADO A COMPETENCIAS FEI\",IF(AND(AY22>199,AX22>=1),\"LE FALTA UNA DE 40 Km\",IF(AND(AY22>179,AX22>=1),\"LE FALTA UNA DE 60 Km\",IF(AND(AY22>160),\"LE FALTA UNA DE 80 Km\",\"LE FALTA  \"&240-AY22&\"Km\"))))","v":"LE FALTA  199Km"},null,null,{"$f":"VLOOKUP(B22,#REF!,3,FALSE)","v":{"$error":"#REF!"}}]
["I031","J048","CONTRERAS MARIA ALICIA",null,null,null,null,null,null,null,null,null,null,null,null,null,40,null,43,"","",null,40,null,"","","","",null,"",null,"",null,null,null,null,null,"","","","",null,"","","","",null,3,0,0,123,"HABILITADO A 80KM VELOCIDAD CONTROLADA",{"$f":"+IF(AND(AY23>240,AX23>=1),\"CLASIFICADO A COMPETENCIAS FEI\",IF(AND(AY23>199,AX23>=1),\"LE FALTA UNA DE 40 Km\",IF(AND(AY23>179,AX23>=1),\"LE FALTA UNA DE 60 Km\",IF(AND(AY23>160),\"LE FALTA UNA DE 80 Km\",\"LE FALTA  \"&240-AY23&\"Km\"))))","v":"LE FALTA  117Km"},null,null,{"$f":"VLOOKUP(B23,#REF!,3,FALSE)","v":{"$error":"#REF!"}}]
[null,"J084","CORDOVA MUÑOZ SUSANA MICHELLE",null,null,null,null,null,null,null,null,null,null,null,null,null,null,null,null,null,null,null,null,null,null,null,null,null,null,null,null,null,null,null,null,null,null,45,"","","",null,"","","","",null,1,0,0,45,"INICIO SU CLASIFICACIÓN",{"$f":"+IF(AND(AY24>240,AX24>=1),\"CLASIFICADO A COMPETENCIAS FEI\",IF(AND(AY24>199,AX24>=1),\"LE FALTA UNA DE 40 Km\",IF(AND(AY24>179,AX24>=1),\"LE FALTA UNA DE 60 Km\",IF(AND(AY24>160),\"LE FALTA UNA DE 80 Km\",\"LE FALTA  \"&240-AY24&\"Km\"))))","v":"LE FALTA  195Km"},null,null,{"$f":"VLOOKUP(B24,#REF!,3,FALSE)","v":{"$error":"#REF!"}}]
["J026","J021","CORNEJO BURNEO MANUEL",null,null,null,null,null,null,null,null,null,null,null,44,41,65,44,"","",62,null,null,81,80,"","",null,null,"",null,"",null,93,null,null,null,84,"","","",null,"","","","",null,3,2,4,594,"HABILITADO  TEMPORALMENTE A COMPETENCIAS FEI",{"$f":"+IF(AND(AY25>240,AX25>=1),\"CLASIFICADO A COMPETENCIAS FEI\",IF(AND(AY25>199,AX25>=1),\"LE FALTA UNA DE 40 Km\",IF(AND(AY25>179,AX25>=1),\"LE FALTA UNA DE 60 Km\",IF(AND(AY25>160),\"LE FALTA UNA DE 80 Km\",\"LE FALTA  \"&240-AY25&\"Km\"))))","v":"CLASIFICADO A COMPETENCIAS FEI"},null,null,{"$f":"VLOOKUP(B25,#REF!,3,FALSE)","v":{"$error":"#REF!"}}]
["J019","J015","DARQUEA ANDRES",null,null,null,null,null,null,null,null,null,null,null,null,41,"","","","",44,null,null,null,"","","","",null,"",null,"",null,null,null,null,null,"","","","",null,"","","","",null,2,0,0,85,"HABILITADO A 80KM VELOCIDAD CONTROLADA",{"$f":"+IF(AND(AY26>240,AX26>=1),\"CLASIFICADO A COMPETENCIAS FEI\",IF(AND(AY26>199,AX26>=1),\"LE FALTA UNA DE 40 Km\",IF(AND(AY26>179,AX26>=1),\"LE FALTA UNA DE 60 Km\",IF(AND(AY26>160),\"LE FALTA UNA DE 80 Km\",\"LE FALTA  \"&240-AY26&\"Km\"))))","v":"LE FALTA  155Km"},null,null,{"$f":"VLOOKUP(B26,#REF!,3,FALSE)","v":{"$error":"#REF!"}}]
[null,"J089","DARQUEA DAVALOS ANA MARIA",null,null,null,null,null,null,null,null,null,null,null,null,null,null,null,null,null,null,null,null,null,null,null,null,null,null,null,null,null,null,null,null,null,null,null,null,null,47,47,"",42,"","",null,3,0,0,136,"HABILITADO A 80KM VELOCIDAD CONTROLADA",null,null,null,{"$f":"VLOOKUP(B27,#REF!,3,FALSE)","v":{"$error":"#REF!"}}]
[null,"J040","DARQUEA GABRIEL IGNACIO",null,null,null,null,null,null,null,null,null,null,null,null,null,null,null,null,null,null,null,null,null,44,"","","",null,"",null,"",null,null,null,null,null,"","","","",null,"","","","",null,1,0,0,44,"INICIO SU CLASIFICACIÓN",{"$f":"+IF(AND(AY28>240,AX28>=1),\"CLASIFICADO A COMPETENCIAS FEI\",IF(AND(AY28>199,AX28>=1),\"LE FALTA UNA DE 40 Km\",IF(AND(AY28>179,AX28>=1),\"LE FALTA UNA DE 60 Km\",IF(AND(AY28>160),\"LE FALTA UNA DE 80 Km\",\"LE FALTA  \"&240-AY28&\"Km\"))))","v":"LE FALTA  196Km"},null,null,{"$f":"VLOOKUP(B28,#REF!,3,FALSE)","v":{"$error":"#REF!"}}]
["J031","J","DARQUEA JIJON ANDRES",null,null,null,null,null,null,null,null,null,null,null,"",null,"","","","","",null,null,null,"","","","",null,"",null,"",null,null,null,null,null,"","","","",null,"","","","",null,0,0,0,0,"NO INICIA SU CLASIFICACIÓN",{"$f":"+IF(AND(AY29>240,AX29>=1),\"CLASIFICADO A COMPETENCIAS FEI\",IF(AND(AY29>199,AX29>=1),\"LE FALTA UNA DE 40 Km\",IF(AND(AY29>179,AX29>=1),\"LE FALTA UNA DE 60 Km\",IF(AND(AY29>160),\"LE FALTA UNA DE 80 Km\",\"LE FALTA  \"&240-AY29&\"Km\"))))","v":"LE FALTA  240Km"},null,null,{"$f":"VLOOKUP(B29,#REF!,3,FALSE)","v":{"$error":"#REF!"}}]
["J003","J024","DARQUEA RAFAELA",null,null,null,null,null,null,81,80,null,80,null,44,"",44,"","","",81,40,null,null,"","","","",null,"",null,"",null,null,null,null,null,"","","","",null,"","","","",null,3,0,4,450,"HABILITADO  TEMPORALMENTE A COMPETENCIAS FEI",{"$f":"+IF(AND(AY30>240,AX30>=1),\"CLASIFICADO A COMPETENCIAS FEI\",IF(AND(AY30>199,AX30>=1),\"LE FALTA UNA DE 40 Km\",IF(AND(AY30>179,AX30>=1),\"LE FALTA UNA DE 60 Km\",IF(AND(AY30>160),\"LE FALTA UNA DE 80 Km\",\"LE FALTA  \"&240-AY30&\"Km\"))))","v":"CLASIFICADO A COMPETENCIAS FEI"},null,null,{"$f":"VLOOKUP(B30,#REF!,3,FALSE)","v":{"$error":"#REF!"}}]
["J009","J019","DARQUEA RICARDO",null,null,null,null,null,null,null,null,null,null,null,44,41,44,"",43,42,62,null,60,null,"","","",80,null,82,null,"",null,null,null,null,82,"","","","",null,"","","",90,null,5,2,4,670,"HABILITADO  TEMPORALMENTE A COMPETENCIAS FEI",{"$f":"+IF(AND(AY31>240,AX31>=1),\"CLASIFICADO A COMPETENCIAS FEI\",IF(AND(AY31>199,AX31>=1),\"LE FALTA UNA DE 40 Km\",IF(AND(AY31>179,AX31>=1),\"LE FALTA UNA DE 60 Km\",IF(AND(AY31>160),\"LE FALTA UNA DE 80 Km\",\"LE FALTA  \"&240-AY31&\"Km\"))))","v":"CLASIFICADO A COMPETENCIAS FEI"},null,null,{"$f":"VLOOKUP(B31,#REF!,3,FALSE)","v":{"$error":"#REF!"}}]
["C","J068","DAVALOS LARIVA MARIA EMILIA",null,null,null,null,null,null,null,null,null,null,null,null,40,null,null,null,null,null,40,null,null,null,null,null,null,null,null,null,null,null,null,null,null,null,"","","","",null,"","","","",null,2,0,0,80,"HABILITADO A 80KM VELOCIDAD CONTROLADA",null,null,null,{"$f":"VLOOKUP(B32,#REF!,3,FALSE)","v":{"$error":"#REF!"}}]
[null,"J009","DEL POZO MARTINA",null,null,null,null,null,null,null,null,null,null,null,null,null,null,null,null,42,44,null,null,null,"","","","",null,"",null,"",null,null,null,null,null,"","","","",null,"","","","",null,2,0,0,86,"HABILITADO A 80KM VELOCIDAD CONTROLADA",{"$f":"+IF(AND(AY33>240,AX33>=1),\"CLASIFICADO A COMPETENCIAS FEI\",IF(AND(AY33>199,AX33>=1),\"LE FALTA UNA DE 40 Km\",IF(AND(AY33>179,AX33>=1),\"LE FALTA UNA DE 60 Km\",IF(AND(AY33>160),\"LE FALTA UNA DE 80 Km\",\"LE FALTA  \"&240-AY33&\"Km\"))))","v":"LE FALTA  154Km"},null,null,{"$f":"VLOOKUP(B33,#REF!,3,FALSE)","v":{"$error":"#REF!"}}]
["J017","J032","DELGADO JUAN ",null,null,null,null,null,null,null,null,null,null,null,"","","",44,null,"","",80,null,null,"","","","",null,"",null,"",null,null,null,null,null,"","","","",null,"","","","",null,1,0,1,124,"INICIO SU CLASIFICACIÓN",{"$f":"+IF(AND(AY34>240,AX34>=1),\"CLASIFICADO A COMPETENCIAS FEI\",IF(AND(AY34>199,AX34>=1),\"LE FALTA UNA DE 40 Km\",IF(AND(AY34>179,AX34>=1),\"LE FALTA UNA DE 60 Km\",IF(AND(AY34>160),\"LE FALTA UNA DE 80 Km\",\"LE FALTA  \"&240-AY34&\"Km\"))))","v":"LE FALTA  116Km"},null,null,{"$f":"VLOOKUP(B34,#REF!,3,FALSE)","v":{"$error":"#REF!"}}]
["C","J069","DONOSO CARRASCO MARIA DANIELA",null,null,null,null,null,null,null,null,null,null,null,null,null,null,null,null,null,null,40,40,40,40,null,null,null,null,null,null,null,null,null,null,null,null,"","","","",null,"","","","",null,4,0,0,160,"HABILITADO A 80KM VELOCIDAD CONTROLADA",null,null,null,{"$f":"VLOOKUP(B35,#REF!,3,FALSE)","v":{"$error":"#REF!"}}]
[null,"J059","DUBACH CAROLINA",null,null,null,null,null,null,null,null,null,null,null,null,null,null,null,null,null,null,null,null,null,null,null,null,null,null,null,null,null,null,null,null,null,null,null,null,null,43,null,"","","",42,null,2,0,0,85,"HABILITADO A 80KM VELOCIDAD CONTROLADA",{"$f":"+IF(AND(AY36>240,AX36>=1),\"CLASIFICADO A COMPETENCIAS FEI\",IF(AND(AY36>199,AX36>=1),\"LE FALTA UNA DE 40 Km\",IF(AND(AY36>179,AX36>=1),\"LE FALTA UNA DE 60 Km\",IF(AND(AY36>160),\"LE FALTA UNA DE 80 Km\",\"LE FALTA  \"&240-AY36&\"Km\"))))","v":"LE FALTA  155Km"},null,null,{"$f":"VLOOKUP(B36,#REF!,3,FALSE)","v":{"$error":"#REF!"}}]
[null,"J042","DUEÑAS GONZALO",null,null,null,null,null,null,null,null,null,null,null,"","","","","","","",null,null,null,"",62,"","",null,"",null,"",null,null,null,null,null,"","","","",null,"","","","",null,0,1,0,62,"INICIO SU CLASIFICACIÓN",{"$f":"+IF(AND(AY37>240,AX37>=1),\"CLASIFICADO A COMPETENCIAS FEI\",IF(AND(AY37>199,AX37>=1),\"LE FALTA UNA DE 40 Km\",IF(AND(AY37>179,AX37>=1),\"LE FALTA UNA DE 60 Km\",IF(AND(AY37>160),\"LE FALTA UNA DE 80 Km\",\"LE FALTA  \"&240-AY37&\"Km\"))))","v":"LE FALTA  178Km"},null,null,{"$f":"VLOOKUP(B37,#REF!,3,FALSE)","v":{"$error":"#REF!"}}]
["C","J070","ESPINOZA ALVARADO JUAN SEBASTIAN",null,null,null,null,null,null,null,null,null,null,null,null,null,null,null,null,null,null,60,null,60,null,null,null,null,null,null,null,null,null,null,null,null,null,"","","","",null,"","","","",null,0,2,0,120,"HABILITADO A 80KM VELOCIDAD CONTROLADA",null,null,null,{"$f":"VLOOKUP(B38,#REF!,3,FALSE)","v":{"$error":"#REF!"}}]
[null,"J065","ESPINOZA BARBARA",null,null,null,null,null,null,null,null,null,null,null,null,null,null,null,null,null,null,null,null,40,44,62,52,"",null,"",null,"",null,null,null,42,null,84,"","","",null,"","","","",null,{"$f":"COUNTIF(D39:AU39,\"<60\")","v":4},{"$f":"COUNT(D39:AU39)-AV39-AX39","v":1},{"$f":"COUNTIF(D39:AU39,\">=80\")","v":1},{"$f":"SUM(D39:AU39)","v":324},{"$f":"IF(OR(AX39>2,AND(AX39>1,(AV39+AW39)>1)),\"HABILITADO  TEMPORALMENTE A COMPETENCIAS FEI\",IF(AND(AX39=1,(AV39+AW39)>1),\"LE FALTA UNA DE 80 A 90 CONTROLADA\",IF((AV39+AW39)>1,\"HABILITADO A 80KM VELOCIDAD CONTROLADA\",IF((AV39+AW39)>0,\"INICIO SU CLASIFICACIÓN\",\"NO INICIA SU CLASIFICACIÓN\"))))","v":"LE FALTA UNA DE 80 A 90 CONTROLADA"},{"$f":"+IF(AND(AY39>240,AX39>=1),\"CLASIFICADO A COMPETENCIAS FEI\",IF(AND(AY39>199,AX39>=1),\"LE FALTA UNA DE 40 Km\",IF(AND(AY39>179,AX39>=1),\"LE FALTA UNA DE 60 Km\",IF(AND(AY39>160),\"LE FALTA UNA DE 80 Km\",\"LE FALTA  \"&240-AY39&\"Km\"))))","v":"CLASIFICADO A COMPETENCIAS FEI"},null,null,{"$f":"VLOOKUP(B39,#REF!,3,FALSE)","v":{"$error":"#REF!"}}]
["J005","J","ESPINOZA JUAN FERNANDO",null,null,null,null,null,null,null,null,null,null,null,44,"",44,"","","","",null,null,null,"","","","",null,"",null,"",null,null,null,null,null,"","","","",null,"","","","",null,2,0,0,88,"HABILITADO A 80KM VELOCIDAD CONTROLADA",{"$f":"+IF(AND(AY40>240,AX40>=1),\"CLASIFICADO A COMPETENCIAS FEI\",IF(AND(AY40>199,AX40>=1),\"LE FALTA UNA DE 40 Km\",IF(AND(AY40>179,AX40>=1),\"LE FALTA UNA DE 60 Km\",IF(AND(AY40>160),\"LE FALTA UNA DE 80 Km\",\"LE FALTA  \"&240-AY40&\"Km\"))))","v":"LE FALTA  152Km"},null,null,{"$f":"VLOOKUP(B40,#REF!,3,FALSE)","v":{"$error":"#REF!"}}]
["J013","J007","ESPINOZA TOMAS",null,null,null,null,null,null,null,null,null,null,null,{"$f":"IFERROR(#REF!,\"\")","v":""},"","",44,"","","",null,60,40,80,"",52,"",null,82,null,42,null,null,null,null,null,"","","",84,null,"","","","",null,4,1,3,484,"HABILITADO  TEMPORALMENTE A COMPETENCIAS FEI",{"$f":"+IF(AND(AY41>240,AX41>=1),\"CLASIFICADO A COMPETENCIAS FEI\",IF(AND(AY41>199,AX41>=1),\"LE FALTA UNA DE 40 Km\",IF(AND(AY41>179,AX41>=1),\"LE FALTA UNA DE 60 Km\",IF(AND(AY41>160),\"LE FALTA UNA DE 80 Km\",\"LE FALTA  \"&240-AY41&\"Km\"))))","v":"CLASIFICADO A COMPETENCIAS FEI"},null,null,{"$f":"VLOOKUP(B41,#REF!,3,FALSE)","v":{"$error":"#REF!"}}]
[null,"M010","FRITZ JULIANA",null,null,null,null,null,null,null,null,null,null,null,null,null,null,null,null,null,null,null,null,null,null,null,null,null,null,null,null,null,null,null,null,null,null,43,null,"","",null,"","","","",null,1,0,0,43,"INICIO SU CLASIFICACIÓN",null,null,null,{"$f":"VLOOKUP(B42,#REF!,3,FALSE)","v":{"$error":"#REF!"}}]
[null,"J050","FRITZ PAULA",null,null,null,null,null,null,null,null,null,null,null,null,null,null,null,null,null,null,null,null,null,null,null,null,null,null,41,null,"",null,null,null,41,42,84,"",84,"",null,"","","","",null,3,0,2,292,"HABILITADO  TEMPORALMENTE A COMPETENCIAS FEI",{"$f":"+IF(AND(AY43>240,AX43>=1),\"CLASIFICADO A COMPETENCIAS FEI\",IF(AND(AY43>199,AX43>=1),\"LE FALTA UNA DE 40 Km\",IF(AND(AY43>179,AX43>=1),\"LE FALTA UNA DE 60 Km\",IF(AND(AY43>160),\"LE FALTA UNA DE 80 Km\",\"LE FALTA  \"&240-AY43&\"Km\"))))","v":"CLASIFICADO A COMPETENCIAS FEI"},null,null,{"$f":"VLOOKUP(B43,#REF!,3,FALSE)","v":{"$error":"#REF!"}}]
[null,"J049","FRITZ SEBASTIAN",null,null,null,null,null,null,null,null,null,null,null,null,null,null,null,null,null,null,null,null,null,null,null,null,null,null,41,null,"",null,40,null,null,null,"","",84,"",null,"","","","",null,2,0,1,165,"LE FALTA UNA DE 80 A 90 CONTROLADA",{"$f":"+IF(AND(AY44>240,AX44>=1),\"CLASIFICADO A COMPETENCIAS FEI\",IF(AND(AY44>199,AX44>=1),\"LE FALTA UNA DE 40 Km\",IF(AND(AY44>179,AX44>=1),\"LE FALTA UNA DE 60 Km\",IF(AND(AY44>160),\"LE FALTA UNA DE 80 Km\",\"LE FALTA  \"&240-AY44&\"Km\"))))","v":"LE FALTA UNA DE 80 Km"},null,null,{"$f":"VLOOKUP(B44,#REF!,3,FALSE)","v":{"$error":"#REF!"}}]
["J038","J008","GOMEZ MICHILENA ALEXANDER",null,null,null,null,null,null,null,null,66,60,62,81,82,"","","","","",null,null,null,"","","",48,null,"",null,42,83,93,null,90,82,"","","","",null,"","","","",null,2,3,6,789,"HABILITADO  TEMPORALMENTE A COMPETENCIAS FEI",{"$f":"+IF(AND(AY45>240,AX45>=1),\"CLASIFICADO A COMPETENCIAS FEI\",IF(AND(AY45>199,AX45>=1),\"LE FALTA UNA DE 40 Km\",IF(AND(AY45>179,AX45>=1),\"LE FALTA UNA DE 60 Km\",IF(AND(AY45>160),\"LE FALTA UNA DE 80 Km\",\"LE FALTA  \"&240-AY45&\"Km\"))))","v":"CLASIFICADO A COMPETENCIAS FEI"},null,null,{"$f":"VLOOKUP(B45,#REF!,3,FALSE)","v":{"$error":"#REF!"}}]
[null,"J063","GONZALEZ BERNARDA",null,null,null,null,null,null,null,null,null,null,null,null,60,60,null,null,null,null,80,80,40,null,null,null,null,44,null,44,null,42,null,null,null,82,80,"","","",47,"","",42,"",null,6,2,4,701,"HABILITADO  TEMPORALMENTE A COMPETENCIAS FEI",null,null,null,{"$f":"VLOOKUP(B46,#REF!,3,FALSE)","v":{"$error":"#REF!"}}]
[null,"J002","GUARDERAS BELEN",null,null,null,null,null,null,null,null,null,null,null,null,null,null,null,null,null,"",null,null,null,44,"","","",null,"",null,"",null,null,null,null,null,"","","","",null,"","","","",null,1,0,0,44,"INICIO SU CLASIFICACIÓN",{"$f":"+IF(AND(AY47>240,AX47>=1),\"CLASIFICADO A COMPETENCIAS FEI\",IF(AND(AY47>199,AX47>=1),\"LE FALTA UNA DE 40 Km\",IF(AND(AY47>179,AX47>=1),\"LE FALTA UNA DE 60 Km\",IF(AND(AY47>160),\"LE FALTA UNA DE 80 Km\",\"LE FALTA  \"&240-AY47&\"Km\"))))","v":"LE FALTA  196Km"},null,null,{"$f":"VLOOKUP(B47,#REF!,3,FALSE)","v":{"$error":"#REF!"}}]
[null,"J057","GUARDERAS JOSE GABRIEL",null,null,null,null,null,null,null,null,null,null,null,null,null,null,null,null,null,null,null,null,null,null,null,null,null,null,null,null,null,null,null,null,null,null,null,null,43,43,null,"","","",90,null,2,0,1,176,"LE FALTA UNA DE 80 A 90 CONTROLADA","LE FALTA UNA DE 80 Km",null,null,{"$f":"VLOOKUP(B48,#REF!,3,FALSE)","v":{"$error":"#REF!"}}]
[null,"J014","GUARDERAS PEDRO JOSE",null,null,null,null,null,null,null,null,null,null,null,null,null,null,null,null,null,44,null,null,null,59,"","","",null,82,null,null,null,40,null,null,82,"","",84,"",null,"","","","",null,3,0,3,391,"HABILITADO  TEMPORALMENTE A COMPETENCIAS FEI","CLASIFICADO A COMPETENCIAS FEI",null,null,{"$f":"VLOOKUP(B49,#REF!,3,FALSE)","v":{"$error":"#REF!"}}]
[null,"J003","GUARDERAS SANTIAGO",null,null,null,null,null,null,null,null,null,null,null,null,null,null,null,null,null,"",null,null,null,44,"","","",null,41,null,"",null,null,null,null,null,"","","","",null,"","","","",null,2,0,0,85,"HABILITADO A 80KM VELOCIDAD CONTROLADA","LE FALTA  155Km",null,null,{"$f":"VLOOKUP(B50,#REF!,3,FALSE)","v":{"$error":"#REF!"}}]
["I005","I006","HERRERA JUAN DIEGO",null,null,null,null,null,null,null,null,null,null,null,null,null,null,44,43,"","",null,null,null,"","","","",null,"",null,"",null,null,null,null,null,"","","","",null,"","","","",null,2,0,0,87,"HABILITADO A 80KM VELOCIDAD CONTROLADA","LE FALTA  153Km",null,null,{"$f":"VLOOKUP(B51,#REF!,3,FALSE)","v":{"$error":"#REF!"}}]
[null,"J053","INGUILLAY LUIS FERNANDO",null,null,null,null,null,null,null,null,null,null,null,{"$f":"IFERROR(#REF!,\"\")","v":""},"","","",{"$f":"IFERROR(#REF!,\"\")","v":""},{"$f":"IFERROR(#REF!,\"\")","v":""},"",null,null,null,"","",null,48,null,41,null,"",null,null,null,null,null,"","","","",null,"","","","",null,2,0,0,89,"HABILITADO A 80KM VELOCIDAD CONTROLADA","LE FALTA  151Km",null,null,{"$f":"VLOOKUP(B52,#REF!,3,FALSE)","v":{"$error":"#REF!"}}]
[null,"J","JACOME ESPINOZA MARCO",null,null,null,null,null,null,null,null,null,null,null,"","","","","","","",null,null,null,"","","","",null,"",null,"",null,null,null,null,null,"","","","",null,"","","","",null,0,0,0,0,"NO INICIA SU CLASIFICACIÓN","LE FALTA  240Km",null,null,{"$f":"VLOOKUP(B53,#REF!,3,FALSE)","v":{"$error":"#REF!"}}]
[null,"M013","JARAMILLO BENITO",null,null,null,null,null,null,null,null,null,null,null,null,null,null,null,null,null,null,null,null,null,null,null,null,null,null,null,null,null,null,null,null,42,42,43,"","",43,null,40,"","",42,null,6,0,0,252,"HABILITADO A 80KM VELOCIDAD CONTROLADA",null,null,null,{"$f":"VLOOKUP(B54,#REF!,3,FALSE)","v":{"$error":"#REF!"}}]
[null,"J079","JARAMILLO MANUELA",null,null,null,null,null,null,null,null,null,null,null,null,null,null,null,null,null,null,null,null,null,null,null,null,48,null,null,null,null,null,null,null,42,42,84,"",84,84,null,80,"","",90,null,3,0,5,554,"HABILITADO  TEMPORALMENTE A COMPETENCIAS FEI",{"$f":"+IF(AND(AY55>240,AX55>=1),\"CLASIFICADO A COMPETENCIAS FEI\",IF(AND(AY55>199,AX55>=1),\"LE FALTA UNA DE 40 Km\",IF(AND(AY55>179,AX55>=1),\"LE FALTA UNA DE 60 Km\",IF(AND(AY55>160),\"LE FALTA UNA DE 80 Km\",\"LE FALTA  \"&240-AY55&\"Km\"))))","v":"CLASIFICADO A COMPETENCIAS FEI"},null,null,{"$f":"VLOOKUP(B55,#REF!,3,FALSE)","v":{"$error":"#REF!"}}]
[null,"J030","JARAMILLO MARTIN",null,null,null,null,null,null,null,null,null,null,null,null,null,null,null,null,null,null,null,44,null,"","","",48,null,"",null,"",null,null,null,null,null,"","","","",null,"","","","",null,2,0,0,92,"HABILITADO A 80KM VELOCIDAD CONTROLADA","LE FALTA  148Km",null,null,{"$f":"VLOOKUP(B56,#REF!,3,FALSE)","v":{"$error":"#REF!"}}]
[null,"J096","JIJON ANA FRANCISCA",null,null,null,null,null,null,null,null,null,null,null,{"$f":"IFERROR(#REF!,\"\")","v":""},"","","",{"$f":"IFERROR(#REF!,\"\")","v":""},{"$f":"IFERROR(#REF!,\"\")","v":""},"",null,null,null,null,null,null,null,null,null,null,null,null,null,null,null,null,null,null,null,null,null,null,null,null,42,null,1,0,0,42,"INICIO SU CLASIFICACIÓN","LE FALTA  198Km",null,null,{"$f":"VLOOKUP(B57,#REF!,3,FALSE)","v":{"$error":"#REF!"}}]
["J049","J022","JIJON JUAN ESTEBAN",null,null,null,null,null,null,null,null,null,null,null,{"$f":"IFERROR(#REF!,\"\")","v":""},"","",44,62,63,81,null,null,null,"","",52,"",null,"",null,"",null,null,null,null,null,"","","","",null,"","","","",null,2,2,1,302,"LE FALTA UNA DE 80 A 90 CONTROLADA","CLASIFICADO A COMPETENCIAS FEI",null,null,{"$f":"VLOOKUP(B58,#REF!,3,FALSE)","v":{"$error":"#REF!"}}]
[null,"J005","JIJON MARÍA PAULA",null,null,null,null,null,null,null,null,null,null,null,null,null,null,44,null,null,null,null,60,null,"","","","",null,"",null,"",null,null,null,null,null,"","","","",null,"","","","",null,1,1,0,104,"HABILITADO A 80KM VELOCIDAD CONTROLADA","LE FALTA  136Km",null,null,{"$f":"VLOOKUP(B59,#REF!,3,FALSE)","v":{"$error":"#REF!"}}]
[null,"J017","KAKABADSE MANUEL",null,null,null,null,null,null,null,null,null,null,null,null,null,null,null,null,null,null,null,null,null,"","",52,"",null,41,null,"",null,null,null,null,null,"","","","",null,"","","","",null,2,0,0,93,"HABILITADO A 80KM VELOCIDAD CONTROLADA","LE FALTA  147Km",null,null,{"$f":"VLOOKUP(B60,#REF!,3,FALSE)","v":{"$error":"#REF!"}}]
["C","C","LARRIVA JUAN FRANCISCO",null,null,null,null,null,null,null,null,null,null,null,null,null,null,null,null,null,null,null,null,null,null,null,null,null,null,null,null,null,null,null,null,null,null,"","","","",null,"","","","",null,0,0,0,0,"NO INICIA SU CLASIFICACIÓN",null,null,null,{"$f":"VLOOKUP(B61,#REF!,3,FALSE)","v":{"$error":"#REF!"}}]
["C","J071","LARRIVA LOYOLA CAROLINA",null,null,null,null,null,null,null,null,null,null,null,null,null,40,40,null,null,null,null,null,null,null,null,null,null,null,null,null,null,null,null,null,null,null,"","","","",null,"","","","",null,2,0,0,80,"HABILITADO A 80KM VELOCIDAD CONTROLADA",null,null,null,{"$f":"VLOOKUP(B62,#REF!,3,FALSE)","v":{"$error":"#REF!"}}]
["J037","J001","LEON ARAUJO CESAR ANDRES",null,null,null,null,null,null,null,null,null,null,null,"","","","","","","",null,null,null,"","","","",null,"",null,"",null,null,null,null,null,"","","","",null,"","","","",null,0,0,0,0,"NO INICIA SU CLASIFICACIÓN",{"$f":"+IF(AND(AY63>240,AX63>=1),\"CLASIFICADO A COMPETENCIAS FEI\",IF(AND(AY63>199,AX63>=1),\"LE FALTA UNA DE 40 Km\",IF(AND(AY63>179,AX63>=1),\"LE FALTA UNA DE 60 Km\",IF(AND(AY63>160),\"LE FALTA UNA DE 80 Km\",\"LE FALTA  \"&240-AY63&\"Km\"))))","v":"LE FALTA  240Km"},null,null,{"$f":"VLOOKUP(B63,#REF!,3,FALSE)","v":{"$error":"#REF!"}}]
["J039","J011","LETORT DUEÑAS BERNARDA",null,null,null,null,null,null,81,80,88,80,null,"","","",44,"",42,44,null,null,null,44,90,82,null,null,"",null,"",null,null,null,null,null,"","","","",null,"","","","",null,4,0,6,675,"HABILITADO  TEMPORALMENTE A COMPETENCIAS FEI","CLASIFICADO A COMPETENCIAS FEI",null,null,{"$f":"VLOOKUP(B64,#REF!,3,FALSE)","v":{"$error":"#REF!"}}]
["J034","J047","LETORT DUEÑAS JOSE",null,null,null,null,null,null,null,null,null,null,null,"","",44,"","","","",null,null,null,"","","",80,null,"",null,null,null,null,null,90,null,84,"","","",null,"","","","",null,1,0,3,298,"HABILITADO  TEMPORALMENTE A COMPETENCIAS FEI","CLASIFICADO A COMPETENCIAS FEI",null,null,{"$f":"VLOOKUP(B65,#REF!,3,FALSE)","v":{"$error":"#REF!"}}]
[null,"J010","LLUMIQUINGA JONATHAN",null,null,null,null,null,null,null,null,null,null,null,null,null,null,null,null,null,"",null,null,null,"","","","",null,"",null,"",null,null,null,null,null,"","","","",null,"","","","",null,0,0,0,0,"NO INICIA SU CLASIFICACIÓN","LE FALTA  240Km",null,null,{"$f":"VLOOKUP(B66,#REF!,3,FALSE)","v":{"$error":"#REF!"}}]
[null,"J","LÓPEZ CORDERO JOAQUIN",null,null,null,null,null,null,null,null,null,null,null,"","","","","","","",null,null,null,"","","","",null,"",null,"",null,null,null,null,null,"","","","",null,"","","","",null,0,0,0,0,"NO INICIA SU CLASIFICACIÓN","LE FALTA  240Km",null,null,{"$f":"VLOOKUP(B67,#REF!,3,FALSE)","v":{"$error":"#REF!"}}]
[null,"J093","LOPEZ EMILIA",null,null,null,null,null,null,null,null,null,null,null,{"$f":"IFERROR(#REF!,\"\")","v":""},"","","",{"$f":"IFERROR(#REF!,\"\")","v":""},{"$f":"IFERROR(#REF!,\"\")","v":""},"",null,null,null,null,null,null,null,null,null,null,null,null,null,null,null,null,null,null,null,null,null,null,42,42,"",null,2,0,0,84,"HABILITADO A 80KM VELOCIDAD CONTROLADA","LE FALTA  156Km",null,null,{"$f":"VLOOKUP(B68,#REF!,3,FALSE)","v":{"$error":"#REF!"}}]
[null,"J094","LOPEZ MIRANDA",null,null,null,null,null,null,null,null,null,null,null,{"$f":"IFERROR(#REF!,\"\")","v":""},"","","",{"$f":"IFERROR(#REF!,\"\")","v":""},{"$f":"IFERROR(#REF!,\"\")","v":""},"",null,null,null,null,null,null,null,null,null,null,null,null,null,null,null,null,null,null,null,null,null,null,null,42,"",null,1,0,0,42,"INICIO SU CLASIFICACIÓN","LE FALTA  198Km",null,null,{"$f":"VLOOKUP(B69,#REF!,3,FALSE)","v":{"$error":"#REF!"}}]
[null,"J055","LOYOLA VINTIMILLA MARIA CLAUDIA",null,null,null,null,null,null,null,null,null,null,null,40,40,null,null,null,null,null,80,null,null,null,null,null,null,null,null,null,null,null,null,null,null,null,80,"","","",null,"","","","",null,2,0,2,240,"HABILITADO  TEMPORALMENTE A COMPETENCIAS FEI",null,null,null,{"$f":"VLOOKUP(B70,#REF!,3,FALSE)","v":{"$error":"#REF!"}}]
[null,"J090","LOYOLA VINTIMILLA TEODORO ANDRES",null,null,null,null,null,null,null,null,null,null,null,null,null,null,null,null,null,null,null,null,null,null,null,null,null,null,null,null,null,null,null,null,null,null,null,null,null,null,47,"",42,42,"",null,{"$f":"COUNTIF(D71:AU71,\"<60\")","v":3},{"$f":"COUNT(D71:AU71)-AV71-AX71","v":0},{"$f":"COUNTIF(D71:AU71,\">=80\")","v":0},{"$f":"SUM(D71:AU71)","v":131},{"$f":"IF(OR(AX71>2,AND(AX71>1,(AV71+AW71)>1)),\"HABILITADO  TEMPORALMENTE A COMPETENCIAS FEI\",IF(AND(AX71=1,(AV71+AW71)>1),\"LE FALTA UNA DE 80 A 90 CONTROLADA\",IF((AV71+AW71)>1,\"HABILITADO A 80KM VELOCIDAD CONTROLADA\",IF((AV71+AW71)>0,\"INICIO SU CLASIFICACIÓN\",\"NO INICIA SU CLASIFICACIÓN\"))))","v":"HABILITADO A 80KM VELOCIDAD CONTROLADA"},{"$f":"+IF(AND(AY71>240,AX71>=1),\"CLASIFICADO A COMPETENCIAS FEI\",IF(AND(AY71>199,AX71>=1),\"LE FALTA UNA DE 40 Km\",IF(AND(AY71>179,AX71>=1),\"LE FALTA UNA DE 60 Km\",IF(AND(AY71>160),\"LE FALTA UNA DE 80 Km\",\"LE FALTA  \"&240-AY71&\"Km\"))))","v":"LE FALTA  109Km"},null,null,{"$f":"VLOOKUP(B71,#REF!,3,FALSE)","v":{"$error":"#REF!"}}]
[null,"J085","MALO GONZALEZ JOSE",null,null,null,null,null,null,null,null,null,null,null,null,null,null,null,null,null,null,null,null,null,null,null,null,null,null,null,null,null,null,null,null,null,null,45,"","","",null,"","","","",null,1,0,0,45,"INICIO SU CLASIFICACIÓN",{"$f":"+IF(AND(AY72>240,AX72>=1),\"CLASIFICADO A COMPETENCIAS FEI\",IF(AND(AY72>199,AX72>=1),\"LE FALTA UNA DE 40 Km\",IF(AND(AY72>179,AX72>=1),\"LE FALTA UNA DE 60 Km\",IF(AND(AY72>160),\"LE FALTA UNA DE 80 Km\",\"LE FALTA  \"&240-AY72&\"Km\"))))","v":"LE FALTA  195Km"},null,null,{"$f":"VLOOKUP(B72,#REF!,3,FALSE)","v":{"$error":"#REF!"}}]
["C","J072","MALO MALO MARIA JOSE",null,null,null,null,null,null,null,null,null,null,null,null,null,null,null,null,null,null,40,40,null,40,null,null,null,null,null,null,null,null,null,null,null,null,45,"","","",null,"","","","",null,4,0,0,165,"HABILITADO A 80KM VELOCIDAD CONTROLADA",null,null,null,{"$f":"VLOOKUP(B73,#REF!,3,FALSE)","v":{"$error":"#REF!"}}]
[null,"J087","MALO TORAL DAVID",null,null,null,null,null,null,null,null,null,null,null,null,null,null,null,null,null,null,40,null,null,null,null,null,null,44,null,44,null,42,null,45,null,42,80,86,"","",null,"",42,"","",null,7,0,2,465,"HABILITADO  TEMPORALMENTE A COMPETENCIAS FEI",null,null,null,{"$f":"VLOOKUP(B74,#REF!,3,FALSE)","v":{"$error":"#REF!"}}]
[null,"J056","MATUTE PEDRO FERMIN",null,null,null,null,null,null,null,null,null,null,null,null,null,null,null,null,null,null,40,null,60,40,null,null,null,44,null,null,null,null,null,null,null,null,45,86,"","",null,"","","","",null,4,1,1,315,"LE FALTA UNA DE 80 A 90 CONTROLADA",null,null,null,{"$f":"VLOOKUP(B75,#REF!,3,FALSE)","v":{"$error":"#REF!"}}]
[null,"M012","MAZAPANTA KEVIN",null,null,null,null,null,null,null,null,null,null,null,null,null,null,null,null,null,null,null,null,null,null,null,null,null,null,null,null,null,null,null,null,42,42,"","",43,43,null,"","","","",null,4,0,0,170,"HABILITADO A 80KM VELOCIDAD CONTROLADA",null,null,null,{"$f":"VLOOKUP(B76,#REF!,3,FALSE)","v":{"$error":"#REF!"}}]
[null,"J081","MEDINA DAVALOS JORGE",null,null,null,null,null,null,null,null,null,null,null,null,null,null,null,null,null,null,null,null,null,null,null,null,null,null,null,null,null,null,null,null,null,null,43,"","","",47,40,42,42,"",null,5,0,0,214,"HABILITADO A 80KM VELOCIDAD CONTROLADA",{"$f":"+IF(AND(AY77>240,AX77>=1),\"CLASIFICADO A COMPETENCIAS FEI\",IF(AND(AY77>199,AX77>=1),\"LE FALTA UNA DE 40 Km\",IF(AND(AY77>179,AX77>=1),\"LE FALTA UNA DE 60 Km\",IF(AND(AY77>160),\"LE FALTA UNA DE 80 Km\",\"LE FALTA  \"&240-AY77&\"Km\"))))","v":"LE FALTA UNA DE 80 Km"},null,null,{"$f":"VLOOKUP(B77,#REF!,3,FALSE)","v":{"$error":"#REF!"}}]
[null,"J","MIÑO CHIRIBOGA JOSÉ",null,null,null,null,null,null,null,null,null,null,null,null,null,null,null,null,null,44,null,null,null,"","","",null,null,"",null,"",null,null,null,null,null,"","","","",null,"","","","",null,1,0,0,44,"INICIO SU CLASIFICACIÓN","LE FALTA  196Km",null,null,{"$f":"VLOOKUP(B78,#REF!,3,FALSE)","v":{"$error":"#REF!"}}]
["J036","J027","MIÑO JOSE IGNACIO",null,null,null,null,null,null,null,null,null,null,null,"",82,87,87,null,63,"",null,null,null,"",62,"","",null,41,null,"",null,null,null,null,null,"","","","",null,"","","","",null,1,2,3,422,"HABILITADO  TEMPORALMENTE A COMPETENCIAS FEI","CLASIFICADO A COMPETENCIAS FEI",null,null,{"$f":"VLOOKUP(B79,#REF!,3,FALSE)","v":{"$error":"#REF!"}}]
[null,"J016","MIÑO JOSE RICARDO",null,null,null,null,null,null,null,null,null,null,null,null,null,null,null,null,null,null,null,null,null,null,null,null,48,null,null,null,null,null,null,null,null,null,43,"","","",null,"","","","",null,2,0,0,91,"HABILITADO A 80KM VELOCIDAD CONTROLADA","LE FALTA  149Km",null,null,{"$f":"VLOOKUP(B80,#REF!,3,FALSE)","v":{"$error":"#REF!"}}]
["J004","J012","MIÑO SANTIAGO",null,null,null,null,null,null,81,80,null,null,null,"","","","",62,"","",null,null,null,"","","","",null,"",null,"",null,null,null,null,null,"","","","",null,"","","","",null,0,1,2,223,"INICIO SU CLASIFICACIÓN","LE FALTA UNA DE 40 Km",null,null,{"$f":"VLOOKUP(B81,#REF!,3,FALSE)","v":{"$error":"#REF!"}}]
["J018","J","MOLESTINA FRANCISCO",null,null,null,null,null,null,null,null,null,null,null,"","","","","","","",null,null,null,"","","","",null,"",null,"",null,null,null,null,null,"","","","",null,"","","","",null,0,0,0,0,"NO INICIA SU CLASIFICACIÓN","LE FALTA  240Km",null,null,{"$f":"VLOOKUP(B82,#REF!,3,FALSE)","v":{"$error":"#REF!"}}]
["J012","J023","MOLESTINA NICOLAS",null,null,null,null,null,null,null,null,null,60,62,"","","","","",42,81,null,80,null,"","","","",null,"",null,"",null,null,null,null,null,"","","","",null,"","","","",null,1,2,2,325,"HABILITADO  TEMPORALMENTE A COMPETENCIAS FEI","CLASIFICADO A COMPETENCIAS FEI",null,null,{"$f":"VLOOKUP(B83,#REF!,3,FALSE)","v":{"$error":"#REF!"}}]
["A119","JO33","MONROY BAROJA MARIA",null,null,null,null,null,null,81,null,null,80,83,62,"","",65,null,"","",null,null,null,"",90,"","",null,"",null,81,null,null,null,null,null,"","","","",null,"","","","",null,0,2,5,542,"HABILITADO  TEMPORALMENTE A COMPETENCIAS FEI","CLASIFICADO A COMPETENCIAS FEI",null,null,{"$f":"VLOOKUP(B84,#REF!,3,FALSE)","v":{"$error":"#REF!"}}]
[null,"JO36","MORAN KEVIN GUILLERMO",null,null,null,null,null,null,null,null,null,null,null,null,null,null,null,null,null,null,null,null,null,null,null,null,null,null,null,null,null,null,null,null,null,null,null,null,null,43,null,"","","","",null,1,0,0,43,"INICIO SU CLASIFICACIÓN","LE FALTA  197Km",null,null,{"$f":"VLOOKUP(B85,#REF!,3,FALSE)","v":{"$error":"#REF!"}}]
["J002","J025","MORENO CORDOVEZ DANIELA",null,null,null,null,null,null,null,null,null,null,null,44,82,"","","",63,81,null,80,null,"","",null,"",null,"",null,"",null,null,null,null,null,"","","","",null,"","","","",null,1,1,3,350,"HABILITADO  TEMPORALMENTE A COMPETENCIAS FEI","CLASIFICADO A COMPETENCIAS FEI",null,null,{"$f":"VLOOKUP(B86,#REF!,3,FALSE)","v":{"$error":"#REF!"}}]
[null,"J043","MORENO DANIEL",null,null,null,null,null,null,null,null,null,null,null,null,null,null,null,null,null,null,null,null,null,null,null,36,48,null,41,null,"",null,93,null,null,null,84,"","","",null,"","","","",null,3,0,2,302,"HABILITADO  TEMPORALMENTE A COMPETENCIAS FEI","CLASIFICADO A COMPETENCIAS FEI",null,null,{"$f":"VLOOKUP(B87,#REF!,3,FALSE)","v":{"$error":"#REF!"}}]
["J041","J026","MORENO NICOLAS JUAN",null,null,null,null,null,null,null,null,null,null,null,"",62,"","",62,"",81,null,81,null,"","","","",null,"",null,"",null,null,null,null,null,"","","","",null,"","","","",null,0,2,2,286,"HABILITADO  TEMPORALMENTE A COMPETENCIAS FEI","CLASIFICADO A COMPETENCIAS FEI",null,null,{"$f":"VLOOKUP(B88,#REF!,3,FALSE)","v":{"$error":"#REF!"}}]
["J046","J013","MORILLO SERGIO",null,null,null,null,null,null,null,null,null,null,null,null,null,null,null,43,42,null,null,60,null,null,null,82,80,null,82,null,null,null,null,null,null,null,"","","","",null,"","","","",null,2,1,3,389,"HABILITADO  TEMPORALMENTE A COMPETENCIAS FEI","CLASIFICADO A COMPETENCIAS FEI",null,null,{"$f":"VLOOKUP(B89,#REF!,3,FALSE)","v":{"$error":"#REF!"}}]
["C","J073","MUÑOZ LOAIZA PAUL ESTEBAN",null,null,null,null,null,null,null,null,null,null,null,null,40,null,null,null,null,null,null,null,40,40,null,null,null,null,null,null,null,null,null,null,null,null,"","","","",null,"","","","",null,3,0,0,120,"HABILITADO A 80KM VELOCIDAD CONTROLADA",null,null,null,{"$f":"VLOOKUP(B90,#REF!,3,FALSE)","v":{"$error":"#REF!"}}]
[null,"J086","NICOLE WILLIAMS",null,null,null,null,null,null,null,null,null,null,null,null,null,null,null,null,null,null,null,null,null,null,null,null,null,null,null,null,null,null,null,null,null,null,45,"","","",null,"","","","",null,1,0,0,45,"INICIO SU CLASIFICACIÓN",{"$f":"+IF(AND(AY91>240,AX91>=1),\"CLASIFICADO A COMPETENCIAS FEI\",IF(AND(AY91>199,AX91>=1),\"LE FALTA UNA DE 40 Km\",IF(AND(AY91>179,AX91>=1),\"LE FALTA UNA DE 60 Km\",IF(AND(AY91>160),\"LE FALTA UNA DE 80 Km\",\"LE FALTA  \"&240-AY91&\"Km\"))))","v":"LE FALTA  195Km"},null,null,{"$f":"VLOOKUP(B91,#REF!,3,FALSE)","v":{"$error":"#REF!"}}]
["J045","J","NIETO JOSE LUIS",null,null,null,null,null,null,null,null,null,null,null,"","","","","","","",null,null,null,"","","","",null,"",null,"",null,null,null,null,null,"","","","",null,"","","","",null,0,0,0,0,"NO INICIA SU CLASIFICACIÓN",{"$f":"+IF(AND(AY92>240,AX92>=1),\"CLASIFICADO A COMPETENCIAS FEI\",IF(AND(AY92>199,AX92>=1),\"LE FALTA UNA DE 40 Km\",IF(AND(AY92>179,AX92>=1),\"LE FALTA UNA DE 60 Km\",IF(AND(AY92>160),\"LE FALTA UNA DE 80 Km\",\"LE FALTA  \"&240-AY92&\"Km\"))))","v":"LE FALTA  240Km"},null,null,{"$f":"VLOOKUP(B92,#REF!,3,FALSE)","v":{"$error":"#REF!"}}]
["J015","J","ORTIZ JOSE FRANCISCO",null,null,null,null,null,null,null,null,null,null,null,"","","","","","","",null,null,null,"","","","",null,"",null,"",null,null,null,null,null,"","","","",null,"","","","",null,0,0,0,0,"NO INICIA SU CLASIFICACIÓN",{"$f":"+IF(AND(AY93>240,AX93>=1),\"CLASIFICADO A COMPETENCIAS FEI\",IF(AND(AY93>199,AX93>=1),\"LE FALTA UNA DE 40 Km\",IF(AND(AY93>179,AX93>=1),\"LE FALTA UNA DE 60 Km\",IF(AND(AY93>160),\"LE FALTA UNA DE 80 Km\",\"LE FALTA  \"&240-AY93&\"Km\"))))","v":"LE FALTA  240Km"},null,null,{"$f":"VLOOKUP(B93,#REF!,3,FALSE)","v":{"$error":"#REF!"}}]
["C","J074","PEÑA CORDERO SOFIA CAROLINA",null,null,null,null,null,null,null,null,null,null,null,null,null,null,null,null,null,null,null,null,null,null,null,null,null,null,null,null,null,null,null,null,null,null,"","","","",null,"","","","",null,0,0,0,0,"NO INICIA SU CLASIFICACIÓN",null,null,null,{"$f":"VLOOKUP(B94,#REF!,3,FALSE)","v":{"$error":"#REF!"}}]
[null,"J051","POLIT JULIA",null,null,null,null,null,null,null,null,null,null,null,null,null,null,null,null,null,null,null,null,null,null,null,null,null,null,null,null,null,null,null,null,null,null,43,"","","",null,"","","","",null,1,0,0,43,"INICIO SU CLASIFICACIÓN",{"$f":"+IF(AND(AY95>240,AX95>=1),\"CLASIFICADO A COMPETENCIAS FEI\",IF(AND(AY95>199,AX95>=1),\"LE FALTA UNA DE 40 Km\",IF(AND(AY95>179,AX95>=1),\"LE FALTA UNA DE 60 Km\",IF(AND(AY95>160),\"LE FALTA UNA DE 80 Km\",\"LE FALTA  \"&240-AY95&\"Km\"))))","v":"LE FALTA  197Km"},null,null,{"$f":"VLOOKUP(B95,#REF!,3,FALSE)","v":{"$error":"#REF!"}}]
["J006","J","RIBADENEIRA EMILIA",null,null,null,null,null,null,null,null,null,null,null,"","","","","","","",null,null,null,"","","","",null,"",null,"",null,null,null,null,null,"","","","",null,"","","","",null,0,0,0,0,"NO INICIA SU CLASIFICACIÓN",{"$f":"+IF(AND(AY96>240,AX96>=1),\"CLASIFICADO A COMPETENCIAS FEI\",IF(AND(AY96>199,AX96>=1),\"LE FALTA UNA DE 40 Km\",IF(AND(AY96>179,AX96>=1),\"LE FALTA UNA DE 60 Km\",IF(AND(AY96>160),\"LE FALTA UNA DE 80 Km\",\"LE FALTA  \"&240-AY96&\"Km\"))))","v":"LE FALTA  240Km"},null,null,{"$f":"VLOOKUP(B96,#REF!,3,FALSE)","v":{"$error":"#REF!"}}]
["J001","J031","RIBADENEIRA SOFIA",null,null,null,null,null,null,null,null,null,80,83,81,"","","","","","",null,null,null,"","","","",null,"",null,"",null,null,null,null,null,"","","","",null,"","","","",null,0,0,3,244,"HABILITADO  TEMPORALMENTE A COMPETENCIAS FEI",{"$f":"+IF(AND(AY97>240,AX97>=1),\"CLASIFICADO A COMPETENCIAS FEI\",IF(AND(AY97>199,AX97>=1),\"LE FALTA UNA DE 40 Km\",IF(AND(AY97>179,AX97>=1),\"LE FALTA UNA DE 60 Km\",IF(AND(AY97>160),\"LE FALTA UNA DE 80 Km\",\"LE FALTA  \"&240-AY97&\"Km\"))))","v":"CLASIFICADO A COMPETENCIAS FEI"},null,null,{"$f":"VLOOKUP(B97,#REF!,3,FALSE)","v":{"$error":"#REF!"}}]
["C","C","RIOS LARRIVA JUAN BERNARDO",null,null,null,null,null,null,null,null,null,null,null,null,null,null,null,null,null,null,null,null,null,null,null,null,null,null,null,null,null,null,null,null,null,null,"","","","",null,"","","","",null,0,0,0,0,"NO INICIA SU CLASIFICACIÓN",null,null,null,{"$f":"VLOOKUP(B98,#REF!,3,FALSE)","v":{"$error":"#REF!"}}]
[null,"J099","RODITTI CARVAJAL CRISTORO",null,null,null,null,null,null,null,null,null,null,null,null,null,null,null,null,null,null,null,null,null,null,null,null,null,null,null,null,null,null,null,null,null,null,null,null,null,null,47,40,"",42,"",null,3,0,0,129,"HABILITADO A 80KM VELOCIDAD CONTROLADA",{"$f":"+IF(AND(AY99>240,AX99>=1),\"CLASIFICADO A COMPETENCIAS FEI\",IF(AND(AY99>199,AX99>=1),\"LE FALTA UNA DE 40 Km\",IF(AND(AY99>179,AX99>=1),\"LE FALTA UNA DE 60 Km\",IF(AND(AY99>160),\"LE FALTA UNA DE 80 Km\",\"LE FALTA  \"&240-AY99&\"Km\"))))","v":"LE FALTA  111Km"},null,null,{"$f":"VLOOKUP(B99,#REF!,3,FALSE)","v":{"$error":"#REF!"}}]
[null,"J004","SALAZAR EMILIA",null,null,null,null,null,null,null,null,null,null,null,null,null,null,null,null,null,null,null,null,null,"","","","",null,"",null,"",null,null,null,null,null,"","","","",null,"","","","",null,0,0,0,0,"NO INICIA SU CLASIFICACIÓN",{"$f":"+IF(AND(AY100>240,AX100>=1),\"CLASIFICADO A COMPETENCIAS FEI\",IF(AND(AY100>199,AX100>=1),\"LE FALTA UNA DE 40 Km\",IF(AND(AY100>179,AX100>=1),\"LE FALTA UNA DE 60 Km\",IF(AND(AY100>160),\"LE FALTA UNA DE 80 Km\",\"LE FALTA  \"&240-AY100&\"Km\"))))","v":"LE FALTA  240Km"},null,null,{"$f":"VLOOKUP(B100,#REF!,3,FALSE)","v":{"$error":"#REF!"}}]
["J032","J020","SERRANO VALLEJO FELIPE",null,null,null,null,null,null,null,null,null,null,null,"",41,44,"","",42,62,null,60,null,"","","","",null,82,null,"",null,null,null,null,null,84,"","","",null,"","","","",null,3,2,2,415,"HABILITADO  TEMPORALMENTE A COMPETENCIAS FEI",{"$f":"+IF(AND(AY101>240,AX101>=1),\"CLASIFICADO A COMPETENCIAS FEI\",IF(AND(AY101>199,AX101>=1),\"LE FALTA UNA DE 40 Km\",IF(AND(AY101>179,AX101>=1),\"LE FALTA UNA DE 60 Km\",IF(AND(AY101>160),\"LE FALTA UNA DE 80 Km\",\"LE FALTA  \"&240-AY101&\"Km\"))))","v":"CLASIFICADO A COMPETENCIAS FEI"},null,null,{"$f":"VLOOKUP(B101,#REF!,3,FALSE)","v":{"$error":"#REF!"}}]
[null,"J088","SIMON NICOLAS",null,null,null,null,null,null,null,null,null,null,null,null,null,null,null,null,null,null,null,null,null,null,null,null,null,null,null,null,null,null,null,null,null,null,null,null,null,43,null,"","","",42,null,2,0,0,85,"HABILITADO A 80KM VELOCIDAD CONTROLADA",{"$f":"+IF(AND(AY102>240,AX102>=1),\"CLASIFICADO A COMPETENCIAS FEI\",IF(AND(AY102>199,AX102>=1),\"LE FALTA UNA DE 40 Km\",IF(AND(AY102>179,AX102>=1),\"LE FALTA UNA DE 60 Km\",IF(AND(AY102>160),\"LE FALTA UNA DE 80 Km\",\"LE FALTA  \"&240-AY102&\"Km\"))))","v":"LE FALTA  155Km"},null,null,{"$f":"VLOOKUP(B102,#REF!,3,FALSE)","v":{"$error":"#REF!"}}]
["C","J075","SORIA VASQUEZ JUAN MANUEL",null,null,null,null,null,null,null,null,null,null,null,40,40,null,40,null,null,null,null,null,null,null,null,null,null,null,null,null,null,null,null,null,null,null,"","","","",null,"","","","",null,{"$f":"COUNTIF(D103:AU103,\"<60\")","v":3},{"$f":"COUNT(D103:AU103)-AV103-AX103","v":0},{"$f":"COUNTIF(D103:AU103,\">=80\")","v":0},{"$f":"SUM(D103:AU103)","v":120},{"$f":"IF(OR(AX103>2,AND(AX103>1,(AV103+AW103)>1)),\"HABILITADO  TEMPORALMENTE A COMPETENCIAS FEI\",IF(AND(AX103=1,(AV103+AW103)>1),\"LE FALTA UNA DE 80 A 90 CONTROLADA\",IF((AV103+AW103)>1,\"HABILITADO A 80KM VELOCIDAD CONTROLADA\",IF((AV103+AW103)>0,\"INICIO SU CLASIFICACIÓN\",\"NO INICIA SU CLASIFICACIÓN\"))))","v":"HABILITADO A 80KM VELOCIDAD CONTROLADA"},null,null,null,{"$f":"VLOOKUP(B103,#REF!,3,FALSE)","v":{"$error":"#REF!"}}]
["C","J076","SORIA VAZQUEZ MARIA DANIELA",null,null,null,null,null,null,null,null,null,null,null,null,40,40,40,null,null,null,40,null,null,null,null,null,null,null,null,44,null,null,null,null,null,null,"","","","",null,"","","","",null,5,0,0,204,"HABILITADO A 80KM VELOCIDAD CONTROLADA",null,null,null,{"$f":"VLOOKUP(B104,#REF!,3,FALSE)","v":{"$error":"#REF!"}}]
["C","J077","TAMARIZ MALO SANTIAGO",null,null,null,null,null,null,null,null,null,null,null,null,null,null,null,null,null,null,40,40,40,40,null,null,null,null,null,null,null,null,null,null,null,null,"","","","",null,"","","","",null,4,0,0,160,"HABILITADO A 80KM VELOCIDAD CONTROLADA",null,null,null,{"$f":"VLOOKUP(B105,#REF!,3,FALSE)","v":{"$error":"#REF!"}}]
[null,"J060","TRUEBA VICTORIA",null,null,null,null,null,null,null,null,null,null,null,null,null,null,null,null,null,null,null,null,null,null,null,null,null,null,null,null,null,null,null,null,42,null,"","","","",null,"","","","",null,1,0,0,42,"INICIO SU CLASIFICACIÓN",null,null,null,{"$f":"VLOOKUP(B106,#REF!,3,FALSE)","v":{"$error":"#REF!"}}]
["C","J078","UGALDE ANDRADE CARLOS ESTEBAN",null,null,null,null,null,null,null,null,null,null,null,null,null,null,null,null,null,null,null,40,null,null,null,null,null,null,null,null,null,null,null,null,null,null,"","","","",null,"","","","",null,1,0,0,40,"INICIO SU CLASIFICACIÓN",null,null,null,{"$f":"VLOOKUP(B107,#REF!,3,FALSE)","v":{"$error":"#REF!"}}]
[null,"M027","VAZCONEZ CAMILA",null,null,null,null,null,null,null,null,null,null,null,{"$f":"IFERROR(#REF!,\"\")","v":""},"","","",{"$f":"IFERROR(#REF!,\"\")","v":""},{"$f":"IFERROR(#REF!,\"\")","v":""},"",null,null,null,null,null,null,null,null,null,null,null,null,null,null,null,null,null,null,null,null,null,null,null,null,42,null,1,0,0,42,"INICIO SU CLASIFICACIÓN",{"$f":"+IF(AND(AY108>240,AX108>=1),\"CLASIFICADO A COMPETENCIAS FEI\",IF(AND(AY108>199,AX108>=1),\"LE FALTA UNA DE 40 Km\",IF(AND(AY108>179,AX108>=1),\"LE FALTA UNA DE 60 Km\",IF(AND(AY108>160),\"LE FALTA UNA DE 80 Km\",\"LE FALTA  \"&240-AY108&\"Km\"))))","v":"LE FALTA  198Km"},null,null,{"$f":"VLOOKUP(B108,#REF!,3,FALSE)","v":{"$error":"#REF!"}}]
[null,"J","VERA ZAMBRANO DAYANA",null,null,null,null,null,null,null,null,null,null,null,"","","","","","","",null,null,null,"","","","",null,"",null,"",null,null,null,null,null,"","","","",null,"","","","",null,0,0,0,0,"NO INICIA SU CLASIFICACIÓN","LE FALTA  240Km",null,null,{"$f":"VLOOKUP(B109,#REF!,3,FALSE)","v":{"$error":"#REF!"}}]
["J029","J","VERGARA MARIE CLAUDE ",null,null,null,null,null,null,null,null,null,null,null,"","","","","","","",null,null,null,"","","","",null,"",null,"",null,null,null,null,null,"","","","",null,"","","","",null,0,0,0,0,"NO INICIA SU CLASIFICACIÓN","LE FALTA  240Km",null,null,{"$f":"VLOOKUP(B110,#REF!,3,FALSE)","v":{"$error":"#REF!"}}]
["J030","J","VERGARA MURIEL ",null,null,null,null,null,null,null,null,null,null,null,"","","","","","","",null,null,null,"","","","",null,"",null,"",null,null,null,null,null,"","","","",null,"","","","",null,0,0,0,0,"NO INICIA SU CLASIFICACIÓN","LE FALTA  240Km",null,null,{"$f":"VLOOKUP(B111,#REF!,3,FALSE)","v":{"$error":"#REF!"}}]
["J052","J054","VINTIMILLA CORDERO PABLO",null,null,null,null,null,null,null,null,null,null,null,null,41,60,"","","","",80,null,80,40,86,"","",null,"",null,"",null,null,null,null,null,45,47,"","",null,"","","","",null,4,1,3,479,"HABILITADO  TEMPORALMENTE A COMPETENCIAS FEI","CLASIFICADO A COMPETENCIAS FEI",null,null,{"$f":"VLOOKUP(B112,#REF!,3,FALSE)","v":{"$error":"#REF!"}}]
["J","J","WILLIAMS NICOLE",null,null,null,null,null,null,null,null,null,null,null,null,null,null,null,null,null,null,null,null,null,null,null,null,null,null,null,null,null,null,null,null,null,null,45,null,"","",null,"","","","",null,1,0,0,45,"INICIO SU CLASIFICACIÓN","LE FALTA  195Km",null,null,{"$f":"VLOOKUP(B113,#REF!,3,FALSE)","v":{"$error":"#REF!"}}]
["J040","J028","WRAY VINUEZA MATEO",null,null,null,null,null,null,81,null,null,60,null,null,41,"","","","",44,null,null,null,"","","","",null,"",null,"",null,null,null,null,null,"","","","",null,"","","","",null,2,1,1,226,"LE FALTA UNA DE 80 A 90 CONTROLADA","LE FALTA UNA DE 40 Km",null,null,{"$f":"VLOOKUP(B114,#REF!,3,FALSE)","v":{"$error":"#REF!"}}]
["I057","J035","WRAY VINUEZA THOMAS",null,null,null,null,null,null,null,null,null,null,null,44,41,44,"",43,"","",null,null,null,"","","","",null,"",null,"",null,null,null,null,null,"","","","",null,"","","","",null,4,0,0,172,"HABILITADO A 80KM VELOCIDAD CONTROLADA","LE FALTA UNA DE 80 Km",null,null,{"$f":"VLOOKUP(B115,#REF!,3,FALSE)","v":{"$error":"#REF!"}}]
["J008","J","ZAMBRANO KAREN",null,null,null,null,null,null,null,null,null,null,null,"","","","","","","",null,null,null,"","","","",null,"",null,"",null,null,null,null,null,"","","","",null,"","","","",null,0,0,0,0,"NO INICIA SU CLASIFICACIÓN","LE FALTA  240Km",null,null,{"$f":"VLOOKUP(B116,#REF!,3,FALSE)","v":{"$error":"#REF!"}}]
[1000,1000,"ZZZZZZZ",null,null,null,null,null,null,null,null,null,null,null,{"$f":"IFERROR(#REF!,\"\")","v":""},"","","",{"$f":"IFERROR(#REF!,\"\")","v":""},{"$f":"IFERROR(#REF!,\"\")","v":""},"",null,null,{"$f":"IFERROR($BD117,\"\")","v":""},"","",{"$f":"IFERROR($BD117,\"\")","v":""},"",{"$f":"IFERROR($BD117,\"\")","v":""},"",{"$f":"IFERROR($BD117,\"\")","v":""},"","","","","","","","","","",{"$f":"IFERROR($BD117,\"\")","v":""},"","","","",{"$f":"IFERROR($BD117,\"\")","v":""},0,0,0,0,"NO INICIA SU CLASIFICACIÓN","LE FALTA  240Km",null,null,{"$f":"VLOOKUP(B117,#REF!,3,FALSE)","v":{"$error":"#REF!"}}]
[null,null,null,null,null,null,null,null,null,null,null,null,null,null,null,null,null,null,null,null,null,null,null,null,null,null,null,null,null,null,null,null,null,null,null,null,null,null,null,null,null,null,null,null,null,null,null,0,0,0,0,"NO INICIA SU CLASIFICACIÓN","LE FALTA  240Km",null,null,{"$f":"VLOOKUP(B118,#REF!,3,FALSE)","v":{"$error":"#REF!"}}]
[]
[null,null,null,null,null,null,null,null,null,null,null,null,null,null,null,null,null,null,null,null,null,null,null,null,null,null,"AZUL COMPETENCIAS DE CUENCA",null,null,null,null,null,null,null,null,null,null,"nota","Las anotaciones en roja corresponden a la clasificatoria de Cuenca"]
[]
[]
[]
[]
[]
[]
[]
[]
[]
[null,null,null,null,null,null,null,null,null,null,null,null,null,null,null,null,null,null,null,null,null,null,null,null,null,null,null,null,null,null,null,null,null,null,null,null,null,null,null,null,null,null,null,null,null,null,null,null,null,{"$f":"IF(AV130>=60,\"CLASIFICADO A 60 Km LIBRE y 80 Km NOVICIO\",IF(AV130>=40,\"CLASIFICADO A 40 Km LIBRE y 60 Km NOVICIO\",\"\"))","v":""}]

{"sheet":"V C MAY","index":16,"n_rows":67,"n_cols":49,"rows_kept":67,"cut":false,"hidden":true,"merged":[[0,5,2,37],[3,0,3,1],[4,0,4,1],[4,3,4,8],[4,9,4,13],[4,14,4,19],[4,20,4,26],[4,27,4,36]]}
[null,"DERECHO ADQUIRIDO",null,null,null,null,null,null,null,null,null,null,null,null,null,null,null,null,null,null,null,null,null,null,null,null,null,null,null,null,null,null,null,null,null,null,null,null,null,null,null,"AUMENTAR JINETES JUVENILES","CLASIFICADO A COMPETENCIAS FEI",{"$f":"COUNTIF(AQ6:AQ292, \"CLASIFICADO A COMPETENCIAS FEI\")","v":0}]
[null,"VEL0CIDAD CONTROLADA",null,null,null,null,null,null,null,null,null,null,null,null,null,null,null,null,null,null,null,null,null,null,null,null,null,null,null,null,null,null,null,null,null,null,null,null,null,null,null,null,"LE FALTA UNA DE 40 Km",{"$f":"COUNTIF(AQ6:AQ293, \"LE FALTA UNA DE 40 Km\")","v":0}]
[null,null,null,null,null,null,null,null,null,null,null,null,null,null,null,null,null,null,null,null,null,null,null,null,null,null,null,null,null,null,null,null,null,null,null,null,null,null,null,null,null,null,"LE FALTA UNA DE 60 Km",{"$f":"COUNTIF(AQ6:AQ294, \"LE FALTA UNA DE 60 Km\")","v":0}]
[null,null,null,null,null,null,null,null,null,null,null,null,null,null,null,null,null,null,null,null,null,null,null,null,null,null,null,null,null,null,null,null,null,null,null,null,null,null,null,null,null,null,"LE FALTA UNA DE 80 KM",{"$f":"COUNTIF(AQ6:AQ293, \"LE FALTA UNA DE 80 KM\")","v":0}]
["CODIGO",null,null,2009,null,null,null,null,null,2010,null,null,null,null,2011,null,null,null,null,null,2012,null,null,null,null,null,null,2013,null,null,null,null,null,null,null,null,null,null,null,null,null,"SEGÚN REGLAMENTO FEI","TOTAL",{"$f":"SUM(AR1:AR4)","v":0},null,null,null,null,"CRTL+MAY+ M"]
["ANTERIOR","NUEVO","JINETE","I CHONE","II CHONE","III CHONE","IV CHONE","V CHONE","VI CHONE","I CHONE","II CHONE","III CHONE","IV CHONE","V CHONE","I CHONE","II CHONE","III CHONE","IV CHONE","V CHONE","VI CHONE","I CHONE",null,"II CHONE","III CHONE","IV CHONE","V CHONE","VI CHONE","I CHONE","II CHONE","III CHONE","IV CHONE","V CHONE","VI CHONE","VII CHONE","VII CHONE","IX CHONE","X CHONE","MÁXIMO","ACUMULADO"]
["M001","A059","ALMEIDA AYALA HÉCTOR",{"$f":"IF(+'V C AB'!D12=\"\",\"\",'V C AB'!D12)","v":""},{"$f":"IF(+'V C AB'!E12=\"\",\"\",'V C AB'!E12)","v":""},{"$f":"IF(+'V C AB'!F12=\"\",\"\",'V C AB'!F12)","v":""},{"$f":"IF(+'V C AB'!G12=\"\",\"\",'V C AB'!G12)","v":""},{"$f":"IF(+'V C AB'!H12=\"\",\"\",'V C AB'!H12)","v":""},{"$f":"IF(+'V C AB'!I12=\"\",\"\",'V C AB'!I12)","v":""},{"$f":"IF(+'V C AB'!J12=\"\",\"\",'V C AB'!J12)","v":""},{"$f":"IF(+'V C AB'!K12=\"\",\"\",'V C AB'!K12)","v":""},{"$f":"IF(+'V C AB'!L12=\"\",\"\",'V C AB'!L12)","v":""},{"$f":"IF(+'V C AB'!M12=\"\",\"\",'V C AB'!M12)","v":""},{"$f":"IF(+'V C AB'!N12=\"\",\"\",'V C AB'!N12)","v":""},{"$f":"IF(+'V C AB'!O12=\"\",\"\",'V C AB'!O12)","v":""},{"$f":"IF(+'V C AB'!P12=\"\",\"\",'V C AB'!P12)","v":""},{"$f":"IF(+'V C AB'!Q12=\"\",\"\",'V C AB'!Q12)","v":""},{"$f":"IF(+'V C AB'!R12=\"\",\"\",'V C AB'!R12)","v":""},{"$f":"IF(+'V C AB'!S12=\"\",\"\",'V C AB'!S12)","v":""},{"$f":"IF(+'V C AB'!T12=\"\",\"\",'V C AB'!T12)","v":""},{"$f":"IF(+'V C AB'!U12=\"\",\"\",'V C AB'!U12)","v":""},{"$f":"IF(+'V C AB'!V12=\"\",\"\",'V C AB'!V12)","v":""},{"$f":"IF(+'V C AB'!W12=\"\",\"\",'V C AB'!W12)","v":""},{"$f":"IF(+'V C AB'!X12=\"\",\"\",'V C AB'!X12)","v":""},{"$f":"IF(+'V C AB'!Y12=\"\",\"\",'V C AB'!Y12)","v":""},{"$f":"IF(+'V C AB'!Z12=\"\",\"\",'V C AB'!Z12)","v":""},{"$f":"IF(+'V C AB'!AA12=\"\",\"\",'V C AB'!AA12)","v":""},{"$f":"IF(+'V C AB'!AL12=\"\",\"\",'V C AB'!AL12)","v":""},{"$f":"IF(+'V C AB'!AM12=\"\",\"\",'V C AB'!AM12)","v":""},{"$f":"IF(+'V C AB'!AN12=\"\",\"\",'V C AB'!AN12)","v":""},{"$f":"IF(+'V C AB'!AO12=\"\",\"\",'V C AB'!AO12)","v":""},{"$f":"IF(+'V C AB'!AP12=\"\",\"\",'V C AB'!AP12)","v":""},{"$f":"IF(+'V C AB'!AQ12=\"\",\"\",'V C AB'!AQ12)","v":""},{"$f":"IF(+'V C AB'!AR12=\"\",\"\",'V C AB'!AR12)","v":""},{"$f":"IF(+'V C AB'!AS12=\"\",\"\",'V C AB'!AS12)","v":""},{"$f":"IF(+'V C AB'!AT12=\"\",\"\",'V C AB'!AT12)","v":""},{"$f":"IF(+'V C AB'!AU12=\"\",\"\",'V C AB'!AU12)","v":""},{"$f":"COUNTIF(J7:AK7,\"<60\")","v":0},{"$f":"COUNT(J7:AK7)-AL7-AN7","v":0},{"$f":"COUNTIF(J7:AK7,\">=80\")","v":0},{"$f":"SUM(E7:AK7)","v":0},{"$f":"IF(OR(AN7>=3,AND((AL7+AM7)>=2,AN7>=2)),\"CLASIFICADO A COPETENCIAS FEI\",IF(AND(AN7>=2,(AL7+AM7)>=1),\"LE FALTA UNA DE 40 A 90 Km \",IF(AN7>=2,\"LE FALTA UNA DE 80 A 90 Km o DOS DE 40 A 79 Km\",IF(AND((AL7+AM7)>=2,AN7>=1),\"LE FALTA UNA DE 80 A 90 Km\",IF(AND((AL7+AM7)>=1,AN7>=1),\"LE FALTA UNA DE 40 A 79 + UNA DE 80 A 90 KM; o, DOS DE 80 A 90 Km\",IF(OR((AL7+AM7)>=2,AN7>=1),\"LE FALTA DOS DE 80 A 90 Km\",\"\"))))))","v":""},{"$f":"+IF(AND(AO7>240,AN7>=1),\"CLASIFICADO A COMPETENCIAS FEI\",IF(AND(AO7>199,AN7>=1),\"LE FALTA UNA DE 40 Km\",IF(AND(AO7>179,AN7>=1),\"LE FALTA UNA DE 60 Km\",IF(AND(AO7>160),\"LE FALTA UNA DE 80 Km\",\"LE FALTA  \"&240-AO7&\"Km\"))))","v":"LE FALTA  240Km"}]
["M003","A","ANDRADE ANIBAL",null,null,null,null,null,null,null,null,null,null,null,null,null,null,null,null,"",null,null,null,null,null,null,null,null,null,null,null,null,null,null,null,null,null,{"$f":"COUNTIF(J8:AK8,\"<60\")","v":0},{"$f":"COUNT(J8:AK8)-AL8-AN8","v":0},{"$f":"COUNTIF(J8:AK8,\">=80\")","v":0},{"$f":"SUM(E8:AK8)","v":0},{"$f":"IF(OR(AN8>=3,AND((AL8+AM8)>=2,AN8>=2)),\"CLASIFICADO A COPETENCIAS FEI\",IF(AND(AN8>=2,(AL8+AM8)>=1),\"LE FALTA UNA DE 40 A 90 Km \",IF(AN8>=2,\"LE FALTA UNA DE 80 A 90 Km o DOS DE 40 A 79 Km\",IF(AND((AL8+AM8)>=2,AN8>=1),\"LE FALTA UNA DE 80 A 90 Km\",IF(AND((AL8+AM8)>=1,AN8>=1),\"LE FALTA UNA DE 40 A 79 + UNA DE 80 A 90 KM; o, DOS DE 80 A 90 Km\",IF(OR((AL8+AM8)>=2,AN8>=1),\"LE FALTA DOS DE 80 A 90 Km\",\"\"))))))","v":""},{"$f":"+IF(AND(AO8>240,AN8>=1),\"CLASIFICADO A COMPETENCIAS FEI\",IF(AND(AO8>199,AN8>=1),\"LE FALTA UNA DE 40 Km\",IF(AND(AO8>179,AN8>=1),\"LE FALTA UNA DE 60 Km\",IF(AND(AO8>160),\"LE FALTA UNA DE 80 Km\",\"LE FALTA  \"&240-AO8&\"Km\"))))","v":"LE FALTA  240Km"}]
["M014","A","CAMPUZANO ISABEL",null,null,null,null,null,null,null,null,null,null,null,null,null,null,null,null,"",null,null,null,null,null,null,null,null,null,null,null,null,null,null,null,null,null,0,0,0,0,{"$f":"IF(OR(AN9>=3,AND((AL9+AM9)>=2,AN9>=2)),\"CLASIFICADO A COPETENCIAS FEI\",IF(AND(AN9>=2,(AL9+AM9)>=1),\"LE FALTA UNA DE 40 A 90 Km \",IF(AN9>=2,\"LE FALTA UNA DE 80 A 90 Km o DOS DE 40 A 79 Km\",IF(AND((AL9+AM9)>=2,AN9>=1),\"LE FALTA UNA DE 80 A 90 Km\",IF(AND((AL9+AM9)>=1,AN9>=1),\"LE FALTA UNA DE 40 A 79 + UNA DE 80 A 90 KM; o, DOS DE 80 A 90 Km\",IF(OR((AL9+AM9)>=2,AN9>=1),\"LE FALTA DOS DE 80 A 90 Km\",\"\"))))))","v":""},{"$f":"+IF(AND(AO9>240,AN9>=1),\"CLASIFICADO A COMPETENCIAS FEI\",IF(AND(AO9>199,AN9>=1),\"LE FALTA UNA DE 40 Km\",IF(AND(AO9>179,AN9>=1),\"LE FALTA UNA DE 60 Km\",IF(AND(AO9>160),\"LE FALTA UNA DE 80 Km\",\"LE FALTA  \"&240-AO9&\"Km\"))))","v":"LE FALTA  240Km"}]
["M009","A","DEL OLMO JOSE",null,null,null,null,null,null,null,null,null,null,null,null,null,null,null,null,"",null,null,null,null,null,null,null,null,null,null,null,null,null,null,null,null,null,0,0,0,0,{"$f":"IF(OR(AN10>=3,AND((AL10+AM10)>=2,AN10>=2)),\"CLASIFICADO A COPETENCIAS FEI\",IF(AND(AN10>=2,(AL10+AM10)>=1),\"LE FALTA UNA DE 40 A 90 Km \",IF(AN10>=2,\"LE FALTA UNA DE 80 A 90 Km o DOS DE 40 A 79 Km\",IF(AND((AL10+AM10)>=2,AN10>=1),\"LE FALTA UNA DE 80 A 90 Km\",IF(AND((AL10+AM10)>=1,AN10>=1),\"LE FALTA UNA DE 40 A 79 + UNA DE 80 A 90 KM; o, DOS DE 80 A 90 Km\",IF(OR((AL10+AM10)>=2,AN10>=1),\"LE FALTA DOS DE 80 A 90 Km\",\"\"))))))","v":""},{"$f":"+IF(AND(AO10>240,AN10>=1),\"CLASIFICADO A COMPETENCIAS FEI\",IF(AND(AO10>199,AN10>=1),\"LE FALTA UNA DE 40 Km\",IF(AND(AO10>179,AN10>=1),\"LE FALTA UNA DE 60 Km\",IF(AND(AO10>160),\"LE FALTA UNA DE 80 Km\",\"LE FALTA  \"&240-AO10&\"Km\"))))","v":"LE FALTA  240Km"}]
[null,"M066","MONROY EDUARDO",null,null,null,null,40,40,null,null,44,null,null,"","","","","",63,"",null,80,null,"",63,null,null,null,null,null,null,null,null,null,null,null,1,2,1,330,{"$f":"IF(OR(AN11>=3,AND((AL11+AM11)>=2,AN11>=2)),\"CLASIFICADO A COPETENCIAS FEI\",IF(AND(AN11>=2,(AL11+AM11)>=1),\"LE FALTA UNA DE 40 A 90 Km \",IF(AN11>=2,\"LE FALTA UNA DE 80 A 90 Km o DOS DE 40 A 79 Km\",IF(AND((AL11+AM11)>=2,AN11>=1),\"LE FALTA UNA DE 80 A 90 Km\",IF(AND((AL11+AM11)>=1,AN11>=1),\"LE FALTA UNA DE 40 A 79 + UNA DE 80 A 90 KM; o, DOS DE 80 A 90 Km\",IF(OR((AL11+AM11)>=2,AN11>=1),\"LE FALTA DOS DE 80 A 90 Km\",\"\"))))))","v":"LE FALTA UNA DE 80 A 90 Km"}]
["M002","A","ENDARA IVAN MAURICIO",null,null,null,null,null,null,null,null,null,null,null,null,null,null,null,null,"",null,null,null,null,null,null,null,null,null,null,null,null,null,null,null,null,null,0,0,0,0,{"$f":"IF(OR(AN12>=3,AND((AL12+AM12)>=2,AN12>=2)),\"CLASIFICADO A COPETENCIAS FEI\",IF(AND(AN12>=2,(AL12+AM12)>=1),\"LE FALTA UNA DE 40 A 90 Km \",IF(AN12>=2,\"LE FALTA UNA DE 80 A 90 Km o DOS DE 40 A 79 Km\",IF(AND((AL12+AM12)>=2,AN12>=1),\"LE FALTA UNA DE 80 A 90 Km\",IF(AND((AL12+AM12)>=1,AN12>=1),\"LE FALTA UNA DE 40 A 79 + UNA DE 80 A 90 KM; o, DOS DE 80 A 90 Km\",IF(OR((AL12+AM12)>=2,AN12>=1),\"LE FALTA DOS DE 80 A 90 Km\",\"\"))))))","v":""},{"$f":"+IF(AND(AO12>240,AN12>=1),\"CLASIFICADO A COMPETENCIAS FEI\",IF(AND(AO12>199,AN12>=1),\"LE FALTA UNA DE 40 Km\",IF(AND(AO12>179,AN12>=1),\"LE FALTA UNA DE 60 Km\",IF(AND(AO12>160),\"LE FALTA UNA DE 80 Km\",\"LE FALTA  \"&240-AO12&\"Km\"))))","v":"LE FALTA  240Km"}]
["M017","A","GABELA MARCELO",null,null,null,null,null,null,null,null,null,null,null,null,null,null,null,null,"",null,null,null,null,null,null,null,null,null,null,null,null,null,null,null,null,null,0,0,0,0,"",{"$f":"+IF(AND(AO13>240,AN13>=1),\"CLASIFICADO A COMPETENCIAS FEI\",IF(AND(AO13>199,AN13>=1),\"LE FALTA UNA DE 40 Km\",IF(AND(AO13>179,AN13>=1),\"LE FALTA UNA DE 60 Km\",IF(AND(AO13>160),\"LE FALTA UNA DE 80 Km\",\"LE FALTA  \"&240-AO13&\"Km\"))))","v":"LE FALTA  240Km"}]
["A061","A","GARCES PATRICIO",null,null,null,null,null,null,null,null,null,null,null,null,null,null,null,null,"",null,null,null,null,null,null,null,null,null,null,null,null,null,null,null,null,null,0,0,0,0,"",{"$f":"+IF(AND(AO14>240,AN14>=1),\"CLASIFICADO A COMPETENCIAS FEI\",IF(AND(AO14>199,AN14>=1),\"LE FALTA UNA DE 40 Km\",IF(AND(AO14>179,AN14>=1),\"LE FALTA UNA DE 60 Km\",IF(AND(AO14>160),\"LE FALTA UNA DE 80 Km\",\"LE FALTA  \"&240-AO14&\"Km\"))))","v":"LE FALTA  240Km"}]
[null,"A","GUARDERAS PEDRO JOSE",null,null,null,null,null,null,null,null,null,null,null,"","",null,null,null,"",null,null,null,null,null,null,null,null,null,null,null,null,null,null,null,null,null,0,0,0,0,"",{"$f":"+IF(AND(AO15>240,AN15>=1),\"CLASIFICADO A COMPETENCIAS FEI\",IF(AND(AO15>199,AN15>=1),\"LE FALTA UNA DE 40 Km\",IF(AND(AO15>179,AN15>=1),\"LE FALTA UNA DE 60 Km\",IF(AND(AO15>160),\"LE FALTA UNA DE 80 Km\",\"LE FALTA  \"&240-AO15&\"Km\"))))","v":"LE FALTA  240Km"}]
["M011","M002","HERRERA MARCELO",null,null,null,null,null,null,null,null,null,null,null,null,null,null,null,null,null,null,null,null,null,null,null,null,null,null,null,null,null,null,null,null,null,null,0,0,0,0,""]
["M006","A010","HIDALGO GUSTAVO",null,null,null,null,null,null,null,null,null,null,null,null,null,null,null,null,"",null,null,null,null,null,null,null,null,null,null,null,null,null,null,null,null,null,0,0,0,0,"",{"$f":"+IF(AND(AO17>240,AN17>=1),\"CLASIFICADO A COMPETENCIAS FEI\",IF(AND(AO17>199,AN17>=1),\"LE FALTA UNA DE 40 Km\",IF(AND(AO17>179,AN17>=1),\"LE FALTA UNA DE 60 Km\",IF(AND(AO17>160),\"LE FALTA UNA DE 80 Km\",\"LE FALTA  \"&240-AO17&\"Km\"))))","v":"LE FALTA  240Km"}]
[null,"A","JIJON FRANCISCO",null,null,null,null,null,null,null,null,null,null,null,null,null,null,null,null,"",null,null,null,null,null,null,null,null,null,null,null,null,null,null,null,null,null,0,0,0,0,"",{"$f":"+IF(AND(AO18>240,AN18>=1),\"CLASIFICADO A COMPETENCIAS FEI\",IF(AND(AO18>199,AN18>=1),\"LE FALTA UNA DE 40 Km\",IF(AND(AO18>179,AN18>=1),\"LE FALTA UNA DE 60 Km\",IF(AND(AO18>160),\"LE FALTA UNA DE 80 Km\",\"LE FALTA  \"&240-AO18&\"Km\"))))","v":"LE FALTA  240Km"}]
["M010","M004","LEÓN ARAUJO CÉSAR IGNACIO",null,null,null,null,null,null,null,null,null,null,null,null,null,null,null,null,null,null,null,null,null,null,null,null,null,null,null,null,null,null,null,null,null,null,0,0,0,0,""]
[null,"A","LOPÉZ JAIME ANDRES",null,null,null,null,null,null,null,null,null,null,null,"","",null,null,null,"",null,null,null,null,null,null,null,null,null,null,null,null,null,null,null,null,null,0,0,0,0,"",{"$f":"+IF(AND(AO20>240,AN20>=1),\"CLASIFICADO A COMPETENCIAS FEI\",IF(AND(AO20>199,AN20>=1),\"LE FALTA UNA DE 40 Km\",IF(AND(AO20>179,AN20>=1),\"LE FALTA UNA DE 60 Km\",IF(AND(AO20>160),\"LE FALTA UNA DE 80 Km\",\"LE FALTA  \"&240-AO20&\"Km\"))))","v":"LE FALTA  240Km"}]
["M002","A","PEREZ ARTETA IGNACIO",null,null,null,null,null,null,null,null,null,null,null,"","",null,null,null,"",null,null,null,null,null,null,null,null,null,null,null,null,null,null,null,null,null,0,0,0,0,"",{"$f":"+IF(AND(AO21>240,AN21>=1),\"CLASIFICADO A COMPETENCIAS FEI\",IF(AND(AO21>199,AN21>=1),\"LE FALTA UNA DE 40 Km\",IF(AND(AO21>179,AN21>=1),\"LE FALTA UNA DE 60 Km\",IF(AND(AO21>160),\"LE FALTA UNA DE 80 Km\",\"LE FALTA  \"&240-AO21&\"Km\"))))","v":"LE FALTA  240Km"}]
["M008",null,"RECALDE GALO",null,null,null,null,null,null,null,null,null,null,null,44,41,null,null,null,42,null,null,null,null,null,null,null,null,null,null,null,null,null,null,null,null,null,3,0,0,127,"LE FALTA DOS DE 80 A 90 Km",{"$f":"+IF(AND(AO22>240,AN22>=1),\"CLASIFICADO A COMPETENCIAS FEI\",IF(AND(AO22>199,AN22>=1),\"LE FALTA UNA DE 40 Km\",IF(AND(AO22>179,AN22>=1),\"LE FALTA UNA DE 60 Km\",IF(AND(AO22>160),\"LE FALTA UNA DE 80 Km\",\"LE FALTA  \"&240-AO22&\"Km\"))))","v":"LE FALTA  113Km"}]
[null,"A","ROMERO JULIO",null,null,null,null,null,null,null,null,null,null,null,null,null,null,null,null,"",null,null,null,null,null,null,null,null,null,null,null,null,null,null,null,null,null,0,0,0,0,"",{"$f":"+IF(AND(AO23>240,AN23>=1),\"CLASIFICADO A COMPETENCIAS FEI\",IF(AND(AO23>199,AN23>=1),\"LE FALTA UNA DE 40 Km\",IF(AND(AO23>179,AN23>=1),\"LE FALTA UNA DE 60 Km\",IF(AND(AO23>160),\"LE FALTA UNA DE 80 Km\",\"LE FALTA  \"&240-AO23&\"Km\"))))","v":"LE FALTA  240Km"}]
["M007","M001","TIMANA JAIRO",null,null,null,null,null,null,null,null,null,null,null,null,null,null,null,null,null,null,null,null,null,null,null,null,null,null,null,null,null,null,null,null,null,null,0,0,0,0,""]
["M003","A","VERA MENESES CARLOS",null,null,null,null,null,null,null,null,null,null,null,"","",null,null,null,"",null,null,null,null,null,null,null,null,null,null,null,null,null,null,null,null,null,0,0,0,0,"",{"$f":"+IF(AND(AO25>240,AN25>=1),\"CLASIFICADO A COMPETENCIAS FEI\",IF(AND(AO25>199,AN25>=1),\"LE FALTA UNA DE 40 Km\",IF(AND(AO25>179,AN25>=1),\"LE FALTA UNA DE 60 Km\",IF(AND(AO25>160),\"LE FALTA UNA DE 80 Km\",\"LE FALTA  \"&240-AO25&\"Km\"))))","v":"LE FALTA  240Km"}]
["A109","A","WRAY ESPINOZA ROBERTO",null,null,null,null,null,null,null,null,null,null,null,null,null,null,null,62,"",null,null,null,null,null,null,null,null,null,null,null,null,null,null,null,null,null,0,1,0,62,"",{"$f":"+IF(AND(AO26>240,AN26>=1),\"CLASIFICADO A COMPETENCIAS FEI\",IF(AND(AO26>199,AN26>=1),\"LE FALTA UNA DE 40 Km\",IF(AND(AO26>179,AN26>=1),\"LE FALTA UNA DE 60 Km\",IF(AND(AO26>160),\"LE FALTA UNA DE 80 Km\",\"LE FALTA  \"&240-AO26&\"Km\"))))","v":"LE FALTA  178Km"}]
[1000,1000,"ZZZZZZZZ",null,null,null,null,null,null,null,null,null,null,null,"","",{"$f":"IFERROR(#REF!,\"\")","v":""},{"$f":"IFERROR(#REF!,\"\")","v":""},{"$f":"IFERROR(#REF!,\"\")","v":""},{"$f":"IFERROR(#REF!,\"\")","v":""},null,null,null,null,null,null,null,null,null,null,null,null,null,null,null,null,null,0,0,0,0,""]
[null,null,null,null,null,null,null,null,null,null,null,null,null,null,"","",{"$f":"IFERROR(#REF!,\"\")","v":""},{"$f":"IFERROR(#REF!,\"\")","v":""},{"$f":"IFERROR(#REF!,\"\")","v":""},{"$f":"IFERROR(#REF!,\"\")","v":""},null,null,null,null,null,null,null,null,null,null,null,null,null,null,null,null,null,0,0,0,0,{"$f":"IF(OR(AN28>=3,AND((AL28+AM28)>=2,AN28>=2)),\"CLASIFICADO A COPETENCIAS FEI\",IF(AND(AN28>=2,(AL28+AM28)>=1),\"LE FALTA UNA DE 40 A 90 Km \",IF(AN28>=2,\"LE FALTA UNA DE 80 A 90 Km o DOS DE 40 A 79 Km\",IF(AND((AL28+AM28)>=2,AN28>=1),\"LE FALTA UNA DE 80 A 90 Km\",IF(AND((AL28+AM28)>=1,AN28>=1),\"LE FALTA UNA DE 40 A 79 + UNA DE 80 A 90 KM; o, DOS DE 80 A 90 Km\",IF(OR((AL28+AM28)>=2,AN28>=1),\"LE FALTA DOS DE 80 A 90 Km\",\"\"))))))","v":""}]
[null,null,null,null,null,null,null,null,null,null,null,null,null,null,null,null,null,null,null,null,null,null,null,null,null,null,null,null,null,null,null,null,null,null,null,null,null,0,0,0,0]
[null,null,null,null,null,null,null,null,null,null,null,null,null,null,null,null,null,null,null,null,null,null,null,null,null,null,null,null,null,null,null,null,null,null,null,null,null,0,0,0,0]
[null,null,null,null,null,null,null,null,null,null,null,null,null,null,null,null,null,null,null,null,null,null,null,null,null,null,null,null,null,null,null,null,null,null,null,null,null,0,0,0,0]
[null,null,null,null,null,null,null,null,null,null,null,null,null,null,null,null,null,null,null,null,null,null,null,null,null,null,null,null,null,null,null,null,null,null,null,null,null,0,0,0,0]
[null,null,null,null,null,null,null,null,null,null,null,null,null,null,null,null,null,null,null,null,null,null,null,null,null,null,null,null,null,null,null,null,null,null,null,null,null,0,0,0,0]
[null,null,null,null,null,null,null,null,null,null,null,null,null,null,null,null,null,null,null,null,null,null,null,null,null,null,null,null,null,null,null,null,null,null,null,null,null,0,0,0,0]
[null,null,null,null,null,null,null,null,null,null,null,null,null,null,null,null,null,null,null,null,null,null,null,null,null,null,null,null,null,null,null,null,null,null,null,null,null,0,0,0,0]
[null,null,null,null,null,null,null,null,null,null,null,null,null,null,null,null,null,null,null,null,null,null,null,null,null,null,null,null,null,null,null,null,null,null,null,null,null,0,0,0,0]
[null,null,null,null,null,null,null,null,null,null,null,null,null,null,null,null,null,null,null,null,null,null,null,null,null,null,null,null,null,null,null,null,null,null,null,null,null,0,0,0,0]
[null,null,null,null,null,null,null,null,null,null,null,null,null,null,null,null,null,null,null,null,null,null,null,null,null,null,null,null,null,null,null,null,null,null,null,null,null,0,0,0,0]
[null,null,null,null,null,null,null,null,null,null,null,null,null,null,null,null,null,null,null,null,null,null,null,null,null,null,null,null,null,null,null,null,null,null,null,null,null,0,0,0,0]
[null,null,null,null,null,null,null,null,null,null,null,null,null,null,null,null,null,null,null,null,null,null,null,null,null,null,null,null,null,null,null,null,null,null,null,null,null,0,0,0,0]
[null,null,null,null,null,null,null,null,null,null,null,null,null,null,null,null,null,null,null,null,null,null,null,null,null,null,null,null,null,null,null,null,null,null,null,null,null,0,0,0,0]
[null,null,null,null,null,null,null,null,null,null,null,null,null,null,null,null,null,null,null,null,null,null,null,null,null,null,null,null,null,null,null,null,null,null,null,null,null,0,0,0,0]
[null,null,null,null,null,null,null,null,null,null,null,null,null,null,null,null,null,null,null,null,null,null,null,null,null,null,null,null,null,null,null,null,null,null,null,null,null,0,0,0,0]
[null,null,null,null,null,null,null,null,null,null,null,null,null,null,null,null,null,null,null,null,null,null,null,null,null,null,null,null,null,null,null,null,null,null,null,null,null,0,0,0,0]
[null,null,null,null,null,null,null,null,null,null,null,null,null,null,null,null,null,null,null,null,null,null,null,null,null,null,null,null,null,null,null,null,null,null,null,null,null,0,0,0,0]
[null,null,null,null,null,null,null,null,null,null,null,null,null,null,null,null,null,null,null,null,null,null,null,null,null,null,null,null,null,null,null,null,null,null,null,null,null,0,0,0,0]
[null,null,null,null,null,null,null,null,null,null,null,null,null,null,null,null,null,null,null,null,null,null,null,null,null,null,null,null,null,null,null,null,null,null,null,null,null,0,0,0,0]
[null,null,null,null,null,null,null,null,null,null,null,null,null,null,null,null,null,null,null,null,null,null,null,null,null,null,null,null,null,null,null,null,null,null,null,null,null,0,0,0,0]
[null,null,null,null,null,null,null,null,null,null,null,null,null,null,null,null,null,null,null,null,null,null,null,null,null,null,null,null,null,null,null,null,null,null,null,null,null,0,0,0,0]
[null,null,null,null,null,null,null,null,null,null,null,null,null,null,null,null,null,null,null,null,null,null,null,null,null,null,null,null,null,null,null,null,null,null,null,null,null,0,0,0,0]
[null,null,null,null,null,null,null,null,null,null,null,null,null,null,null,null,null,null,null,null,null,null,null,null,null,null,null,null,null,null,null,null,null,null,null,null,null,0,0,0,0]
[null,null,null,null,null,null,null,null,null,null,null,null,null,null,null,null,null,null,null,null,null,null,null,null,null,null,null,null,null,null,null,null,null,null,null,null,null,0,0,0,0]
[null,null,null,null,null,null,null,null,null,null,null,null,null,null,null,null,null,null,null,null,null,null,null,null,null,null,null,null,null,null,null,null,null,null,null,null,null,0,0,0,0]
[null,null,null,null,null,null,null,null,null,null,null,null,null,null,null,null,null,null,null,null,null,null,null,null,null,null,null,null,null,null,null,null,null,null,null,null,null,0,0,0,0]
[null,null,null,null,null,null,null,null,null,null,null,null,null,null,null,null,null,null,null,null,null,null,null,null,null,null,null,null,null,null,null,null,null,null,null,null,null,0,0,0,0]
[null,null,null,null,null,null,null,null,null,null,null,null,null,null,null,null,null,null,null,null,null,null,null,null,null,null,null,null,null,null,null,null,null,null,null,null,null,0,0,0,0]
[null,null,null,null,null,null,null,null,null,null,null,null,null,null,null,null,null,null,null,null,null,null,null,null,null,null,null,null,null,null,null,null,null,null,null,null,null,0,0,0,0]
[null,null,null,null,null,null,null,null,null,null,null,null,null,null,null,null,null,null,null,null,null,null,null,null,null,null,null,null,null,null,null,null,null,null,null,null,null,0,0,0,0]
[null,null,null,null,null,null,null,null,null,null,null,null,null,null,null,null,null,null,null,null,null,null,null,null,null,null,null,null,null,null,null,null,null,null,null,null,null,0,0,0,0]
[null,null,null,null,null,null,null,null,null,null,null,null,null,null,null,null,null,null,null,null,null,null,null,null,null,null,null,null,null,null,null,null,null,null,null,null,null,0,0,0,0]
[null,null,null,null,null,null,null,null,null,null,null,null,null,null,null,null,null,null,null,null,null,null,null,null,null,null,null,null,null,null,null,null,null,null,null,null,null,0,0,0,0]
[null,null,null,null,null,null,null,null,null,null,null,null,null,null,null,null,null,null,null,null,null,null,null,null,null,null,null,null,null,null,null,null,null,null,null,null,null,0,0,0,0]
[null,null,null,null,null,null,null,null,null,null,null,null,null,null,null,null,null,null,null,null,null,null,null,null,null,null,null,null,null,null,null,null,null,null,null,null,null,0,0,0,0]
[null,null,null,null,null,null,null,null,null,null,null,null,null,null,null,null,null,null,null,null,null,null,null,null,null,null,null,null,null,null,null,null,null,null,null,null,null,0,0,0,0]
[null,null,null,null,null,null,null,null,null,null,null,null,null,null,null,null,null,null,null,null,null,null,null,null,null,null,null,null,null,null,null,null,null,null,null,null,null,0,0,0,0]
[null,null,null,null,null,null,null,null,null,null,null,null,null,null,null,null,null,null,null,null,null,null,null,null,null,null,null,null,null,null,null,null,null,null,null,null,null,0,0,0,0]
[null,null,null,null,null,null,null,null,null,null,null,null,null,null,null,null,null,null,null,null,null,null,null,null,null,null,null,null,null,null,null,null,null,null,null,null,null,0,0,0,0]

{"sheet":"V C AB","index":17,"n_rows":249,"n_cols":56,"rows_kept":249,"cut":false,"hidden":false,"merged":[[0,5,2,48],[3,3,3,50],[3,0,3,1],[4,0,4,1],[4,3,4,8],[4,9,4,13],[4,14,4,18],[4,20,4,26],[4,37,4,46],[4,27,4,36]]}
[null,"DERECHO ADQUIRIDO",null,null,null,null,null,null,null,null,null,null,null,null,null,null,null,null,null,null,null,null,null,null,null,null,null,null,null,null,null,null,null,null,null,null,null,null,null,null,null,null,null,null,null,null,null,null,null,null,null,null,"CLASIFICADO A COMPETENCIAS FEI",{"$f":"COUNTIF(BA7:BA399, \"CLASIFICADO A COMPETENCIAS FEI\")","v":27},null,"AUMENTAR JINETES ABIERTA"]
[null,"VEL0CIDAD CONTROLADA",null,null,null,null,null,null,null,null,null,null,null,null,null,null,null,null,null,null,null,null,null,null,null,null,null,null,null,null,null,null,null,null,null,null,null,null,null,null,null,null,null,null,null,null,null,null,null,null,null,null,"LE FALTA UNA DE 40 Km",{"$f":"COUNTIF(BA7:BA400, \"LE FALTA UNA DE 40 Km\")","v":2}]
[null,null,null,null,null,null,null,null,null,null,null,null,null,null,null,null,null,null,null,null,null,null,null,null,null,null,null,null,null,null,null,null,null,null,null,null,null,null,null,null,null,null,null,null,null,null,null,null,null,null,null,null,"LE FALTA UNA DE 60 Km",{"$f":"COUNTIF(BA7:BA401, \"LE FALTA UNA DE 60 Km\")","v":3}]
[null,null,"ABIERTA","KILOMETRAJE",null,null,null,null,null,null,null,null,null,null,null,null,null,null,null,null,null,null,null,null,null,null,null,null,null,null,null,null,null,null,null,null,null,null,null,null,null,null,null,null,null,null,null,null,null,null,null,null,"LE FALTA UNA DE 80 KM",{"$f":"COUNTIF(BA7:BA400, \"LE FALTA UNA DE 80 KM\")","v":7}]
["CODIGO",null,null,2009,null,null,null,null,null,2010,null,null,null,null,2011,null,null,null,null,null,2012,null,null,null,null,null,null,2013,null,null,null,null,null,null,null,null,null,2014,null,null,null,null,null,null,null,null,null,null,"RESUMEN",{"$f":"IF(AV5>=60,\"CLASIFICADO A 60 Km LIBRE y 80 Km NOVICIO\",IF(AV5>=40,\"CLASIFICADO A 40 Km LIBRE y 60 Km NOVICIO\",\"\"))","v":""},null,null,"TOTAL",{"$f":"SUM(BB1:BB4)","v":39}]
["ANTERIOR","NUEVO","JINETE","I CHONE","II CHONE","III CHONE","IV CHONE","V CHONE","VI CHONE","I CHONE","II CHONE","III CHONE","IV CHONE","V CHONE","I CHONE","II CHONE","III CHONE","IV CHONE","V CHONE","VI CHONE","I CHONE","I CUENCA","II CHONE","III CHONE","IV CHONE","V CHONE","VI CHONE","I CHONE","II CHONE","III CHONE","IV CHONE","V CHONE","VI CHONE","VII CHONE","VIII CHONE","IX CHONE","X CHONE","I CHONE","II CHONE","III CHONE","IV CHONE","V CHONE","VI CHONE","VII CHONE","VIII CHONE","IX CHONE","X CHONE",">=40<60",">=60<80",">=80","ACUMULADO"]
["A081","A","ABAD ANDRE",null,null,null,null,null,null,null,null,null,null,null,"","","","","","",null,null,null,null,null,null,null,null,null,null,null,null,null,null,null,null,null,"","","","",{"$f":"IF(AND('V L AB'!AO12>0,'V L CAB'!AP67>0),'V L AB'!AO12,IF(AND('V C AB'!AO12>0,'V C CAB'!AP67>0),'V C AB'!AO12,\"\"))","v":""},"","","","",{"$f":"IF(AND('V L AB'!AT12>0,'V L CAB'!AU67>0),'V L AB'!AT12,IF(AND('V C AB'!AT12>0,'V C CAB'!AU67>0),'V C AB'!AT12,\"\"))","v":""},{"$f":"COUNTIF(J7:AU7,\"<60\")","v":0},{"$f":"COUNT(J7:AU7)-AV7-AX7","v":0},{"$f":"COUNTIF(J7:AU7,\">=80\")","v":0},{"$f":"SUM(D7:AU7)","v":0},{"$f":"IF(OR(AX7>2,AND(AX7>1,(AV7+AW7)>1)),\"HABILITADO  TEMPORALMENTE A COMPETENCIAS FEI\",IF(AND(AX7=1,(AV7+AW7)>1),\"LE FALTA UNA DE 80 A 90 CONTROLADA\",IF((AV7+AW7)>1,\"HABILITADO A 80KM VELOCIDAD CONTROLADA\",IF((AV7+AW7)>0,\"INICIO SU CLASIFICACIÓN\",\"NO INICIA SU CLASIFICACIÓN\"))))","v":"NO INICIA SU CLASIFICACIÓN"},{"$f":"+IF(AND(AY7>240,AX7>=1),\"CLASIFICADO A COMPETENCIAS FEI\",IF(AND(AY7>199,AX7>=1),\"LE FALTA UNA DE 40 Km\",IF(AND(AY7>179,AX7>=1),\"LE FALTA UNA DE 60 Km\",IF(AND(AY7>160),\"LE FALTA UNA DE 80 Km\",\"LE FALTA  \"&240-AY7&\"Km\"))))","v":"LE FALTA  240Km"},null,null,{"$f":"VLOOKUP(B7,#REF!,3,FALSE)","v":{"$error":"#REF!"}}]
["A080","A","ABAD FRANCIS",null,{"$f":"IF(AND('V L AB'!D13>0,'V L CAB'!E68>0),'V L AB'!D13,IF(AND('V C AB'!D13>0,'V C CAB'!E68>0),'V C AB'!D13,\"\"))","v":""},null,null,null,null,null,null,null,null,null,"","","","","","","",null,null,null,"","","","",null,"",null,"",null,null,null,null,null,"","","","",null,"","","","",null,{"$f":"COUNTIF(J8:AU8,\"<60\")","v":0},{"$f":"COUNT(J8:AU8)-AV8-AX8","v":0},{"$f":"COUNTIF(J8:AU8,\">=80\")","v":0},0,"NO INICIA SU CLASIFICACIÓN",{"$f":"+IF(AND(AY8>240,AX8>=1),\"CLASIFICADO A COMPETENCIAS FEI\",IF(AND(AY8>199,AX8>=1),\"LE FALTA UNA DE 40 Km\",IF(AND(AY8>179,AX8>=1),\"LE FALTA UNA DE 60 Km\",IF(AND(AY8>160),\"LE FALTA UNA DE 80 Km\",\"LE FALTA  \"&240-AY8&\"Km\"))))","v":"LE FALTA  240Km"},null,null,{"$f":"VLOOKUP(B8,#REF!,3,FALSE)","v":{"$error":"#REF!"}}]
["A014","A","ACHANCE SEGUNDO",null,null,null,null,null,null,null,null,null,null,null,"","","","","","","",null,null,null,"","","","",null,"",null,"",null,null,null,null,null,"","","","",null,"","","","",null,{"$f":"COUNTIF(J9:AU9,\"<60\")","v":0},{"$f":"COUNT(J9:AU9)-AV9-AX9","v":0},{"$f":"COUNTIF(J9:AU9,\">=80\")","v":0},0,"NO INICIA SU CLASIFICACIÓN",{"$f":"+IF(AND(AY9>240,AX9>=1),\"CLASIFICADO A COMPETENCIAS FEI\",IF(AND(AY9>199,AX9>=1),\"LE FALTA UNA DE 40 Km\",IF(AND(AY9>179,AX9>=1),\"LE FALTA UNA DE 60 Km\",IF(AND(AY9>160),\"LE FALTA UNA DE 80 Km\",\"LE FALTA  \"&240-AY9&\"Km\"))))","v":"LE FALTA  240Km"},null,null,{"$f":"VLOOKUP(B9,#REF!,3,FALSE)","v":{"$error":"#REF!"}}]
[null,"A","ALARCON VERGARA ESTEBAN",null,null,null,null,null,null,null,null,null,null,null,"","","","","","","",null,null,null,"","","","",null,"",null,"",null,null,null,null,null,"","","","",null,"","","","",null,{"$f":"COUNTIF(J10:AU10,\"<60\")","v":0},{"$f":"COUNT(J10:AU10)-AV10-AX10","v":0},{"$f":"COUNTIF(J10:AU10,\">=80\")","v":0},0,"NO INICIA SU CLASIFICACIÓN",{"$f":"+IF(AND(AY10>240,AX10>=1),\"CLASIFICADO A COMPETENCIAS FEI\",IF(AND(AY10>199,AX10>=1),\"LE FALTA UNA DE 40 Km\",IF(AND(AY10>179,AX10>=1),\"LE FALTA UNA DE 60 Km\",IF(AND(AY10>160),\"LE FALTA UNA DE 80 Km\",\"LE FALTA  \"&240-AY10&\"Km\"))))","v":"LE FALTA  240Km"},null,null,{"$f":"VLOOKUP(B10,#REF!,3,FALSE)","v":{"$error":"#REF!"}}]
["A120","A","ALBUJA FUENTES PATRICIO",null,null,null,null,null,null,null,null,null,null,null,44,"","","","","","",null,null,null,"","","","",null,"",null,"",null,null,null,null,null,"","","","",null,"","","","",null,{"$f":"COUNTIF(J11:AU11,\"<60\")","v":1},{"$f":"COUNT(J11:AU11)-AV11-AX11","v":0},{"$f":"COUNTIF(J11:AU11,\">=80\")","v":0},44,"INICIO SU CLASIFICACIÓN",{"$f":"+IF(AND(AY11>240,AX11>=1),\"CLASIFICADO A COMPETENCIAS FEI\",IF(AND(AY11>199,AX11>=1),\"LE FALTA UNA DE 40 Km\",IF(AND(AY11>179,AX11>=1),\"LE FALTA UNA DE 60 Km\",IF(AND(AY11>160),\"LE FALTA UNA DE 80 Km\",\"LE FALTA  \"&240-AY11&\"Km\"))))","v":"LE FALTA  196Km"},null,null,{"$f":"VLOOKUP(B11,#REF!,3,FALSE)","v":{"$error":"#REF!"}}]
["C","C","ALDAZ RAUL",null,null,null,null,null,null,null,null,null,null,null,null,null,null,null,null,null,null,null,null,null,null,null,null,null,null,null,null,null,null,null,null,null,null,"","","","",null,"","","","",null,{"$f":"COUNTIF(D12:AU12,\"<60\")","v":0},{"$f":"COUNT(D12:AU12)-AV12-AX12","v":0},{"$f":"COUNTIF(D12:AU12,\">=80\")","v":0},0,"NO INICIA SU CLASIFICACIÓN",null,null,null,{"$f":"VLOOKUP(B12,#REF!,3,FALSE)","v":{"$error":"#REF!"}}]
[null,"A181","ALLAICO CHIMBORAZO JOSE EMILIO",null,null,null,null,null,null,null,null,null,null,null,null,null,null,null,null,null,null,null,null,null,null,null,null,null,null,null,null,null,null,null,null,null,null,null,null,null,null,47,"",42,"","",null,{"$f":"COUNTIF(J13:AU13,\"<60\")","v":2},{"$f":"COUNT(J13:AU13)-AV13-AX13","v":0},{"$f":"COUNTIF(J13:AU13,\">=80\")","v":0},89,"HABILITADO A 80KM VELOCIDAD CONTROLADA",{"$f":"+IF(AND(AY13>240,AX13>=1),\"CLASIFICADO A COMPETENCIAS FEI\",IF(AND(AY13>199,AX13>=1),\"LE FALTA UNA DE 40 Km\",IF(AND(AY13>179,AX13>=1),\"LE FALTA UNA DE 60 Km\",IF(AND(AY13>160),\"LE FALTA UNA DE 80 Km\",\"LE FALTA  \"&240-AY13&\"Km\"))))","v":"LE FALTA  151Km"},null,null,{"$f":"VLOOKUP(B13,#REF!,3,FALSE)","v":{"$error":"#REF!"}}]
["A037","A059","ALMEIDA AYALA HECTOR",null,null,null,null,null,null,null,null,66,null,83,81,82,null,null,null,"",null,null,null,null,null,null,null,"",null,"",null,81,null,null,null,null,null,84,"","","",null,"","","","",null,0,1,5,477,"HABILITADO  TEMPORALMENTE A COMPETENCIAS FEI",null,null,null,{"$f":"VLOOKUP(B14,#REF!,3,FALSE)","v":{"$error":"#REF!"}}]
[null,"A011","ALMEIDA PARDO DAVID",null,null,null,null,null,null,null,null,null,null,null,null,null,null,null,null,null,null,null,null,null,44,null,null,null,null,null,null,null,null,null,null,null,null,"","","","",null,"","","","",null,1,0,0,44,"INICIO SU CLASIFICACIÓN",null,null,null,{"$f":"VLOOKUP(B15,#REF!,3,FALSE)","v":{"$error":"#REF!"}}]
[null,"A012","ALMEIDA PARDO HECTOR",null,null,null,null,null,null,null,null,null,null,null,"","","","","","","",null,null,null,"","","","",null,"",null,"",null,null,null,null,null,"","","","",null,"","","","",null,0,0,0,0,"NO INICIA SU CLASIFICACIÓN",{"$f":"+IF(AND(AY16>240,AX16>=1),\"CLASIFICADO A COMPETENCIAS FEI\",IF(AND(AY16>199,AX16>=1),\"LE FALTA UNA DE 40 Km\",IF(AND(AY16>179,AX16>=1),\"LE FALTA UNA DE 60 Km\",IF(AND(AY16>160),\"LE FALTA UNA DE 80 Km\",\"LE FALTA  \"&240-AY16&\"Km\"))))","v":"LE FALTA  240Km"},null,null,{"$f":"VLOOKUP(B16,#REF!,3,FALSE)","v":{"$error":"#REF!"}}]
["M004","A021","ALVEAR JUAN CARLOS",null,null,null,null,null,null,null,null,null,null,null,"","","",null,null,"","",null,null,null,44,"",52,48,null,"",null,42,42,40,45,42,42,"",47,"","",47,"","","",42,null,12,0,0,533,"HABILITADO A 80KM VELOCIDAD CONTROLADA","LE FALTA UNA DE 80 Km",null,null,{"$f":"VLOOKUP(B17,#REF!,3,FALSE)","v":{"$error":"#REF!"}}]
["A020","A088","ALZAMORA GUERRERO ESTEBAN",null,null,null,null,null,null,null,null,null,null,null,"","","","","","","",null,null,null,"","",36,"",null,"",null,"",null,null,null,null,null,"","","","",null,"","","","",null,1,0,0,36,"INICIO SU CLASIFICACIÓN","LE FALTA  204Km",null,null,{"$f":"VLOOKUP(B18,#REF!,3,FALSE)","v":{"$error":"#REF!"}}]
["A070","A050","ALZAMORA MARIA CECILIA",null,null,null,null,null,null,null,null,null,null,null,62,62,"","",43,42,81,null,81,null,"","","","",null,"",null,"",null,null,null,null,null,"","","","",null,"","","","",null,2,2,2,371,"HABILITADO  TEMPORALMENTE A COMPETENCIAS FEI","CLASIFICADO A COMPETENCIAS FEI",null,null,{"$f":"VLOOKUP(B19,#REF!,3,FALSE)","v":{"$error":"#REF!"}}]
[null,"A178","ANDRADE JUAN CARLOS",null,null,null,null,null,null,null,null,null,null,null,null,null,null,null,null,null,null,null,null,null,null,null,null,null,null,null,null,null,null,null,null,null,null,null,null,43,"",null,"","","","",null,1,0,0,43,"INICIO SU CLASIFICACIÓN","LE FALTA  197Km",null,null,{"$f":"VLOOKUP(B20,#REF!,3,FALSE)","v":{"$error":"#REF!"}}]
["J008","A","ASTUDILLO ESTALIN",null,null,null,null,null,null,null,null,null,null,null,"","","","","","","",null,null,null,"","","","",null,"",null,"",null,null,null,null,null,"","","","",null,"","","","",null,0,0,0,0,"NO INICIA SU CLASIFICACIÓN","LE FALTA  240Km",null,null,{"$f":"VLOOKUP(B21,#REF!,3,FALSE)","v":{"$error":"#REF!"}}]
[null,"A095","AULES LUIS RAUL",null,null,null,null,null,null,null,null,null,null,null,null,null,null,null,null,null,null,null,null,null,null,null,null,null,null,null,null,null,null,null,null,null,42,"","","","",null,"","","","",null,{"$f":"COUNTIF(D22:AU22,\"<60\")","v":1},{"$f":"COUNT(D22:AU22)-AV22-AX22","v":0},{"$f":"COUNTIF(D22:AU22,\">=80\")","v":0},42,"INICIO SU CLASIFICACIÓN",null,null,null,{"$f":"VLOOKUP(B22,#REF!,3,FALSE)","v":{"$error":"#REF!"}}]
[null,"A","AYALA ANDREA",null,null,null,null,null,null,null,null,null,null,null,null,null,null,null,null,null,"",null,null,null,"","","","",null,"",null,"",null,null,null,null,null,"","","","",null,"","","","",null,{"$f":"COUNTIF(J23:AU23,\"<60\")","v":0},{"$f":"COUNT(J23:AU23)-AV23-AX23","v":0},{"$f":"COUNTIF(J23:AU23,\">=80\")","v":0},0,"NO INICIA SU CLASIFICACIÓN",null,null,null,{"$f":"VLOOKUP(B23,#REF!,3,FALSE)","v":{"$error":"#REF!"}}]
["A049","A","AYALA DANIEL",null,null,null,null,null,null,null,null,null,null,null,"","","","","","","",null,null,null,"","","","",null,"",null,"",null,null,null,null,null,"","","","",null,"","","","",null,0,0,0,0,"NO INICIA SU CLASIFICACIÓN",{"$f":"+IF(AND(AY24>240,AX24>=1),\"CLASIFICADO A COMPETENCIAS FEI\",IF(AND(AY24>199,AX24>=1),\"LE FALTA UNA DE 40 Km\",IF(AND(AY24>179,AX24>=1),\"LE FALTA UNA DE 60 Km\",IF(AND(AY24>160),\"LE FALTA UNA DE 80 Km\",\"LE FALTA  \"&240-AY24&\"Km\"))))","v":"LE FALTA  240Km"},null,null,{"$f":"VLOOKUP(B24,#REF!,3,FALSE)","v":{"$error":"#REF!"}}]
["A028","A048","BARAHONA ANDRES",null,null,null,null,null,null,null,null,null,null,null,null,null,44,"","",42,"",null,null,81,80,"","","",null,"",null,"",null,null,null,null,null,43,"",43,"",null,"","","","",null,4,0,2,333,"HABILITADO  TEMPORALMENTE A COMPETENCIAS FEI","CLASIFICADO A COMPETENCIAS FEI",null,null,{"$f":"VLOOKUP(B25,#REF!,3,FALSE)","v":{"$error":"#REF!"}}]
["A112","A","BERMEO JUAN BERNARDO",null,null,null,null,null,null,null,null,null,null,62,"","","","","","","",null,null,null,"","","","",null,"",null,"",null,null,null,null,null,"","","","",null,"","","","",null,0,1,0,62,"INICIO SU CLASIFICACIÓN","LE FALTA  178Km",null,null,{"$f":"VLOOKUP(B26,#REF!,3,FALSE)","v":{"$error":"#REF!"}}]
["A0159","A049","BRAUER MARIA FERNANDA",null,null,null,null,null,null,null,null,null,null,null,"",null,null,44,43,84,81,null,44,null,"","","","",null,"",null,"",null,null,null,null,null,"","","","",null,"","","","",null,3,0,2,296,"HABILITADO  TEMPORALMENTE A COMPETENCIAS FEI","CLASIFICADO A COMPETENCIAS FEI",null,null,{"$f":"VLOOKUP(B27,#REF!,3,FALSE)","v":{"$error":"#REF!"}}]
["A101","A","BRAVO LUIS GUSTAVO",null,null,null,null,null,null,null,null,null,null,null,"","","","","","","",null,null,null,"","","","",null,"",null,"",null,null,null,null,null,"","","","",null,"","","","",null,0,0,0,0,"NO INICIA SU CLASIFICACIÓN","LE FALTA  240Km",null,null,{"$f":"VLOOKUP(B28,#REF!,3,FALSE)","v":{"$error":"#REF!"}}]
[null,"A185","BURBANO SERRANO JAIME ROLANDO",null,null,null,null,null,null,null,null,null,null,null,null,null,null,null,null,null,null,null,null,null,null,null,null,null,null,null,null,null,null,null,null,null,null,null,null,null,43,null,"","","","",null,1,0,0,43,"INICIO SU CLASIFICACIÓN","LE FALTA  197Km",null,null,{"$f":"VLOOKUP(B29,#REF!,3,FALSE)","v":{"$error":"#REF!"}}]
["C","A133","BURBANO SERRANO JUAN JOSE",null,null,null,null,null,null,null,null,null,null,null,null,null,null,null,null,null,null,40,null,null,null,null,null,null,null,null,null,null,null,null,null,null,null,"","","","",null,"","","","",null,{"$f":"COUNTIF(D30:AU30,\"<60\")","v":1},{"$f":"COUNT(D30:AU30)-AV30-AX30","v":0},{"$f":"COUNTIF(D30:AU30,\">=80\")","v":0},40,"INICIO SU CLASIFICACIÓN",null,null,null,{"$f":"VLOOKUP(B30,#REF!,3,FALSE)","v":{"$error":"#REF!"}}]
[null,"A172","BURBANO VILLAVICENCIO JAIME SEBASTIAN",null,null,null,null,null,null,null,null,null,null,null,null,null,null,null,null,null,null,null,null,null,null,null,null,null,44,null,44,null,null,null,null,null,null,null,63,"",84,null,"","","","",null,{"$f":"COUNTIF(J31:AU31,\"<60\")","v":2},{"$f":"COUNT(J31:AU31)-AV31-AX31","v":1},{"$f":"COUNTIF(J31:AU31,\">=80\")","v":1},235,"LE FALTA UNA DE 80 A 90 CONTROLADA",{"$f":"+IF(AND(AY31>240,AX31>=1),\"CLASIFICADO A COMPETENCIAS FEI\",IF(AND(AY31>199,AX31>=1),\"LE FALTA UNA DE 40 Km\",IF(AND(AY31>179,AX31>=1),\"LE FALTA UNA DE 60 Km\",IF(AND(AY31>160),\"LE FALTA UNA DE 80 Km\",\"LE FALTA  \"&240-AY31&\"Km\"))))","v":"LE FALTA UNA DE 40 Km"},null,null,{"$f":"VLOOKUP(B31,#REF!,3,FALSE)","v":{"$error":"#REF!"}}]
[null,"A","BUSTAMENTE RODRIGO",null,null,null,null,null,null,null,null,null,null,null,"","","","","","","",null,null,null,"","","","",null,"",null,"",null,null,null,null,null,"","","","",null,"","","","",null,{"$f":"COUNTIF(J32:AU32,\"<60\")","v":0},{"$f":"COUNT(J32:AU32)-AV32-AX32","v":0},{"$f":"COUNTIF(J32:AU32,\">=80\")","v":0},0,"NO INICIA SU CLASIFICACIÓN",{"$f":"+IF(AND(AY32>240,AX32>=1),\"CLASIFICADO A COMPETENCIAS FEI\",IF(AND(AY32>199,AX32>=1),\"LE FALTA UNA DE 40 Km\",IF(AND(AY32>179,AX32>=1),\"LE FALTA UNA DE 60 Km\",IF(AND(AY32>160),\"LE FALTA UNA DE 80 Km\",\"LE FALTA  \"&240-AY32&\"Km\"))))","v":"LE FALTA  240Km"},null,null,{"$f":"VLOOKUP(B32,#REF!,3,FALSE)","v":{"$error":"#REF!"}}]
["C","C","CAMACHO VINTIMILLA JUAN",null,null,null,null,null,null,null,null,null,null,null,null,null,null,null,null,null,null,null,null,null,null,null,null,null,null,null,null,null,null,null,null,null,null,"","","","",null,"","","","",null,{"$f":"COUNTIF(D33:AU33,\"<60\")","v":0},{"$f":"COUNT(D33:AU33)-AV33-AX33","v":0},{"$f":"COUNTIF(D33:AU33,\">=80\")","v":0},0,"NO INICIA SU CLASIFICACIÓN",null,null,null,{"$f":"VLOOKUP(B33,#REF!,3,FALSE)","v":{"$error":"#REF!"}}]
["A151","A103","CANDELEJO NELSON",null,null,null,null,null,null,null,null,null,null,null,"",null,null,null,43,"","",null,null,null,44,"","","",null,"",null,"",null,null,null,null,null,"","","","",null,"","","","",null,{"$f":"COUNTIF(J34:AU34,\"<60\")","v":2},{"$f":"COUNT(J34:AU34)-AV34-AX34","v":0},{"$f":"COUNTIF(J34:AU34,\">=80\")","v":0},87,"HABILITADO A 80KM VELOCIDAD CONTROLADA",{"$f":"+IF(AND(AY34>240,AX34>=1),\"CLASIFICADO A COMPETENCIAS FEI\",IF(AND(AY34>199,AX34>=1),\"LE FALTA UNA DE 40 Km\",IF(AND(AY34>179,AX34>=1),\"LE FALTA UNA DE 60 Km\",IF(AND(AY34>160),\"LE FALTA UNA DE 80 Km\",\"LE FALTA  \"&240-AY34&\"Km\"))))","v":"LE FALTA  153Km"},null,null,{"$f":"VLOOKUP(B34,#REF!,3,FALSE)","v":{"$error":"#REF!"}}]
["A046","A067","CANDO MARIO",null,null,null,null,null,null,null,null,null,null,null,44,"",65,"",62,"",81,null,81,null,"","","","",null,"",null,"",null,null,null,null,null,"","","","",null,"","","","",null,{"$f":"COUNTIF(J35:AU35,\"<60\")","v":1},{"$f":"COUNT(J35:AU35)-AV35-AX35","v":2},{"$f":"COUNTIF(J35:AU35,\">=80\")","v":2},333,"HABILITADO  TEMPORALMENTE A COMPETENCIAS FEI",{"$f":"+IF(AND(AY35>240,AX35>=1),\"CLASIFICADO A COMPETENCIAS FEI\",IF(AND(AY35>199,AX35>=1),\"LE FALTA UNA DE 40 Km\",IF(AND(AY35>179,AX35>=1),\"LE FALTA UNA DE 60 Km\",IF(AND(AY35>160),\"LE FALTA UNA DE 80 Km\",\"LE FALTA  \"&240-AY35&\"Km\"))))","v":"CLASIFICADO A COMPETENCIAS FEI"},null,null,{"$f":"VLOOKUP(B35,#REF!,3,FALSE)","v":{"$error":"#REF!"}}]
["A068","A015","CARDENAS DANIEL",null,null,null,null,null,null,null,null,null,null,null,"","","","","","","",null,null,null,"","","","",null,41,null,"",null,null,null,null,null,"","","","",null,"","","","",null,{"$f":"COUNTIF(J36:AU36,\"<60\")","v":1},{"$f":"COUNT(J36:AU36)-AV36-AX36","v":0},{"$f":"COUNTIF(J36:AU36,\">=80\")","v":0},41,"INICIO SU CLASIFICACIÓN",{"$f":"+IF(AND(AY36>240,AX36>=1),\"CLASIFICADO A COMPETENCIAS FEI\",IF(AND(AY36>199,AX36>=1),\"LE FALTA UNA DE 40 Km\",IF(AND(AY36>179,AX36>=1),\"LE FALTA UNA DE 60 Km\",IF(AND(AY36>160),\"LE FALTA UNA DE 80 Km\",\"LE FALTA  \"&240-AY36&\"Km\"))))","v":"LE FALTA  199Km"},null,null,{"$f":"VLOOKUP(B36,#REF!,3,FALSE)","v":{"$error":"#REF!"}}]
["C","A134","CARRASCO AUGUSTO",null,null,null,null,null,null,null,null,null,null,null,null,null,null,null,null,null,null,null,null,null,null,null,null,null,null,null,null,null,null,null,null,null,null,"","","","",null,"","","","",null,{"$f":"COUNTIF(D37:AU37,\"<60\")","v":0},{"$f":"COUNT(D37:AU37)-AV37-AX37","v":0},{"$f":"COUNTIF(D37:AU37,\">=80\")","v":0},0,"NO INICIA SU CLASIFICACIÓN",null,null,null,{"$f":"VLOOKUP(B37,#REF!,3,FALSE)","v":{"$error":"#REF!"}}]
["A059","A064","CASTILLO DIEGO",null,null,null,null,null,null,null,null,null,null,null,44,41,"","","","","",null,null,null,"","","","",null,"",null,"",null,null,null,null,null,"","","",43,null,40,"","","",null,{"$f":"COUNTIF(J38:AU38,\"<60\")","v":4},{"$f":"COUNT(J38:AU38)-AV38-AX38","v":0},{"$f":"COUNTIF(J38:AU38,\">=80\")","v":0},168,"HABILITADO A 80KM VELOCIDAD CONTROLADA",{"$f":"+IF(AND(AY38>240,AX38>=1),\"CLASIFICADO A COMPETENCIAS FEI\",IF(AND(AY38>199,AX38>=1),\"LE FALTA UNA DE 40 Km\",IF(AND(AY38>179,AX38>=1),\"LE FALTA UNA DE 60 Km\",IF(AND(AY38>160),\"LE FALTA UNA DE 80 Km\",\"LE FALTA  \"&240-AY38&\"Km\"))))","v":"LE FALTA UNA DE 80 Km"},null,null,{"$f":"VLOOKUP(B38,#REF!,3,FALSE)","v":{"$error":"#REF!"}}]
["A069","A","CASTILLO MIGUEL",null,null,null,null,null,null,null,null,null,null,null,"","","","","","","",null,null,null,"","","","",null,"",null,"",null,null,null,null,null,"","","","",null,"","","","",null,{"$f":"COUNTIF(J39:AU39,\"<60\")","v":0},{"$f":"COUNT(J39:AU39)-AV39-AX39","v":0},{"$f":"COUNTIF(J39:AU39,\">=80\")","v":0},0,"NO INICIA SU CLASIFICACIÓN",{"$f":"+IF(AND(AY39>240,AX39>=1),\"CLASIFICADO A COMPETENCIAS FEI\",IF(AND(AY39>199,AX39>=1),\"LE FALTA UNA DE 40 Km\",IF(AND(AY39>179,AX39>=1),\"LE FALTA UNA DE 60 Km\",IF(AND(AY39>160),\"LE FALTA UNA DE 80 Km\",\"LE FALTA  \"&240-AY39&\"Km\"))))","v":"LE FALTA  240Km"},null,null,{"$f":"VLOOKUP(B39,#REF!,3,FALSE)","v":{"$error":"#REF!"}}]
["A020","A004","CATUCUAMBA WILLIAM MEDARDO",null,null,null,null,null,null,null,null,null,null,null,"","","","","","","",null,null,null,"","","","",null,"",null,"",null,null,null,null,null,"","","","",null,"","","","",null,{"$f":"COUNTIF(J40:AU40,\"<60\")","v":0},{"$f":"COUNT(J40:AU40)-AV40-AX40","v":0},{"$f":"COUNTIF(J40:AU40,\">=80\")","v":0},0,"NO INICIA SU CLASIFICACIÓN",{"$f":"+IF(AND(AY40>240,AX40>=1),\"CLASIFICADO A COMPETENCIAS FEI\",IF(AND(AY40>199,AX40>=1),\"LE FALTA UNA DE 40 Km\",IF(AND(AY40>179,AX40>=1),\"LE FALTA UNA DE 60 Km\",IF(AND(AY40>160),\"LE FALTA UNA DE 80 Km\",\"LE FALTA  \"&240-AY40&\"Km\"))))","v":"LE FALTA  240Km"},null,null,{"$f":"VLOOKUP(B40,#REF!,3,FALSE)","v":{"$error":"#REF!"}}]
["C","A160","CEDILLO RAMIRO",null,null,null,null,null,null,null,null,null,null,null,null,null,null,null,null,null,null,null,null,null,null,null,null,null,null,null,null,null,null,null,null,null,null,"","","","",null,"","","","",null,{"$f":"COUNTIF(D41:AU41,\"<60\")","v":0},{"$f":"COUNT(D41:AU41)-AV41-AX41","v":0},{"$f":"COUNTIF(D41:AU41,\">=80\")","v":0},0,"NO INICIA SU CLASIFICACIÓN",null,null,null,{"$f":"VLOOKUP(B41,#REF!,3,FALSE)","v":{"$error":"#REF!"}}]
[null,"A078","CHANGO ESTEFANIA",null,null,null,null,null,null,null,null,null,null,null,null,null,null,null,null,null,null,null,null,null,null,null,36,"",null,41,null,42,null,null,null,null,null,84,"","","",null,"","","","",null,{"$f":"COUNTIF(J42:AU42,\"<60\")","v":3},{"$f":"COUNT(J42:AU42)-AV42-AX42","v":0},{"$f":"COUNTIF(J42:AU42,\">=80\")","v":1},203,"LE FALTA UNA DE 80 A 90 CONTROLADA",{"$f":"+IF(AND(AY42>240,AX42>=1),\"CLASIFICADO A COMPETENCIAS FEI\",IF(AND(AY42>199,AX42>=1),\"LE FALTA UNA DE 40 Km\",IF(AND(AY42>179,AX42>=1),\"LE FALTA UNA DE 60 Km\",IF(AND(AY42>160),\"LE FALTA UNA DE 80 Km\",\"LE FALTA  \"&240-AY42&\"Km\"))))","v":"LE FALTA UNA DE 40 Km"},null,null,{"$f":"VLOOKUP(B42,#REF!,3,FALSE)","v":{"$error":"#REF!"}}]
["A029","A","CHIRIBOGA ALLUT ESTEBAN ",null,null,null,null,null,null,null,null,null,null,null,"",41,"","","","","",null,null,null,"","","","",null,"",null,"",null,null,null,null,null,"","","","",null,"","","","",null,{"$f":"COUNTIF(J43:AU43,\"<60\")","v":1},{"$f":"COUNT(J43:AU43)-AV43-AX43","v":0},{"$f":"COUNTIF(J43:AU43,\">=80\")","v":0},41,"INICIO SU CLASIFICACIÓN",{"$f":"+IF(AND(AY43>240,AX43>=1),\"CLASIFICADO A COMPETENCIAS FEI\",IF(AND(AY43>199,AX43>=1),\"LE FALTA UNA DE 40 Km\",IF(AND(AY43>179,AX43>=1),\"LE FALTA UNA DE 60 Km\",IF(AND(AY43>160),\"LE FALTA UNA DE 80 Km\",\"LE FALTA  \"&240-AY43&\"Km\"))))","v":"LE FALTA  199Km"},null,null,{"$f":"VLOOKUP(B43,#REF!,3,FALSE)","v":{"$error":"#REF!"}}]
["M140","A054","CHIRIBOGA AUGUSTO",null,null,null,null,null,null,null,null,null,null,null,44,null,null,65,"","",81,null,null,null,"","","","",null,"",null,"",null,null,null,null,null,"","","","",null,"","","","",null,{"$f":"COUNTIF(J44:AU44,\"<60\")","v":1},{"$f":"COUNT(J44:AU44)-AV44-AX44","v":1},{"$f":"COUNTIF(J44:AU44,\">=80\")","v":1},190,"LE FALTA UNA DE 80 A 90 CONTROLADA",{"$f":"+IF(AND(AY44>240,AX44>=1),\"CLASIFICADO A COMPETENCIAS FEI\",IF(AND(AY44>199,AX44>=1),\"LE FALTA UNA DE 40 Km\",IF(AND(AY44>179,AX44>=1),\"LE FALTA UNA DE 60 Km\",IF(AND(AY44>160),\"LE FALTA UNA DE 80 Km\",\"LE FALTA  \"&240-AY44&\"Km\"))))","v":"LE FALTA UNA DE 60 Km"},null,null,{"$f":"VLOOKUP(B44,#REF!,3,FALSE)","v":{"$error":"#REF!"}}]
[null,"A","CHIRIBOGA RICARDO ",null,null,null,null,null,null,null,null,null,null,null,"","","","","","","",null,null,null,"","","","",null,"",null,"",null,null,null,null,null,"","","","",null,"","","","",null,{"$f":"COUNTIF(J45:AU45,\"<60\")","v":0},{"$f":"COUNT(J45:AU45)-AV45-AX45","v":0},{"$f":"COUNTIF(J45:AU45,\">=80\")","v":0},0,"NO INICIA SU CLASIFICACIÓN",{"$f":"+IF(AND(AY45>240,AX45>=1),\"CLASIFICADO A COMPETENCIAS FEI\",IF(AND(AY45>199,AX45>=1),\"LE FALTA UNA DE 40 Km\",IF(AND(AY45>179,AX45>=1),\"LE FALTA UNA DE 60 Km\",IF(AND(AY45>160),\"LE FALTA UNA DE 80 Km\",\"LE FALTA  \"&240-AY45&\"Km\"))))","v":"LE FALTA  240Km"},null,null,{"$f":"VLOOKUP(B45,#REF!,3,FALSE)","v":{"$error":"#REF!"}}]
["C","C","CORDERO FERNANDO",null,null,null,null,null,null,null,null,null,null,null,null,null,null,null,null,null,null,null,null,null,null,null,null,null,null,null,null,null,null,null,null,null,null,"","","","",null,"","","","",null,{"$f":"COUNTIF(D46:AU46,\"<60\")","v":0},{"$f":"COUNT(D46:AU46)-AV46-AX46","v":0},{"$f":"COUNTIF(D46:AU46,\">=80\")","v":0},0,"NO INICIA SU CLASIFICACIÓN",null,null,null,{"$f":"VLOOKUP(B46,#REF!,3,FALSE)","v":{"$error":"#REF!"}}]
["J026","A","CORNEJO MANUEL",null,null,null,null,null,null,null,null,null,null,null,"","","","","","","",null,null,null,"","","","",null,"",null,"",null,null,null,null,null,"","","","",null,"","","","",null,{"$f":"COUNTIF(J47:AU47,\"<60\")","v":0},{"$f":"COUNT(J47:AU47)-AV47-AX47","v":0},{"$f":"COUNTIF(J47:AU47,\">=80\")","v":0},0,"NO INICIA SU CLASIFICACIÓN",{"$f":"+IF(AND(AY47>240,AX47>=1),\"CLASIFICADO A COMPETENCIAS FEI\",IF(AND(AY47>199,AX47>=1),\"LE FALTA UNA DE 40 Km\",IF(AND(AY47>179,AX47>=1),\"LE FALTA UNA DE 60 Km\",IF(AND(AY47>160),\"LE FALTA UNA DE 80 Km\",\"LE FALTA  \"&240-AY47&\"Km\"))))","v":"LE FALTA  240Km"},null,null,{"$f":"VLOOKUP(B47,#REF!,3,FALSE)","v":{"$error":"#REF!"}}]
["A070","A","CUICHAN CARLOS",null,null,null,null,null,null,null,null,null,null,null,null,null,"","",null,null,"",null,null,null,"","","","",null,"",null,"",null,null,null,null,null,"","","","",null,"","","","",null,{"$f":"COUNTIF(J48:AU48,\"<60\")","v":0},{"$f":"COUNT(J48:AU48)-AV48-AX48","v":0},{"$f":"COUNTIF(J48:AU48,\">=80\")","v":0},0,"NO INICIA SU CLASIFICACIÓN",{"$f":"+IF(AND(AY48>240,AX48>=1),\"CLASIFICADO A COMPETENCIAS FEI\",IF(AND(AY48>199,AX48>=1),\"LE FALTA UNA DE 40 Km\",IF(AND(AY48>179,AX48>=1),\"LE FALTA UNA DE 60 Km\",IF(AND(AY48>160),\"LE FALTA UNA DE 80 Km\",\"LE FALTA  \"&240-AY48&\"Km\"))))","v":"LE FALTA  240Km"},null,null,{"$f":"VLOOKUP(B48,#REF!,3,FALSE)","v":{"$error":"#REF!"}}]
["A010","A052","DARQUEA BERNARDO",null,null,null,null,null,null,null,80,88,null,null,81,"","","","","",81,null,null,null,"","","","",null,"",null,"",null,null,null,null,null,"","","","",null,"","","","",null,{"$f":"COUNTIF(J49:AU49,\"<60\")","v":0},{"$f":"COUNT(J49:AU49)-AV49-AX49","v":0},{"$f":"COUNTIF(J49:AU49,\">=80\")","v":4},330,"HABILITADO  TEMPORALMENTE A COMPETENCIAS FEI",{"$f":"+IF(AND(AY49>240,AX49>=1),\"CLASIFICADO A COMPETENCIAS FEI\",IF(AND(AY49>199,AX49>=1),\"LE FALTA UNA DE 40 Km\",IF(AND(AY49>179,AX49>=1),\"LE FALTA UNA DE 60 Km\",IF(AND(AY49>160),\"LE FALTA UNA DE 80 Km\",\"LE FALTA  \"&240-AY49&\"Km\"))))","v":"CLASIFICADO A COMPETENCIAS FEI"},null,null,{"$f":"VLOOKUP(B49,#REF!,3,FALSE)","v":{"$error":"#REF!"}}]
["A104","A057","DAVILA GORDILLO JUAN DIEGO",null,null,null,null,null,null,null,null,66,80,null,62,82,"","",62,63,"",null,null,null,"","","","",null,"",null,"",null,null,null,null,null,"",86,"","",null,"","","","",null,{"$f":"COUNTIF(J50:AU50,\"<60\")","v":0},{"$f":"COUNT(J50:AU50)-AV50-AX50","v":4},{"$f":"COUNTIF(J50:AU50,\">=80\")","v":3},501,"HABILITADO  TEMPORALMENTE A COMPETENCIAS FEI",null,null,null,{"$f":"VLOOKUP(B50,#REF!,3,FALSE)","v":{"$error":"#REF!"}}]
[null,"A016","DEL POZO JUAN",null,null,null,null,null,null,null,null,null,null,null,null,null,null,null,null,null,"",null,null,null,"","","","",null,"",null,"",null,null,null,null,null,"","","","",null,"","","","",null,{"$f":"COUNTIF(J51:AU51,\"<60\")","v":0},{"$f":"COUNT(J51:AU51)-AV51-AX51","v":0},{"$f":"COUNTIF(J51:AU51,\">=80\")","v":0},0,"NO INICIA SU CLASIFICACIÓN",null,null,null,{"$f":"VLOOKUP(B51,#REF!,3,FALSE)","v":{"$error":"#REF!"}}]
["C","A135","DONOSO LOYOLA SEBASTIAN FERNANDO",null,null,null,null,null,null,null,null,null,null,null,null,60,60,null,null,null,null,80,80,80,null,null,null,null,null,null,null,null,null,null,null,null,null,"","","","",null,"","",42,42,null,{"$f":"COUNTIF(D52:AU52,\"<60\")","v":2},{"$f":"COUNT(D52:AU52)-AV52-AX52","v":2},{"$f":"COUNTIF(D52:AU52,\">=80\")","v":3},444,"HABILITADO  TEMPORALMENTE A COMPETENCIAS FEI",null,null,null,{"$f":"VLOOKUP(B52,#REF!,3,FALSE)","v":{"$error":"#REF!"}}]
[null,"A062","DUEÑAS RICARDO",null,null,null,null,null,null,null,null,null,null,null,null,null,null,null,null,42,"",null,null,null,44,"","","",null,"",null,"",null,null,null,null,null,"","","","",null,"","","","",null,{"$f":"COUNTIF(J53:AU53,\"<60\")","v":2},{"$f":"COUNT(J53:AU53)-AV53-AX53","v":0},{"$f":"COUNTIF(J53:AU53,\">=80\")","v":0},86,"HABILITADO A 80KM VELOCIDAD CONTROLADA",null,null,null,{"$f":"VLOOKUP(B53,#REF!,3,FALSE)","v":{"$error":"#REF!"}}]
[null,"A176","ESCOBAR LUIS",null,null,null,null,null,null,null,null,null,null,null,null,null,null,null,null,null,null,null,null,null,null,null,null,null,null,null,null,null,null,null,null,null,null,null,null,43,"",null,"","","","",null,{"$f":"COUNTIF(J54:AU54,\"<60\")","v":1},{"$f":"COUNT(J54:AU54)-AV54-AX54","v":0},{"$f":"COUNTIF(J54:AU54,\">=80\")","v":0},43,"INICIO SU CLASIFICACIÓN",{"$f":"+IF(AND(AY54>240,AX54>=1),\"CLASIFICADO A COMPETENCIAS FEI\",IF(AND(AY54>199,AX54>=1),\"LE FALTA UNA DE 40 Km\",IF(AND(AY54>179,AX54>=1),\"LE FALTA UNA DE 60 Km\",IF(AND(AY54>160),\"LE FALTA UNA DE 80 Km\",\"LE FALTA  \"&240-AY54&\"Km\"))))","v":"LE FALTA  197Km"},null,null,{"$f":"VLOOKUP(B54,#REF!,3,FALSE)","v":{"$error":"#REF!"}}]
[null,"A002","ESPINDOLA FERNANDO",null,null,null,null,null,null,null,null,null,null,null,null,null,null,null,null,null,"",null,null,null,"","","","",null,"",null,"",null,null,null,null,null,"","","","",null,"","","","",null,{"$f":"COUNTIF(J55:AU55,\"<60\")","v":0},{"$f":"COUNT(J55:AU55)-AV55-AX55","v":0},{"$f":"COUNTIF(J55:AU55,\">=80\")","v":0},0,"NO INICIA SU CLASIFICACIÓN",{"$f":"+IF(AND(AY55>240,AX55>=1),\"CLASIFICADO A COMPETENCIAS FEI\",IF(AND(AY55>199,AX55>=1),\"LE FALTA UNA DE 40 Km\",IF(AND(AY55>179,AX55>=1),\"LE FALTA UNA DE 60 Km\",IF(AND(AY55>160),\"LE FALTA UNA DE 80 Km\",\"LE FALTA  \"&240-AY55&\"Km\"))))","v":"LE FALTA  240Km"},null,null,{"$f":"VLOOKUP(B55,#REF!,3,FALSE)","v":{"$error":"#REF!"}}]
["C","C","ESPINOZA ALVARADO JUAN SEBASTIAN",null,null,null,null,null,null,null,null,null,null,null,null,null,null,null,null,null,null,60,null,60,null,null,null,null,null,null,null,null,null,null,null,null,null,"","","","",86,"","","","",null,{"$f":"COUNTIF(D56:AU56,\"<60\")","v":0},{"$f":"COUNT(D56:AU56)-AV56-AX56","v":2},{"$f":"COUNTIF(D56:AU56,\">=80\")","v":1},206,"LE FALTA UNA DE 80 A 90 CONTROLADA",null,null,null,{"$f":"VLOOKUP(B56,#REF!,3,FALSE)","v":{"$error":"#REF!"}}]
["A010","A036","ESPINOZA ALVARO",null,null,null,null,null,null,null,null,null,null,null,"",null,null,null,43,"","",null,44,null,44,"",52,"",null,"",null,"",null,null,null,null,null,"","","","",null,"","","","",null,{"$f":"COUNTIF(J57:AU57,\"<60\")","v":4},{"$f":"COUNT(J57:AU57)-AV57-AX57","v":0},{"$f":"COUNTIF(J57:AU57,\">=80\")","v":0},183,"HABILITADO A 80KM VELOCIDAD CONTROLADA",{"$f":"+IF(AND(AY57>240,AX57>=1),\"CLASIFICADO A COMPETENCIAS FEI\",IF(AND(AY57>199,AX57>=1),\"LE FALTA UNA DE 40 Km\",IF(AND(AY57>179,AX57>=1),\"LE FALTA UNA DE 60 Km\",IF(AND(AY57>160),\"LE FALTA UNA DE 80 Km\",\"LE FALTA  \"&240-AY57&\"Km\"))))","v":"LE FALTA UNA DE 80 Km"},null,null,{"$f":"VLOOKUP(B57,#REF!,3,FALSE)","v":{"$error":"#REF!"}}]
["C","A136","ESPINOZA IZQUIERDO PEDRO JOSE",null,null,null,null,null,null,null,null,null,null,null,null,40,40,null,null,null,null,60,null,60,null,null,null,null,null,null,null,null,null,null,null,null,null,"","","","",null,"","","","",null,{"$f":"COUNTIF(D58:AU58,\"<60\")","v":2},{"$f":"COUNT(D58:AU58)-AV58-AX58","v":2},{"$f":"COUNTIF(D58:AU58,\">=80\")","v":0},200,"HABILITADO A 80KM VELOCIDAD CONTROLADA",null,null,null,{"$f":"VLOOKUP(B58,#REF!,3,FALSE)","v":{"$error":"#REF!"}}]
[null,"A","ESPINOZA JAIME FERNANDO",null,null,null,null,null,null,null,null,null,null,null,"","","","","","","",null,null,null,"","","","",null,"",null,"",null,null,null,null,null,"","","","",null,"","","","",null,{"$f":"COUNTIF(J59:AU59,\"<60\")","v":0},{"$f":"COUNT(J59:AU59)-AV59-AX59","v":0},{"$f":"COUNTIF(J59:AU59,\">=80\")","v":0},0,"NO INICIA SU CLASIFICACIÓN",{"$f":"+IF(AND(AY59>240,AX59>=1),\"CLASIFICADO A COMPETENCIAS FEI\",IF(AND(AY59>199,AX59>=1),\"LE FALTA UNA DE 40 Km\",IF(AND(AY59>179,AX59>=1),\"LE FALTA UNA DE 60 Km\",IF(AND(AY59>160),\"LE FALTA UNA DE 80 Km\",\"LE FALTA  \"&240-AY59&\"Km\"))))","v":"LE FALTA  240Km"},null,null,{"$f":"VLOOKUP(B59,#REF!,3,FALSE)","v":{"$error":"#REF!"}}]
["C","A137","ESPINOZA JUAN SEBASTIAN",null,null,null,null,null,null,null,null,null,null,null,null,null,null,null,null,null,null,null,null,null,null,null,null,null,58,null,null,null,null,null,null,null,null,45,"","","",47,"","","","",null,{"$f":"COUNTIF(D60:AU60,\"<60\")","v":3},{"$f":"COUNT(D60:AU60)-AV60-AX60","v":0},{"$f":"COUNTIF(D60:AU60,\">=80\")","v":0},150,"HABILITADO A 80KM VELOCIDAD CONTROLADA",null,null,null,{"$f":"VLOOKUP(B60,#REF!,3,FALSE)","v":{"$error":"#REF!"}}]
["C","A138","FEICAN ANDRES",null,null,null,null,null,null,null,null,null,null,null,null,null,null,null,null,null,null,null,null,null,null,null,null,null,null,null,null,null,null,null,null,null,null,"","","","",null,"","","","",null,{"$f":"COUNTIF(D61:AU61,\"<60\")","v":0},{"$f":"COUNT(D61:AU61)-AV61-AX61","v":0},{"$f":"COUNTIF(D61:AU61,\">=80\")","v":0},0,"NO INICIA SU CLASIFICACIÓN",null,null,null,{"$f":"VLOOKUP(B61,#REF!,3,FALSE)","v":{"$error":"#REF!"}}]
[null,"A","GALEAS ADOLFO ",null,null,null,null,null,null,null,null,null,null,null,"","","","","","","",null,null,null,"","","","",null,"",null,"",null,null,null,null,null,"","","","",null,"","","","",null,{"$f":"COUNTIF(J62:AU62,\"<60\")","v":0},{"$f":"COUNT(J62:AU62)-AV62-AX62","v":0},{"$f":"COUNTIF(J62:AU62,\">=80\")","v":0},0,"NO INICIA SU CLASIFICACIÓN",{"$f":"+IF(AND(AY62>240,AX62>=1),\"CLASIFICADO A COMPETENCIAS FEI\",IF(AND(AY62>199,AX62>=1),\"LE FALTA UNA DE 40 Km\",IF(AND(AY62>179,AX62>=1),\"LE FALTA UNA DE 60 Km\",IF(AND(AY62>160),\"LE FALTA UNA DE 80 Km\",\"LE FALTA  \"&240-AY62&\"Km\"))))","v":"LE FALTA  240Km"},null,null,{"$f":"VLOOKUP(B62,#REF!,3,FALSE)","v":{"$error":"#REF!"}}]
["A025","A","GARCES LEON PATRICIO",null,null,null,null,null,null,null,null,null,null,null,"","","","","","","",null,null,null,"","","","",null,"",null,"",null,null,null,null,null,"","","","",null,"","","","",null,{"$f":"COUNTIF(J63:AU63,\"<60\")","v":0},{"$f":"COUNT(J63:AU63)-AV63-AX63","v":0},{"$f":"COUNTIF(J63:AU63,\">=80\")","v":0},0,"NO INICIA SU CLASIFICACIÓN",null,null,null,{"$f":"VLOOKUP(B63,#REF!,3,FALSE)","v":{"$error":"#REF!"}}]
[null,"A082","GARZÓN JOSÉ RICARDO",null,null,null,null,null,null,null,null,null,null,null,null,null,null,null,null,null,44,null,null,null,"","","","",null,"",null,"",null,null,null,null,null,"","","","",null,"","","","",null,{"$f":"COUNTIF(J64:AU64,\"<60\")","v":1},{"$f":"COUNT(J64:AU64)-AV64-AX64","v":0},{"$f":"COUNTIF(J64:AU64,\">=80\")","v":0},44,"INICIO SU CLASIFICACIÓN",null,null,null,{"$f":"VLOOKUP(B64,#REF!,3,FALSE)","v":{"$error":"#REF!"}}]
[null,"A119","GÓMEZ DE LA TORRE JOSÉ",null,null,null,null,null,null,null,null,null,null,null,null,null,null,null,null,null,"",null,null,null,"","","","",null,"",null,"",null,null,null,null,null,"","","","",null,"","","","",null,{"$f":"COUNTIF(J65:AU65,\"<60\")","v":0},{"$f":"COUNT(J65:AU65)-AV65-AX65","v":0},{"$f":"COUNTIF(J65:AU65,\">=80\")","v":0},0,"NO INICIA SU CLASIFICACIÓN",null,null,null,{"$f":"VLOOKUP(B65,#REF!,3,FALSE)","v":{"$error":"#REF!"}}]
["A050","A080","GÓMEZ JUAN MARTIN",null,null,null,null,null,null,null,null,null,null,null,"","","","","","","",null,null,null,"","","","",null,41,null,"",null,null,null,null,null,"","","","",null,"","","","",null,{"$f":"COUNTIF(J66:AU66,\"<60\")","v":1},{"$f":"COUNT(J66:AU66)-AV66-AX66","v":0},{"$f":"COUNTIF(J66:AU66,\">=80\")","v":0},41,"INICIO SU CLASIFICACIÓN",null,null,null,{"$f":"VLOOKUP(B66,#REF!,3,FALSE)","v":{"$error":"#REF!"}}]
["C","A139","GONZALEZ ANA MARIA",null,null,null,null,null,null,null,null,null,null,null,null,null,null,null,null,null,null,null,null,null,40,null,null,null,null,null,null,null,null,null,null,null,null,"","","","",null,"","","","",null,{"$f":"COUNTIF(D67:AU67,\"<60\")","v":1},{"$f":"COUNT(D67:AU67)-AV67-AX67","v":0},{"$f":"COUNTIF(D67:AU67,\">=80\")","v":0},40,"INICIO SU CLASIFICACIÓN",null,null,null,{"$f":"VLOOKUP(B67,#REF!,3,FALSE)","v":{"$error":"#REF!"}}]
["C","A140","GONZALEZ GONZALEZ RENATO",null,null,null,null,null,null,null,null,null,null,null,null,40,40,null,null,null,null,null,null,40,null,null,null,null,44,null,null,null,null,null,null,null,null,"","","",47,86,"",82,"","",null,{"$f":"COUNTIF(D68:AU68,\"<60\")","v":5},{"$f":"COUNT(D68:AU68)-AV68-AX68","v":0},{"$f":"COUNTIF(D68:AU68,\">=80\")","v":2},379,"HABILITADO  TEMPORALMENTE A COMPETENCIAS FEI",null,null,null,{"$f":"VLOOKUP(B68,#REF!,3,FALSE)","v":{"$error":"#REF!"}}]
["C","A141","GONZALEZ JARAMILLO CRISTIAN HUMBERTO",null,null,null,null,null,null,null,null,null,null,null,null,60,null,null,null,null,null,60,60,null,null,null,null,null,null,null,null,null,null,null,null,null,null,null,"","","",null,"","","","",null,{"$f":"COUNTIF(D69:AU69,\"<60\")","v":0},{"$f":"COUNT(D69:AU69)-AV69-AX69","v":3},{"$f":"COUNTIF(D69:AU69,\">=80\")","v":0},180,"HABILITADO A 80KM VELOCIDAD CONTROLADA",null,null,null,{"$f":"VLOOKUP(B69,#REF!,3,FALSE)","v":{"$error":"#REF!"}}]
["C","C","GONZALEZ JERVES XIMENA",null,null,null,null,null,null,null,null,null,null,null,null,null,null,null,null,null,null,40,null,60,null,null,null,null,null,null,null,null,null,null,null,null,null,"","","","",null,"","","","",null,{"$f":"COUNTIF(D70:AU70,\"<60\")","v":1},{"$f":"COUNT(D70:AU70)-AV70-AX70","v":1},{"$f":"COUNTIF(D70:AU70,\">=80\")","v":0},100,"HABILITADO A 80KM VELOCIDAD CONTROLADA",null,null,null,{"$f":"VLOOKUP(B70,#REF!,3,FALSE)","v":{"$error":"#REF!"}}]
[null,"A072","GONZALEZ JOSE MIGUEL",null,null,null,null,null,null,null,null,null,null,null,null,null,null,null,null,null,null,null,null,40,"","","","",null,"",null,"",null,null,null,null,null,"","","","",null,"","","","",null,{"$f":"COUNTIF(J71:AU71,\"<60\")","v":1},{"$f":"COUNT(J71:AU71)-AV71-AX71","v":0},{"$f":"COUNTIF(J71:AU71,\">=80\")","v":0},{"$f":"SUM(D71:AU71)","v":40},{"$f":"IF(OR(AX71>2,AND(AX71>1,(AV71+AW71)>1)),\"HABILITADO  TEMPORALMENTE A COMPETENCIAS FEI\",IF(AND(AX71=1,(AV71+AW71)>1),\"LE FALTA UNA DE 80 A 90 CONTROLADA\",IF((AV71+AW71)>1,\"HABILITADO A 80KM VELOCIDAD CONTROLADA\",IF((AV71+AW71)>0,\"INICIO SU CLASIFICACIÓN\",\"NO INICIA SU CLASIFICACIÓN\"))))","v":"INICIO SU CLASIFICACIÓN"},{"$f":"+IF(AND(AY71>240,AX71>=1),\"CLASIFICADO A COMPETENCIAS FEI\",IF(AND(AY71>199,AX71>=1),\"LE FALTA UNA DE 40 Km\",IF(AND(AY71>179,AX71>=1),\"LE FALTA UNA DE 60 Km\",IF(AND(AY71>160),\"LE FALTA UNA DE 80 Km\",\"LE FALTA  \"&240-AY71&\"Km\"))))","v":"LE FALTA  200Km"},null,null,{"$f":"VLOOKUP(B71,#REF!,3,FALSE)","v":{"$error":"#REF!"}}]
["A164","A124","GONZÁLEZ JUAN SEBASTIÁN",null,null,null,null,null,null,null,null,null,null,null,null,null,60,null,null,63,null,null,null,null,80,"","","",null,"",44,"",null,null,null,null,42,84,47,"","",null,"","","","",null,{"$f":"COUNTIF(J72:AU72,\"<60\")","v":3},{"$f":"COUNT(J72:AU72)-AV72-AX72","v":2},{"$f":"COUNTIF(J72:AU72,\">=80\")","v":2},420,"HABILITADO  TEMPORALMENTE A COMPETENCIAS FEI",{"$f":"+IF(AND(AY72>240,AX72>=1),\"CLASIFICADO A COMPETENCIAS FEI\",IF(AND(AY72>199,AX72>=1),\"LE FALTA UNA DE 40 Km\",IF(AND(AY72>179,AX72>=1),\"LE FALTA UNA DE 60 Km\",IF(AND(AY72>160),\"LE FALTA UNA DE 80 Km\",\"LE FALTA  \"&240-AY72&\"Km\"))))","v":"CLASIFICADO A COMPETENCIAS FEI"},null,null,{"$f":"VLOOKUP(B72,#REF!,3,FALSE)","v":{"$error":"#REF!"}}]
["C","A142","GONZALEZ SEBASTIAN",null,null,null,null,null,null,null,null,null,null,null,null,null,null,null,null,null,null,null,null,null,null,null,null,null,null,null,null,null,null,null,null,null,null,null,null,"",43,null,"","","","",null,{"$f":"COUNTIF(D73:AU73,\"<60\")","v":1},{"$f":"COUNT(D73:AU73)-AV73-AX73","v":0},{"$f":"COUNTIF(D73:AU73,\">=80\")","v":0},43,"INICIO SU CLASIFICACIÓN",null,null,null,{"$f":"VLOOKUP(B73,#REF!,3,FALSE)","v":{"$error":"#REF!"}}]
[null,"A","GORDILLO BARAHONA LEONOR",null,null,null,null,null,null,null,null,null,null,null,"","","","","","","",null,null,null,"","","","",null,"",null,"",null,null,null,null,null,"","","","",null,"","","","",null,{"$f":"COUNTIF(J74:AU74,\"<60\")","v":0},{"$f":"COUNT(J74:AU74)-AV74-AX74","v":0},{"$f":"COUNTIF(J74:AU74,\">=80\")","v":0},0,"NO INICIA SU CLASIFICACIÓN",{"$f":"+IF(AND(AY74>240,AX74>=1),\"CLASIFICADO A COMPETENCIAS FEI\",IF(AND(AY74>199,AX74>=1),\"LE FALTA UNA DE 40 Km\",IF(AND(AY74>179,AX74>=1),\"LE FALTA UNA DE 60 Km\",IF(AND(AY74>160),\"LE FALTA UNA DE 80 Km\",\"LE FALTA  \"&240-AY74&\"Km\"))))","v":"LE FALTA  240Km"},null,null,{"$f":"VLOOKUP(B74,#REF!,3,FALSE)","v":{"$error":"#REF!"}}]
["A103","A","GORDILLO BARAHONA VARINIA",null,null,null,null,null,null,null,null,null,null,null,62,"","","","","","",null,null,null,"","","","",null,"",null,"",null,null,null,null,null,"","","","",null,"","","","",null,0,1,0,62,"INICIO SU CLASIFICACIÓN","LE FALTA  178Km",null,null,{"$f":"VLOOKUP(B75,#REF!,3,FALSE)","v":{"$error":"#REF!"}}]
["A061","A034","GUARDERAS ARTETA PEDRO JOSE",null,null,null,null,null,null,null,null,null,null,null,"",null,null,44,"","",44,null,null,null,"","","","",null,"",null,"",null,40,null,null,null,"","","","",null,"","","","",null,3,0,0,128,"HABILITADO A 80KM VELOCIDAD CONTROLADA","LE FALTA  112Km",null,null,{"$f":"VLOOKUP(B76,#REF!,3,FALSE)","v":{"$error":"#REF!"}}]
["A017","A051","GUARDERAS BARAHONA SEBASTIAN",null,null,null,null,null,null,81,80,66,null,83,81,62,87,65,62,84,81,null,null,null,"","","","",null,"",null,"",null,null,null,null,null,"","","","",null,"","","","",null,0,4,7,832,"HABILITADO  TEMPORALMENTE A COMPETENCIAS FEI","CLASIFICADO A COMPETENCIAS FEI",null,null,{"$f":"VLOOKUP(B77,#REF!,3,FALSE)","v":{"$error":"#REF!"}}]
["A049","A","HAYOUN ERAN ",null,null,null,null,null,null,null,null,null,null,null,"","","","","","","",null,null,null,"","","","",null,"",null,"",null,null,null,null,null,"","","","",null,"","","","",null,0,0,0,0,"NO INICIA SU CLASIFICACIÓN","LE FALTA  240Km",null,null,{"$f":"VLOOKUP(B78,#REF!,3,FALSE)","v":{"$error":"#REF!"}}]
["A062","A","HERRERA DIEGO",null,null,null,null,null,null,null,null,null,null,null,"",41,"",44,43,"","",null,null,null,"","","","",null,"",null,"",null,null,null,null,null,"","","","",null,"","","","",null,3,0,0,128,"HABILITADO A 80KM VELOCIDAD CONTROLADA","LE FALTA  112Km",null,null,{"$f":"VLOOKUP(B79,#REF!,3,FALSE)","v":{"$error":"#REF!"}}]
["M006","A010","HIDALGO GUSTAVO",null,null,null,null,null,null,null,null,null,null,null,null,null,null,null,null,"",null,null,null,null,null,null,null,null,null,null,null,null,null,null,null,null,42,43,"",43,43,null,"","","","",null,{"$f":"COUNTIF(D80:AU80,\"<60\")","v":4},{"$f":"COUNT(D80:AU80)-AV80-AX80","v":0},{"$f":"COUNTIF(D80:AU80,\">=80\")","v":0},171,"HABILITADO A 80KM VELOCIDAD CONTROLADA",null,null,null,{"$f":"VLOOKUP(B80,#REF!,3,FALSE)","v":{"$error":"#REF!"}}]
["A043","A068","HIDALGO MARIA JOSE ",null,null,null,null,null,null,null,null,null,null,null,"","","","","","","",null,60,null,"","",36,"",null,"",null,"",null,null,null,null,null,"","","","",null,"","","","",null,{"$f":"COUNTIF(J81:AU81,\"<60\")","v":1},{"$f":"COUNT(J81:AU81)-AV81-AX81","v":1},{"$f":"COUNTIF(J81:AU81,\">=80\")","v":0},96,"HABILITADO A 80KM VELOCIDAD CONTROLADA",null,null,null,{"$f":"VLOOKUP(B81,#REF!,3,FALSE)","v":{"$error":"#REF!"}}]
[null,"A071","HOLGUIN ENRIQUE",null,null,null,null,null,null,null,null,null,null,null,null,null,null,null,null,null,null,null,null,null,"","","","",null,"",null,"",null,null,null,null,null,"","","","",null,"","","","",null,0,0,0,0,"NO INICIA SU CLASIFICACIÓN",{"$f":"+IF(AND(AY82>240,AX82>=1),\"CLASIFICADO A COMPETENCIAS FEI\",IF(AND(AY82>199,AX82>=1),\"LE FALTA UNA DE 40 Km\",IF(AND(AY82>179,AX82>=1),\"LE FALTA UNA DE 60 Km\",IF(AND(AY82>160),\"LE FALTA UNA DE 80 Km\",\"LE FALTA  \"&240-AY82&\"Km\"))))","v":"LE FALTA  240Km"},null,null,{"$f":"VLOOKUP(B82,#REF!,3,FALSE)","v":{"$error":"#REF!"}}]
["A026","A132","JARA CHECA HUGO FERNANDO",null,null,null,null,null,null,null,40,null,null,null,44,41,"","","","","",null,null,null,"","",52,"",null,"",null,"",null,null,null,null,null,"","","","",null,"","","","",null,4,0,0,177,"HABILITADO A 80KM VELOCIDAD CONTROLADA",null,null,null,{"$f":"VLOOKUP(B83,#REF!,3,FALSE)","v":{"$error":"#REF!"}}]
[null,"A025","JARAMILLO BENITO",null,null,null,null,null,null,null,null,null,null,null,null,null,null,null,null,42,44,null,null,null,44,"","","",null,"",null,"",null,null,null,null,null,43,"","","",null,"","","","",null,4,0,0,173,"HABILITADO A 80KM VELOCIDAD CONTROLADA",{"$f":"+IF(AND(AY84>240,AX84>=1),\"CLASIFICADO A COMPETENCIAS FEI\",IF(AND(AY84>199,AX84>=1),\"LE FALTA UNA DE 40 Km\",IF(AND(AY84>179,AX84>=1),\"LE FALTA UNA DE 60 Km\",IF(AND(AY84>160),\"LE FALTA UNA DE 80 Km\",\"LE FALTA  \"&240-AY84&\"Km\"))))","v":"LE FALTA UNA DE 80 Km"},null,null,{"$f":"VLOOKUP(B84,#REF!,3,FALSE)","v":{"$error":"#REF!"}}]
[null,"A007","JIJON ANDRADE ALEGRÍA",null,null,null,null,null,null,null,null,null,null,null,null,null,null,null,null,null,"",null,null,null,"","","","",null,"",null,"",null,null,null,null,null,"","","","",null,"","","","",null,0,0,0,0,"NO INICIA SU CLASIFICACIÓN",{"$f":"+IF(AND(AY85>240,AX85>=1),\"CLASIFICADO A COMPETENCIAS FEI\",IF(AND(AY85>199,AX85>=1),\"LE FALTA UNA DE 40 Km\",IF(AND(AY85>179,AX85>=1),\"LE FALTA UNA DE 60 Km\",IF(AND(AY85>160),\"LE FALTA UNA DE 80 Km\",\"LE FALTA  \"&240-AY85&\"Km\"))))","v":"LE FALTA  240Km"},null,null,{"$f":"VLOOKUP(B85,#REF!,3,FALSE)","v":{"$error":"#REF!"}}]
["A042","A006","JIJON LETORT RODRIGO",null,null,null,null,null,null,null,null,null,null,null,"","",44,44,"","","",null,null,null,"","","","",null,"",null,"",null,null,null,null,null,"","","","",null,"","","","",null,2,0,0,88,"HABILITADO A 80KM VELOCIDAD CONTROLADA",{"$f":"+IF(AND(AY86>240,AX86>=1),\"CLASIFICADO A COMPETENCIAS FEI\",IF(AND(AY86>199,AX86>=1),\"LE FALTA UNA DE 40 Km\",IF(AND(AY86>179,AX86>=1),\"LE FALTA UNA DE 60 Km\",IF(AND(AY86>160),\"LE FALTA UNA DE 80 Km\",\"LE FALTA  \"&240-AY86&\"Km\"))))","v":"LE FALTA  152Km"},null,null,{"$f":"VLOOKUP(B86,#REF!,3,FALSE)","v":{"$error":"#REF!"}}]
["A064","A131","JIJON MARIA CLARA",null,null,null,null,null,null,null,null,null,null,null,"","",44,44,"","","",null,null,null,"","","","",null,"",null,"",null,null,null,null,null,"","","","",null,"","","","",null,2,0,0,88,"HABILITADO A 80KM VELOCIDAD CONTROLADA",null,null,null,{"$f":"VLOOKUP(B87,#REF!,3,FALSE)","v":{"$error":"#REF!"}}]
["A091","A","JIMENEZ BEGOÑA",null,null,null,null,null,null,null,null,null,null,null,"",null,null,44,"","","",null,null,null,"","","","",null,"",null,"",null,null,null,null,null,"","","","",null,"","","","",null,1,0,0,44,"INICIO SU CLASIFICACIÓN",{"$f":"+IF(AND(AY88>240,AX88>=1),\"CLASIFICADO A COMPETENCIAS FEI\",IF(AND(AY88>199,AX88>=1),\"LE FALTA UNA DE 40 Km\",IF(AND(AY88>179,AX88>=1),\"LE FALTA UNA DE 60 Km\",IF(AND(AY88>160),\"LE FALTA UNA DE 80 Km\",\"LE FALTA  \"&240-AY88&\"Km\"))))","v":"LE FALTA  196Km"},null,null,{"$f":"VLOOKUP(B88,#REF!,3,FALSE)","v":{"$error":"#REF!"}}]
["C","A159","JUNIOR PLUAS",null,null,null,null,null,null,null,null,null,null,null,null,null,null,null,null,null,null,null,null,null,null,null,null,null,null,null,null,null,null,null,null,null,null,"","","","",null,"","","","",null,{"$f":"COUNTIF(D89:AU89,\"<60\")","v":0},{"$f":"COUNT(D89:AU89)-AV89-AX89","v":0},{"$f":"COUNTIF(D89:AU89,\">=80\")","v":0},0,"NO INICIA SU CLASIFICACIÓN",null,null,null,{"$f":"VLOOKUP(B89,#REF!,3,FALSE)","v":{"$error":"#REF!"}}]
[null,"A081","KOPPEL OSWALDO",null,null,null,null,null,null,null,null,null,null,null,null,null,40,null,null,null,null,null,null,40,null,null,null,null,44,null,null,null,null,40,45,null,null,84,86,84,"",null,80,"","","",null,{"$f":"COUNTIF(D90:AU90,\"<60\")","v":5},{"$f":"COUNT(D90:AU90)-AV90-AX90","v":0},{"$f":"COUNTIF(D90:AU90,\">=80\")","v":4},543,"HABILITADO  TEMPORALMENTE A COMPETENCIAS FEI",null,null,null,{"$f":"VLOOKUP(B90,#REF!,3,FALSE)","v":{"$error":"#REF!"}}]
[null,"A112","KUZME EDISON",null,null,null,null,null,null,null,null,null,null,null,null,null,null,null,null,null,44,null,null,null,"","","","","","","","","","","","","","","","","",null,"","","","",null,{"$f":"COUNTIF(J91:AU91,\"<60\")","v":1},{"$f":"COUNT(J91:AU91)-AV91-AX91","v":0},{"$f":"COUNTIF(J91:AU91,\">=80\")","v":0},44,"INICIO SU CLASIFICACIÓN",{"$f":"+IF(AND(AY91>240,AX91>=1),\"CLASIFICADO A COMPETENCIAS FEI\",IF(AND(AY91>199,AX91>=1),\"LE FALTA UNA DE 40 Km\",IF(AND(AY91>179,AX91>=1),\"LE FALTA UNA DE 60 Km\",IF(AND(AY91>160),\"LE FALTA UNA DE 80 Km\",\"LE FALTA  \"&240-AY91&\"Km\"))))","v":"LE FALTA  196Km"},null,null,{"$f":"VLOOKUP(B91,#REF!,3,FALSE)","v":{"$error":"#REF!"}}]
["A023","A113","LANDAZURI MORA LUIS ENRIQUE",null,null,null,null,null,null,81,80,88,null,83,81,82,"","","",63,44,null,null,null,"","","","",null,"",null,"",null,null,null,null,null,"","","","",null,"","","","",null,{"$f":"COUNTIF(J92:AU92,\"<60\")","v":1},{"$f":"COUNT(J92:AU92)-AV92-AX92","v":1},{"$f":"COUNTIF(J92:AU92,\">=80\")","v":6},602,"HABILITADO  TEMPORALMENTE A COMPETENCIAS FEI",{"$f":"+IF(AND(AY92>240,AX92>=1),\"CLASIFICADO A COMPETENCIAS FEI\",IF(AND(AY92>199,AX92>=1),\"LE FALTA UNA DE 40 Km\",IF(AND(AY92>179,AX92>=1),\"LE FALTA UNA DE 60 Km\",IF(AND(AY92>160),\"LE FALTA UNA DE 80 Km\",\"LE FALTA  \"&240-AY92&\"Km\"))))","v":"CLASIFICADO A COMPETENCIAS FEI"},null,null,{"$f":"VLOOKUP(B92,#REF!,3,FALSE)","v":{"$error":"#REF!"}}]
["A111","A","LANDAZURI WITT LUIS",null,null,null,null,null,null,null,null,null,null,null,"","","","","","","",null,null,null,"","","","",null,"",null,"",null,null,null,null,null,"","","","",null,"","","","",null,{"$f":"COUNTIF(J93:AU93,\"<60\")","v":0},{"$f":"COUNT(J93:AU93)-AV93-AX93","v":0},{"$f":"COUNTIF(J93:AU93,\">=80\")","v":0},0,"NO INICIA SU CLASIFICACIÓN",{"$f":"+IF(AND(AY93>240,AX93>=1),\"CLASIFICADO A COMPETENCIAS FEI\",IF(AND(AY93>199,AX93>=1),\"LE FALTA UNA DE 40 Km\",IF(AND(AY93>179,AX93>=1),\"LE FALTA UNA DE 60 Km\",IF(AND(AY93>160),\"LE FALTA UNA DE 80 Km\",\"LE FALTA  \"&240-AY93&\"Km\"))))","v":"LE FALTA  240Km"},null,null,{"$f":"VLOOKUP(B93,#REF!,3,FALSE)","v":{"$error":"#REF!"}}]
["C","C","LANDIVAR ALEXANDRA",null,null,null,null,null,null,null,null,null,null,null,null,null,null,null,null,null,null,null,null,null,null,null,null,null,null,null,null,null,null,null,null,null,null,"","","","",null,"","","","",null,{"$f":"COUNTIF(D94:AU94,\"<60\")","v":0},{"$f":"COUNT(D94:AU94)-AV94-AX94","v":0},{"$f":"COUNTIF(D94:AU94,\">=80\")","v":0},0,"NO INICIA SU CLASIFICACIÓN",null,null,null,{"$f":"VLOOKUP(B94,#REF!,3,FALSE)","v":{"$error":"#REF!"}}]
[null,"A","LARA LAUREANO",null,null,null,null,null,null,null,null,null,null,null,"","","","","","","",null,null,null,"","","","",null,"",null,"",null,null,null,null,null,"","","","",null,"","","","",null,{"$f":"COUNTIF(J95:AU95,\"<60\")","v":0},{"$f":"COUNT(J95:AU95)-AV95-AX95","v":0},{"$f":"COUNTIF(J95:AU95,\">=80\")","v":0},0,"NO INICIA SU CLASIFICACIÓN",{"$f":"+IF(AND(AY95>240,AX95>=1),\"CLASIFICADO A COMPETENCIAS FEI\",IF(AND(AY95>199,AX95>=1),\"LE FALTA UNA DE 40 Km\",IF(AND(AY95>179,AX95>=1),\"LE FALTA UNA DE 60 Km\",IF(AND(AY95>160),\"LE FALTA UNA DE 80 Km\",\"LE FALTA  \"&240-AY95&\"Km\"))))","v":"LE FALTA  240Km"},null,null,{"$f":"VLOOKUP(B95,#REF!,3,FALSE)","v":{"$error":"#REF!"}}]
["A145","A","LARREA BYRON",null,null,null,null,null,null,null,null,null,null,null,"",41,"","","","","",null,null,null,"","","","",null,"",null,"",null,null,null,null,null,"","","","",null,"","","","",null,{"$f":"COUNTIF(J96:AU96,\"<60\")","v":1},{"$f":"COUNT(J96:AU96)-AV96-AX96","v":0},{"$f":"COUNTIF(J96:AU96,\">=80\")","v":0},41,"INICIO SU CLASIFICACIÓN",{"$f":"+IF(AND(AY96>240,AX96>=1),\"CLASIFICADO A COMPETENCIAS FEI\",IF(AND(AY96>199,AX96>=1),\"LE FALTA UNA DE 40 Km\",IF(AND(AY96>179,AX96>=1),\"LE FALTA UNA DE 60 Km\",IF(AND(AY96>160),\"LE FALTA UNA DE 80 Km\",\"LE FALTA  \"&240-AY96&\"Km\"))))","v":"LE FALTA  199Km"},null,null,{"$f":"VLOOKUP(B96,#REF!,3,FALSE)","v":{"$error":"#REF!"}}]
["C","A174","LARRIVA LOYOLA CAROLINA",null,null,null,null,null,null,null,null,null,null,null,null,null,null,null,null,null,null,80,null,null,null,null,null,null,null,null,null,null,null,null,null,null,null,"","","","",null,"","","","",null,{"$f":"COUNTIF(D97:AU97,\"<60\")","v":0},{"$f":"COUNT(D97:AU97)-AV97-AX97","v":0},{"$f":"COUNTIF(D97:AU97,\">=80\")","v":1},80,"NO INICIA SU CLASIFICACIÓN",null,null,null,{"$f":"VLOOKUP(B97,#REF!,3,FALSE)","v":{"$error":"#REF!"}}]
["C","C","LARRIVA LOYOLA JAIME ALEJANDRO",null,null,null,null,null,null,null,null,null,null,null,null,null,null,null,null,null,null,null,null,null,null,null,null,null,null,null,null,null,null,null,null,null,null,"","","","",null,"","","","",null,{"$f":"COUNTIF(D98:AU98,\"<60\")","v":0},{"$f":"COUNT(D98:AU98)-AV98-AX98","v":0},{"$f":"COUNTIF(D98:AU98,\">=80\")","v":0},0,"NO INICIA SU CLASIFICACIÓN",null,null,null,{"$f":"VLOOKUP(B98,#REF!,3,FALSE)","v":{"$error":"#REF!"}}]
["A045","A038","LEON CESAR IGNACIO",null,null,null,null,null,null,null,null,null,null,null,"","","","","","","",null,null,null,"","","","",null,"",null,"",null,null,null,null,null,"","","","",null,"","","","",null,{"$f":"COUNTIF(J99:AU99,\"<60\")","v":0},{"$f":"COUNT(J99:AU99)-AV99-AX99","v":0},{"$f":"COUNTIF(J99:AU99,\">=80\")","v":0},0,"NO INICIA SU CLASIFICACIÓN",{"$f":"+IF(AND(AY99>240,AX99>=1),\"CLASIFICADO A COMPETENCIAS FEI\",IF(AND(AY99>199,AX99>=1),\"LE FALTA UNA DE 40 Km\",IF(AND(AY99>179,AX99>=1),\"LE FALTA UNA DE 60 Km\",IF(AND(AY99>160),\"LE FALTA UNA DE 80 Km\",\"LE FALTA  \"&240-AY99&\"Km\"))))","v":"LE FALTA  240Km"},null,null,{"$f":"VLOOKUP(B99,#REF!,3,FALSE)","v":{"$error":"#REF!"}}]
["A114","A","LEON FERNANDO IVAN ",null,null,null,null,null,null,null,null,null,null,null,"","","","","","","",null,null,null,"","","","",null,"",null,"",null,null,null,null,null,"","","","",null,"","","","",null,0,0,0,0,"NO INICIA SU CLASIFICACIÓN","LE FALTA  240Km",null,null,{"$f":"VLOOKUP(B100,#REF!,3,FALSE)","v":{"$error":"#REF!"}}]
["A044","A","LEON IGNACIO",null,null,null,null,null,null,null,null,null,null,null,"","","","","","","",null,null,null,"","","","",null,"",null,"",null,null,null,null,null,"","","","",null,"","","","",null,0,0,0,0,"NO INICIA SU CLASIFICACIÓN","LE FALTA  240Km",null,null,{"$f":"VLOOKUP(B101,#REF!,3,FALSE)","v":{"$error":"#REF!"}}]
["A024","A","LEPPERT MICHELLE",null,null,null,null,null,null,null,40,null,null,null,"","","","","","","",null,null,null,"","","","",null,"",null,"",null,null,null,null,null,"","","","",null,"","","","",null,1,0,0,40,"INICIO SU CLASIFICACIÓN","LE FALTA  200Km",null,null,{"$f":"VLOOKUP(B102,#REF!,3,FALSE)","v":{"$error":"#REF!"}}]
["A092","A","LETORT EDUARDO",null,null,null,null,null,null,null,null,null,null,null,"","","",44,"","","",null,null,null,"","","","",null,"",null,"",null,null,null,null,null,"","","","",null,"","","","",null,1,0,0,44,"INICIO SU CLASIFICACIÓN","LE FALTA  196Km",null,null,{"$f":"VLOOKUP(B103,#REF!,3,FALSE)","v":{"$error":"#REF!"}}]
["A110","A026","LETORT MENA JOSÉ",null,null,null,null,null,null,null,null,null,null,null,"",41,"","","","",44,null,null,null,44,62,"",80,null,"",null,"",null,null,null,90,null,"","","","",null,"","","",42,null,4,1,2,403,"HABILITADO  TEMPORALMENTE A COMPETENCIAS FEI","CLASIFICADO A COMPETENCIAS FEI",null,null,{"$f":"VLOOKUP(B104,#REF!,3,FALSE)","v":{"$error":"#REF!"}}]
["A071","A","LLANEZ CRISTIAN DANIEL",null,null,null,null,null,null,null,null,null,null,null,"","","","","","","",null,null,null,"","","","",null,"",null,"",null,null,null,null,null,"","","","",null,"","","","",null,0,0,0,0,"NO INICIA SU CLASIFICACIÓN","LE FALTA  240Km",null,null,{"$f":"VLOOKUP(B105,#REF!,3,FALSE)","v":{"$error":"#REF!"}}]
[null,"A","LÓPEZ JUAN DIEGO",null,null,null,null,null,null,null,null,null,null,null,"","","","","","","",null,null,null,"","","","",null,"",null,"",null,null,null,null,null,"","","","",null,"","","","",null,0,0,0,0,"NO INICIA SU CLASIFICACIÓN","LE FALTA  240Km",null,null,{"$f":"VLOOKUP(B106,#REF!,3,FALSE)","v":{"$error":"#REF!"}}]
[null,"A190","LOZADA ARMANDO",null,null,null,null,null,null,null,null,null,null,null,null,null,null,null,null,null,null,null,null,null,null,null,null,null,null,null,null,null,null,null,null,null,null,null,null,null,"",47,"","",42,"",null,{"$f":"COUNTIF(D107:AU107,\"<60\")","v":2},{"$f":"COUNT(D107:AU107)-AV107-AX107","v":0},{"$f":"COUNTIF(D107:AU107,\">=80\")","v":0},89,"HABILITADO A 80KM VELOCIDAD CONTROLADA",null,null,null,{"$f":"VLOOKUP(B107,#REF!,3,FALSE)","v":{"$error":"#REF!"}}]
["C","A143","LUGMAÑA JUAN CARLOS",null,null,null,null,null,null,null,null,null,null,null,null,null,null,null,null,null,null,null,null,null,null,null,null,null,null,null,null,null,null,null,null,null,null,"","","","",null,"","","","",null,{"$f":"COUNTIF(D108:AU108,\"<60\")","v":0},{"$f":"COUNT(D108:AU108)-AV108-AX108","v":0},{"$f":"COUNTIF(D108:AU108,\">=80\")","v":0},0,"NO INICIA SU CLASIFICACIÓN",null,null,null,{"$f":"VLOOKUP(B108,#REF!,3,FALSE)","v":{"$error":"#REF!"}}]
["A134","A020","LUNA ARMANDO",null,null,null,null,null,null,null,null,null,null,null,"",null,null,null,"","","",null,null,null,"","","","",null,"",null,"",null,null,null,null,null,"","","","",null,"","","","",null,{"$f":"COUNTIF(J109:AU109,\"<60\")","v":0},{"$f":"COUNT(J109:AU109)-AV109-AX109","v":0},{"$f":"COUNTIF(J109:AU109,\">=80\")","v":0},0,"NO INICIA SU CLASIFICACIÓN",{"$f":"+IF(AND(AY109>240,AX109>=1),\"CLASIFICADO A COMPETENCIAS FEI\",IF(AND(AY109>199,AX109>=1),\"LE FALTA UNA DE 40 Km\",IF(AND(AY109>179,AX109>=1),\"LE FALTA UNA DE 60 Km\",IF(AND(AY109>160),\"LE FALTA UNA DE 80 Km\",\"LE FALTA  \"&240-AY109&\"Km\"))))","v":"LE FALTA  240Km"},null,null,{"$f":"VLOOKUP(B109,#REF!,3,FALSE)","v":{"$error":"#REF!"}}]
["A012","A005","MALDONADO JOSE",null,null,null,null,null,null,null,null,null,null,null,"","","","","","","",null,44,null,44,"",52,"",null,"",null,"",null,40,null,null,null,"","","","",null,"","","","",null,{"$f":"COUNTIF(J110:AU110,\"<60\")","v":4},{"$f":"COUNT(J110:AU110)-AV110-AX110","v":0},{"$f":"COUNTIF(J110:AU110,\">=80\")","v":0},180,"HABILITADO A 80KM VELOCIDAD CONTROLADA",{"$f":"+IF(AND(AY110>240,AX110>=1),\"CLASIFICADO A COMPETENCIAS FEI\",IF(AND(AY110>199,AX110>=1),\"LE FALTA UNA DE 40 Km\",IF(AND(AY110>179,AX110>=1),\"LE FALTA UNA DE 60 Km\",IF(AND(AY110>160),\"LE FALTA UNA DE 80 Km\",\"LE FALTA  \"&240-AY110&\"Km\"))))","v":"LE FALTA UNA DE 80 Km"},null,null,{"$f":"VLOOKUP(B110,#REF!,3,FALSE)","v":{"$error":"#REF!"}}]
["C","A144","MALO ANDREA",null,null,null,null,null,null,null,null,null,null,null,40,null,null,null,null,null,null,null,60,null,null,null,null,null,null,null,null,null,null,null,null,null,null,"","","","",null,"","","","",null,{"$f":"COUNTIF(D111:AU111,\"<60\")","v":1},{"$f":"COUNT(D111:AU111)-AV111-AX111","v":1},{"$f":"COUNTIF(D111:AU111,\">=80\")","v":0},100,"HABILITADO A 80KM VELOCIDAD CONTROLADA",null,null,null,{"$f":"VLOOKUP(B111,#REF!,3,FALSE)","v":{"$error":"#REF!"}}]
[null,"A014","MALO DIANA",null,null,null,null,null,null,null,null,null,null,null,null,null,null,null,null,null,null,null,null,null,null,null,null,null,null,null,null,null,null,null,null,null,null,null,null,null,null,null,null,42,60,90,null,{"$f":"COUNTIF(J112:AU112,\"<60\")","v":1},{"$f":"COUNT(J112:AU112)-AV112-AX112","v":1},{"$f":"COUNTIF(J112:AU112,\">=80\")","v":1},192,"LE FALTA UNA DE 80 A 90 CONTROLADA",{"$f":"+IF(AND(AY112>240,AX112>=1),\"CLASIFICADO A COMPETENCIAS FEI\",IF(AND(AY112>199,AX112>=1),\"LE FALTA UNA DE 40 Km\",IF(AND(AY112>179,AX112>=1),\"LE FALTA UNA DE 60 Km\",IF(AND(AY112>160),\"LE FALTA UNA DE 80 Km\",\"LE FALTA  \"&240-AY112&\"Km\"))))","v":"LE FALTA UNA DE 60 Km"},null,null,{"$f":"VLOOKUP(B112,#REF!,3,FALSE)","v":{"$error":"#REF!"}}]
["C","A145","MALO GELLIBERT ANDREA NATALY",null,null,null,null,null,null,null,null,null,null,null,null,null,null,null,null,null,null,40,null,60,60,null,null,null,58,null,null,null,null,null,null,null,null,"","","",47,63,"","","","",null,{"$f":"COUNTIF(D113:AU113,\"<60\")","v":3},{"$f":"COUNT(D113:AU113)-AV113-AX113","v":3},{"$f":"COUNTIF(D113:AU113,\">=80\")","v":0},328,"HABILITADO A 80KM VELOCIDAD CONTROLADA",null,null,null,{"$f":"VLOOKUP(B113,#REF!,3,FALSE)","v":{"$error":"#REF!"}}]
[null,"A130","MALO JAIME",null,null,null,null,null,null,null,null,null,null,null,null,null,null,null,null,null,null,null,null,null,null,null,null,null,44,null,null,null,null,40,null,null,42,null,"","","",null,"",82,82,"",null,{"$f":"COUNTIF(D114:AU114,\"<60\")","v":3},{"$f":"COUNT(D114:AU114)-AV114-AX114","v":0},{"$f":"COUNTIF(D114:AU114,\">=80\")","v":2},290,"HABILITADO  TEMPORALMENTE A COMPETENCIAS FEI",null,null,null,{"$f":"VLOOKUP(B114,#REF!,3,FALSE)","v":{"$error":"#REF!"}}]
["C","A146","MALO MARIBEL",null,null,null,null,null,null,null,null,null,null,null,null,null,null,null,null,null,null,40,null,null,40,null,null,null,null,null,null,null,null,null,null,null,null,"","","","",null,"","","","",null,{"$f":"COUNTIF(D115:AU115,\"<60\")","v":2},{"$f":"COUNT(D115:AU115)-AV115-AX115","v":0},{"$f":"COUNTIF(D115:AU115,\">=80\")","v":0},80,"HABILITADO A 80KM VELOCIDAD CONTROLADA",null,null,null,{"$f":"VLOOKUP(B115,#REF!,3,FALSE)","v":{"$error":"#REF!"}}]
["C","A118","MALO SEBASTIAN",null,null,null,null,null,null,null,null,null,null,null,null,null,null,null,null,null,null,null,null,null,null,null,null,null,44,null,63,null,null,40,68,null,82,"","","","",null,"","","","",null,{"$f":"COUNTIF(D116:AU116,\"<60\")","v":2},{"$f":"COUNT(D116:AU116)-AV116-AX116","v":2},{"$f":"COUNTIF(D116:AU116,\">=80\")","v":1},297,"LE FALTA UNA DE 80 A 90 CONTROLADA",null,null,null,{"$f":"VLOOKUP(B116,#REF!,3,FALSE)","v":{"$error":"#REF!"}}]
["C","C","MALO TORAL SANTIAGO",null,null,null,null,null,null,null,null,null,null,null,null,null,null,null,null,null,null,null,null,null,null,null,null,null,null,null,null,null,null,null,null,null,null,"","","","",null,"","","","",null,{"$f":"COUNTIF(D117:AU117,\"<60\")","v":0},{"$f":"COUNT(D117:AU117)-AV117-AX117","v":0},{"$f":"COUNTIF(D117:AU117,\">=80\")","v":0},0,"NO INICIA SU CLASIFICACIÓN",null,null,null,{"$f":"VLOOKUP(B117,#REF!,3,FALSE)","v":{"$error":"#REF!"}}]
[null,"A200","MANCHENO GALO PATRICIO",null,null,null,null,null,null,null,null,null,null,null,null,null,null,null,null,null,null,null,null,null,null,null,null,null,null,null,null,null,null,null,null,null,null,null,null,null,null,null,null,null,null,42,null,{"$f":"COUNTIF(J118:AU118,\"<60\")","v":1},{"$f":"COUNT(J118:AU118)-AV118-AX118","v":0},{"$f":"COUNTIF(J118:AU118,\">=80\")","v":0},42,"INICIO SU CLASIFICACIÓN",{"$f":"+IF(AND(AY118>240,AX118>=1),\"CLASIFICADO A COMPETENCIAS FEI\",IF(AND(AY118>199,AX118>=1),\"LE FALTA UNA DE 40 Km\",IF(AND(AY118>179,AX118>=1),\"LE FALTA UNA DE 60 Km\",IF(AND(AY118>160),\"LE FALTA UNA DE 80 Km\",\"LE FALTA  \"&240-AY118&\"Km\"))))","v":"LE FALTA  198Km"},null,null,{"$f":"VLOOKUP(B118,#REF!,3,FALSE)","v":{"$error":"#REF!"}}]
["A041","A053","MARCEL ROBERTO",null,null,null,null,null,null,null,null,null,null,62,"",41,"",87,80,"",81,null,81,null,"","","","",null,"",null,"",null,null,null,null,null,"","","","",null,"","","","",null,1,1,4,432,"HABILITADO  TEMPORALMENTE A COMPETENCIAS FEI",{"$f":"+IF(AND(AY119>240,AX119>=1),\"CLASIFICADO A COMPETENCIAS FEI\",IF(AND(AY119>199,AX119>=1),\"LE FALTA UNA DE 40 Km\",IF(AND(AY119>179,AX119>=1),\"LE FALTA UNA DE 60 Km\",IF(AND(AY119>160),\"LE FALTA UNA DE 80 Km\",\"LE FALTA  \"&240-AY119&\"Km\"))))","v":"CLASIFICADO A COMPETENCIAS FEI"},null,null,{"$f":"VLOOKUP(B119,#REF!,3,FALSE)","v":{"$error":"#REF!"}}]
[null,"A","MARTÍNEZ EDWIN GABRIEL",null,null,null,null,null,null,null,null,null,null,null,"","","","","","","",null,null,null,"","","","",null,"",null,"",null,null,null,null,null,"","","","",null,"","","","",null,0,0,0,0,"NO INICIA SU CLASIFICACIÓN",{"$f":"+IF(AND(AY120>240,AX120>=1),\"CLASIFICADO A COMPETENCIAS FEI\",IF(AND(AY120>199,AX120>=1),\"LE FALTA UNA DE 40 Km\",IF(AND(AY120>179,AX120>=1),\"LE FALTA UNA DE 60 Km\",IF(AND(AY120>160),\"LE FALTA UNA DE 80 Km\",\"LE FALTA  \"&240-AY120&\"Km\"))))","v":"LE FALTA  240Km"},null,null,{"$f":"VLOOKUP(B120,#REF!,3,FALSE)","v":{"$error":"#REF!"}}]
["A116","A","MARTÍNEZ JOSÉ ELOY",null,null,null,null,null,null,null,null,null,null,null,"","","","","","","",null,null,null,"","","","",null,"",null,"",null,null,null,null,null,"","","","",null,"","","","",null,0,0,0,0,"NO INICIA SU CLASIFICACIÓN",{"$f":"+IF(AND(AY121>240,AX121>=1),\"CLASIFICADO A COMPETENCIAS FEI\",IF(AND(AY121>199,AX121>=1),\"LE FALTA UNA DE 40 Km\",IF(AND(AY121>179,AX121>=1),\"LE FALTA UNA DE 60 Km\",IF(AND(AY121>160),\"LE FALTA UNA DE 80 Km\",\"LE FALTA  \"&240-AY121&\"Km\"))))","v":"LE FALTA  240Km"},null,null,{"$f":"VLOOKUP(B121,#REF!,3,FALSE)","v":{"$error":"#REF!"}}]
[null,"A","MARTINEZ PAOLA ",null,null,null,null,null,null,null,null,null,null,null,"","","","","","","",null,null,null,"","","","",null,"",null,"",null,null,null,null,null,"","","","",null,"","","","",null,0,0,0,0,"NO INICIA SU CLASIFICACIÓN",null,null,null,{"$f":"VLOOKUP(B122,#REF!,3,FALSE)","v":{"$error":"#REF!"}}]
[null,"A","MEJIA MIGUEL",null,null,null,null,null,null,null,null,null,null,null,"","","","","","","",null,null,null,"","","","",null,"",null,"",null,null,null,null,null,"","","","",null,"","","","",null,0,0,0,0,"NO INICIA SU CLASIFICACIÓN",{"$f":"+IF(AND(AY123>240,AX123>=1),\"CLASIFICADO A COMPETENCIAS FEI\",IF(AND(AY123>199,AX123>=1),\"LE FALTA UNA DE 40 Km\",IF(AND(AY123>179,AX123>=1),\"LE FALTA UNA DE 60 Km\",IF(AND(AY123>160),\"LE FALTA UNA DE 80 Km\",\"LE FALTA  \"&240-AY123&\"Km\"))))","v":"LE FALTA  240Km"},null,null,{"$f":"VLOOKUP(B123,#REF!,3,FALSE)","v":{"$error":"#REF!"}}]
[null,"A065","MENESES FELIPE",null,null,null,null,null,null,null,null,null,null,null,null,null,null,null,null,null,"",null,null,null,"","","","",null,"",null,"",null,null,null,42,null,"","","","",null,"","","","",null,1,0,0,42,"INICIO SU CLASIFICACIÓN",{"$f":"+IF(AND(AY124>240,AX124>=1),\"CLASIFICADO A COMPETENCIAS FEI\",IF(AND(AY124>199,AX124>=1),\"LE FALTA UNA DE 40 Km\",IF(AND(AY124>179,AX124>=1),\"LE FALTA UNA DE 60 Km\",IF(AND(AY124>160),\"LE FALTA UNA DE 80 Km\",\"LE FALTA  \"&240-AY124&\"Km\"))))","v":"LE FALTA  198Km"},null,null,{"$f":"VLOOKUP(B124,#REF!,3,FALSE)","v":{"$error":"#REF!"}}]
["C","C","MERISALDE  SANTIAGO",null,null,null,null,null,null,null,null,null,null,null,null,null,null,null,null,null,null,null,null,null,null,null,null,null,null,null,null,null,null,null,null,null,null,"","","","",null,"","","","",null,0,0,0,0,"NO INICIA SU CLASIFICACIÓN",{"$f":"+IF(AND(AY125>240,AX125>=1),\"CLASIFICADO A COMPETENCIAS FEI\",IF(AND(AY125>199,AX125>=1),\"LE FALTA UNA DE 40 Km\",IF(AND(AY125>179,AX125>=1),\"LE FALTA UNA DE 60 Km\",IF(AND(AY125>160),\"LE FALTA UNA DE 80 Km\",\"LE FALTA  \"&240-AY125&\"Km\"))))","v":"LE FALTA  240Km"},null,null,{"$f":"VLOOKUP(B125,#REF!,3,FALSE)","v":{"$error":"#REF!"}}]
["C","C","MERIZALDE ANGELA",null,null,null,null,null,null,null,null,null,null,null,null,null,null,null,null,null,null,null,null,null,null,null,null,null,44,null,null,null,null,null,null,null,null,null,null,null,"",null,"","","","",null,1,0,0,44,"INICIO SU CLASIFICACIÓN",{"$f":"+IF(AND(AY126>240,AX126>=1),\"CLASIFICADO A COMPETENCIAS FEI\",IF(AND(AY126>199,AX126>=1),\"LE FALTA UNA DE 40 Km\",IF(AND(AY126>179,AX126>=1),\"LE FALTA UNA DE 60 Km\",IF(AND(AY126>160),\"LE FALTA UNA DE 80 Km\",\"LE FALTA  \"&240-AY126&\"Km\"))))","v":"LE FALTA  196Km"},null,null,{"$f":"VLOOKUP(B126,#REF!,3,FALSE)","v":{"$error":"#REF!"}}]
["A117","A061","MIÑO BENALCAZAR ROBERTO",null,null,null,null,null,null,null,null,88,null,83,81,"","","",43,"","",60,null,null,"","","","",null,"",null,"",null,null,null,null,null,"","","","",null,"","","","",null,1,1,3,355,"HABILITADO  TEMPORALMENTE A COMPETENCIAS FEI",{"$f":"+IF(AND(AY127>240,AX127>=1),\"CLASIFICADO A COMPETENCIAS FEI\",IF(AND(AY127>199,AX127>=1),\"LE FALTA UNA DE 40 Km\",IF(AND(AY127>179,AX127>=1),\"LE FALTA UNA DE 60 Km\",IF(AND(AY127>160),\"LE FALTA UNA DE 80 Km\",\"LE FALTA  \"&240-AY127&\"Km\"))))","v":"CLASIFICADO A COMPETENCIAS FEI"},null,null,{"$f":"VLOOKUP(B127,#REF!,3,FALSE)","v":{"$error":"#REF!"}}]
["J012","A","MOLESTINA NICOLAS",null,null,null,null,null,null,null,null,null,null,null,"","","","","","","",null,null,null,"","","","",null,"",null,"",null,null,null,null,null,"","","","",null,"","","","",null,0,0,0,0,"NO INICIA SU CLASIFICACIÓN",null,null,null,{"$f":"VLOOKUP(B128,#REF!,3,FALSE)","v":{"$error":"#REF!"}}]
[null,"A030","MONCAYO DANILO",null,null,null,null,null,null,null,null,null,null,null,null,null,null,null,null,null,44,null,null,null,"","","","",null,"",null,"",null,null,null,null,null,"","","","",null,"","","","",null,1,0,0,44,"INICIO SU CLASIFICACIÓN",{"$f":"+IF(AND(AY129>240,AX129>=1),\"CLASIFICADO A COMPETENCIAS FEI\",IF(AND(AY129>199,AX129>=1),\"LE FALTA UNA DE 40 Km\",IF(AND(AY129>179,AX129>=1),\"LE FALTA UNA DE 60 Km\",IF(AND(AY129>160),\"LE FALTA UNA DE 80 Km\",\"LE FALTA  \"&240-AY129&\"Km\"))))","v":"LE FALTA  196Km"},null,null,{"$f":"VLOOKUP(B129,#REF!,3,FALSE)","v":{"$error":"#REF!"}}]
[null,"A032","MONCAYO JOSÉ MARTÍN",null,null,null,null,null,null,null,null,null,null,null,null,null,null,null,null,null,44,null,null,null,"","","","",null,"",null,"",null,null,null,null,null,"","","","",null,"","","","",null,1,0,0,44,"INICIO SU CLASIFICACIÓN","LE FALTA  196Km",null,null,{"$f":"VLOOKUP(B130,#REF!,3,FALSE)","v":{"$error":"#REF!"}}]
["A119","A068","MONROY BAROJA MARIA FERNANDA",null,null,null,null,null,null,81,null,null,80,83,62,"","",65,"","","",null,null,null,"",90,"","",null,"",null,81,null,null,null,null,null,"","","","",null,"","","","",null,0,2,5,542,"HABILITADO  TEMPORALMENTE A COMPETENCIAS FEI","CLASIFICADO A COMPETENCIAS FEI",null,null,{"$f":"VLOOKUP(B131,#REF!,3,FALSE)","v":{"$error":"#REF!"}}]
["A113","A066","MONROY BUITRON LUIS EDUARDO",null,null,null,null,40,40,null,null,null,null,null,"","","","","",63,null,null,81,null,"",62,"","",null,82,null,"",null,null,null,90,82,"","","","",null,"","","","",null,0,2,4,540,"HABILITADO  TEMPORALMENTE A COMPETENCIAS FEI","CLASIFICADO A COMPETENCIAS FEI",null,null,{"$f":"VLOOKUP(B132,#REF!,3,FALSE)","v":{"$error":"#REF!"}}]
["A021","A045","MORABOWEN CESAR",null,null,null,null,null,null,null,null,null,null,null,62,82,87,"",43,"","",null,null,null,"","","","",null,null,null,"",null,null,null,null,null,43,"",43,"",null,80,82,82,90,null,3,1,6,694,"HABILITADO  TEMPORALMENTE A COMPETENCIAS FEI","CLASIFICADO A COMPETENCIAS FEI",null,null,{"$f":"VLOOKUP(B133,#REF!,3,FALSE)","v":{"$error":"#REF!"}}]
[null,"A165","MORALES ANDRES",null,null,null,null,null,null,null,null,null,null,null,null,null,null,null,null,null,null,null,null,null,null,null,null,null,null,null,null,null,null,null,null,null,null,43,"","",43,null,40,"","","",null,3,0,0,126,"HABILITADO A 80KM VELOCIDAD CONTROLADA","LE FALTA  114Km",null,null,{"$f":"VLOOKUP(B134,#REF!,3,FALSE)","v":{"$error":"#REF!"}}]
["A033","A084","MORENO ANA MARIA",null,null,null,null,null,null,null,null,null,null,null,"","","","","","","",null,null,null,44,62,"","",null,"",null,"",null,null,null,null,null,"","","","",null,"","","","",null,1,1,0,{"$f":"SUM(D135:AU135)","v":106},{"$f":"IF(OR(AX135>2,AND(AX135>1,(AV135+AW135)>1)),\"HABILITADO  TEMPORALMENTE A COMPETENCIAS FEI\",IF(AND(AX135=1,(AV135+AW135)>1),\"LE FALTA UNA DE 80 A 90 CONTROLADA\",IF((AV135+AW135)>1,\"HABILITADO A 80KM VELOCIDAD CONTROLADA\",IF((AV135+AW135)>0,\"INICIO SU CLASIFICACIÓN\",\"NO INICIA SU CLASIFICACIÓN\"))))","v":"HABILITADO A 80KM VELOCIDAD CONTROLADA"},"LE FALTA  134Km",null,null,{"$f":"VLOOKUP(B135,#REF!,3,FALSE)","v":{"$error":"#REF!"}}]
["I018","A069","MORENO ANDRES",null,null,null,null,null,null,null,null,null,null,null,"",null,null,null,62,"","",null,81,null,"","","",48,null,"",null,"",null,null,null,null,null,"","","","",null,"","","","",null,1,1,1,191,"LE FALTA UNA DE 80 A 90 CONTROLADA","LE FALTA UNA DE 60 Km",null,null,{"$f":"VLOOKUP(B136,#REF!,3,FALSE)","v":{"$error":"#REF!"}}]
[null,"A","MORENO CORDOVEZ ANDRES",null,null,null,null,null,null,null,null,null,null,null,"","","","","","","",null,null,null,"","","","",null,"",null,"",null,null,null,null,null,"","","","",null,"","","","",null,0,0,0,0,"NO INICIA SU CLASIFICACIÓN","LE FALTA  240Km",null,null,{"$f":"VLOOKUP(B137,#REF!,3,FALSE)","v":{"$error":"#REF!"}}]
["C","A161","MORENO PAUL",null,null,null,null,null,null,null,null,null,null,null,null,null,null,null,null,null,null,null,null,null,null,null,null,null,null,null,null,null,null,null,null,null,null,"","","","",null,"","","","",null,{"$f":"COUNTIF(D138:AU138,\"<60\")","v":0},{"$f":"COUNT(D138:AU138)-AV138-AX138","v":0},{"$f":"COUNTIF(D138:AU138,\">=80\")","v":0},0,"NO INICIA SU CLASIFICACIÓN",null,null,null,{"$f":"VLOOKUP(B138,#REF!,3,FALSE)","v":{"$error":"#REF!"}}]
["A121","A056","MORILLO MAURICIO",null,null,null,null,null,null,null,null,null,null,null,62,62,87,"",80,"","",null,null,null,"","","","",null,"",null,"",null,null,null,null,null,"","","","",null,"","","","",null,{"$f":"COUNTIF(J139:AU139,\"<60\")","v":0},{"$f":"COUNT(J139:AU139)-AV139-AX139","v":2},{"$f":"COUNTIF(J139:AU139,\">=80\")","v":2},291,"HABILITADO  TEMPORALMENTE A COMPETENCIAS FEI",{"$f":"+IF(AND(AY139>240,AX139>=1),\"CLASIFICADO A COMPETENCIAS FEI\",IF(AND(AY139>199,AX139>=1),\"LE FALTA UNA DE 40 Km\",IF(AND(AY139>179,AX139>=1),\"LE FALTA UNA DE 60 Km\",IF(AND(AY139>160),\"LE FALTA UNA DE 80 Km\",\"LE FALTA  \"&240-AY139&\"Km\"))))","v":"CLASIFICADO A COMPETENCIAS FEI"},null,null,{"$f":"VLOOKUP(B139,#REF!,3,FALSE)","v":{"$error":"#REF!"}}]
["C","A148","MUNOZ GARCIA RENATO ISMAEL",null,null,null,null,null,null,null,null,null,null,null,null,null,null,null,null,null,null,null,40,40,null,null,null,null,null,null,null,null,null,null,null,null,null,"","","","",null,"","","","",null,{"$f":"COUNTIF(D140:AU140,\"<60\")","v":2},{"$f":"COUNT(D140:AU140)-AV140-AX140","v":0},{"$f":"COUNTIF(D140:AU140,\">=80\")","v":0},80,"HABILITADO A 80KM VELOCIDAD CONTROLADA",null,null,null,{"$f":"VLOOKUP(B140,#REF!,3,FALSE)","v":{"$error":"#REF!"}}]
["C","A149","MUÑOZ CALDERON RAUL ALBERTO",null,null,null,null,null,null,null,null,null,null,null,null,60,null,null,null,null,null,60,60,60,null,null,null,null,null,null,null,null,63,null,null,null,null,"","","","",null,"","","","",null,{"$f":"COUNTIF(D141:AU141,\"<60\")","v":0},{"$f":"COUNT(D141:AU141)-AV141-AX141","v":5},{"$f":"COUNTIF(D141:AU141,\">=80\")","v":0},303,"HABILITADO A 80KM VELOCIDAD CONTROLADA",null,null,null,{"$f":"VLOOKUP(B141,#REF!,3,FALSE)","v":{"$error":"#REF!"}}]
[null,"A168","MUÑOZ DENNY",null,null,null,null,null,null,null,null,null,null,null,null,null,null,null,null,null,null,null,null,null,null,null,null,null,null,null,null,null,null,null,null,null,null,null,"","","",null,"","","","",null,{"$f":"COUNTIF(J142:AU142,\"<60\")","v":0},{"$f":"COUNT(J142:AU142)-AV142-AX142","v":0},{"$f":"COUNTIF(J142:AU142,\">=80\")","v":0},0,"NO INICIA SU CLASIFICACIÓN",{"$f":"+IF(AND(AY142>240,AX142>=1),\"CLASIFICADO A COMPETENCIAS FEI\",IF(AND(AY142>199,AX142>=1),\"LE FALTA UNA DE 40 Km\",IF(AND(AY142>179,AX142>=1),\"LE FALTA UNA DE 60 Km\",IF(AND(AY142>160),\"LE FALTA UNA DE 80 Km\",\"LE FALTA  \"&240-AY142&\"Km\"))))","v":"LE FALTA  240Km"},null,null,{"$f":"VLOOKUP(B142,#REF!,3,FALSE)","v":{"$error":"#REF!"}}]
[null,"A070","NARANJO JOSE MARTIN",null,null,null,null,null,null,null,null,null,null,null,null,null,null,null,null,null,null,null,44,null,"","","","",null,"",null,"",null,null,null,null,null,"","","","",null,"","","","",null,{"$f":"COUNTIF(J143:AU143,\"<60\")","v":1},{"$f":"COUNT(J143:AU143)-AV143-AX143","v":0},{"$f":"COUNTIF(J143:AU143,\">=80\")","v":0},44,"INICIO SU CLASIFICACIÓN",{"$f":"+IF(AND(AY143>240,AX143>=1),\"CLASIFICADO A COMPETENCIAS FEI\",IF(AND(AY143>199,AX143>=1),\"LE FALTA UNA DE 40 Km\",IF(AND(AY143>179,AX143>=1),\"LE FALTA UNA DE 60 Km\",IF(AND(AY143>160),\"LE FALTA UNA DE 80 Km\",\"LE FALTA  \"&240-AY143&\"Km\"))))","v":"LE FALTA  196Km"},null,null,{"$f":"VLOOKUP(B143,#REF!,3,FALSE)","v":{"$error":"#REF!"}}]
[null,"A","NARANJO MUÑOZ ESTEBAN ",null,null,null,null,null,null,null,null,null,null,null,"","","","","","","",null,null,null,"","","","",null,"",null,"",null,null,null,null,null,"","","","",null,"","","","",null,{"$f":"COUNTIF(J144:AU144,\"<60\")","v":0},{"$f":"COUNT(J144:AU144)-AV144-AX144","v":0},{"$f":"COUNTIF(J144:AU144,\">=80\")","v":0},0,"NO INICIA SU CLASIFICACIÓN",null,null,null,{"$f":"VLOOKUP(B144,#REF!,3,FALSE)","v":{"$error":"#REF!"}}]
[null,"A","NAVAS MARÍA ALEJANDRA",null,null,null,null,null,null,null,null,null,null,null,"","","","","","","",null,null,null,"","","","",null,"",null,"",null,null,null,null,null,"","","","",null,"","","","",null,{"$f":"COUNTIF(J145:AU145,\"<60\")","v":0},{"$f":"COUNT(J145:AU145)-AV145-AX145","v":0},{"$f":"COUNTIF(J145:AU145,\">=80\")","v":0},0,"NO INICIA SU CLASIFICACIÓN",{"$f":"+IF(AND(AY145>240,AX145>=1),\"CLASIFICADO A COMPETENCIAS FEI\",IF(AND(AY145>199,AX145>=1),\"LE FALTA UNA DE 40 Km\",IF(AND(AY145>179,AX145>=1),\"LE FALTA UNA DE 60 Km\",IF(AND(AY145>160),\"LE FALTA UNA DE 80 Km\",\"LE FALTA  \"&240-AY145&\"Km\"))))","v":"LE FALTA  240Km"},null,null,{"$f":"VLOOKUP(B145,#REF!,3,FALSE)","v":{"$error":"#REF!"}}]
["C","A150","NEIRA MALO MARTIN",null,null,null,null,null,null,null,null,null,null,null,null,null,null,null,null,null,null,40,40,40,null,null,null,null,null,null,null,null,null,null,null,null,null,"","","","",null,"","","","",null,{"$f":"COUNTIF(D146:AU146,\"<60\")","v":3},{"$f":"COUNT(D146:AU146)-AV146-AX146","v":0},{"$f":"COUNTIF(D146:AU146,\">=80\")","v":0},120,"HABILITADO A 80KM VELOCIDAD CONTROLADA",null,null,null,{"$f":"VLOOKUP(B146,#REF!,3,FALSE)","v":{"$error":"#REF!"}}]
["A099","A047","NEUMANN KARINA",null,null,null,null,null,null,null,40,66,60,null,"","","",44,"","",62,80,null,null,"",90,"","",null,"",null,"",null,null,null,null,null,43,"","","",null,"","","","",null,{"$f":"COUNTIF(J147:AU147,\"<60\")","v":3},{"$f":"COUNT(J147:AU147)-AV147-AX147","v":3},{"$f":"COUNTIF(J147:AU147,\">=80\")","v":2},485,"HABILITADO  TEMPORALMENTE A COMPETENCIAS FEI",{"$f":"+IF(AND(AY147>240,AX147>=1),\"CLASIFICADO A COMPETENCIAS FEI\",IF(AND(AY147>199,AX147>=1),\"LE FALTA UNA DE 40 Km\",IF(AND(AY147>179,AX147>=1),\"LE FALTA UNA DE 60 Km\",IF(AND(AY147>160),\"LE FALTA UNA DE 80 Km\",\"LE FALTA  \"&240-AY147&\"Km\"))))","v":"CLASIFICADO A COMPETENCIAS FEI"},null,null,{"$f":"VLOOKUP(B147,#REF!,3,FALSE)","v":{"$error":"#REF!"}}]
[null,"A108","NIETO JOSÉ LUIS",null,null,null,null,null,null,null,null,null,null,null,null,null,null,null,null,null,"",null,null,null,"","","","",null,"",null,"",null,null,null,null,null,"","","","",null,"","","","",null,0,0,0,0,"NO INICIA SU CLASIFICACIÓN","LE FALTA  240Km",null,null,{"$f":"VLOOKUP(B148,#REF!,3,FALSE)","v":{"$error":"#REF!"}}]
["A039","A046","NOBOA MAURICIO",null,null,null,null,null,null,null,null,null,null,null,"","","","","","",62,null,81,null,80,62,52,"",null,"",null,42,null,40,null,null,null,"",47,43,"",null,"","","",42,null,6,2,2,551,"HABILITADO  TEMPORALMENTE A COMPETENCIAS FEI","CLASIFICADO A COMPETENCIAS FEI",null,null,{"$f":"VLOOKUP(B149,#REF!,3,FALSE)","v":{"$error":"#REF!"}}]
["A063","A","ORDONEZ FRANCISCO",null,null,null,null,null,null,null,null,null,null,null,44,41,"","","","","",null,null,null,"","","","",null,"",null,"",null,null,null,null,null,"","","","",null,"","","","",null,2,0,0,85,"HABILITADO A 80KM VELOCIDAD CONTROLADA","LE FALTA  155Km",null,null,{"$f":"VLOOKUP(B150,#REF!,3,FALSE)","v":{"$error":"#REF!"}}]
[null,"A089","ORTIZ FERNANDO",null,null,null,null,null,null,null,null,null,null,null,null,null,null,null,null,null,null,null,null,null,null,null,36,"",null,"",null,"",null,null,null,null,null,"","","","",null,"","","","",null,1,0,0,36,"INICIO SU CLASIFICACIÓN","LE FALTA  204Km",null,null,{"$f":"VLOOKUP(B151,#REF!,3,FALSE)","v":{"$error":"#REF!"}}]
["A161","A008","PAILACHO ANGEL",null,null,null,null,null,null,null,null,null,null,null,"","","","","","","",null,null,null,"","","","",null,"",null,"",null,null,null,null,null,"","","","",null,"","","","",null,0,0,0,0,"NO INICIA SU CLASIFICACIÓN","LE FALTA  240Km",null,null,{"$f":"VLOOKUP(B152,#REF!,3,FALSE)","v":{"$error":"#REF!"}}]
[null,"A090","PAIMAN CAROLINA",null,null,null,null,null,null,null,null,null,null,null,null,null,null,null,null,null,null,null,null,null,null,null,36,"",null,"",null,"",null,null,null,null,null,"","","","",null,"","","","",null,1,0,0,36,"INICIO SU CLASIFICACIÓN","LE FALTA  204Km",null,null,{"$f":"VLOOKUP(B153,#REF!,3,FALSE)","v":{"$error":"#REF!"}}]
["A130","A120","PALACIOS DANIEL",null,null,null,null,null,null,null,null,null,null,null,"",null,null,44,"","",44,null,null,null,44,"","","",null,"",null,"",null,null,null,null,null,"","","","",null,"","","","",null,3,0,0,132,"HABILITADO A 80KM VELOCIDAD CONTROLADA","LE FALTA  108Km",null,null,{"$f":"VLOOKUP(B154,#REF!,3,FALSE)","v":{"$error":"#REF!"}}]
["A022","A","PALLARES ALFREDO",null,null,null,null,null,null,null,null,null,null,null,62,62,"",65,"","","",null,null,null,"","","","",null,"",null,"",null,null,null,null,null,"","","","",null,"","","","",null,{"$f":"COUNTIF(D155:AU155,\"<60\")","v":0},{"$f":"COUNT(D155:AU155)-AV155-AX155","v":3},{"$f":"COUNTIF(D155:AU155,\">=80\")","v":0},189,"HABILITADO A 80KM VELOCIDAD CONTROLADA",null,null,null,{"$f":"VLOOKUP(B155,#REF!,3,FALSE)","v":{"$error":"#REF!"}}]
[null,"A077","PANIZO PEDRO",null,null,null,null,null,null,null,null,null,null,null,null,null,null,null,null,null,null,null,null,null,null,null,null,null,null,null,null,null,null,null,null,null,42,"","","","",null,"","","","",null,1,0,0,42,"INICIO SU CLASIFICACIÓN",null,null,null,{"$f":"VLOOKUP(B156,#REF!,3,FALSE)","v":{"$error":"#REF!"}}]
["C","A161","PAUL MORENO",null,null,null,null,null,null,null,null,null,null,null,null,null,null,null,null,null,null,null,null,null,null,null,null,null,null,null,null,null,null,null,null,null,null,"","","","",null,"","","","",null,0,0,0,0,"NO INICIA SU CLASIFICACIÓN",null,null,null,{"$f":"VLOOKUP(B157,#REF!,3,FALSE)","v":{"$error":"#REF!"}}]
["A130","A040","PAZPUEZAN LUIS ALEXANDER",null,null,null,null,null,null,null,null,null,null,null,"","","","","","","",null,null,null,"","","","",null,"",null,"",null,null,null,null,null,"","","","",null,"","","","",null,0,0,0,0,"NO INICIA SU CLASIFICACIÓN",{"$f":"+IF(AND(AY158>240,AX158>=1),\"CLASIFICADO A COMPETENCIAS FEI\",IF(AND(AY158>199,AX158>=1),\"LE FALTA UNA DE 40 Km\",IF(AND(AY158>179,AX158>=1),\"LE FALTA UNA DE 60 Km\",IF(AND(AY158>160),\"LE FALTA UNA DE 80 Km\",\"LE FALTA  \"&240-AY158&\"Km\"))))","v":"LE FALTA  240Km"},null,null,{"$f":"VLOOKUP(B158,#REF!,3,FALSE)","v":{"$error":"#REF!"}}]
["C","C","PEÑA GARCIA LUIS ALBERTO",null,null,null,null,null,null,null,null,null,null,null,null,null,null,null,null,null,null,null,null,null,null,null,null,null,null,null,null,null,null,null,null,null,null,"","","","",null,"","","","",null,0,0,0,0,"NO INICIA SU CLASIFICACIÓN",null,null,null,{"$f":"VLOOKUP(B159,#REF!,3,FALSE)","v":{"$error":"#REF!"}}]
["C","A151","PERALTA VALERIA",null,null,null,null,null,null,null,null,null,null,null,null,40,null,null,null,null,null,null,40,null,null,null,null,null,null,null,null,null,null,null,null,null,null,"","","","",null,"","","","",null,2,0,0,80,"HABILITADO A 80KM VELOCIDAD CONTROLADA",null,null,null,{"$f":"VLOOKUP(B160,#REF!,3,FALSE)","v":{"$error":"#REF!"}}]
["A007","A121","PEREZ ARTETA IGNACIO",null,null,null,null,null,null,null,null,null,null,null,"","","","","","","",null,null,null,"","","","",null,"",null,"",null,null,null,null,null,"","","","",null,"","","","",null,0,0,0,0,"NO INICIA SU CLASIFICACIÓN",{"$f":"+IF(AND(AY161>240,AX161>=1),\"CLASIFICADO A COMPETENCIAS FEI\",IF(AND(AY161>199,AX161>=1),\"LE FALTA UNA DE 40 Km\",IF(AND(AY161>179,AX161>=1),\"LE FALTA UNA DE 60 Km\",IF(AND(AY161>160),\"LE FALTA UNA DE 80 Km\",\"LE FALTA  \"&240-AY161&\"Km\"))))","v":"LE FALTA  240Km"},null,null,{"$f":"VLOOKUP(B161,#REF!,3,FALSE)","v":{"$error":"#REF!"}}]
["A006","A073","PÉREZ CARMEN ALICIA",null,null,null,null,null,null,null,null,null,null,null,62,62,65,44,62,"","",null,81,null,"","","","",null,"",null,"",null,null,null,null,null,"","","","",null,"","","","",null,1,4,1,376,"LE FALTA UNA DE 80 A 90 CONTROLADA","CLASIFICADO A COMPETENCIAS FEI",null,null,{"$f":"VLOOKUP(B162,#REF!,3,FALSE)","v":{"$error":"#REF!"}}]
["A002","A","PEREZ FREILE IGNACIO",null,null,null,null,null,null,null,null,null,null,null,"","","","","","","",null,null,null,"","","","",null,"",null,"",null,null,null,null,null,"","","","",null,"","","","",null,0,0,0,0,"NO INICIA SU CLASIFICACIÓN","LE FALTA  240Km",null,null,{"$f":"VLOOKUP(B163,#REF!,3,FALSE)","v":{"$error":"#REF!"}}]
[null,"A042","PINCHAO NOLBERTO",null,null,null,null,null,null,null,null,null,null,null,null,null,null,null,null,null,62,null,null,40,80,90,"","",null,"",null,"",null,null,null,null,null,"","","","",null,"","","","",null,1,1,2,272,"HABILITADO  TEMPORALMENTE A COMPETENCIAS FEI","CLASIFICADO A COMPETENCIAS FEI",null,null,{"$f":"VLOOKUP(B164,#REF!,3,FALSE)","v":{"$error":"#REF!"}}]
[null,"A159","PLUAS JUNIOR ",null,null,null,null,null,null,null,null,null,null,null,"","","","","","","",null,null,null,"","","","",null,"",null,"",null,null,null,null,null,"","","","",null,"","","","",null,0,0,0,0,"NO INICIA SU CLASIFICACIÓN","LE FALTA  240Km",null,null,{"$f":"VLOOKUP(B165,#REF!,3,FALSE)","v":{"$error":"#REF!"}}]
["A015","A","POLANCO MARCO",null,null,null,null,null,null,null,null,null,null,null,"","","","","","","",null,null,null,"","","","",null,"",null,"",null,null,null,null,null,"","","","",null,"","","","",null,0,0,0,0,"NO INICIA SU CLASIFICACIÓN","LE FALTA  240Km",null,null,{"$f":"VLOOKUP(B166,#REF!,3,FALSE)","v":{"$error":"#REF!"}}]
[null,"A035","PORTILLA FELIPE",null,null,null,null,null,null,null,null,null,null,null,"",41,"","",62,"",44,null,null,null,"","","","",null,"",null,"",null,null,null,42,null,"","","",43,null,"","","","",null,4,1,0,232,"HABILITADO A 80KM VELOCIDAD CONTROLADA",null,null,null,{"$f":"VLOOKUP(B167,#REF!,3,FALSE)","v":{"$error":"#REF!"}}]
["C","A152","PRADO PRADO CAMILO FABIAN",null,null,null,null,null,null,null,null,null,null,null,null,null,60,null,null,null,null,null,null,60,null,null,null,null,null,null,null,null,null,null,null,null,null,"","","","",null,"","","","",null,0,2,0,120,"HABILITADO A 80KM VELOCIDAD CONTROLADA",null,null,null,{"$f":"VLOOKUP(B168,#REF!,3,FALSE)","v":{"$error":"#REF!"}}]
["A138","A","PROAÑO JOAQUIN",null,null,null,null,null,null,null,null,null,null,null,"",41,"","","","","",null,null,null,"","","","",null,"",null,"",null,null,null,null,null,"","","","",null,"","","","",null,1,0,0,41,"INICIO SU CLASIFICACIÓN",{"$f":"+IF(AND(AY169>240,AX169>=1),\"CLASIFICADO A COMPETENCIAS FEI\",IF(AND(AY169>199,AX169>=1),\"LE FALTA UNA DE 40 Km\",IF(AND(AY169>179,AX169>=1),\"LE FALTA UNA DE 60 Km\",IF(AND(AY169>160),\"LE FALTA UNA DE 80 Km\",\"LE FALTA  \"&240-AY169&\"Km\"))))","v":"LE FALTA  199Km"},null,null,{"$f":"VLOOKUP(B169,#REF!,3,FALSE)","v":{"$error":"#REF!"}}]
[null,"A","PROAÑO JOSE ANTONIO",null,null,null,null,null,null,null,null,null,null,null,"","","","","","","",null,null,null,"","","","",null,"",null,"",null,null,null,null,null,"","","","",null,"","","","",null,0,0,0,0,"NO INICIA SU CLASIFICACIÓN",{"$f":"+IF(AND(AY170>240,AX170>=1),\"CLASIFICADO A COMPETENCIAS FEI\",IF(AND(AY170>199,AX170>=1),\"LE FALTA UNA DE 40 Km\",IF(AND(AY170>179,AX170>=1),\"LE FALTA UNA DE 60 Km\",IF(AND(AY170>160),\"LE FALTA UNA DE 80 Km\",\"LE FALTA  \"&240-AY170&\"Km\"))))","v":"LE FALTA  240Km"},null,null,{"$f":"VLOOKUP(B170,#REF!,3,FALSE)","v":{"$error":"#REF!"}}]
["A084","A063","QUIROZ ORLANDO",null,null,null,null,null,null,null,80,null,null,null,"",null,44,65,62,42,"",null,null,null,"","","","",null,"",null,"",null,null,null,null,null,"","","","",null,"","","","",null,2,2,1,293,"LE FALTA UNA DE 80 A 90 CONTROLADA",{"$f":"+IF(AND(AY171>240,AX171>=1),\"CLASIFICADO A COMPETENCIAS FEI\",IF(AND(AY171>199,AX171>=1),\"LE FALTA UNA DE 40 Km\",IF(AND(AY171>179,AX171>=1),\"LE FALTA UNA DE 60 Km\",IF(AND(AY171>160),\"LE FALTA UNA DE 80 Km\",\"LE FALTA  \"&240-AY171&\"Km\"))))","v":"CLASIFICADO A COMPETENCIAS FEI"},null,null,{"$f":"VLOOKUP(B171,#REF!,3,FALSE)","v":{"$error":"#REF!"}}]
[null,"A177","RAMIREZ FABRICIO",null,null,null,null,null,null,null,null,null,null,null,null,null,null,null,null,null,null,null,null,null,null,null,null,null,null,null,null,null,null,null,null,null,null,null,null,43,43,null,"","","","",null,{"$f":"COUNTIF(J172:AU172,\"<60\")","v":2},{"$f":"COUNT(J172:AU172)-AV172-AX172","v":0},{"$f":"COUNTIF(J172:AU172,\">=80\")","v":0},86,"HABILITADO A 80KM VELOCIDAD CONTROLADA",{"$f":"+IF(AND(AY172>240,AX172>=1),\"CLASIFICADO A COMPETENCIAS FEI\",IF(AND(AY172>199,AX172>=1),\"LE FALTA UNA DE 40 Km\",IF(AND(AY172>179,AX172>=1),\"LE FALTA UNA DE 60 Km\",IF(AND(AY172>160),\"LE FALTA UNA DE 80 Km\",\"LE FALTA  \"&240-AY172&\"Km\"))))","v":"LE FALTA  154Km"},null,null,{"$f":"VLOOKUP(B172,#REF!,3,FALSE)","v":{"$error":"#REF!"}}]
[null,"A024","RECALDE GALO",null,null,null,null,null,null,null,null,null,null,null,44,41,null,null,null,42,null,null,null,null,null,null,null,null,null,"",null,"",null,null,null,null,null,43,"","","",null,"","","","",null,{"$f":"COUNTIF(D173:AU173,\"<60\")","v":4},{"$f":"COUNT(D173:AU173)-AV173-AX173","v":0},{"$f":"COUNTIF(D173:AU173,\">=80\")","v":0},170,"HABILITADO A 80KM VELOCIDAD CONTROLADA",null,null,null,{"$f":"VLOOKUP(B173,#REF!,3,FALSE)","v":{"$error":"#REF!"}}]
["A106","A060","RECALDE JUAN JOSE",null,null,null,null,null,null,null,40,null,60,null,44,41,"",87,"",84,"",null,null,null,"","","","",null,"",null,"",null,null,null,null,null,"","","",84,null,"","","","",null,{"$f":"COUNTIF(D174:AU174,\"<60\")","v":3},{"$f":"COUNT(D174:AU174)-AV174-AX174","v":1},{"$f":"COUNTIF(D174:AU174,\">=80\")","v":3},440,"HABILITADO  TEMPORALMENTE A COMPETENCIAS FEI",{"$f":"+IF(AND(AY174>240,AX174>=1),\"CLASIFICADO A COMPETENCIAS FEI\",IF(AND(AY174>199,AX174>=1),\"LE FALTA UNA DE 40 Km\",IF(AND(AY174>179,AX174>=1),\"LE FALTA UNA DE 60 Km\",IF(AND(AY174>160),\"LE FALTA UNA DE 80 Km\",\"LE FALTA  \"&240-AY174&\"Km\"))))","v":"CLASIFICADO A COMPETENCIAS FEI"},null,null,{"$f":"VLOOKUP(B174,#REF!,3,FALSE)","v":{"$error":"#REF!"}}]
[null,"A173","REIVAN GORDILLO JHONZON VINICIO",null,null,null,null,null,null,null,null,null,null,null,null,null,null,null,null,null,null,null,null,null,null,null,null,null,null,null,null,null,null,null,null,null,null,null,47,"","",null,"","","","",null,{"$f":"COUNTIF(J175:AU175,\"<60\")","v":1},{"$f":"COUNT(J175:AU175)-AV175-AX175","v":0},{"$f":"COUNTIF(J175:AU175,\">=80\")","v":0},47,"INICIO SU CLASIFICACIÓN",{"$f":"+IF(AND(AY175>240,AX175>=1),\"CLASIFICADO A COMPETENCIAS FEI\",IF(AND(AY175>199,AX175>=1),\"LE FALTA UNA DE 40 Km\",IF(AND(AY175>179,AX175>=1),\"LE FALTA UNA DE 60 Km\",IF(AND(AY175>160),\"LE FALTA UNA DE 80 Km\",\"LE FALTA  \"&240-AY175&\"Km\"))))","v":"LE FALTA  193Km"},null,null,{"$f":"VLOOKUP(B175,#REF!,3,FALSE)","v":{"$error":"#REF!"}}]
[null,"A104","REYES JUAN GABRIEL",null,null,null,null,null,null,null,null,null,null,null,null,null,null,null,null,null,"",null,null,null,"","","","",null,"",null,"",null,null,null,null,null,"","","","",null,"","","","",null,{"$f":"COUNTIF(D176:AU176,\"<60\")","v":0},{"$f":"COUNT(D176:AU176)-AV176-AX176","v":0},{"$f":"COUNTIF(D176:AU176,\">=80\")","v":0},0,"NO INICIA SU CLASIFICACIÓN",{"$f":"+IF(AND(AY176>240,AX176>=1),\"CLASIFICADO A COMPETENCIAS FEI\",IF(AND(AY176>199,AX176>=1),\"LE FALTA UNA DE 40 Km\",IF(AND(AY176>179,AX176>=1),\"LE FALTA UNA DE 60 Km\",IF(AND(AY176>160),\"LE FALTA UNA DE 80 Km\",\"LE FALTA  \"&240-AY176&\"Km\"))))","v":"LE FALTA  240Km"},null,null,{"$f":"VLOOKUP(B176,#REF!,3,FALSE)","v":{"$error":"#REF!"}}]
["A013","A058","RIBADENEIRA ARTURO",null,null,null,null,null,null,null,80,null,null,null,44,62,"","","",null,"",null,44,null,"","","",48,null,"",null,"",null,null,null,null,null,43,"","","",null,"","","","",null,4,1,1,321,"LE FALTA UNA DE 80 A 90 CONTROLADA",{"$f":"+IF(AND(AY177>240,AX177>=1),\"CLASIFICADO A COMPETENCIAS FEI\",IF(AND(AY177>199,AX177>=1),\"LE FALTA UNA DE 40 Km\",IF(AND(AY177>179,AX177>=1),\"LE FALTA UNA DE 60 Km\",IF(AND(AY177>160),\"LE FALTA UNA DE 80 Km\",\"LE FALTA  \"&240-AY177&\"Km\"))))","v":"CLASIFICADO A COMPETENCIAS FEI"},null,null,{"$f":"VLOOKUP(B177,#REF!,3,FALSE)","v":{"$error":"#REF!"}}]
["A065","A017","RIBADENEIRA SANTIAGO",null,null,null,null,null,null,null,null,null,null,null,"","","","","","","",null,null,null,"","","","",null,"",null,"",null,null,null,null,null,"","","","",null,"","","","",null,0,0,0,0,"NO INICIA SU CLASIFICACIÓN",{"$f":"+IF(AND(AY178>240,AX178>=1),\"CLASIFICADO A COMPETENCIAS FEI\",IF(AND(AY178>199,AX178>=1),\"LE FALTA UNA DE 40 Km\",IF(AND(AY178>179,AX178>=1),\"LE FALTA UNA DE 60 Km\",IF(AND(AY178>160),\"LE FALTA UNA DE 80 Km\",\"LE FALTA  \"&240-AY178&\"Km\"))))","v":"LE FALTA  240Km"},null,null,{"$f":"VLOOKUP(B178,#REF!,3,FALSE)","v":{"$error":"#REF!"}}]
["A060","A028","RICAURTE JUAN MARTIN",null,null,null,null,null,null,null,null,null,null,null,"","","","","","","",null,null,null,"","","","",null,"",null,"",null,null,null,null,null,"","","","",null,"","","","",null,0,0,0,0,"NO INICIA SU CLASIFICACIÓN",null,null,null,{"$f":"VLOOKUP(B179,#REF!,3,FALSE)","v":{"$error":"#REF!"}}]
[null,"A116","ROLDAN FABIAN",null,null,null,null,null,null,null,null,null,null,null,null,null,null,null,null,null,44,null,null,null,"","","","",null,"",null,"",null,null,null,null,null,"","","","",null,"","","","",null,1,0,0,44,"INICIO SU CLASIFICACIÓN",null,null,null,{"$f":"VLOOKUP(B180,#REF!,3,FALSE)","v":{"$error":"#REF!"}}]
["A051","A","ROMO ALFONSO",null,null,null,null,null,null,null,null,null,null,null,"","","","","","","",null,null,null,"","","","",null,"",null,"",null,null,null,null,null,"","","","",null,"","","","",null,0,0,0,0,"NO INICIA SU CLASIFICACIÓN",null,null,null,{"$f":"VLOOKUP(B181,#REF!,3,FALSE)","v":{"$error":"#REF!"}}]
["A055","A","ROMO DIEGO",null,null,null,null,null,null,null,null,null,null,null,"","","","","","","",null,null,null,"","","","",null,"",null,"",null,null,null,null,null,"","","","",null,"","","","",null,0,0,0,0,"NO INICIA SU CLASIFICACIÓN",{"$f":"+IF(AND(AY182>240,AX182>=1),\"CLASIFICADO A COMPETENCIAS FEI\",IF(AND(AY182>199,AX182>=1),\"LE FALTA UNA DE 40 Km\",IF(AND(AY182>179,AX182>=1),\"LE FALTA UNA DE 60 Km\",IF(AND(AY182>160),\"LE FALTA UNA DE 80 Km\",\"LE FALTA  \"&240-AY182&\"Km\"))))","v":"LE FALTA  240Km"},null,null,{"$f":"VLOOKUP(B182,#REF!,3,FALSE)","v":{"$error":"#REF!"}}]
["A136","A044","RUIZ ILIANA",null,null,null,null,null,null,null,null,null,null,null,"",41,"",44,43,"",62,null,null,null,"","","","",null,"",null,"",null,null,null,null,null,"","","","",null,"","","","",null,3,1,0,190,"HABILITADO A 80KM VELOCIDAD CONTROLADA",{"$f":"+IF(AND(AY183>240,AX183>=1),\"CLASIFICADO A COMPETENCIAS FEI\",IF(AND(AY183>199,AX183>=1),\"LE FALTA UNA DE 40 Km\",IF(AND(AY183>179,AX183>=1),\"LE FALTA UNA DE 60 Km\",IF(AND(AY183>160),\"LE FALTA UNA DE 80 Km\",\"LE FALTA  \"&240-AY183&\"Km\"))))","v":"LE FALTA UNA DE 80 Km"},null,null,{"$f":"VLOOKUP(B183,#REF!,3,FALSE)","v":{"$error":"#REF!"}}]
[null,"A","SABALA DANIEL",null,null,null,null,null,null,null,null,null,null,null,"","","","","","","",null,null,null,"","","","",null,"",null,"",null,null,null,null,null,"","","","",null,"","","","",null,0,0,0,0,"NO INICIA SU CLASIFICACIÓN",{"$f":"+IF(AND(AY184>240,AX184>=1),\"CLASIFICADO A COMPETENCIAS FEI\",IF(AND(AY184>199,AX184>=1),\"LE FALTA UNA DE 40 Km\",IF(AND(AY184>179,AX184>=1),\"LE FALTA UNA DE 60 Km\",IF(AND(AY184>160),\"LE FALTA UNA DE 80 Km\",\"LE FALTA  \"&240-AY184&\"Km\"))))","v":"LE FALTA  240Km"},null,null,{"$f":"VLOOKUP(B184,#REF!,3,FALSE)","v":{"$error":"#REF!"}}]
[null,"A098","SALAZAR ROSA VICTORIA",null,null,null,null,null,null,null,null,null,null,null,null,null,null,null,null,null,44,null,44,40,"","","","",null,"",null,42,null,null,null,null,null,"","","","",null,"","","","",null,4,0,0,170,"HABILITADO A 80KM VELOCIDAD CONTROLADA",{"$f":"+IF(AND(AY185>240,AX185>=1),\"CLASIFICADO A COMPETENCIAS FEI\",IF(AND(AY185>199,AX185>=1),\"LE FALTA UNA DE 40 Km\",IF(AND(AY185>179,AX185>=1),\"LE FALTA UNA DE 60 Km\",IF(AND(AY185>160),\"LE FALTA UNA DE 80 Km\",\"LE FALTA  \"&240-AY185&\"Km\"))))","v":"LE FALTA UNA DE 80 Km"},null,null,{"$f":"VLOOKUP(B185,#REF!,3,FALSE)","v":{"$error":"#REF!"}}]
["C","A153","SALINAS HERRERA CARLOS",null,null,null,null,null,null,null,null,null,null,null,null,null,null,null,null,null,null,null,null,null,40,null,null,null,null,null,null,null,null,null,null,null,null,"","","","",null,"","","","",null,1,0,0,40,"INICIO SU CLASIFICACIÓN",null,null,null,{"$f":"VLOOKUP(B186,#REF!,3,FALSE)","v":{"$error":"#REF!"}}]
[null,"A123","SAMPER ALVARO",null,null,null,null,null,null,null,null,null,null,null,null,null,null,null,null,null,null,null,null,null,null,null,null,null,null,null,null,null,null,null,null,null,42,"","","",43,null,40,"","",42,null,4,0,0,167,"HABILITADO A 80KM VELOCIDAD CONTROLADA",null,null,null,{"$f":"VLOOKUP(B187,#REF!,3,FALSE)","v":{"$error":"#REF!"}}]
[null,"A111","SÁNCHEZ DENYS",null,null,null,null,null,null,null,null,null,null,null,null,null,null,null,null,null,"",null,null,null,"","","","",null,"",null,"",null,null,null,null,null,"","","","",null,"","","","",null,0,0,0,0,"NO INICIA SU CLASIFICACIÓN",{"$f":"+IF(AND(AY188>240,AX188>=1),\"CLASIFICADO A COMPETENCIAS FEI\",IF(AND(AY188>199,AX188>=1),\"LE FALTA UNA DE 40 Km\",IF(AND(AY188>179,AX188>=1),\"LE FALTA UNA DE 60 Km\",IF(AND(AY188>160),\"LE FALTA UNA DE 80 Km\",\"LE FALTA  \"&240-AY188&\"Km\"))))","v":"LE FALTA  240Km"},null,null,{"$f":"VLOOKUP(B188,#REF!,3,FALSE)","v":{"$error":"#REF!"}}]
[null,"A169","SANCHEZ VEGA SANTIAGO",null,null,null,null,null,null,null,null,null,null,null,null,null,null,null,null,null,null,null,null,null,null,null,null,null,null,null,null,null,null,null,null,null,null,null,"","","",47,"",42,42,"",null,{"$f":"COUNTIF(J189:AU189,\"<60\")","v":3},{"$f":"COUNT(J189:AU189)-AV189-AX189","v":0},{"$f":"COUNTIF(J189:AU189,\">=80\")","v":0},131,"HABILITADO A 80KM VELOCIDAD CONTROLADA",{"$f":"+IF(AND(AY189>240,AX189>=1),\"CLASIFICADO A COMPETENCIAS FEI\",IF(AND(AY189>199,AX189>=1),\"LE FALTA UNA DE 40 Km\",IF(AND(AY189>179,AX189>=1),\"LE FALTA UNA DE 60 Km\",IF(AND(AY189>160),\"LE FALTA UNA DE 80 Km\",\"LE FALTA  \"&240-AY189&\"Km\"))))","v":"LE FALTA  109Km"},null,null,{"$f":"VLOOKUP(B189,#REF!,3,FALSE)","v":{"$error":"#REF!"}}]
[null,"A115","SANTANA VELÁSQUEZ GEOVANNY",null,null,null,null,null,null,null,null,null,null,null,null,null,null,null,null,null,"",null,null,null,"","","","",null,"",null,"",null,null,null,null,null,"","","","",null,"","","","",null,{"$f":"COUNTIF(D190:AU190,\"<60\")","v":0},{"$f":"COUNT(D190:AU190)-AV190-AX190","v":0},{"$f":"COUNTIF(D190:AU190,\">=80\")","v":0},0,"NO INICIA SU CLASIFICACIÓN",{"$f":"+IF(AND(AY190>240,AX190>=1),\"CLASIFICADO A COMPETENCIAS FEI\",IF(AND(AY190>199,AX190>=1),\"LE FALTA UNA DE 40 Km\",IF(AND(AY190>179,AX190>=1),\"LE FALTA UNA DE 60 Km\",IF(AND(AY190>160),\"LE FALTA UNA DE 80 Km\",\"LE FALTA  \"&240-AY190&\"Km\"))))","v":"LE FALTA  240Km"},null,null,{"$f":"VLOOKUP(B190,#REF!,3,FALSE)","v":{"$error":"#REF!"}}]
[null,"A033","SERRANO ARMANDO JOSE",null,null,null,null,null,null,null,null,null,null,null,null,null,null,null,null,null,null,null,null,null,null,null,null,null,null,null,null,null,null,null,null,null,42,43,"",84,43,null,"","","","",null,3,0,1,212,"LE FALTA UNA DE 80 A 90 CONTROLADA",null,null,null,{"$f":"VLOOKUP(B191,#REF!,3,FALSE)","v":{"$error":"#REF!"}}]
["J032","A","SERRANO FELIPE",null,null,null,null,null,null,null,null,null,null,null,"","","","","","","",null,null,null,"","","","",null,"",null,"",null,null,null,null,null,"","","","",null,"","","","",null,0,0,0,0,"NO INICIA SU CLASIFICACIÓN",{"$f":"+IF(AND(AY192>240,AX192>=1),\"CLASIFICADO A COMPETENCIAS FEI\",IF(AND(AY192>199,AX192>=1),\"LE FALTA UNA DE 40 Km\",IF(AND(AY192>179,AX192>=1),\"LE FALTA UNA DE 60 Km\",IF(AND(AY192>160),\"LE FALTA UNA DE 80 Km\",\"LE FALTA  \"&240-AY192&\"Km\"))))","v":"LE FALTA  240Km"},null,null,{"$f":"VLOOKUP(B192,#REF!,3,FALSE)","v":{"$error":"#REF!"}}]
["A003","A023","SERRANO JUAN CARLOS",null,null,null,null,null,null,null,null,null,null,null,62,41,44,"","","","",null,null,null,"","","",48,null,82,null,"",null,null,null,null,null,"","","","",null,"","","","",null,3,1,1,277,"LE FALTA UNA DE 80 A 90 CONTROLADA",{"$f":"+IF(AND(AY193>240,AX193>=1),\"CLASIFICADO A COMPETENCIAS FEI\",IF(AND(AY193>199,AX193>=1),\"LE FALTA UNA DE 40 Km\",IF(AND(AY193>179,AX193>=1),\"LE FALTA UNA DE 60 Km\",IF(AND(AY193>160),\"LE FALTA UNA DE 80 Km\",\"LE FALTA  \"&240-AY193&\"Km\"))))","v":"CLASIFICADO A COMPETENCIAS FEI"},null,null,{"$f":"VLOOKUP(B193,#REF!,3,FALSE)","v":{"$error":"#REF!"}}]
["A011","A","SIMBAÑA FRANCISCO JOSÉ",null,null,null,null,null,null,null,null,null,null,null,"","","","","","","",null,null,null,"","","","",null,"",null,"",null,null,null,null,null,"","","","",null,"","","","",null,0,0,0,0,"NO INICIA SU CLASIFICACIÓN",{"$f":"+IF(AND(AY194>240,AX194>=1),\"CLASIFICADO A COMPETENCIAS FEI\",IF(AND(AY194>199,AX194>=1),\"LE FALTA UNA DE 40 Km\",IF(AND(AY194>179,AX194>=1),\"LE FALTA UNA DE 60 Km\",IF(AND(AY194>160),\"LE FALTA UNA DE 80 Km\",\"LE FALTA  \"&240-AY194&\"Km\"))))","v":"LE FALTA  240Km"},null,null,{"$f":"VLOOKUP(B194,#REF!,3,FALSE)","v":{"$error":"#REF!"}}]
["A005","A","TAYO SANDRA",null,null,null,null,null,null,null,null,null,null,null,"",null,44,"","","","",null,null,null,"","","","",null,"",null,"",null,null,null,null,null,"","","","",null,"","","","",null,1,0,0,44,"INICIO SU CLASIFICACIÓN",{"$f":"+IF(AND(AY195>240,AX195>=1),\"CLASIFICADO A COMPETENCIAS FEI\",IF(AND(AY195>199,AX195>=1),\"LE FALTA UNA DE 40 Km\",IF(AND(AY195>179,AX195>=1),\"LE FALTA UNA DE 60 Km\",IF(AND(AY195>160),\"LE FALTA UNA DE 80 Km\",\"LE FALTA  \"&240-AY195&\"Km\"))))","v":"LE FALTA  196Km"},null,null,{"$f":"VLOOKUP(B195,#REF!,3,FALSE)","v":{"$error":"#REF!"}}]
["C","C","TEJADA ALBERTO",null,null,null,null,null,null,null,null,null,null,null,null,null,null,null,null,null,null,null,null,null,null,null,null,null,null,null,null,null,null,null,null,null,null,"","","","",null,"","","","",null,0,0,0,0,"NO INICIA SU CLASIFICACIÓN",null,null,null,{"$f":"VLOOKUP(B196,#REF!,3,FALSE)","v":{"$error":"#REF!"}}]
[null,"A","TERAN TORO BAYARDO ",null,null,null,null,null,null,null,null,null,null,null,"","","","","","","",null,null,null,"","","","",null,"",null,"",null,null,null,null,null,"","","","",null,"","","","",null,0,0,0,0,"NO INICIA SU CLASIFICACIÓN",{"$f":"+IF(AND(AY197>240,AX197>=1),\"CLASIFICADO A COMPETENCIAS FEI\",IF(AND(AY197>199,AX197>=1),\"LE FALTA UNA DE 40 Km\",IF(AND(AY197>179,AX197>=1),\"LE FALTA UNA DE 60 Km\",IF(AND(AY197>160),\"LE FALTA UNA DE 80 Km\",\"LE FALTA  \"&240-AY197&\"Km\"))))","v":"LE FALTA  240Km"},null,null,{"$f":"VLOOKUP(B197,#REF!,3,FALSE)","v":{"$error":"#REF!"}}]
["A018","A","TIMPE LUIS ANDRES",null,null,null,null,null,null,null,null,null,null,null,"","","","","","","",null,null,null,"","","","",null,"",null,"",null,null,null,null,null,"","","","",null,"","","","",null,0,0,0,0,"NO INICIA SU CLASIFICACIÓN",{"$f":"+IF(AND(AY198>240,AX198>=1),\"CLASIFICADO A COMPETENCIAS FEI\",IF(AND(AY198>199,AX198>=1),\"LE FALTA UNA DE 40 Km\",IF(AND(AY198>179,AX198>=1),\"LE FALTA UNA DE 60 Km\",IF(AND(AY198>160),\"LE FALTA UNA DE 80 Km\",\"LE FALTA  \"&240-AY198&\"Km\"))))","v":"LE FALTA  240Km"},null,null,{"$f":"VLOOKUP(B198,#REF!,3,FALSE)","v":{"$error":"#REF!"}}]
["A086","A117","TOBAR MONCAYO MATEO",null,null,null,null,null,null,null,40,null,null,null,"","","","","","",44,null,null,null,"","","","",null,"",null,"",null,null,null,null,null,"","","","",null,"","","","",null,2,0,0,{"$f":"SUM(D199:AU199)","v":84},{"$f":"IF(OR(AX199>2,AND(AX199>1,(AV199+AW199)>1)),\"HABILITADO  TEMPORALMENTE A COMPETENCIAS FEI\",IF(AND(AX199=1,(AV199+AW199)>1),\"LE FALTA UNA DE 80 A 90 CONTROLADA\",IF((AV199+AW199)>1,\"HABILITADO A 80KM VELOCIDAD CONTROLADA\",IF((AV199+AW199)>0,\"INICIO SU CLASIFICACIÓN\",\"NO INICIA SU CLASIFICACIÓN\"))))","v":"HABILITADO A 80KM VELOCIDAD CONTROLADA"},null,null,null,{"$f":"VLOOKUP(B199,#REF!,3,FALSE)","v":{"$error":"#REF!"}}]
["C","A154","TORAL ANA MARIA",null,null,null,null,null,null,null,null,null,null,null,null,null,null,null,null,null,null,null,40,40,null,null,null,null,null,null,null,null,null,null,null,null,null,"","","","",null,"","","","",null,2,0,0,80,"HABILITADO A 80KM VELOCIDAD CONTROLADA",null,null,null,{"$f":"VLOOKUP(B200,#REF!,3,FALSE)","v":{"$error":"#REF!"}}]
["C","A155","TORAL GUERRERO JUAN DIEGO",null,null,null,null,null,null,null,null,null,null,null,null,null,null,null,null,null,null,40,40,40,null,null,null,null,null,null,null,null,null,null,null,null,null,"","","","",null,"","","","",null,3,0,0,120,"HABILITADO A 80KM VELOCIDAD CONTROLADA",null,null,null,{"$f":"VLOOKUP(B201,#REF!,3,FALSE)","v":{"$error":"#REF!"}}]
[null,"A170","TORRES JOSUE",null,null,null,null,null,null,null,null,null,null,null,null,null,null,null,null,null,null,null,null,null,null,null,null,null,null,null,null,null,null,null,null,null,null,null,63,"","",null,"","","","",null,{"$f":"COUNTIF(J202:AU202,\"<60\")","v":0},{"$f":"COUNT(J202:AU202)-AV202-AX202","v":1},{"$f":"COUNTIF(J202:AU202,\">=80\")","v":0},63,"INICIO SU CLASIFICACIÓN",{"$f":"+IF(AND(AY202>240,AX202>=1),\"CLASIFICADO A COMPETENCIAS FEI\",IF(AND(AY202>199,AX202>=1),\"LE FALTA UNA DE 40 Km\",IF(AND(AY202>179,AX202>=1),\"LE FALTA UNA DE 60 Km\",IF(AND(AY202>160),\"LE FALTA UNA DE 80 Km\",\"LE FALTA  \"&240-AY202&\"Km\"))))","v":"LE FALTA  177Km"},null,null,{"$f":"VLOOKUP(B202,#REF!,3,FALSE)","v":{"$error":"#REF!"}}]
["A016","A019","TORRES VLADIMIRO",null,null,null,null,null,null,null,null,null,60,null,81,"","","",80,"",62,null,null,40,"","","","",null,"",null,"",null,null,null,null,null,43,"","","",null,"","","","",null,{"$f":"COUNTIF(D203:AU203,\"<60\")","v":2},{"$f":"COUNT(D203:AU203)-AV203-AX203","v":2},{"$f":"COUNTIF(D203:AU203,\">=80\")","v":2},366,"HABILITADO  TEMPORALMENTE A COMPETENCIAS FEI",{"$f":"+IF(AND(AY203>240,AX203>=1),\"CLASIFICADO A COMPETENCIAS FEI\",IF(AND(AY203>199,AX203>=1),\"LE FALTA UNA DE 40 Km\",IF(AND(AY203>179,AX203>=1),\"LE FALTA UNA DE 60 Km\",IF(AND(AY203>160),\"LE FALTA UNA DE 80 Km\",\"LE FALTA  \"&240-AY203&\"Km\"))))","v":"CLASIFICADO A COMPETENCIAS FEI"},null,null,{"$f":"VLOOKUP(B203,#REF!,3,FALSE)","v":{"$error":"#REF!"}}]
["A097","A","TRUEBA VICTORIA",null,null,null,null,null,null,null,null,null,null,null,"","","","","","","",null,null,null,"","","","",null,"",null,"",null,null,null,null,null,"","","","",null,"","","","",null,0,0,0,0,"NO INICIA SU CLASIFICACIÓN",{"$f":"+IF(AND(AY204>240,AX204>=1),\"CLASIFICADO A COMPETENCIAS FEI\",IF(AND(AY204>199,AX204>=1),\"LE FALTA UNA DE 40 Km\",IF(AND(AY204>179,AX204>=1),\"LE FALTA UNA DE 60 Km\",IF(AND(AY204>160),\"LE FALTA UNA DE 80 Km\",\"LE FALTA  \"&240-AY204&\"Km\"))))","v":"LE FALTA  240Km"},null,null,{"$f":"VLOOKUP(B204,#REF!,3,FALSE)","v":{"$error":"#REF!"}}]
[null,"A085","URIBE CARLOS JOSE",null,null,null,null,null,null,null,null,null,null,null,null,null,null,null,null,null,null,null,null,null,44,62,82,"",null,82,null,"",null,null,null,null,null,"","","","",null,"","","","",null,1,1,2,270,"HABILITADO  TEMPORALMENTE A COMPETENCIAS FEI",null,null,null,{"$f":"VLOOKUP(B205,#REF!,3,FALSE)","v":{"$error":"#REF!"}}]
[null,"A","VALDEZ ESTEBAN",null,null,null,null,null,null,null,null,null,null,null,"","","","","","","",null,null,null,"","","","",null,"",null,"",null,null,null,null,null,"","","","",null,"","","","",null,0,0,0,0,"NO INICIA SU CLASIFICACIÓN",null,null,null,{"$f":"VLOOKUP(B206,#REF!,3,FALSE)","v":{"$error":"#REF!"}}]
["C","A156","VALDIVIESO ISABEL",null,null,null,null,null,null,null,null,null,null,null,null,null,null,null,null,null,null,40,null,40,null,null,null,null,null,null,null,null,null,null,null,null,null,"","","","",null,"","","","",null,2,0,0,80,"HABILITADO A 80KM VELOCIDAD CONTROLADA",null,null,null,{"$f":"VLOOKUP(B207,#REF!,3,FALSE)","v":{"$error":"#REF!"}}]
["C","C","VALDIVIESO JUAN FERNANDO",null,null,null,null,null,null,null,null,null,null,null,null,null,null,null,null,null,null,null,null,null,null,null,null,null,null,null,null,null,null,null,null,null,null,"","","","",null,"","","","",null,0,0,0,0,"NO INICIA SU CLASIFICACIÓN",null,null,null,{"$f":"VLOOKUP(B208,#REF!,3,FALSE)","v":{"$error":"#REF!"}}]
["C","A157","VEGA CALDERON ANDRES",null,null,null,null,null,null,null,null,null,null,null,null,null,null,null,null,null,null,null,null,null,null,null,null,null,null,null,null,null,null,null,null,null,null,"","","","",null,"","","","",null,0,0,0,0,"NO INICIA SU CLASIFICACIÓN",null,null,null,{"$f":"VLOOKUP(B209,#REF!,3,FALSE)","v":{"$error":"#REF!"}}]
["A056","A","VELASTEGUI ESTEFANIA",null,null,null,null,null,null,null,null,null,null,null,"","","","","","","",null,null,null,"","","","",null,"",null,"",null,null,null,null,null,"","","","",null,"","","","",null,0,0,0,0,"NO INICIA SU CLASIFICACIÓN",null,null,null,{"$f":"VLOOKUP(B210,#REF!,3,FALSE)","v":{"$error":"#REF!"}}]
[null,"A171","VELEZ MENA MARIA CONSUELO",null,null,null,null,null,null,null,null,null,null,null,null,null,null,null,null,null,null,null,null,null,null,null,null,null,null,null,null,null,null,null,null,null,null,45,63,"","",null,"",82,82,"",null,{"$f":"COUNTIF(J211:AU211,\"<60\")","v":1},{"$f":"COUNT(J211:AU211)-AV211-AX211","v":1},{"$f":"COUNTIF(J211:AU211,\">=80\")","v":2},272,"HABILITADO  TEMPORALMENTE A COMPETENCIAS FEI",{"$f":"+IF(AND(AY211>240,AX211>=1),\"CLASIFICADO A COMPETENCIAS FEI\",IF(AND(AY211>199,AX211>=1),\"LE FALTA UNA DE 40 Km\",IF(AND(AY211>179,AX211>=1),\"LE FALTA UNA DE 60 Km\",IF(AND(AY211>160),\"LE FALTA UNA DE 80 Km\",\"LE FALTA  \"&240-AY211&\"Km\"))))","v":"CLASIFICADO A COMPETENCIAS FEI"},null,null,{"$f":"VLOOKUP(B211,#REF!,3,FALSE)","v":{"$error":"#REF!"}}]
[null,"A","VERA  ZAMBRANO VIVIANA",null,null,null,null,null,null,null,null,null,null,null,"","","","","","","",null,null,null,"","","","",null,"",null,"",null,null,null,null,null,"","","","",null,"","","","",null,{"$f":"COUNTIF(D212:AU212,\"<60\")","v":0},{"$f":"COUNT(D212:AU212)-AV212-AX212","v":0},{"$f":"COUNTIF(D212:AU212,\">=80\")","v":0},0,"NO INICIA SU CLASIFICACIÓN",null,null,null,{"$f":"VLOOKUP(B212,#REF!,3,FALSE)","v":{"$error":"#REF!"}}]
[null,"A","VERA ZAMBRANO CARLOS ",null,null,null,null,null,null,null,null,null,null,null,"","","","","","","",null,null,null,"","","","",null,"",null,"",null,null,null,null,null,"","","","",null,"","","","",null,0,0,0,0,"NO INICIA SU CLASIFICACIÓN",null,null,null,{"$f":"VLOOKUP(B213,#REF!,3,FALSE)","v":{"$error":"#REF!"}}]
[null,"A","VERA ZAMBRANO MONICA",null,null,null,null,null,null,null,null,null,null,null,"","","","","","","",null,null,null,"","","","",null,"",null,"",null,null,null,null,null,"","","","",null,"","","","",null,0,0,0,0,"NO INICIA SU CLASIFICACIÓN",null,null,null,{"$f":"VLOOKUP(B214,#REF!,3,FALSE)","v":{"$error":"#REF!"}}]
[null,"A003","VERGARA JUAN",null,null,null,null,null,null,null,null,null,null,null,null,null,null,null,null,null,"",null,null,null,"","","","",null,"",null,"",null,null,null,null,null,"","","","",null,"","","","",null,0,0,0,0,"NO INICIA SU CLASIFICACIÓN",null,null,null,{"$f":"VLOOKUP(B215,#REF!,3,FALSE)","v":{"$error":"#REF!"}}]
[null,"A017","VILLACIS FERNANDO",null,null,null,null,null,null,null,null,null,null,null,null,null,null,null,null,null,"",null,null,null,"","","","",null,"",null,"",null,null,null,null,null,"","","","",null,"","","","",null,0,0,0,0,"NO INICIA SU CLASIFICACIÓN",{"$f":"+IF(AND(AY216>240,AX216>=1),\"CLASIFICADO A COMPETENCIAS FEI\",IF(AND(AY216>199,AX216>=1),\"LE FALTA UNA DE 40 Km\",IF(AND(AY216>179,AX216>=1),\"LE FALTA UNA DE 60 Km\",IF(AND(AY216>160),\"LE FALTA UNA DE 80 Km\",\"LE FALTA  \"&240-AY216&\"Km\"))))","v":"LE FALTA  240Km"},null,null,{"$f":"VLOOKUP(B216,#REF!,3,FALSE)","v":{"$error":"#REF!"}}]
["I009","A","VILLARROEL LUIS ALFONSO",null,null,null,null,null,null,null,null,null,null,null,null,null,null,null,null,42,null,null,null,null,"","","","",null,"",null,"",null,null,null,null,null,"","","","",null,"","","","",null,1,0,0,42,"INICIO SU CLASIFICACIÓN",{"$f":"+IF(AND(AY217>240,AX217>=1),\"CLASIFICADO A COMPETENCIAS FEI\",IF(AND(AY217>199,AX217>=1),\"LE FALTA UNA DE 40 Km\",IF(AND(AY217>179,AX217>=1),\"LE FALTA UNA DE 60 Km\",IF(AND(AY217>160),\"LE FALTA UNA DE 80 Km\",\"LE FALTA  \"&240-AY217&\"Km\"))))","v":"LE FALTA  198Km"},null,null,{"$f":"VLOOKUP(B217,#REF!,3,FALSE)","v":{"$error":"#REF!"}}]
[null,"A001","VINTIMILLA PAULINO",null,null,null,null,null,null,null,null,null,null,null,null,null,null,null,null,null,"",null,null,null,"","","","",null,"",null,"",null,null,null,null,42,"","","","",null,"","","","",null,1,0,0,42,"INICIO SU CLASIFICACIÓN",{"$f":"+IF(AND(AY218>240,AX218>=1),\"CLASIFICADO A COMPETENCIAS FEI\",IF(AND(AY218>199,AX218>=1),\"LE FALTA UNA DE 40 Km\",IF(AND(AY218>179,AX218>=1),\"LE FALTA UNA DE 60 Km\",IF(AND(AY218>160),\"LE FALTA UNA DE 80 Km\",\"LE FALTA  \"&240-AY218&\"Km\"))))","v":"LE FALTA  198Km"},null,null,{"$f":"VLOOKUP(B218,#REF!,3,FALSE)","v":{"$error":"#REF!"}}]
["A137","A092","VITIMILLA SERRANO PABLO",null,null,null,null,null,null,null,null,null,null,null,null,60,60,null,null,42,null,80,null,null,40,"","","",null,"",80,"",83,null,null,null,null,"",47,"","",null,"","",42,"",null,4,2,3,534,"HABILITADO  TEMPORALMENTE A COMPETENCIAS FEI",null,null,null,{"$f":"VLOOKUP(B219,#REF!,3,FALSE)","v":{"$error":"#REF!"}}]
["A135","A055","WEEMAELS NATHALIE",null,null,null,null,null,null,null,null,null,null,null,"",41,44,44,62,"",81,null,81,null,"","","","",null,"",null,"",null,null,null,null,null,"","","","",null,"","","","",null,3,1,2,353,"HABILITADO  TEMPORALMENTE A COMPETENCIAS FEI",{"$f":"+IF(AND(AY220>240,AX220>=1),\"CLASIFICADO A COMPETENCIAS FEI\",IF(AND(AY220>199,AX220>=1),\"LE FALTA UNA DE 40 Km\",IF(AND(AY220>179,AX220>=1),\"LE FALTA UNA DE 60 Km\",IF(AND(AY220>160),\"LE FALTA UNA DE 80 Km\",\"LE FALTA  \"&240-AY220&\"Km\"))))","v":"CLASIFICADO A COMPETENCIAS FEI"},null,null,{"$f":"VLOOKUP(B220,#REF!,3,FALSE)","v":{"$error":"#REF!"}}]
["C","A158","WILLIAMS JEMMA",null,null,null,null,null,null,null,null,null,null,null,null,null,null,null,null,null,null,null,null,null,null,null,null,null,null,null,null,null,null,null,null,null,null,null,47,43,"",null,"","","","",null,2,0,0,90,"HABILITADO A 80KM VELOCIDAD CONTROLADA",null,null,null,{"$f":"VLOOKUP(B221,#REF!,3,FALSE)","v":{"$error":"#REF!"}}]
["A109","A","WRAY ESPINOZA ROBERTO",null,null,null,null,null,null,null,null,null,null,null,"","","","",62,"","",null,null,null,"","","","",null,"",null,"",null,null,null,null,null,"","","","",null,"","","","",null,0,1,0,62,"INICIO SU CLASIFICACIÓN",{"$f":"+IF(AND(AY222>240,AX222>=1),\"CLASIFICADO A COMPETENCIAS FEI\",IF(AND(AY222>199,AX222>=1),\"LE FALTA UNA DE 40 Km\",IF(AND(AY222>179,AX222>=1),\"LE FALTA UNA DE 60 Km\",IF(AND(AY222>160),\"LE FALTA UNA DE 80 Km\",\"LE FALTA  \"&240-AY222&\"Km\"))))","v":"LE FALTA  178Km"},null,null,{"$f":"VLOOKUP(B222,#REF!,3,FALSE)","v":{"$error":"#REF!"}}]
["A004","A","WRAY VINUEZA ROBERTO",null,null,null,null,null,null,81,80,null,null,null,44,"",44,"",43,"","",null,null,null,"","","","",null,"",null,"",null,null,null,null,null,"","","","",null,"","","","",null,3,0,2,292,"HABILITADO  TEMPORALMENTE A COMPETENCIAS FEI","CLASIFICADO A COMPETENCIAS FEI",null,null,{"$f":"VLOOKUP(B223,#REF!,3,FALSE)","v":{"$error":"#REF!"}}]
["A031","A","YANASCUAL FELIX",null,null,null,null,null,null,null,null,null,null,null,"","","","","","","",null,null,null,"","","","",null,"",null,"",null,null,null,null,null,"","","","",null,"","","","",null,0,0,0,0,"NO INICIA SU CLASIFICACIÓN","LE FALTA  240Km",null,null,{"$f":"VLOOKUP(B224,#REF!,3,FALSE)","v":{"$error":"#REF!"}}]
[null,"A","YANEZ MARCO DAVID ",null,null,null,null,null,null,null,null,null,null,null,"","","","","","","",null,null,null,"","","","",null,"",null,"",null,null,null,null,null,"","","","",null,"","","","",null,0,0,0,0,"NO INICIA SU CLASIFICACIÓN","LE FALTA  240Km",null,null,{"$f":"VLOOKUP(B225,#REF!,3,FALSE)","v":{"$error":"#REF!"}}]
["A027","A","YAZIGI LASSO ALEJANDRO",null,null,null,null,null,null,null,null,null,null,null,44,41,"","","",42,"",null,null,null,"","","","",null,"",null,"",null,null,null,null,null,"","","","",null,"","","","",null,3,0,0,127,"HABILITADO A 80KM VELOCIDAD CONTROLADA","LE FALTA  113Km",null,null,{"$f":"VLOOKUP(B226,#REF!,3,FALSE)","v":{"$error":"#REF!"}}]
[null,"A009","YEROVI MARÍA ELENA",null,null,null,null,null,null,null,null,null,null,null,null,null,null,null,null,null,"",null,null,null,"","","","",null,"",null,"",null,null,null,null,null,"","",{"$f":"IFERROR($BD227,\"\")","v":""},"",null,"","","","",null,0,0,0,0,"NO INICIA SU CLASIFICACIÓN","LE FALTA  240Km",null,null,{"$f":"VLOOKUP(B227,#REF!,3,FALSE)","v":{"$error":"#REF!"}}]
[null,"A","ZAMBRANO NELLY",null,null,null,null,null,null,null,null,null,null,null,"","","","","","","",null,null,null,"","","","",null,null,null,null,null,null,null,null,null,"","","","",null,"","","","",null,0,0,0,0,"NO INICIA SU CLASIFICACIÓN",null,null,null,{"$f":"VLOOKUP(B228,#REF!,3,FALSE)","v":{"$error":"#REF!"}}]
[1000,1000,"ZZZZZZZZZ",null,null,null,null,null,null,null,null,null,null,null,"","","",null,null,null,null,null,null,null,"","",null,"",{"$f":"IFERROR($BD229,\"\")","v":""},"",{"$f":"IFERROR($BD229,\"\")","v":""},"","","","","","","","",{"$f":"IFERROR($BD229,\"\")","v":""},"",{"$f":"IFERROR($BD229,\"\")","v":""},"","","","",{"$f":"IFERROR($BD229,\"\")","v":""},0,0,0,0,"NO INICIA SU CLASIFICACIÓN",null,null,null,{"$f":"VLOOKUP(B229,#REF!,3,FALSE)","v":{"$error":"#REF!"}}]
[null,null,null,null,null,null,null,null,null,null,null,null,null,null,null,null,null,null,null,null,null,null,null,null,null,null,null,null,null,null,null,null,null,null,null,null,null,null,null,null,null,null,null,null,null,null,null,{"$f":"COUNTIF(J230:AU230,\"<60\")","v":0},{"$f":"COUNT(J230:AU230)-AV230-AX230","v":0},{"$f":"COUNTIF(J230:AU230,\">=80\")","v":0},0,"NO INICIA SU CLASIFICACIÓN",{"$f":"+IF(AND(AY230>240,AX230>=1),\"CLASIFICADO A COMPETENCIAS FEI\",IF(AND(AY230>199,AX230>=1),\"LE FALTA UNA DE 40 Km\",IF(AND(AY230>179,AX230>=1),\"LE FALTA UNA DE 60 Km\",IF(AND(AY230>160),\"LE FALTA UNA DE 80 Km\",\"LE FALTA  \"&240-AY230&\"Km\"))))","v":"LE FALTA  240Km"},null,null,{"$f":"VLOOKUP(B230,#REF!,3,FALSE)","v":{"$error":"#REF!"}}]
[null,null,null,null,null,null,null,null,null,null,null,null,null,null,null,null,null,null,null,null,null,null,null,null,null,null,null,null,null,null,null,null,null,null,null,null,null,null,null,null,null,null,null,null,null,null,null,null,null,{"$f":"IF(AV231>=60,\"CLASIFICADO A 60 Km LIBRE y 80 Km NOVICIO\",IF(AV231>=40,\"CLASIFICADO A 40 Km LIBRE y 60 Km NOVICIO\",\"\"))","v":""}]
[null,null,null,null,null,null,null,null,null,null,null,null,null,null,null,null,null,null,null,null,null,null,null,null,null,"AZUL COMPETENCIAS DE CUENCA",null,null,null,null,null,null,null,null,null,null,null,"nota","Las anotaciones en roja corresponden a la clasificatoria de Cuenca"]
[]
[]
[]
[]
[]
[]
[]
[]
[]
[]
[]
[]
[]
[]
[]
[]
[null,null,null,null,null,null,null,null,null,null,null,null,null,null,null,null,null,null,null,null,null,null,null,null,null,null,null,null,null,null,null,null,null,null,null,null,null,null,null,null,null,null,null,null,null,null,null,null,null,{"$f":"IF(AV249>=60,\"CLASIFICADO A 60 Km LIBRE y 80 Km NOVICIO\",IF(AV249>=40,\"CLASIFICADO A 40 Km LIBRE y 60 Km NOVICIO\",\"\"))","v":""}]

{"sheet":"V C CAB","index":18,"n_rows":430,"n_cols":57,"rows_kept":430,"cut":false,"hidden":false,"merged":[[3,0,3,1],[4,0,4,1],[0,6,2,48],[4,4,4,8],[4,10,4,14],[4,15,4,20],[3,4,3,47],[4,21,4,27],[4,38,4,47],[4,28,4,37]]}
[null,"DERECHO ADQUIRIDO",null,null,null,null,null,null,null,null,null,null,null,null,null,null,null,null,null,null,null,null,null,null,null,null,null,null,null,null,null,null,null,null,null,null,null,null,null,null,null,null,null,null,null,null,null,null,null,null,null,null,"AUMENTAR JINETES JUVENILES","CLASIFICADO A COMPETENCIAS FEI",{"$f":"COUNTIF(BB7:BB524, \"CLASIFICADO A COMPETENCIAS FEI\")","v":68}]
[null,"VEL0CIDAD CONTROLADA",null,null,null,null,null,null,null,null,null,null,null,null,null,null,null,null,null,null,null,null,null,null,null,null,null,null,null,null,null,null,null,null,null,null,null,null,null,null,null,null,null,null,null,null,null,null,null,null,null,null,null,"LE FALTA UNA DE 40 Km",{"$f":"COUNTIF(BB7:BB525, \"LE FALTA UNA DE 40 Km\")","v":12}]
[null,null,null,null,null,null,null,null,null,null,null,null,null,null,null,null,null,null,null,null,null,null,null,null,null,null,null,null,null,null,null,null,null,null,null,null,null,null,null,null,null,null,null,null,null,null,null,null,null,null,null,null,"ORDENAR POR EL NONMBRE","LE FALTA UNA DE 60 Km",{"$f":"COUNTIF(BB7:BB526, \"LE FALTA UNA DE 60 Km\")","v":2}]
[null,null,"CABALLOS","JINETE/DUEÑO","KILOMETRAJE",null,null,null,null,null,null,null,null,null,null,null,null,null,null,null,null,null,null,null,null,null,null,null,null,null,null,null,null,null,null,null,null,null,null,null,null,null,null,null,null,null,null,null,null,null,null,null,null,"LE FALTA UNA DE 80 KM",{"$f":"COUNTIF(BB7:BB525, \"LE FALTA UNA DE 80 KM\")","v":27}]
["CODIGO",null,null,null,2009,null,null,null,null,null,2010,null,null,null,null,2011,null,null,null,null,null,2012,null,null,null,null,null,null,2013,null,null,null,null,null,null,null,null,null,2014,null,null,null,null,null,null,null,null,null,null,"RESUMEN",null,null,"SEGÚN REGLAMENTO NACIONAL Y FEI","TOTAL",{"$f":"SUM(BC1:BC4)","v":109}]
["ANTERIOR","NUEVO","CABALLOS",null,"I CHONE","II CHONE","III CHONE","IV CHONE","V CHONE","VI CHONE","I CHONE","II CHONE","III CHONE","IV CHONE","V CHONE","I CHONE","II CHONE","III CHONE","IV CHONE","V CHONE","VI CHONE","I CHONE","I CUENCA","II CHONE","III CHONE","IV CHONE","V CHONE","VI CHONE","I CHONE","II CHONE","III CHONE","IV CHONE","V CHONE","VI CHONE","VII CHONE","VIII CHONE","IX CHONE","X CHONE","I CHONE","II CHONE","III CHONE","IV CHONE","V CHONE","VI CHONE","VII CHONE","VIII CHONE","IX CHONE","X CHONE",">=40<60",">=60<80",">=80","ACUMULADO",null,null,null,null,"CRTL+MAY+K"]
["B","C","AARON",null,null,null,null,null,null,null,null,null,null,null,"",null,41,"","","","",null,null,null,"","","",null,null,null,null,null,null,null,null,null,null,null,"","","",null,null,"",null,"","",null,{"$f":"COUNTIF(E7:AV7,\"<60\")","v":1},{"$f":"COUNT(E7:AV7)-AW7-AY7","v":0},{"$f":"COUNTIF(E7:AV7,\">=80\")","v":0},{"$f":"SUM(D7:AV7)","v":41},{"$f":"IF(OR(AY7>2,AND(AY7>1,(AW7+AX7)>1)),\"HABILITADO  TEMPORALMENTE A COMPETENCIAS FEI\",IF(AND(AY7=1,(AW7+AX7)>1),\"LE FALTA UNA DE 80 A 90 CONTROLADA\",IF((AW7+AX7)>1,\"HABILITADO A 80KM VELOCIDAD CONTROLADA\",IF((AW7+AX7)>0,\"INICIO SU CLASIFICACIÓN\",\"NO INICIA SU CLASIFICACIÓN\"))))","v":"INICIO SU CLASIFICACIÓN"},{"$f":"+IF(AND(AZ7>240,AY7>=1),\"CLASIFICADO A COMPETENCIAS FEI\",IF(AND(AZ7>199,AY7>=1),\"LE FALTA UNA DE 40 Km\",IF(AND(AZ7>179,AY7>=1),\"LE FALTA UNA DE 60 Km\",IF(AND(AZ7>160),\"LE FALTA UNA DE 80 Km\",\"LE FALTA  \"&240-AZ7&\"Km\"))))","v":"LE FALTA  199Km"},null,{"$f":"VLOOKUP(B7,#REF!,3,FALSE)","v":{"$error":"#REF!"}}]
["B","C010","ADEBERAN","FELIPE MENECES",{"$f":"IF(AND('V L AB'!D13>0,'V L CAB'!E68>0),'V L AB'!D13,IF(AND('V C AB'!D13>0,'V C CAB'!E68>0),'V C AB'!D13,\"\"))","v":""},null,null,null,null,null,null,null,null,null,null,null,null,null,null,null,null,"",null,null,null,"","","","",null,"",null,"",null,null,null,null,null,"","","",null,null,"",null,"","",null,0,0,0,0,"NO INICIA SU CLASIFICACIÓN","LE FALTA  240Km",null,{"$f":"VLOOKUP(B8,#REF!,3,FALSE)","v":{"$error":"#REF!"}}]
["B","C209","AISHA","NOBOA MAURICIO",null,null,null,null,null,null,null,null,null,null,null,null,null,null,null,null,null,null,null,null,null,null,null,null,null,null,null,null,42,null,40,45,null,42,45,"","",null,null,"",null,"","",null,5,0,0,214,"HABILITADO A 80KM VELOCIDAD CONTROLADA","LE FALTA UNA DE 80 Km",null,{"$f":"VLOOKUP(B9,#REF!,3,FALSE)","v":{"$error":"#REF!"}}]
["B","C","AL HUAIRA",null,null,null,null,null,null,null,null,null,null,null,null,"","","","","","","",null,null,null,"","","","",null,"",null,"",null,null,null,null,null,"","","",null,null,"",null,"","",null,0,0,0,0,"NO INICIA SU CLASIFICACIÓN","LE FALTA  240Km",null,{"$f":"VLOOKUP(B10,#REF!,3,FALSE)","v":{"$error":"#REF!"}}]
["B","C","AL ZAFIA",null,null,null,null,null,null,null,null,null,null,null,null,"","","","","","","",null,null,null,"","","","",null,"",null,"",null,null,null,null,null,"","","",null,null,"",null,"","",null,0,0,0,0,"NO INICIA SU CLASIFICACIÓN","LE FALTA  240Km",null,{"$f":"VLOOKUP(B11,#REF!,3,FALSE)","v":{"$error":"#REF!"}},"CRTL+MAY+R"]
["B","C","ALADINO",null,null,null,null,null,null,null,null,null,null,null,null,"","","","","","","",null,null,null,"","","","",null,"",null,"",null,null,null,null,null,"","","",null,null,"",null,"","",null,0,0,0,0,"NO INICIA SU CLASIFICACIÓN","LE FALTA  240Km",null,{"$f":"VLOOKUP(B12,#REF!,3,FALSE)","v":{"$error":"#REF!"}}]
["C023","C100","ALELI ","JOSE IGNACIO MIÑO",{"$f":"IF(AND('V L JUV'!D62>0,'V L CAB'!E90>0),'V L JUV'!D62,IF(AND('V C JUV'!D62>0,'V C CAB'!E90>0),'V C JUV'!D62,\"\"))","v":""},"","","","","","",40,null,"",42,"",82,87,87,null,"",null,"",null,"",80,null,"",null,"","","","","","","","","","","","","",{"$f":"IF(AND('V L JUV'!AP62>0,'V L CAB'!AQ90>0),'V L JUV'!AP62,IF(AND('V C JUV'!AP62>0,'V C CAB'!AQ90>0),'V C JUV'!AP62,\"\"))","v":""},"","","","",{"$f":"IF(AND('V L JUV'!AU62>0,'V L CAB'!AV90>0),'V L JUV'!AU62,IF(AND('V C JUV'!AU62>0,'V C CAB'!AV90>0),'V C JUV'!AU62,\"\"))","v":""},2,0,4,418,"HABILITADO  TEMPORALMENTE A COMPETENCIAS FEI","CLASIFICADO A COMPETENCIAS FEI",null,{"$f":"VLOOKUP(B13,#REF!,3,FALSE)","v":{"$error":"#REF!"}}]
[null,"C143","ALI","MAZAPANTA KEVIN",null,null,null,null,null,null,null,null,null,null,null,null,null,null,null,null,null,null,null,null,null,null,null,null,null,null,null,null,null,null,null,null,null,null,"","",43,43,null,"","","",90,null,2,0,1,176,"LE FALTA UNA DE 80 A 90 CONTROLADA","LE FALTA UNA DE 80 Km",null,{"$f":"VLOOKUP(B14,#REF!,3,FALSE)","v":{"$error":"#REF!"}}]
["C051","C083","ALI  BABA","MARIA CECILIA ALZAMORA",null,null,null,null,null,null,null,40,null,null,null,62,62,"","",43,42,81,null,81,null,"","","","",null,"",null,"",null,null,null,null,null,"","","","",null,"","","","",null,3,2,2,411,"HABILITADO  TEMPORALMENTE A COMPETENCIAS FEI","CLASIFICADO A COMPETENCIAS FEI",null,{"$f":"VLOOKUP(B15,#REF!,3,FALSE)","v":{"$error":"#REF!"}}]
["B","C","ALIA",null,null,null,null,null,null,null,null,null,null,null,null,"",null,null,null,43,"","",null,null,null,"","","","",null,"",null,"",null,null,null,null,null,"","","","",null,"","","","",null,1,0,0,43,"INICIO SU CLASIFICACIÓN","LE FALTA  197Km",null,{"$f":"VLOOKUP(B16,#REF!,3,FALSE)","v":{"$error":"#REF!"}}]
["CC","C245","AMARANTA","MUNOZ GARCIA RENATO ISMAEL",null,null,null,null,null,null,null,null,null,null,null,null,null,null,null,null,null,null,null,40,null,null,null,null,null,null,null,null,null,null,null,null,null,null,"","","","",null,"","","","",null,1,0,0,40,"INICIO SU CLASIFICACIÓN","LE FALTA  200Km",null,{"$f":"VLOOKUP(B17,#REF!,3,FALSE)","v":{"$error":"#REF!"}}]
["B","C046","AMARETO","JOSE LETORT",null,null,null,null,null,null,null,null,null,null,null,null,null,null,null,null,42,44,null,60,null,"",90,82,"",null,"",null,"",null,null,null,null,null,"","","","",null,"","","","",null,2,1,2,318,"HABILITADO  TEMPORALMENTE A COMPETENCIAS FEI","CLASIFICADO A COMPETENCIAS FEI",null,{"$f":"VLOOKUP(B18,#REF!,3,FALSE)","v":{"$error":"#REF!"}}]
["C222","C102","AMID","RICARDO DUEÑAS",null,null,null,null,null,null,null,null,null,null,null,"",41,"",65,62,"","",null,null,null,"","","","",null,"",null,"",null,null,null,null,null,"","","","",null,"","","","",null,1,2,0,168,"HABILITADO A 80KM VELOCIDAD CONTROLADA","LE FALTA UNA DE 80 Km",null,{"$f":"VLOOKUP(B19,#REF!,3,FALSE)","v":{"$error":"#REF!"}}]
["B","C","AMIRA II RD",null,null,null,null,null,null,null,81,80,null,null,null,"","","","","","","",null,null,null,"","","","",null,"",null,"",null,null,null,null,null,"","","","",null,"","","","",null,0,0,2,161,"NO INICIA SU CLASIFICACIÓN","LE FALTA UNA DE 80 Km",null,{"$f":"VLOOKUP(B20,#REF!,3,FALSE)","v":{"$error":"#REF!"}}]
["CC","C246","AN SHARIF","DONOSO CARRASCO MARIA DANIELA",null,null,null,null,null,null,null,null,null,null,null,null,null,null,null,null,null,null,40,40,40,40,null,null,null,null,null,null,null,null,null,null,null,null,"","","","",null,"","","","",null,4,0,0,160,"HABILITADO A 80KM VELOCIDAD CONTROLADA","LE FALTA  80Km",null,{"$f":"VLOOKUP(B21,#REF!,3,FALSE)","v":{"$error":"#REF!"}}]
["CC","C247","ANNIE","WILLIAMS JEMMA",null,null,null,null,null,null,null,null,null,null,null,null,null,null,null,null,null,null,null,null,40,null,null,null,null,null,null,null,null,null,null,null,null,null,"","","","",null,"","","","",null,1,0,0,40,"INICIO SU CLASIFICACIÓN","LE FALTA  200Km",null,{"$f":"VLOOKUP(B22,#REF!,3,FALSE)","v":{"$error":"#REF!"}}]
["CC","C248","APOLO","BOADA DOMENICA",null,null,null,null,null,null,null,null,null,null,null,null,null,60,null,null,null,null,null,null,null,null,null,null,null,null,null,44,null,null,null,null,null,null,"","","","",null,"","","","",null,1,1,0,104,"HABILITADO A 80KM VELOCIDAD CONTROLADA","LE FALTA  136Km",null,{"$f":"VLOOKUP(B23,#REF!,3,FALSE)","v":{"$error":"#REF!"}}]
["CC","C249","APOLO LA CHAMIZA","DONOSO LOYOLA SEBASTIAN FERNANDO",null,null,null,null,null,null,null,null,null,null,null,null,60,null,null,null,null,null,80,80,null,null,null,null,null,null,null,null,null,null,null,null,null,null,"","","","",null,"","","","",null,0,1,2,220,"INICIO SU CLASIFICACIÓN","LE FALTA UNA DE 40 Km",null,{"$f":"VLOOKUP(B24,#REF!,3,FALSE)","v":{"$error":"#REF!"}}]
[null,"C204","AR ALBATSYN","ARTURO RIBADENEIRA",null,null,null,null,null,null,null,null,null,null,null,null,null,null,null,null,null,null,null,null,null,null,null,null,null,null,null,null,null,null,null,null,42,null,null,null,"",43,null,"","","","",null,2,0,0,85,"HABILITADO A 80KM VELOCIDAD CONTROLADA","LE FALTA  155Km",null,{"$f":"VLOOKUP(B25,#REF!,3,FALSE)","v":{"$error":"#REF!"}}]
["C007","C103","AR AMIRA","ORLANDO QUIROZ",null,null,null,null,null,null,null,null,null,80,42,"",62,"",65,62,42,"",null,null,null,"","","","",null,"",null,"",null,null,null,null,null,"","","","",null,"","","","",null,2,3,1,353,"LE FALTA UNA DE 80 A 90 CONTROLADA","CLASIFICADO A COMPETENCIAS FEI",null,{"$f":"VLOOKUP(B26,#REF!,3,FALSE)","v":{"$error":"#REF!"}}]
["C100","C096","AR FAISAN","ARTURO RIBADENEIRA",null,null,null,null,null,null,"",80,null,80,83,81,"","","","","","",null,null,null,"","","","",null,"",null,"",null,null,null,null,null,"","","","",null,"","","","",null,0,0,4,324,"HABILITADO  TEMPORALMENTE A COMPETENCIAS FEI","CLASIFICADO A COMPETENCIAS FEI",null,{"$f":"VLOOKUP(B27,#REF!,3,FALSE)","v":{"$error":"#REF!"}}]
["B","C163","AR SEGOVIA",null,null,null,null,null,null,null,null,null,null,null,42,"","",44,"","","","",null,null,null,"","","","",null,"",null,"",null,null,null,null,42,43,"","","",null,"","","","",null,4,0,0,171,"HABILITADO A 80KM VELOCIDAD CONTROLADA","LE FALTA UNA DE 80 Km",null,{"$f":"VLOOKUP(B28,#REF!,3,FALSE)","v":{"$error":"#REF!"}}]
["B","C","AR TAMARA",null,null,null,null,null,null,null,null,80,null,null,null,"",null,"","","","","",null,null,null,"","","","",null,"",null,"",null,null,null,null,null,"","","","",null,"","","","",null,0,0,1,80,"NO INICIA SU CLASIFICACIÓN","LE FALTA  160Km",null,{"$f":"VLOOKUP(B29,#REF!,3,FALSE)","v":{"$error":"#REF!"}}]
["C271","C038","ARABITA","TOMAS ESPINOZA",null,null,null,null,null,null,null,null,null,null,null,"",null,null,44,"","","",null,60,40,80,"","","",null,82,null,"",null,null,null,null,null,"","","","",null,"","","","",null,2,1,2,306,"HABILITADO  TEMPORALMENTE A COMPETENCIAS FEI","CLASIFICADO A COMPETENCIAS FEI",null,{"$f":"VLOOKUP(B30,#REF!,3,FALSE)","v":{"$error":"#REF!"}}]
["CC","C208","ARAGON","MALO SEBATIAN",null,null,null,null,null,null,null,null,null,null,null,null,null,null,null,null,null,null,40,null,null,null,null,null,null,44,null,63,null,null,null,68,null,82,80,86,"","",null,"","","","",null,2,2,3,463,"HABILITADO  TEMPORALMENTE A COMPETENCIAS FEI","CLASIFICADO A COMPETENCIAS FEI",null,{"$f":"VLOOKUP(B31,#REF!,3,FALSE)","v":{"$error":"#REF!"}}]
["B","C068","ARANDU","ANDRES DARQUEA",null,null,null,null,null,null,null,null,null,null,null,null,null,null,null,null,null,44,40,null,null,"","","",80,null,"",null,"",null,null,null,null,null,"","","","",null,"","","","",null,2,0,1,164,"LE FALTA UNA DE 80 A 90 CONTROLADA","LE FALTA UNA DE 80 Km",null,{"$f":"VLOOKUP(B32,#REF!,3,FALSE)","v":{"$error":"#REF!"}}]
["B","C","ARANJUEZ",null,null,null,null,null,null,null,"","",null,null,null,"","","","","","","",null,null,null,"","","","",null,"",null,"",null,null,null,null,null,"","","","",null,"","","","",null,0,0,0,0,"NO INICIA SU CLASIFICACIÓN","LE FALTA  240Km",null,{"$f":"VLOOKUP(B33,#REF!,3,FALSE)","v":{"$error":"#REF!"}}]
["CC","C232","ASRAEL","BERNARDA GONZALEZ",null,null,null,null,null,null,null,null,null,null,null,null,null,null,null,null,null,null,null,null,null,null,null,null,null,44,null,44,null,42,null,null,null,82,80,"","","",null,"","","","",null,3,0,2,292,"HABILITADO  TEMPORALMENTE A COMPETENCIAS FEI","CLASIFICADO A COMPETENCIAS FEI",null,{"$f":"VLOOKUP(B34,#REF!,3,FALSE)","v":{"$error":"#REF!"}}]
["B","C063","ATENEA","JONATHAN LLUMIQUINGA",null,null,null,null,null,null,null,null,null,null,null,null,null,null,null,null,null,"",null,null,null,"","","","",null,"",null,"",null,null,null,null,null,"","","","",null,"","","","",null,0,0,0,0,"NO INICIA SU CLASIFICACIÓN","LE FALTA  240Km",null,{"$f":"VLOOKUP(B35,#REF!,3,FALSE)","v":{"$error":"#REF!"}}]
["CC","C250","ATLANTA","GOTTIFREDI NEIRA FRANCISCO AGUSTIN",null,null,null,null,null,null,null,null,null,null,null,null,null,null,null,null,null,null,40,null,null,null,null,null,null,null,null,null,null,null,null,null,null,null,"","","","",null,"","","","",null,1,0,0,40,"INICIO SU CLASIFICACIÓN","LE FALTA  200Km",null,{"$f":"VLOOKUP(B36,#REF!,3,FALSE)","v":{"$error":"#REF!"}}]
["C098","C037","ATREVIDO","JUAN DIEGO HERRERA",null,null,null,null,null,null,null,null,null,null,null,"",41,"",44,43,"","",null,null,null,"","","","",null,"",null,"",null,null,null,null,null,"","","","",null,"","","","",null,3,0,0,128,"HABILITADO A 80KM VELOCIDAD CONTROLADA","LE FALTA  112Km",null,{"$f":"VLOOKUP(B37,#REF!,3,FALSE)","v":{"$error":"#REF!"}}]
["B","C115","AVENTURERO","HECTOR ALMEIDA AYALA",null,null,null,null,null,null,null,null,null,null,null,null,null,null,null,null,null,null,null,null,null,null,null,null,48,null,"",null,"",null,40,null,null,null,84,"",84,"",null,"","","","",null,2,0,2,256,"HABILITADO  TEMPORALMENTE A COMPETENCIAS FEI","CLASIFICADO A COMPETENCIAS FEI",null,{"$f":"VLOOKUP(B38,#REF!,3,FALSE)","v":{"$error":"#REF!"}}]
["CC","C251","AVENTURERO","NOBOA MAURICIO",null,null,null,null,null,null,null,null,null,null,null,null,null,null,null,null,null,null,null,null,null,null,null,null,null,null,null,null,null,null,null,45,null,null,"","","","",null,"","","","",null,1,0,0,45,"INICIO SU CLASIFICACIÓN","LE FALTA  195Km",null,{"$f":"VLOOKUP(B39,#REF!,3,FALSE)","v":{"$error":"#REF!"}}]
["B","C023","AZABACHE","CESAR ANDRES LEON PROAÑO",null,null,null,null,null,null,null,null,null,null,null,"","","","","","","",null,null,null,"","","","",null,"",null,"",null,null,null,null,null,"","","","",null,"","","","",null,0,0,0,0,"NO INICIA SU CLASIFICACIÓN","LE FALTA  240Km",null,{"$f":"VLOOKUP(B40,#REF!,3,FALSE)","v":{"$error":"#REF!"}}]
["B","C157","AZUCENA","JARAMILLO BENITO",null,null,null,null,null,null,null,null,null,null,null,null,null,null,null,null,null,null,null,null,null,null,null,null,null,null,null,null,null,null,null,null,42,null,"","","","",null,"","","","",null,1,0,0,42,"INICIO SU CLASIFICACIÓN","LE FALTA  198Km",null,{"$f":"VLOOKUP(B41,#REF!,3,FALSE)","v":{"$error":"#REF!"}}]
["B","C124","BAILARINA","GUARDERAS ARTETA PEDRO",null,null,null,null,null,null,null,null,null,null,null,null,null,null,null,null,null,null,null,null,null,"","","","",null,"",null,"",null,40,null,null,82,"","",84,"",null,"","","","",null,1,0,2,206,"INICIO SU CLASIFICACIÓN","LE FALTA UNA DE 40 Km",null,{"$f":"VLOOKUP(B42,#REF!,3,FALSE)","v":{"$error":"#REF!"}}]
["B","C","BAMBOLA VC",null,null,null,null,null,null,null,null,null,null,null,null,"","","","","","","",null,null,null,"","","","",null,"",null,"",null,null,null,null,null,"","","","",null,"","","","",null,0,0,0,0,"NO INICIA SU CLASIFICACIÓN","LE FALTA  240Km",null,{"$f":"VLOOKUP(B43,#REF!,3,FALSE)","v":{"$error":"#REF!"}}]
["B","C","BARBARITA MS",null,null,null,null,null,null,null,null,null,null,null,null,"","","","","","","",null,null,null,"","","","",null,"",null,"",null,null,null,null,null,"","","","",null,"","","","",null,0,0,0,0,"NO INICIA SU CLASIFICACIÓN","LE FALTA  240Km",null,{"$f":"VLOOKUP(B44,#REF!,3,FALSE)","v":{"$error":"#REF!"}}]
["B","C080","BARON","PEDRO CORNEJO",null,null,null,null,null,null,null,null,null,null,null,null,null,null,null,null,null,62,null,null,null,"","","","",null,"",null,"",null,null,null,null,null,"","","","",null,"","","","",null,0,1,0,62,"INICIO SU CLASIFICACIÓN","LE FALTA  178Km",null,{"$f":"VLOOKUP(B45,#REF!,3,FALSE)","v":{"$error":"#REF!"}}]
["C235","C233","BAUTRUS YUSUF","ALVARO SAMPER",null,null,null,null,null,null,null,null,null,null,null,null,null,null,null,null,null,null,null,null,null,null,null,null,null,null,null,null,null,null,null,null,null,42,43,"","","",null,"","","","",null,2,0,0,85,"HABILITADO A 80KM VELOCIDAD CONTROLADA","LE FALTA  155Km",null,{"$f":"VLOOKUP(B46,#REF!,3,FALSE)","v":{"$error":"#REF!"}}]
["B","C","BAVARIA",null,null,null,null,null,null,null,null,null,null,null,null,"","","","","","","",null,null,null,"","","","",null,"",null,"",null,null,null,null,null,"","","","",null,"","","","",null,0,0,0,0,"NO INICIA SU CLASIFICACIÓN","LE FALTA  240Km",null,{"$f":"VLOOKUP(B47,#REF!,3,FALSE)","v":{"$error":"#REF!"}}]
["B","C013","BAYO K BAYO","NELSON CANDELEJO",null,null,null,null,null,null,null,null,null,null,null,null,null,null,null,null,null,"",null,null,40,"","","","",null,"",null,"",null,null,null,42,null,84,"","","",null,"","","","",null,2,0,1,166,"LE FALTA UNA DE 80 A 90 CONTROLADA","LE FALTA UNA DE 80 Km",null,{"$f":"VLOOKUP(B48,#REF!,3,FALSE)","v":{"$error":"#REF!"}}]
["B","C","BAYON",null,null,null,null,null,null,null,null,null,null,null,null,"","","","","","","",null,null,null,"","","","",null,"",null,"",null,null,null,null,null,"","","","",null,"","","","",null,0,0,0,0,"NO INICIA SU CLASIFICACIÓN","LE FALTA  240Km",null,{"$f":"VLOOKUP(B49,#REF!,3,FALSE)","v":{"$error":"#REF!"}}]
["CC","C252","BIANCA","BERNAL MARTIN",null,null,null,null,null,null,null,null,null,null,null,null,null,null,null,null,null,null,null,null,40,null,null,null,null,null,null,null,null,null,null,null,null,null,"",47,"","",47,"","",42,"",null,4,0,0,176,"HABILITADO A 80KM VELOCIDAD CONTROLADA","LE FALTA UNA DE 80 Km",null,{"$f":"VLOOKUP(B50,#REF!,3,FALSE)","v":{"$error":"#REF!"}}]
["B","C085","BLACK FAIR","BERNARDO DARQUEA",null,null,null,null,null,null,null,null,null,null,null,44,41,44,"","","",81,null,81,null,"","","","",null,82,null,"",null,null,null,null,null,"","","","",null,"","","","",null,3,0,3,373,"HABILITADO  TEMPORALMENTE A COMPETENCIAS FEI","CLASIFICADO A COMPETENCIAS FEI",null,{"$f":"VLOOKUP(B51,#REF!,3,FALSE)","v":{"$error":"#REF!"}}]
[null,"C347","BOEMIO","MALO GONZALEZ JOSE",null,null,null,null,null,null,null,null,null,null,null,null,null,null,null,null,null,null,null,null,null,null,null,null,null,null,null,null,null,null,null,null,null,null,45,"","","",null,"","","","",null,1,0,0,45,"INICIO SU CLASIFICACIÓN","LE FALTA  195Km",null,{"$f":"VLOOKUP(B52,#REF!,3,FALSE)","v":{"$error":"#REF!"}}]
["B","C","BOHEMIA DJ",null,null,null,null,null,null,null,null,null,null,null,null,"","","","","","","",null,null,null,"","","","",null,"",null,"",null,null,null,null,null,null,"","","",null,"","","","",null,0,0,0,0,"NO INICIA SU CLASIFICACIÓN","LE FALTA  240Km",null,{"$f":"VLOOKUP(B53,#REF!,3,FALSE)","v":{"$error":"#REF!"}}]
["B","C","BOHEMIO AP",null,null,null,null,null,null,null,null,null,null,null,null,44,"","","","","","",null,null,null,"",null,null,"",null,"",null,"",null,null,null,null,null,null,"","","",null,"","","","",null,1,0,0,44,"INICIO SU CLASIFICACIÓN","LE FALTA  196Km",null,{"$f":"VLOOKUP(B54,#REF!,3,FALSE)","v":{"$error":"#REF!"}}]
["C277","C098","BOM BOM","JUAN RECALDE",null,null,null,null,null,null,null,null,null,60,62,81,"",87,87,"",84,"",null,null,null,"","","","",null,"",null,"",null,null,null,null,null,null,"","","",null,"","","","",null,0,2,4,461,"HABILITADO  TEMPORALMENTE A COMPETENCIAS FEI","CLASIFICADO A COMPETENCIAS FEI",null,{"$f":"VLOOKUP(B55,#REF!,3,FALSE)","v":{"$error":"#REF!"}}]
["B","C122","BONDADOSO","THOMAS WRAY",null,null,null,null,null,null,null,null,null,null,null,44,41,44,"",43,"","",null,null,null,"","","","",null,"",null,"",null,null,null,null,null,null,"","","",null,"","","","",null,4,0,0,172,"HABILITADO A 80KM VELOCIDAD CONTROLADA","LE FALTA UNA DE 80 Km",null,{"$f":"VLOOKUP(B56,#REF!,3,FALSE)","v":{"$error":"#REF!"}}]
["C110","C109","BRANCO","SERGIO MORILLO",null,null,null,null,null,null,null,null,null,null,null,44,41,"","",43,"","",null,60,null,"","","","",null,"",null,"",null,null,null,null,null,null,"","","",null,"","","","",null,3,1,0,188,"HABILITADO A 80KM VELOCIDAD CONTROLADA","LE FALTA UNA DE 80 Km",null,{"$f":"VLOOKUP(B57,#REF!,3,FALSE)","v":{"$error":"#REF!"}}]
["B","C142","BRICHOLA","CARLOS JOSE URIBE",null,null,null,null,null,null,null,null,null,null,null,null,null,null,null,null,null,null,null,null,null,44,62,82,"",null,82,null,"",null,null,null,null,null,null,"","","",null,"","","","",null,1,1,2,270,"HABILITADO  TEMPORALMENTE A COMPETENCIAS FEI","CLASIFICADO A COMPETENCIAS FEI",null,{"$f":"VLOOKUP(B58,#REF!,3,FALSE)","v":{"$error":"#REF!"}}]
["B","C028","BRONCO","MARCELO HERRERA",null,null,null,null,null,null,null,null,null,null,null,"",null,null,44,43,"","",null,null,null,"","","","",null,"",null,"",null,null,null,null,null,null,"","","",null,"","","","",null,2,0,0,87,"HABILITADO A 80KM VELOCIDAD CONTROLADA","LE FALTA  153Km",null,{"$f":"VLOOKUP(B59,#REF!,3,FALSE)","v":{"$error":"#REF!"}}]
["B","C126","BRUMA","CANDO MARIO",null,null,null,null,null,null,null,null,null,null,42,44,41,65,44,62,"",81,null,81,null,"","","","",null,"",null,"",null,null,null,null,null,45,"","","",null,"","","","",null,5,2,2,505,"HABILITADO  TEMPORALMENTE A COMPETENCIAS FEI","CLASIFICADO A COMPETENCIAS FEI",null,{"$f":"VLOOKUP(B60,#REF!,3,FALSE)","v":{"$error":"#REF!"}}]
[null,"C349","BRUNA","ANDRADE ANDRADE PAULA",null,null,null,null,null,null,null,null,null,null,null,null,null,null,null,null,null,null,null,null,null,null,null,null,null,null,null,null,null,null,null,null,null,null,null,"","","",null,"","","","",null,0,0,0,0,"NO INICIA SU CLASIFICACIÓN","LE FALTA  240Km",null,{"$f":"VLOOKUP(B61,#REF!,3,FALSE)","v":{"$error":"#REF!"}}]
["B","C229","BULERIA","LOYOLA VINTIMILLA TEODORO ANDRES",null,null,null,null,null,null,null,null,null,null,null,null,null,null,null,null,null,null,null,null,null,null,null,null,null,null,null,null,null,42,null,null,42,null,null,"","","",47,"",42,42,"",null,5,0,0,215,"HABILITADO A 80KM VELOCIDAD CONTROLADA","LE FALTA UNA DE 80 Km",null,{"$f":"VLOOKUP(B62,#REF!,3,FALSE)","v":{"$error":"#REF!"}}]
["B","C011","BUMERAN","HECTOR DANIEL ALMEIDA",null,null,null,null,null,null,null,null,null,null,null,"","","","","","","",null,null,null,"","","","",null,"",null,"",null,null,null,null,null,null,"","","",null,"","","","",null,0,0,0,0,"NO INICIA SU CLASIFICACIÓN","LE FALTA  240Km",null,{"$f":"VLOOKUP(B63,#REF!,3,FALSE)","v":{"$error":"#REF!"}}]
[null,"C350","BZ RHEEMAH","FELIPE ANDRADE",null,null,null,null,null,null,null,null,null,null,null,null,null,null,null,null,null,null,null,null,null,null,48,40,81,81,81,null,null,43,null,null,null,null,null,null,"","",null,"","","","",null,3,0,3,374,"HABILITADO  TEMPORALMENTE A COMPETENCIAS FEI","CLASIFICADO A COMPETENCIAS FEI",null,{"$f":"VLOOKUP(B64,#REF!,3,FALSE)","v":{"$error":"#REF!"}}]
["C005","C236","CABALLO DE GUERRA","PAULINO VINTIMILLA",null,null,null,null,null,null,null,null,null,null,null,null,null,null,null,null,null,null,null,null,null,null,null,null,null,null,null,null,null,null,null,null,null,42,null,"","","",null,"","","","",null,1,0,0,42,"INICIO SU CLASIFICACIÓN","LE FALTA  198Km",null,{"$f":"VLOOKUP(B65,#REF!,3,FALSE)","v":{"$error":"#REF!"}}]
["B","C003","CAIPIRIÑA","JUAN VERGARA",null,null,null,null,null,null,null,null,null,null,null,null,null,null,null,null,null,"",null,null,null,"","","","",null,"",null,"",null,null,null,null,null,null,"","","",null,"","","","",null,0,0,0,0,"NO INICIA SU CLASIFICACIÓN","LE FALTA  240Km",null,{"$f":"VLOOKUP(B66,#REF!,3,FALSE)","v":{"$error":"#REF!"}}]
["B","C116","CALEÑA AJ","NOBOA MAURICIO",null,null,null,null,null,null,null,null,null,null,null,null,null,null,null,null,null,null,null,null,null,null,null,null,null,null,null,null,null,null,40,null,null,42,null,"","","",null,"","","","",null,2,0,0,82,"HABILITADO A 80KM VELOCIDAD CONTROLADA","LE FALTA  158Km",null,{"$f":"VLOOKUP(B67,#REF!,3,FALSE)","v":{"$error":"#REF!"}}]
[null,"C238","CALEÑA CMB","SIMON NICOLAS",null,null,null,null,null,null,null,null,null,null,null,null,null,null,null,null,null,null,null,null,null,null,null,null,null,null,null,null,null,null,null,null,null,null,null,"","",43,null,"","","",42,null,2,0,0,85,"HABILITADO A 80KM VELOCIDAD CONTROLADA","LE FALTA  155Km",null,{"$f":"VLOOKUP(B68,#REF!,3,FALSE)","v":{"$error":"#REF!"}}]
[null,"C147","CAMARON","GUARDERAS JOSE GABRIEL",null,null,null,null,null,null,null,null,null,null,null,null,null,null,null,null,null,null,null,null,null,null,null,null,null,null,null,null,null,null,null,null,null,null,null,"",43,43,null,"","","",90,null,2,0,1,176,"LE FALTA UNA DE 80 A 90 CONTROLADA","LE FALTA UNA DE 80 Km",null,{"$f":"VLOOKUP(B69,#REF!,3,FALSE)","v":{"$error":"#REF!"}}]
["B","C","CAMILA ZK",null,null,null,null,null,null,null,null,null,null,null,null,"","","","","","","",null,null,null,"","","","",null,"",null,"",null,null,null,null,null,null,"","","",null,"","","","",null,0,0,0,0,"NO INICIA SU CLASIFICACIÓN","LE FALTA  240Km",null,{"$f":"VLOOKUP(B70,#REF!,3,FALSE)","v":{"$error":"#REF!"}}]
["B","C042","CANELA","GUSTAVO HIDALGO",null,null,null,null,null,null,null,null,null,null,null,null,null,null,null,null,null,"",null,null,null,44,"","","",null,null,null,"",null,null,null,null,null,null,"","","",null,"","","","",null,{"$f":"COUNTIF(E71:AV71,\"<60\")","v":1},{"$f":"COUNT(E71:AV71)-AW71-AY71","v":0},{"$f":"COUNTIF(E71:AV71,\">=80\")","v":0},{"$f":"SUM(D71:AV71)","v":44},{"$f":"IF(OR(AY71>2,AND(AY71>1,(AW71+AX71)>1)),\"HABILITADO  TEMPORALMENTE A COMPETENCIAS FEI\",IF(AND(AY71=1,(AW71+AX71)>1),\"LE FALTA UNA DE 80 A 90 CONTROLADA\",IF((AW71+AX71)>1,\"HABILITADO A 80KM VELOCIDAD CONTROLADA\",IF((AW71+AX71)>0,\"INICIO SU CLASIFICACIÓN\",\"NO INICIA SU CLASIFICACIÓN\"))))","v":"INICIO SU CLASIFICACIÓN"},{"$f":"+IF(AND(AZ71>240,AY71>=1),\"CLASIFICADO A COMPETENCIAS FEI\",IF(AND(AZ71>199,AY71>=1),\"LE FALTA UNA DE 40 Km\",IF(AND(AZ71>179,AY71>=1),\"LE FALTA UNA DE 60 Km\",IF(AND(AZ71>160),\"LE FALTA UNA DE 80 Km\",\"LE FALTA  \"&240-AZ71&\"Km\"))))","v":"LE FALTA  196Km"},null,{"$f":"VLOOKUP(B71,#REF!,3,FALSE)","v":{"$error":"#REF!"}}]
["B","C067","CANELA PG","PEDRO JOSE GUARDERAS",null,null,null,null,null,null,null,null,null,null,null,null,null,null,null,null,null,44,null,null,null,59,"","","",null,82,null,"",null,null,null,null,null,null,"","","",null,"","","","",null,2,0,1,185,"LE FALTA UNA DE 80 A 90 CONTROLADA","LE FALTA UNA DE 60 Km",null,{"$f":"VLOOKUP(B72,#REF!,3,FALSE)","v":{"$error":"#REF!"}}]
["B","C095","CANELO","FERNANDA MONROY",null,null,null,null,null,null,81,null,null,80,83,62,null,"",65,"","","",null,null,null,"","","","",null,"",null,"",null,null,null,null,null,null,"","","",null,"","","","",null,0,2,3,371,"HABILITADO  TEMPORALMENTE A COMPETENCIAS FEI","CLASIFICADO A COMPETENCIAS FEI",null,{"$f":"VLOOKUP(B73,#REF!,3,FALSE)","v":{"$error":"#REF!"}}]
["B","C","CANGUIL VE",null,null,null,null,null,null,null,null,null,null,null,null,"","","","","","","",null,null,null,"","","","",null,"",null,"",null,null,null,null,null,null,"","","",null,"","","","",null,0,0,0,0,"NO INICIA SU CLASIFICACIÓN","LE FALTA  240Km",null,{"$f":"VLOOKUP(B74,#REF!,3,FALSE)","v":{"$error":"#REF!"}}]
["C003","C","CAPITAN",null,null,null,null,null,null,null,null,null,null,null,null,"","","","","","","",null,null,null,"","","","",null,"",null,"",null,null,null,null,null,null,"","","",null,"","","","",null,0,0,0,0,"NO INICIA SU CLASIFICACIÓN","LE FALTA  240Km",null,{"$f":"VLOOKUP(B75,#REF!,3,FALSE)","v":{"$error":"#REF!"}}]
["CC","C253","CAPOEIRA","TORAL GUERRERO JUAN DIEGO",null,null,null,null,null,null,null,null,null,null,null,null,null,null,null,null,null,null,40,40,null,null,null,null,null,null,null,null,null,null,null,null,null,null,null,"","","",null,"","","","",null,2,0,0,80,"HABILITADO A 80KM VELOCIDAD CONTROLADA","LE FALTA  160Km",null,{"$f":"VLOOKUP(B76,#REF!,3,FALSE)","v":{"$error":"#REF!"}}]
[null,"C337","CAPORAL","NOBOA MAURICIO",null,null,null,null,null,null,null,null,null,null,null,null,null,null,null,null,null,null,null,null,null,null,null,null,null,null,null,null,null,null,null,null,null,null,null,47,43,"",47,40,42,42,42,null,7,0,0,303,"HABILITADO A 80KM VELOCIDAD CONTROLADA","LE FALTA UNA DE 80 Km",null,{"$f":"VLOOKUP(B77,#REF!,3,FALSE)","v":{"$error":"#REF!"}}]
["C237","C021","CAPULI","BARBARA ESPINOZA",null,null,null,null,null,null,null,null,null,null,null,null,null,null,null,null,null,"",null,null,null,"","","","",null,"",null,"",null,null,null,null,null,null,"","","",null,"","","","",null,0,0,0,0,"NO INICIA SU CLASIFICACIÓN","LE FALTA  240Km",null,{"$f":"VLOOKUP(B78,#REF!,3,FALSE)","v":{"$error":"#REF!"}}]
["CC","C319","CAPULI","VEGA CALDERON ANDRES",null,null,null,null,null,null,null,null,null,null,null,null,null,null,null,null,null,null,null,null,null,null,null,null,null,null,null,null,null,null,null,null,null,null,null,"","","",null,"","","","",null,0,0,0,0,"NO INICIA SU CLASIFICACIÓN","LE FALTA  240Km",null,{"$f":"VLOOKUP(B79,#REF!,3,FALSE)","v":{"$error":"#REF!"}}]
[null,"CC","CAPULINA","BOADA ABAD DOMENICA",null,null,null,null,null,null,null,null,null,null,null,null,null,null,null,null,null,null,null,null,40,40,null,null,null,null,null,null,null,null,null,null,null,null,null,null,"","",null,"","","","",null,2,0,0,80,"HABILITADO A 80KM VELOCIDAD CONTROLADA","LE FALTA  160Km",null,{"$f":"VLOOKUP(B80,#REF!,3,FALSE)","v":{"$error":"#REF!"}}]
["B","C135","CARAGUAY CM","CORNEJO MANUEL",null,null,null,null,null,null,null,null,null,null,null,44,41,65,"","","","",null,null,81,80,"","","",null,"",null,"",null,null,null,null,null,null,"","","",null,"","","","",null,2,1,2,311,"HABILITADO  TEMPORALMENTE A COMPETENCIAS FEI","CLASIFICADO A COMPETENCIAS FEI",null,{"$f":"VLOOKUP(B81,#REF!,3,FALSE)","v":{"$error":"#REF!"}}]
["B","C101","CARAMELO","MAZAPANTA KEVIN",null,null,null,null,null,null,null,null,null,null,null,null,null,null,null,null,null,44,null,null,null,"","","","",null,"",null,"",null,null,null,42,42,null,"","","",null,"","","","",null,3,0,0,128,"HABILITADO A 80KM VELOCIDAD CONTROLADA","LE FALTA  112Km",null,{"$f":"VLOOKUP(B82,#REF!,3,FALSE)","v":{"$error":"#REF!"}}]
[null,"C351","CARNIVAL RHYDER","VINTIMILLA SERRANO PABLO XAVIER",null,null,null,null,null,null,null,null,null,null,null,null,null,null,null,null,null,null,null,null,null,null,null,null,null,null,null,null,null,null,null,null,null,null,null,47,"","",null,"","","","",null,1,0,0,47,"INICIO SU CLASIFICACIÓN","LE FALTA  193Km",null,{"$f":"VLOOKUP(B83,#REF!,3,FALSE)","v":{"$error":"#REF!"}}]
["CC","C254","CASANOVA","MUÑOZ ESTEBAN",null,null,null,null,null,null,null,null,null,null,null,null,null,null,null,null,null,null,null,null,null,40,null,null,null,null,null,null,null,null,null,null,null,null,null,"","","",null,"","","","",null,1,0,0,40,"INICIO SU CLASIFICACIÓN","LE FALTA  200Km",null,{"$f":"VLOOKUP(B84,#REF!,3,FALSE)","v":{"$error":"#REF!"}}]
["B","C065","CASHMERE","SANTIAGO MIÑO",null,null,null,null,null,null,null,null,null,null,null,null,null,null,null,null,null,"",null,null,null,"","","","",null,"",null,"",null,null,null,null,null,null,"","","",null,"","","","",null,0,0,0,0,"NO INICIA SU CLASIFICACIÓN","LE FALTA  240Km",null,{"$f":"VLOOKUP(B85,#REF!,3,FALSE)","v":{"$error":"#REF!"}}]
["CC","C255","CASIR","MUÑOZ CALDERON ALBERTO",null,null,null,null,null,null,null,null,null,null,null,null,null,null,null,null,null,null,null,null,null,null,null,null,null,null,null,null,null,63,null,null,null,null,null,"","","",null,"","","","",null,0,1,0,63,"INICIO SU CLASIFICACIÓN","LE FALTA  177Km",null,{"$f":"VLOOKUP(B86,#REF!,3,FALSE)","v":{"$error":"#REF!"}}]
["CC","C256","CASTAÑO","VINTIMILLA SERRANO PABLO XAVIER",null,null,null,null,null,null,null,null,null,null,null,null,null,null,null,null,null,null,null,null,40,40,null,null,null,null,null,84,null,83,null,null,null,null,null,"","","",null,"","","","",null,2,0,2,247,"HABILITADO  TEMPORALMENTE A COMPETENCIAS FEI","CLASIFICADO A COMPETENCIAS FEI",null,{"$f":"VLOOKUP(B87,#REF!,3,FALSE)","v":{"$error":"#REF!"}}]
[null,"C388","CASTAÑUELA","LETORT MENA JOSE",null,null,null,null,null,null,null,null,null,null,null,null,null,null,null,null,null,null,null,null,null,null,null,null,null,null,null,null,null,null,null,null,null,null,null,null,null,null,null,"","","",42,null,1,0,0,42,"INICIO SU CLASIFICACIÓN","LE FALTA  198Km",null,{"$f":"VLOOKUP(B88,#REF!,3,FALSE)","v":{"$error":"#REF!"}}]
[null,"C375","CAYETANA","ALVEAR JUAN CARLOS",null,null,null,null,null,null,null,null,null,null,null,null,null,null,null,null,null,null,null,null,null,null,null,null,null,null,null,null,null,null,null,null,null,null,null,null,null,null,null,"","","",42,null,1,0,0,42,"INICIO SU CLASIFICACIÓN","LE FALTA  198Km",null,{"$f":"VLOOKUP(B89,#REF!,3,FALSE)","v":{"$error":"#REF!"}}]
["B","C076","CAZIQUE","MANUEL KAKABADSE",null,null,null,null,null,null,null,null,null,null,null,null,null,null,null,null,null,"",null,null,null,"","","","",null,"",null,"",null,null,null,null,null,null,"","","",null,"","","","",null,0,0,0,0,"NO INICIA SU CLASIFICACIÓN","LE FALTA  240Km",null,{"$f":"VLOOKUP(B90,#REF!,3,FALSE)","v":{"$error":"#REF!"}}]
["B","C097","CENTAURO","HECTOR ALMEIDA",null,null,null,null,null,null,"","",66,null,83,81,82,"","","","","",null,null,null,"","","","",null,"",null,"",null,null,null,null,null,null,"","","",null,"","","","",null,0,1,3,312,"HABILITADO  TEMPORALMENTE A COMPETENCIAS FEI","CLASIFICADO A COMPETENCIAS FEI",null,{"$f":"VLOOKUP(B91,#REF!,3,FALSE)","v":{"$error":"#REF!"}}]
["B","C093","CG ALLASKI","NATHALIE WEEMAELS",null,null,null,null,null,null,null,null,null,null,null,"",41,44,44,62,"",81,null,81,null,"","","","",null,"",null,"",null,null,null,null,null,null,"","","",null,"","","","",null,3,1,2,353,"HABILITADO  TEMPORALMENTE A COMPETENCIAS FEI","CLASIFICADO A COMPETENCIAS FEI",null,{"$f":"VLOOKUP(B92,#REF!,3,FALSE)","v":{"$error":"#REF!"}}]
["CC","C257","CHAGRA","BUSTAMANTE GUSTAVO",null,null,null,null,null,null,null,null,null,null,null,null,null,null,null,null,null,null,null,null,null,null,null,null,null,null,null,44,null,null,null,null,null,null,null,"",43,43,null,"","","","",null,3,0,0,130,"HABILITADO A 80KM VELOCIDAD CONTROLADA","LE FALTA  110Km",null,{"$f":"VLOOKUP(B93,#REF!,3,FALSE)","v":{"$error":"#REF!"}}]
["CC","C258","CHAHUAR","MALO ANDREA",null,null,null,null,null,null,null,null,null,null,null,40,40,null,null,null,null,null,null,null,null,null,null,null,null,null,null,null,null,null,null,null,null,null,null,"","","",null,"","","","",null,2,0,0,80,"HABILITADO A 80KM VELOCIDAD CONTROLADA","LE FALTA  160Km",null,{"$f":"VLOOKUP(B94,#REF!,3,FALSE)","v":{"$error":"#REF!"}}]
["C343","C","CHAKAL MA",null,null,null,null,null,null,null,null,null,null,null,null,"",null,null,44,"","","",null,null,null,"","","","",null,"",null,"",null,null,null,null,null,null,"","","",null,"","","","",null,1,0,0,44,"INICIO SU CLASIFICACIÓN","LE FALTA  196Km",null,{"$f":"VLOOKUP(B95,#REF!,3,FALSE)","v":{"$error":"#REF!"}}]
["CC","C259","CHAVO","VINTIMILLA TORRES PAULINO ENRIQUE",null,null,null,null,null,null,null,null,null,null,null,null,null,null,null,null,null,null,40,null,null,null,null,null,null,null,null,null,null,null,null,null,null,null,null,"","","",null,"","","","",null,1,0,0,40,"INICIO SU CLASIFICACIÓN","LE FALTA  200Km",null,{"$f":"VLOOKUP(B96,#REF!,3,FALSE)","v":{"$error":"#REF!"}}]
[null,"C383","CHEQUE","SAMPER ALVARO",null,null,null,null,null,null,null,null,null,null,null,null,null,null,null,null,null,null,null,null,null,null,null,null,null,null,null,null,null,null,null,null,null,null,null,null,null,null,null,"","","",42,null,1,0,0,42,"INICIO SU CLASIFICACIÓN","LE FALTA  198Km",null,{"$f":"VLOOKUP(B97,#REF!,3,FALSE)","v":{"$error":"#REF!"}}]
["B","C","CHERNA",null,null,null,null,null,null,null,null,null,null,null,null,"","","","","","","",null,null,null,"","","","",null,"",null,"",null,null,null,null,null,null,"","","",null,"","","","",null,0,0,0,0,"NO INICIA SU CLASIFICACIÓN","LE FALTA  240Km",null,{"$f":"VLOOKUP(B98,#REF!,3,FALSE)","v":{"$error":"#REF!"}}]
["B","C","CHESTER",null,null,null,null,null,null,null,null,null,null,null,null,"","","","","","","",null,null,null,"","","","",null,"",null,"",null,null,null,null,null,null,"","","",null,"","","","",null,0,0,0,0,"NO INICIA SU CLASIFICACIÓN","LE FALTA  240Km",null,{"$f":"VLOOKUP(B99,#REF!,3,FALSE)","v":{"$error":"#REF!"}}]
["CC","C260","CHICO","PERALTA VALERIA",null,null,null,null,null,null,null,null,null,null,null,null,40,40,null,null,null,null,null,null,null,null,null,null,null,null,null,null,null,null,null,null,null,null,null,"","","",null,"","","","",null,2,0,0,80,"HABILITADO A 80KM VELOCIDAD CONTROLADA","LE FALTA  160Km",null,{"$f":"VLOOKUP(B100,#REF!,3,FALSE)","v":{"$error":"#REF!"}}]
["CC","C262","CHINO","GONZALEZ JERVES XIMENA",null,null,null,null,null,null,null,null,null,null,null,null,null,null,null,null,null,null,40,null,null,null,null,null,null,null,null,null,null,null,null,null,null,null,null,"","","",null,"","","","",null,1,0,0,40,"INICIO SU CLASIFICACIÓN","LE FALTA  200Km",null,{"$f":"VLOOKUP(B101,#REF!,3,FALSE)","v":{"$error":"#REF!"}}]
["CC","C263","CHISPIOLA","DAVALOS EMILIA",null,null,null,null,null,null,null,null,null,null,null,null,null,null,null,null,null,null,40,null,null,null,null,null,null,null,null,null,null,null,null,null,null,null,null,"","","",null,"","","","",null,1,0,0,40,"INICIO SU CLASIFICACIÓN","LE FALTA  200Km",null,{"$f":"VLOOKUP(B102,#REF!,3,FALSE)","v":{"$error":"#REF!"}}]
[null,"C113","CHIVIRIKA","NEUMANN KARINA",null,null,null,null,null,null,null,null,null,null,null,null,null,null,null,null,null,null,null,null,null,null,null,null,null,null,null,null,null,null,null,null,null,null,43,"","","",null,"","","","",null,1,0,0,43,"INICIO SU CLASIFICACIÓN","LE FALTA  197Km",null,{"$f":"VLOOKUP(B103,#REF!,3,FALSE)","v":{"$error":"#REF!"}}]
["C270","C","CHOCO",null,null,null,null,null,null,null,null,null,null,null,null,"","","","","","","",null,null,null,"","","","",null,"",null,"",null,null,null,null,null,"","","","",null,"","","","",null,0,0,0,0,"NO INICIA SU CLASIFICACIÓN","LE FALTA  240Km",null,{"$f":"VLOOKUP(B104,#REF!,3,FALSE)","v":{"$error":"#REF!"}}]
["C307","C237","CHULPI","BENITO  JARAMILLO",null,null,null,null,null,null,null,null,null,null,null,null,null,null,null,null,null,null,null,null,null,null,null,null,null,null,null,null,null,null,null,null,null,42,43,"","","",null,"","","","",null,2,0,0,85,"HABILITADO A 80KM VELOCIDAD CONTROLADA","LE FALTA  155Km",null,{"$f":"VLOOKUP(B105,#REF!,3,FALSE)","v":{"$error":"#REF!"}}]
["B","C210","CHUQUIRAGUA","GUSTAVO HIDALGO",null,null,null,null,null,null,null,null,null,null,null,null,null,null,null,null,null,null,null,null,null,null,null,null,null,null,null,null,null,null,null,null,42,42,43,"",43,84,null,"","","","",null,4,0,1,254,"LE FALTA UNA DE 80 A 90 CONTROLADA","CLASIFICADO A COMPETENCIAS FEI",null,{"$f":"VLOOKUP(B106,#REF!,3,FALSE)","v":{"$error":"#REF!"}}]
["B","C175","CLAW",null,null,null,null,null,null,null,null,null,null,null,null,null,null,null,null,null,null,null,null,null,null,null,null,null,48,null,41,null,"",null,null,null,42,null,84,"",84,"",null,"","","","",null,3,0,2,299,"HABILITADO  TEMPORALMENTE A COMPETENCIAS FEI","CLASIFICADO A COMPETENCIAS FEI",null,{"$f":"VLOOKUP(B107,#REF!,3,FALSE)","v":{"$error":"#REF!"}}]
["CC","C195","CLICK","ANDRADE JOSE DANIEL",null,null,null,null,null,null,null,null,null,null,null,null,null,null,null,null,null,null,null,null,null,null,null,null,null,null,null,44,42,null,null,null,null,null,"","","","",null,"","","","",null,2,0,0,86,"HABILITADO A 80KM VELOCIDAD CONTROLADA","LE FALTA  154Km",null,{"$f":"VLOOKUP(B108,#REF!,3,FALSE)","v":{"$error":"#REF!"}}]
[null,"C150","COCHIS","MALO GELIBERT ANDREA",null,null,null,null,null,null,null,null,null,null,null,null,null,null,null,null,null,null,null,null,null,null,null,null,null,null,null,null,null,null,null,null,null,null,null,"","","",63,"","","","",null,0,1,0,63,"INICIO SU CLASIFICACIÓN","LE FALTA  177Km",null,{"$f":"VLOOKUP(B109,#REF!,3,FALSE)","v":{"$error":"#REF!"}}]
["C155","C034","COHETE","JUAN CARLOS ALVEAR",null,null,null,null,null,null,null,null,null,null,null,"","","",null,null,"","",null,null,null,"","","","",null,"",null,"",null,null,null,null,null,"","","","",null,"","","","",null,0,0,0,0,"NO INICIA SU CLASIFICACIÓN","LE FALTA  240Km",null,{"$f":"VLOOKUP(B110,#REF!,3,FALSE)","v":{"$error":"#REF!"}}]
["B","C162","COLORADO","HIDALGO GUSTAVO",null,null,null,null,null,null,null,null,null,null,null,null,null,null,null,null,null,null,null,null,null,null,null,null,"",null,"",null,"",null,null,null,null,null,"","","",43,null,"","","","",null,1,0,0,43,"INICIO SU CLASIFICACIÓN","LE FALTA  197Km",null,{"$f":"VLOOKUP(B111,#REF!,3,FALSE)","v":{"$error":"#REF!"}}]
["CC","C264","COLTA","LARRIVA JAIME",null,null,null,null,null,null,null,null,null,null,null,null,null,40,null,null,null,null,40,null,null,null,null,null,null,null,null,null,null,null,null,null,null,null,"","","","",null,"","","","",null,2,0,0,80,"HABILITADO A 80KM VELOCIDAD CONTROLADA","LE FALTA  160Km",null,{"$f":"VLOOKUP(B112,#REF!,3,FALSE)","v":{"$error":"#REF!"}}]
["CC","C265","COMETA","MUÑOZ CALDERON RAUL ALBERTO",null,null,null,null,null,null,null,null,null,null,null,null,null,null,null,null,null,null,60,60,60,null,null,null,null,null,null,null,null,null,null,null,null,null,"","","","",null,"","","","",null,0,3,0,180,"HABILITADO A 80KM VELOCIDAD CONTROLADA","LE FALTA UNA DE 80 Km",null,{"$f":"VLOOKUP(B113,#REF!,3,FALSE)","v":{"$error":"#REF!"}}]
["B","C","CONEJO ZC",null,null,null,null,null,null,null,null,null,null,null,null,"","","","","","","",null,null,null,"","","","","","","","","","","","","","","","","",null,"","","","",null,0,0,0,0,"NO INICIA SU CLASIFICACIÓN","LE FALTA  240Km",null,{"$f":"VLOOKUP(B114,#REF!,3,FALSE)","v":{"$error":"#REF!"}}]
["B","C056","CONTESINA EA","ALVARO ESPINOZA",null,null,null,null,null,null,null,null,null,null,null,"",null,null,null,43,"","",null,44,null,"","",52,"",null,"",null,"",null,null,null,null,null,"","","","",null,"","","","",null,3,0,0,139,"HABILITADO A 80KM VELOCIDAD CONTROLADA","LE FALTA  101Km",null,{"$f":"VLOOKUP(B115,#REF!,3,FALSE)","v":{"$error":"#REF!"}}]
["B","C087","CORFU CA","AUGUSTO CHIRIBOGA",null,null,null,null,null,null,null,null,null,null,null,"",null,null,65,"",63,81,null,null,null,null,62,"","",null,"",null,"",null,null,null,null,null,"","","","",null,"","","","",null,0,3,1,271,"LE FALTA UNA DE 80 A 90 CONTROLADA","CLASIFICADO A COMPETENCIAS FEI",null,{"$f":"VLOOKUP(B116,#REF!,3,FALSE)","v":{"$error":"#REF!"}}]
["B","C","COSA ZN",null,null,null,null,null,null,null,null,null,null,null,null,"","","","","","","",null,null,null,"","","","",null,"",null,"",null,null,null,null,null,"","","","",null,"","","","",null,0,0,0,0,"NO INICIA SU CLASIFICACIÓN","LE FALTA  240Km",null,{"$f":"VLOOKUP(B117,#REF!,3,FALSE)","v":{"$error":"#REF!"}}]
["CC","C266","CRIOLLA","SORIA MARIA DANIELA",null,null,null,null,null,null,null,null,null,null,null,null,null,40,"",null,null,null,null,null,null,null,null,null,null,null,null,null,null,null,null,null,null,null,"","","","",null,"","","","",null,1,0,0,40,"INICIO SU CLASIFICACIÓN","LE FALTA  200Km",null,{"$f":"VLOOKUP(B118,#REF!,3,FALSE)","v":{"$error":"#REF!"}}]
["B","C","DALIAT TT",null,null,null,null,null,null,null,null,null,null,null,null,"","","","","","","",null,null,null,"","","","",null,"",null,"",null,null,null,null,null,"","","","",null,"","","","",null,0,0,0,0,"NO INICIA SU CLASIFICACIÓN","LE FALTA  240Km",null,{"$f":"VLOOKUP(B119,#REF!,3,FALSE)","v":{"$error":"#REF!"}}]
["B","C020","DAMA","ISABEL PAZMIÑO",null,null,null,null,null,null,null,null,null,null,null,null,null,null,null,null,null,"",null,null,null,44,"","","",null,"",null,"",null,null,null,null,null,"","","","",null,"","","","",null,1,0,0,44,"INICIO SU CLASIFICACIÓN","LE FALTA  196Km",null,{"$f":"VLOOKUP(B120,#REF!,3,FALSE)","v":{"$error":"#REF!"}}]
["B","C092","DAMASCO","NICOLAS MORENO",null,null,null,null,null,null,"",null,null,null,null,"",62,"","",62,"",81,null,81,null,"","","","",null,"",null,"",null,null,null,null,null,"","","","",null,"","","","",null,0,2,2,286,"HABILITADO  TEMPORALMENTE A COMPETENCIAS FEI","CLASIFICADO A COMPETENCIAS FEI",null,{"$f":"VLOOKUP(B121,#REF!,3,FALSE)","v":{"$error":"#REF!"}}]
["CC","C267","DEBORA","MALO JAIME",null,null,null,null,null,null,null,null,null,null,null,null,null,null,null,null,null,null,null,null,null,null,null,null,null,null,null,null,null,null,null,null,null,null,"","","","",null,"","","","",null,0,0,0,0,"NO INICIA SU CLASIFICACIÓN","LE FALTA  240Km",null,{"$f":"VLOOKUP(B122,#REF!,3,FALSE)","v":{"$error":"#REF!"}}]
["B","C","DIABLO",null,null,null,null,null,null,null,null,null,null,null,null,"","","","","","","",null,null,null,"","","","",null,"",null,"",null,null,null,null,null,"","","","",null,"","","","",null,0,0,0,0,"NO INICIA SU CLASIFICACIÓN","LE FALTA  240Km",null,{"$f":"VLOOKUP(B123,#REF!,3,FALSE)","v":{"$error":"#REF!"}}]
["CC","C268","DISCORDIA","VINTIMILLA PAULINO",null,null,null,null,null,null,null,null,null,null,null,null,null,null,null,null,null,null,null,null,null,null,null,null,null,null,null,null,null,null,null,null,null,null,"","","","",null,"","","","",null,0,0,0,0,"NO INICIA SU CLASIFICACIÓN","LE FALTA  240Km",null,{"$f":"VLOOKUP(B124,#REF!,3,FALSE)","v":{"$error":"#REF!"}}]
["B","C","DISTINGUIDO WR",null,null,null,null,null,null,null,81,80,null,null,null,44,"",44,"","","","",null,null,null,"","","","",null,"",null,"",null,null,null,null,null,"","","","",null,"","","","",null,2,0,2,249,"HABILITADO  TEMPORALMENTE A COMPETENCIAS FEI","CLASIFICADO A COMPETENCIAS FEI",null,{"$f":"VLOOKUP(B125,#REF!,3,FALSE)","v":{"$error":"#REF!"}}]
[null,"C346","DONATELO","CORDOVA MUÑOZ SUSANA MICHELLE",null,null,null,null,null,null,null,null,null,null,null,null,null,null,null,null,null,null,null,null,null,null,null,null,null,null,null,null,null,null,null,null,null,null,45,"","","",null,"","","","",null,1,0,0,45,"INICIO SU CLASIFICACIÓN","LE FALTA  195Km",null,{"$f":"VLOOKUP(B126,#REF!,3,FALSE)","v":{"$error":"#REF!"}}]
[null,"C242","DUBAI",null,null,null,null,null,null,null,null,null,null,null,null,null,null,null,null,null,null,null,null,null,null,null,null,null,null,null,null,null,null,null,null,null,null,null,null,null,null,null,null,"","",42,"",null,1,0,0,42,"INICIO SU CLASIFICACIÓN","LE FALTA  198Km",null,{"$f":"VLOOKUP(B127,#REF!,3,FALSE)","v":{"$error":"#REF!"}}]
["B","C","DUN DUN",null,null,null,null,null,null,null,null,null,null,null,null,"","","","","","","",null,null,null,"","","","",null,"",null,"",null,null,null,null,null,null,"","","",null,"","","","",null,0,0,0,0,"NO INICIA SU CLASIFICACIÓN","LE FALTA  240Km",null,{"$f":"VLOOKUP(B128,#REF!,3,FALSE)","v":{"$error":"#REF!"}}]
["B","C","DUNGA",null,null,null,null,null,null,null,null,null,null,null,null,"","","","","","","",null,null,null,"","","","",null,"",null,"",null,null,null,null,null,null,"","","",null,"","","","",null,0,0,0,0,"NO INICIA SU CLASIFICACIÓN","LE FALTA  240Km",null,{"$f":"VLOOKUP(B129,#REF!,3,FALSE)","v":{"$error":"#REF!"}}]
["B","C","EDY",null,null,null,null,null,null,null,null,null,null,null,null,"",null,null,44,null,"","",null,null,null,"","","","",null,"",null,"",null,null,null,null,null,null,"","","",null,"","","","",null,1,0,0,44,"INICIO SU CLASIFICACIÓN","LE FALTA  196Km",null,{"$f":"VLOOKUP(B130,#REF!,3,FALSE)","v":{"$error":"#REF!"}}]
["B","C234","EL PADRINO","MALO JAIME",null,null,null,null,null,null,null,null,null,null,null,null,null,null,null,null,null,null,null,null,null,null,null,null,null,null,null,null,null,null,null,null,null,42,45,"","","",null,"",82,82,"",null,2,0,2,251,"HABILITADO  TEMPORALMENTE A COMPETENCIAS FEI","CLASIFICADO A COMPETENCIAS FEI",null,{"$f":"VLOOKUP(B131,#REF!,3,FALSE)","v":{"$error":"#REF!"}}]
["CC","C269","ESCARLET","MALO JAIME",null,null,null,null,null,null,null,null,null,null,null,null,null,null,null,null,null,null,null,null,null,null,null,null,null,44,null,null,null,null,40,null,null,null,null,"","","",null,"","","","",null,2,0,0,84,"HABILITADO A 80KM VELOCIDAD CONTROLADA","LE FALTA  156Km",null,{"$f":"VLOOKUP(B132,#REF!,3,FALSE)","v":{"$error":"#REF!"}}]
["B","C","ESFUERZO",null,null,null,null,null,null,null,null,null,null,null,null,"","","","","","","",null,null,null,"","","","",null,"",null,"",null,null,null,null,null,null,"","","",null,"","","","",null,0,0,0,0,"NO INICIA SU CLASIFICACIÓN","LE FALTA  240Km",null,{"$f":"VLOOKUP(B133,#REF!,3,FALSE)","v":{"$error":"#REF!"}}]
[null,"C339","ESPARTACO","TORRES JOSUE",null,null,null,null,null,null,null,null,null,null,null,null,null,null,null,null,null,null,null,null,null,null,null,null,null,null,null,null,null,null,null,null,null,null,45,63,"","",null,"","","","",null,1,1,0,108,"HABILITADO A 80KM VELOCIDAD CONTROLADA","LE FALTA  132Km",null,{"$f":"VLOOKUP(B134,#REF!,3,FALSE)","v":{"$error":"#REF!"}}]
["B","C","ESPIRIT DJ",null,null,null,null,null,null,null,null,null,null,null,null,"","",null,"","","","",null,null,null,"","","","",null,"",null,"",null,null,null,null,null,null,"","","",null,"","","","",null,{"$f":"COUNTIF(E135:AV135,\"<60\")","v":0},{"$f":"COUNT(E135:AV135)-AW135-AY135","v":0},{"$f":"COUNTIF(E135:AV135,\">=80\")","v":0},{"$f":"SUM(D135:AV135)","v":0},{"$f":"IF(OR(AY135>2,AND(AY135>1,(AW135+AX135)>1)),\"HABILITADO  TEMPORALMENTE A COMPETENCIAS FEI\",IF(AND(AY135=1,(AW135+AX135)>1),\"LE FALTA UNA DE 80 A 90 CONTROLADA\",IF((AW135+AX135)>1,\"HABILITADO A 80KM VELOCIDAD CONTROLADA\",IF((AW135+AX135)>0,\"INICIO SU CLASIFICACIÓN\",\"NO INICIA SU CLASIFICACIÓN\"))))","v":"NO INICIA SU CLASIFICACIÓN"},{"$f":"+IF(AND(AZ135>240,AY135>=1),\"CLASIFICADO A COMPETENCIAS FEI\",IF(AND(AZ135>199,AY135>=1),\"LE FALTA UNA DE 40 Km\",IF(AND(AZ135>179,AY135>=1),\"LE FALTA UNA DE 60 Km\",IF(AND(AZ135>160),\"LE FALTA UNA DE 80 Km\",\"LE FALTA  \"&240-AZ135&\"Km\"))))","v":"LE FALTA  240Km"},null,{"$f":"VLOOKUP(B135,#REF!,3,FALSE)","v":{"$error":"#REF!"}}]
[null,"C130","ESPIRITU DEL ECUADOR","BERREZUETA DELGADO PABLO SANTI",null,null,null,null,null,null,null,null,null,null,null,null,null,null,null,null,null,null,null,null,null,null,null,null,null,null,null,null,null,null,null,null,null,null,null,null,null,null,null,"",42,42,42,null,3,0,0,126,"HABILITADO A 80KM VELOCIDAD CONTROLADA","LE FALTA  114Km",null,{"$f":"VLOOKUP(B136,#REF!,3,FALSE)","v":{"$error":"#REF!"}}]
["B","C","EVA LUNA",null,null,null,null,null,null,null,null,null,null,null,null,"","","","","","","",null,null,null,"","","","",null,"",null,"",null,null,null,null,null,null,"","","",null,"","","","",null,0,0,0,0,"NO INICIA SU CLASIFICACIÓN","LE FALTA  240Km",null,{"$f":"VLOOKUP(B137,#REF!,3,FALSE)","v":{"$error":"#REF!"}}]
["B","C","EXAMINADO",null,null,null,null,null,null,null,null,null,null,null,null,"","","","","","","",null,null,null,"","","","",null,"",null,"",null,null,null,null,null,null,"","","",null,"","","","",null,0,0,0,0,"NO INICIA SU CLASIFICACIÓN","LE FALTA  240Km",null,{"$f":"VLOOKUP(B138,#REF!,3,FALSE)","v":{"$error":"#REF!"}}]
["CC","C270","FANDANGO","GONZALEZ RENATO",null,null,null,null,null,null,null,null,null,null,null,null,null,null,null,null,null,null,null,null,null,null,null,null,null,44,null,null,null,null,null,null,null,null,null,"","","",null,"","","","",null,1,0,0,44,"INICIO SU CLASIFICACIÓN","LE FALTA  196Km",null,{"$f":"VLOOKUP(B139,#REF!,3,FALSE)","v":{"$error":"#REF!"}}]
["B","C123","FARAON","TORRES WLADIMIRO",null,null,null,null,null,null,null,null,null,null,null,null,null,null,null,null,null,null,null,null,40,"",44,"","",null,"",null,81,null,null,null,90,82,null,"","","",null,"","","","",null,2,0,3,337,"HABILITADO  TEMPORALMENTE A COMPETENCIAS FEI","CLASIFICADO A COMPETENCIAS FEI",null,{"$f":"VLOOKUP(B140,#REF!,3,FALSE)","v":{"$error":"#REF!"}}]
["B","C131","FELIPE DE MONACO","SALAZAR ROSA VICTORIA",null,null,null,null,null,null,null,null,null,null,null,null,null,null,null,null,null,null,null,null,40,"","","","",null,"",null,"",null,null,null,null,null,null,"","","",null,"","","","",null,1,0,0,40,"INICIO SU CLASIFICACIÓN","LE FALTA  200Km",null,{"$f":"VLOOKUP(B141,#REF!,3,FALSE)","v":{"$error":"#REF!"}}]
["B","C112","FELIPE GR","ALEXANDER GOMEZ",null,null,null,null,null,null,null,null,66,60,62,81,82,"","","","","",null,null,null,"","","","",null,"",null,"",null,null,null,null,null,null,"","","",null,"","","","",null,0,3,2,351,"HABILITADO  TEMPORALMENTE A COMPETENCIAS FEI","CLASIFICADO A COMPETENCIAS FEI",null,{"$f":"VLOOKUP(B142,#REF!,3,FALSE)","v":{"$error":"#REF!"}}]
["B","C036","FERMIN","MARIA PAULA JIJON",null,null,null,null,null,null,null,null,null,null,null,"","","",44,"","","",null,null,null,"","","","",null,"",null,"",null,null,null,null,null,null,"","","",null,"","","","",null,1,0,0,44,"INICIO SU CLASIFICACIÓN","LE FALTA  196Km",null,{"$f":"VLOOKUP(B143,#REF!,3,FALSE)","v":{"$error":"#REF!"}}]
["B","C136","FHARA CONEJA","DARQUEA BERNARDO",null,null,null,null,null,null,null,80,88,80,null,81,"","","","","","",null,null,null,"","","","",null,"",null,"",null,null,null,null,null,null,"","","",null,"","","","",null,0,0,4,329,"HABILITADO  TEMPORALMENTE A COMPETENCIAS FEI","CLASIFICADO A COMPETENCIAS FEI",null,{"$f":"VLOOKUP(B144,#REF!,3,FALSE)","v":{"$error":"#REF!"}}]
["C155","C024","FOSFORITO","GUARDERAS BELEN",null,null,null,null,null,null,null,null,null,null,null,null,null,null,null,null,null,"",null,null,null,"","","","",null,"",null,"",null,null,null,null,null,null,"","","",null,"","","","",null,0,0,0,0,"NO INICIA SU CLASIFICACIÓN","LE FALTA  240Km",null,{"$f":"VLOOKUP(B145,#REF!,3,FALSE)","v":{"$error":"#REF!"}}]
["B","C188","FRODO","RIBADENEIRA ARTURO",null,null,null,null,null,null,null,null,null,null,null,null,null,null,null,null,null,null,null,null,null,null,null,null,null,null,null,null,null,null,null,null,null,null,null,"","","",null,"","","","",null,0,0,0,0,"NO INICIA SU CLASIFICACIÓN","LE FALTA  240Km",null,{"$f":"VLOOKUP(B146,#REF!,3,FALSE)","v":{"$error":"#REF!"}}]
["B","C148","FUERTE","ALEXANDER GOMEZ",null,null,null,null,null,null,null,null,null,null,null,null,null,null,null,null,null,null,null,null,null,null,null,null,48,null,"",null,42,null,93,null,90,82,null,"","","",null,"","","","",null,2,0,3,355,"HABILITADO  TEMPORALMENTE A COMPETENCIAS FEI","CLASIFICADO A COMPETENCIAS FEI",null,{"$f":"VLOOKUP(B147,#REF!,3,FALSE)","v":{"$error":"#REF!"}}]
["CC","C272","FUGAZ","GONZALEZ JARAMILLO CRISTIAN HUMBERTO",null,null,null,null,null,null,null,null,null,null,null,null,null,null,null,null,null,null,60,null,null,null,null,null,null,null,null,null,null,null,null,null,null,null,null,"","","",null,"","","","",null,0,1,0,60,"INICIO SU CLASIFICACIÓN","LE FALTA  180Km",null,{"$f":"VLOOKUP(B148,#REF!,3,FALSE)","v":{"$error":"#REF!"}}]
["B","C088","FURIOSA","JUAN ESTEBAN JIJON",null,null,null,null,null,null,null,null,null,null,null,null,null,null,null,62,63,81,null,null,null,"","","","",null,"",null,"",null,null,null,null,null,null,"","","",null,"","","","",null,0,2,1,206,"LE FALTA UNA DE 80 A 90 CONTROLADA","LE FALTA UNA DE 40 Km",null,{"$f":"VLOOKUP(B149,#REF!,3,FALSE)","v":{"$error":"#REF!"}}]
["B","C","GABO ML",null,null,null,null,null,null,null,null,null,null,null,null,"","","","","","","",null,null,null,"","","","",null,"",null,"",null,null,null,null,null,null,"","","",null,"","","","",null,0,0,0,0,"NO INICIA SU CLASIFICACIÓN","LE FALTA  240Km",null,{"$f":"VLOOKUP(B150,#REF!,3,FALSE)","v":{"$error":"#REF!"}}]
["C128","C139","GADAFY",null,null,null,null,null,null,null,null,null,null,null,null,null,null,null,null,null,null,null,null,null,null,null,"","","",null,"",null,"",null,null,null,null,null,null,"","","",null,"","","","",null,0,0,0,0,"NO INICIA SU CLASIFICACIÓN","LE FALTA  240Km",null,{"$f":"VLOOKUP(B151,#REF!,3,FALSE)","v":{"$error":"#REF!"}}]
[null,"C218","GALAN","DARQUEA DAVALOS ANA MARIA",null,null,null,null,null,null,null,null,null,null,null,null,null,null,null,null,null,null,null,null,null,null,null,null,null,null,null,null,null,null,null,null,null,null,null,null,null,null,47,"",42,"","",null,2,0,0,89,"HABILITADO A 80KM VELOCIDAD CONTROLADA","LE FALTA  151Km",null,{"$f":"VLOOKUP(B152,#REF!,3,FALSE)","v":{"$error":"#REF!"}}]
[null,"C384","GALAN","NOBOA MAURICIO",null,null,null,null,null,null,null,null,null,null,null,null,null,null,null,null,null,null,null,null,null,null,null,null,null,null,null,null,null,null,null,null,null,null,null,null,null,null,null,"","","",42,null,1,0,0,42,"INICIO SU CLASIFICACIÓN","LE FALTA  198Km",null,{"$f":"VLOOKUP(B153,#REF!,3,FALSE)","v":{"$error":"#REF!"}}]
["C112","C","GALEO JM",null,null,null,null,null,null,null,null,null,null,null,null,"","","","","","","",null,null,null,"","","","",null,"",null,"",null,null,null,null,null,null,"","","",null,"","","","",null,0,0,0,0,"NO INICIA SU CLASIFICACIÓN","LE FALTA  240Km",null,{"$f":"VLOOKUP(B154,#REF!,3,FALSE)","v":{"$error":"#REF!"}}]
["B","C005","GANDALF","MALDONADO JOSE",null,null,null,null,null,null,null,null,null,null,null,null,null,null,null,null,null,"",null,44,null,44,"",36,"",null,"",null,"",null,40,null,null,null,null,"","","",null,"","","","",null,4,0,0,164,"HABILITADO A 80KM VELOCIDAD CONTROLADA","LE FALTA UNA DE 80 Km",null,{"$f":"VLOOKUP(B155,#REF!,3,FALSE)","v":{"$error":"#REF!"}}]
["B","C198","GAYTA","LETORT JOSE IGNACIO",null,null,null,null,null,null,null,null,null,null,null,"",41,"",44,"","","",null,null,null,"","","","",null,"",null,"",null,null,null,90,42,null,"","","",null,"","","","",null,3,0,1,217,"LE FALTA UNA DE 80 A 90 CONTROLADA","LE FALTA UNA DE 40 Km",null,{"$f":"VLOOKUP(B156,#REF!,3,FALSE)","v":{"$error":"#REF!"}}]
["C206","C170","GEISHA",null,null,null,null,null,null,null,null,null,null,null,null,null,null,null,null,null,null,null,null,null,null,null,62,"","",null,"",null,"",null,null,null,null,null,null,"","","",null,"","","","",null,0,1,0,62,"INICIO SU CLASIFICACIÓN","LE FALTA  178Km",null,{"$f":"VLOOKUP(B157,#REF!,3,FALSE)","v":{"$error":"#REF!"}}]
[null,"C323","GH MAGIC ONE",null,null,null,null,null,null,null,null,null,null,null,null,null,null,null,null,null,null,null,null,null,null,null,null,null,null,null,null,null,null,null,null,null,null,null,null,null,null,null,null,"","",42,"",null,1,0,0,42,"INICIO SU CLASIFICACIÓN","LE FALTA  198Km",null,{"$f":"VLOOKUP(B158,#REF!,3,FALSE)","v":{"$error":"#REF!"}}]
["B","C086","GHAFIL","ROBERTO MARCEL",null,null,null,null,null,null,null,null,null,null,62,"","","","",62,"",81,null,81,null,"","","","",null,"",null,"",null,null,null,null,null,null,"","","",null,"","","","",null,0,2,2,286,"HABILITADO  TEMPORALMENTE A COMPETENCIAS FEI","CLASIFICADO A COMPETENCIAS FEI",null,{"$f":"VLOOKUP(B159,#REF!,3,FALSE)","v":{"$error":"#REF!"}}]
[null,"C344","GITANA","ANDRADE ANDRADE EMILIA",null,null,null,null,null,null,null,null,null,null,null,null,null,null,null,null,null,null,null,null,null,null,null,null,null,null,null,null,null,null,null,null,null,null,45,"","","",null,"","",42,"",null,2,0,0,87,"HABILITADO A 80KM VELOCIDAD CONTROLADA","LE FALTA  153Km",null,{"$f":"VLOOKUP(B160,#REF!,3,FALSE)","v":{"$error":"#REF!"}}]
["B","C111","GITANILLO","EDUARDO MONROY",null,null,null,null,null,null,"","",null,null,null,"","","","","",63,null,null,81,null,"",90,"","",null,"",null,"",null,null,null,null,null,null,"","","",null,"","","","",null,0,1,2,234,"INICIO SU CLASIFICACIÓN","LE FALTA UNA DE 40 Km",null,{"$f":"VLOOKUP(B161,#REF!,3,FALSE)","v":{"$error":"#REF!"}}]
["B","C","GOLDEN GJ",null,null,null,null,null,null,null,null,null,null,null,null,"","","","","","","",null,null,null,"","","","",null,"",null,"",null,null,null,null,null,null,"","","",null,"","","","",null,0,0,0,0,"NO INICIA SU CLASIFICACIÓN","LE FALTA  240Km",null,{"$f":"VLOOKUP(B162,#REF!,3,FALSE)","v":{"$error":"#REF!"}}]
["C203","C054","GOLONDRINA","PEDRO GUARDERAS ARTETA",null,null,null,null,null,null,null,null,null,null,null,null,null,null,null,null,null,44,null,null,40,44,"","","",null,"",null,"",null,null,null,null,null,null,"","","",null,"","","","",null,3,0,0,128,"HABILITADO A 80KM VELOCIDAD CONTROLADA","LE FALTA  112Km",null,{"$f":"VLOOKUP(B163,#REF!,3,FALSE)","v":{"$error":"#REF!"}}]
["CC","C273","GOLOSO","PEÑA JUAN DIEGO",null,null,null,null,null,null,null,null,null,null,null,null,null,null,null,null,null,null,null,null,null,null,null,null,null,null,null,null,null,null,null,null,null,null,null,"","","",null,"","","","",null,0,0,0,0,"NO INICIA SU CLASIFICACIÓN","LE FALTA  240Km",null,{"$f":"VLOOKUP(B164,#REF!,3,FALSE)","v":{"$error":"#REF!"}}]
["B","C","GORBAN",null,null,null,null,null,null,null,null,null,null,null,null,"","","","","","","",null,null,null,"","","","",null,"",null,"",null,null,null,null,null,null,"","","",null,"","","","",null,0,0,0,0,"NO INICIA SU CLASIFICACIÓN","LE FALTA  240Km",null,{"$f":"VLOOKUP(B165,#REF!,3,FALSE)","v":{"$error":"#REF!"}}]
["B","C089","GR COMPADRE PN",null,null,null,null,null,null,null,"",null,null,null,null,44,41,"","","",42,81,null,81,null,44,"","","",null,"",null,"",null,null,null,null,null,null,"","","",null,"","","","",null,4,0,2,333,"HABILITADO  TEMPORALMENTE A COMPETENCIAS FEI","CLASIFICADO A COMPETENCIAS FEI",null,{"$f":"VLOOKUP(B166,#REF!,3,FALSE)","v":{"$error":"#REF!"}}]
["B","C070","GR NURIA","JUAN JOSE RECALDE",null,null,null,null,null,null,null,null,null,60,null,"","",null,"","","",62,null,81,null,80,90,"","",null,"",null,"",null,null,null,null,null,null,"","","",null,"","","","",null,0,2,3,373,"HABILITADO  TEMPORALMENTE A COMPETENCIAS FEI","CLASIFICADO A COMPETENCIAS FEI",null,{"$f":"VLOOKUP(B167,#REF!,3,FALSE)","v":{"$error":"#REF!"}}]
["B","C","GRANTS",null,null,null,null,null,null,null,null,null,null,null,null,"","","","","","","",null,null,null,"","","","",null,"",null,"",null,null,null,null,null,"","","","",null,"","","","",null,0,0,0,0,"NO INICIA SU CLASIFICACIÓN","LE FALTA  240Km",null,{"$f":"VLOOKUP(B168,#REF!,3,FALSE)","v":{"$error":"#REF!"}}]
[null,"C261","GRINGO","BARAHONA VACA ANDRES",null,null,null,null,null,null,null,null,null,null,null,null,null,null,null,null,null,null,null,null,null,null,null,null,null,null,null,null,null,null,null,null,null,null,43,"",43,"",null,"","","","",null,2,0,0,86,"HABILITADO A 80KM VELOCIDAD CONTROLADA","LE FALTA  154Km",null,{"$f":"VLOOKUP(B169,#REF!,3,FALSE)","v":{"$error":"#REF!"}}]
["C191","C059","GS RASHID","MAURICIO CASTILLO",null,null,null,null,null,null,null,null,null,null,null,null,null,null,null,null,null,"",null,null,null,"","","","",null,"",null,"",null,null,null,null,null,"","","",43,null,40,"","","",null,2,0,0,83,"HABILITADO A 80KM VELOCIDAD CONTROLADA","LE FALTA  157Km",null,{"$f":"VLOOKUP(B170,#REF!,3,FALSE)","v":{"$error":"#REF!"}}]
["CC","C274","GUAJIRO","AUGUSTO CARRASCO",null,null,null,null,null,null,null,null,null,null,null,null,null,null,null,null,null,null,null,null,null,null,null,null,null,null,null,null,null,null,null,null,null,null,"","","","",null,"","","","",null,0,0,0,0,"NO INICIA SU CLASIFICACIÓN","LE FALTA  240Km",null,{"$f":"VLOOKUP(B171,#REF!,3,FALSE)","v":{"$error":"#REF!"}}]
["CC","C275","GUTA","MALO MARIBEL",null,null,null,null,null,null,null,null,null,null,null,null,null,null,null,null,null,null,null,null,null,null,null,null,null,null,null,null,null,null,null,null,null,null,"","","","",null,"","","","",null,0,0,0,0,"NO INICIA SU CLASIFICACIÓN","LE FALTA  240Km",null,{"$f":"VLOOKUP(B172,#REF!,3,FALSE)","v":{"$error":"#REF!"}}]
["B","C189","HAAKIR","PEDRO CORNEJO",null,null,null,null,null,null,null,null,null,null,null,null,null,null,null,null,null,null,null,null,null,null,null,null,48,null,41,null,"",null,93,null,null,null,84,"","","",null,"","","","",null,2,0,2,266,"HABILITADO  TEMPORALMENTE A COMPETENCIAS FEI","CLASIFICADO A COMPETENCIAS FEI",null,{"$f":"VLOOKUP(B173,#REF!,3,FALSE)","v":{"$error":"#REF!"}}]
["C019","C104","HALCON","DIEGO CASTILLO",null,null,null,null,null,null,null,null,null,null,null,44,41,"","","","","",null,null,null,"","","","",null,"",null,"",null,null,null,null,null,"","","","",null,"","","","",null,2,0,0,85,"HABILITADO A 80KM VELOCIDAD CONTROLADA","LE FALTA  155Km",null,{"$f":"VLOOKUP(B174,#REF!,3,FALSE)","v":{"$error":"#REF!"}}]
["CC","C108","HASAN","FELIPE ANDRADE",null,null,null,null,null,null,null,null,null,null,null,null,null,null,null,null,null,null,null,44,null,"","","","",null,"",null,42,null,null,null,null,null,null,"","","",null,"","","","",null,2,0,0,86,"HABILITADO A 80KM VELOCIDAD CONTROLADA","LE FALTA  154Km",null,{"$f":"VLOOKUP(B175,#REF!,3,FALSE)","v":{"$error":"#REF!"}}]
["B","C","HECHIZO CW",null,null,null,null,null,null,null,null,null,null,null,null,"","","","","","","",null,null,null,"","","","",null,"",null,"",null,null,null,null,null,"","","","",null,"","","","",null,0,0,0,0,"NO INICIA SU CLASIFICACIÓN","LE FALTA  240Km",null,{"$f":"VLOOKUP(B176,#REF!,3,FALSE)","v":{"$error":"#REF!"}}]
["CC","C276","HOMERO","LARRIVA CAROLINA",null,null,null,null,null,null,null,null,null,null,null,40,40,40,null,null,null,null,80,null,null,null,null,null,null,null,null,null,null,null,null,null,null,null,"","","","",null,"","","","",null,3,0,1,200,"LE FALTA UNA DE 80 A 90 CONTROLADA","LE FALTA UNA DE 40 Km",null,{"$f":"VLOOKUP(B177,#REF!,3,FALSE)","v":{"$error":"#REF!"}}]
["B","C151","ILUSION",null,null,null,null,null,null,null,null,null,null,null,null,null,41,null,null,null,null,null,null,null,null,null,62,null,80,null,"",null,"",null,null,null,null,null,"","",84,"",null,"","","","",null,1,1,2,267,"HABILITADO  TEMPORALMENTE A COMPETENCIAS FEI","CLASIFICADO A COMPETENCIAS FEI",null,{"$f":"VLOOKUP(B178,#REF!,3,FALSE)","v":{"$error":"#REF!"}}]
["B","C","IN ALIA",null,null,null,null,null,null,null,null,null,null,null,null,"","",null,null,"","","",null,null,null,"","","","",null,"",null,"",null,null,null,null,null,"","","","",null,"","","","",null,0,0,0,0,"NO INICIA SU CLASIFICACIÓN","LE FALTA  240Km",null,{"$f":"VLOOKUP(B179,#REF!,3,FALSE)","v":{"$error":"#REF!"}}]
["B","C","IN LATIFA",null,null,null,null,null,null,null,null,null,null,null,null,"","","",null,"","","",null,null,null,"","","","",null,"",null,"",null,null,null,null,null,"","","","",null,"","","","",null,0,0,0,0,"NO INICIA SU CLASIFICACIÓN","LE FALTA  240Km",null,{"$f":"VLOOKUP(B180,#REF!,3,FALSE)","v":{"$error":"#REF!"}}]
["B","C","IN NEMESIS",null,null,null,null,null,null,null,null,null,null,null,null,"","","",null,"","","",null,null,null,"","","","",null,"",null,"",null,null,null,null,null,"","","","",null,"","","","",null,0,0,0,0,"NO INICIA SU CLASIFICACIÓN","LE FALTA  240Km",null,{"$f":"VLOOKUP(B181,#REF!,3,FALSE)","v":{"$error":"#REF!"}}]
["B","C","INGENIERA NK",null,null,null,null,null,null,null,"",null,66,60,null,"","","",null,"","","",null,null,null,"","","","",null,"",null,"",null,null,null,null,null,"","","","",null,"","","","",null,0,2,0,126,"HABILITADO A 80KM VELOCIDAD CONTROLADA","LE FALTA  114Km",null,{"$f":"VLOOKUP(B182,#REF!,3,FALSE)","v":{"$error":"#REF!"}}]
["B","C","ISIS",null,null,null,null,null,null,null,"",null,66,80,null,62,82,"",null,62,63,"",null,null,null,"","","","",null,"",null,"",null,null,null,null,null,"","","","",null,"","","","",null,0,4,2,415,"HABILITADO  TEMPORALMENTE A COMPETENCIAS FEI","CLASIFICADO A COMPETENCIAS FEI",null,{"$f":"VLOOKUP(B183,#REF!,3,FALSE)","v":{"$error":"#REF!"}}]
["B","C006","JAFFAR",null,null,null,null,null,null,null,null,null,null,null,null,"","",44,44,"","","",null,null,null,"","","","",null,"",null,"",null,null,null,null,null,"","","","",null,"","","","",null,2,0,0,88,"HABILITADO A 80KM VELOCIDAD CONTROLADA","LE FALTA  152Km",null,{"$f":"VLOOKUP(B184,#REF!,3,FALSE)","v":{"$error":"#REF!"}}]
["B","C149","JAGGER",null,null,null,null,null,null,null,null,null,null,null,null,null,null,null,null,null,null,null,null,null,null,null,null,36,"",null,"",null,"",null,null,null,null,null,"","","","",null,"","","","",null,1,0,0,36,"INICIO SU CLASIFICACIÓN","LE FALTA  204Km",null,{"$f":"VLOOKUP(B185,#REF!,3,FALSE)","v":{"$error":"#REF!"}}]
["CC","C277","JAQUE MATE","CARRASCO ABAD ALVARO JAVIER",null,null,null,null,null,null,null,null,null,null,null,null,null,null,null,null,null,null,40,null,null,null,null,null,null,null,null,null,null,null,null,null,null,null,"","","","",null,"","","","",null,1,0,0,40,"INICIO SU CLASIFICACIÓN","LE FALTA  200Km",null,{"$f":"VLOOKUP(B186,#REF!,3,FALSE)","v":{"$error":"#REF!"}}]
["C111","C082","JEQUE LL",null,null,null,null,null,null,null,81,80,88,null,83,62,62,"",null,"","",81,null,null,null,"","","","",null,"",null,"",null,null,null,null,null,"","","","",null,"","","","",null,0,2,5,537,"HABILITADO  TEMPORALMENTE A COMPETENCIAS FEI","CLASIFICADO A COMPETENCIAS FEI",null,{"$f":"VLOOKUP(B187,#REF!,3,FALSE)","v":{"$error":"#REF!"}}]
["C151","C","JEQUE PA",null,null,null,null,null,null,null,null,null,null,null,null,"",null,null,44,43,84,"",null,null,null,"","","","",null,"",null,"",null,null,null,null,null,"","","","",null,"","","","",null,2,0,1,171,"LE FALTA UNA DE 80 A 90 CONTROLADA","LE FALTA UNA DE 80 Km",null,{"$f":"VLOOKUP(B188,#REF!,3,FALSE)","v":{"$error":"#REF!"}}]
["B","C","JEQUE WR",null,null,null,null,null,null,null,null,null,null,null,null,"","","",null,"","","",null,null,null,"","","","",null,"",null,"",null,null,null,null,null,"","","","",null,"","","","",null,0,0,0,0,"NO INICIA SU CLASIFICACIÓN","LE FALTA  240Km",null,{"$f":"VLOOKUP(B189,#REF!,3,FALSE)","v":{"$error":"#REF!"}}]
["B","C","JERESANO MS",null,null,null,null,null,null,null,81,null,null,null,null,"","","",null,"","","",null,null,null,"","","","",null,"",null,"",null,null,null,null,null,"","","","",null,"","","","",null,0,0,1,81,"NO INICIA SU CLASIFICACIÓN","LE FALTA  159Km",null,{"$f":"VLOOKUP(B190,#REF!,3,FALSE)","v":{"$error":"#REF!"}}]
["C259","C","JOSELO GP",null,null,null,null,null,null,null,null,null,null,null,null,"","","",null,"","","",null,null,null,"","","","",null,"",null,"",null,null,null,null,null,"","","","",null,"","","","",null,0,0,0,0,"NO INICIA SU CLASIFICACIÓN","LE FALTA  240Km",null,{"$f":"VLOOKUP(B191,#REF!,3,FALSE)","v":{"$error":"#REF!"}}]
["C114","C075","JR NARA","KARINA NEUMAN",null,null,null,null,null,null,null,null,null,null,null,null,null,null,null,null,null,62,80,null,null,"",90,"","",null,"",null,"",null,null,null,null,null,"","","","",null,"","","","",null,0,1,2,232,"INICIO SU CLASIFICACIÓN","LE FALTA UNA DE 40 Km",null,{"$f":"VLOOKUP(B192,#REF!,3,FALSE)","v":{"$error":"#REF!"}}]
["C301","C","JUAN ANDRES",null,null,null,null,null,null,null,null,null,null,null,null,"","","",null,"","","",null,null,null,"","",36,"",null,"",null,"",null,null,null,null,null,"","","","",null,"","","","",null,1,0,0,36,"INICIO SU CLASIFICACIÓN","LE FALTA  204Km",null,{"$f":"VLOOKUP(B193,#REF!,3,FALSE)","v":{"$error":"#REF!"}}]
["CC","C278","JUGUETE","ESPINOZA JUAN SEBASTIAN",null,null,null,null,null,null,null,null,null,null,null,null,null,null,null,null,null,null,60,null,60,null,null,null,null,58,null,null,null,null,null,null,null,null,"","","","",86,"","","","",null,1,2,1,264,"LE FALTA UNA DE 80 A 90 CONTROLADA","CLASIFICADO A COMPETENCIAS FEI",null,{"$f":"VLOOKUP(B194,#REF!,3,FALSE)","v":{"$error":"#REF!"}}]
["C042","C134","JUPITER","HECTOR ALMEIDA",null,null,null,null,null,null,null,null,null,null,null,null,null,null,null,null,null,null,null,null,null,44,62,"","",null,82,null,"",null,null,null,null,null,"",86,"","",null,"","","","",null,1,1,2,274,"HABILITADO  TEMPORALMENTE A COMPETENCIAS FEI","CLASIFICADO A COMPETENCIAS FEI",null,{"$f":"VLOOKUP(B195,#REF!,3,FALSE)","v":{"$error":"#REF!"}}]
["B","C167","K BAYO",null,null,null,null,null,null,null,null,null,null,null,null,null,null,null,null,null,null,null,null,null,null,44,62,52,"",null,"",null,"",null,null,null,null,null,"","","","",null,"","","","",null,2,1,0,158,"HABILITADO A 80KM VELOCIDAD CONTROLADA","LE FALTA  82Km",null,{"$f":"VLOOKUP(B196,#REF!,3,FALSE)","v":{"$error":"#REF!"}}]
[null,"C327","KA SAN","WILLIAMS JEMMA",null,null,null,null,null,null,null,null,null,null,null,null,null,null,null,null,null,null,null,null,null,null,null,null,null,null,null,null,null,null,null,null,null,null,43,"",43,"",null,"","","","",null,2,0,0,86,"HABILITADO A 80KM VELOCIDAD CONTROLADA","LE FALTA  154Km",null,{"$f":"VLOOKUP(B197,#REF!,3,FALSE)","v":{"$error":"#REF!"}}]
[null,"C348","KA SAU","NICOLE WILLIAMS",null,null,null,null,null,null,null,null,null,null,null,null,null,null,null,null,null,null,null,null,null,null,null,null,null,null,null,null,null,null,null,null,null,null,45,47,"","",null,"","","","",null,2,0,0,92,"HABILITADO A 80KM VELOCIDAD CONTROLADA","LE FALTA  148Km",null,{"$f":"VLOOKUP(B198,#REF!,3,FALSE)","v":{"$error":"#REF!"}}]
["C171","C084","KADAFI","DANIEL MORENO",null,null,null,null,null,null,null,"",66,null,null,"","","",65,"",84,81,null,null,null,"","","",48,null,41,null,"",null,93,null,null,null,null,"","","",null,"","","","",null,{"$f":"COUNTIF(E199:AV199,\"<60\")","v":2},{"$f":"COUNT(E199:AV199)-AW199-AY199","v":2},{"$f":"COUNTIF(E199:AV199,\">=80\")","v":3},{"$f":"SUM(D199:AV199)","v":478},{"$f":"IF(OR(AY199>2,AND(AY199>1,(AW199+AX199)>1)),\"HABILITADO  TEMPORALMENTE A COMPETENCIAS FEI\",IF(AND(AY199=1,(AW199+AX199)>1),\"LE FALTA UNA DE 80 A 90 CONTROLADA\",IF((AW199+AX199)>1,\"HABILITADO A 80KM VELOCIDAD CONTROLADA\",IF((AW199+AX199)>0,\"INICIO SU CLASIFICACIÓN\",\"NO INICIA SU CLASIFICACIÓN\"))))","v":"HABILITADO  TEMPORALMENTE A COMPETENCIAS FEI"},{"$f":"+IF(AND(AZ199>240,AY199>=1),\"CLASIFICADO A COMPETENCIAS FEI\",IF(AND(AZ199>199,AY199>=1),\"LE FALTA UNA DE 40 Km\",IF(AND(AZ199>179,AY199>=1),\"LE FALTA UNA DE 60 Km\",IF(AND(AZ199>160),\"LE FALTA UNA DE 80 Km\",\"LE FALTA  \"&240-AZ199&\"Km\"))))","v":"CLASIFICADO A COMPETENCIAS FEI"},null,{"$f":"VLOOKUP(B199,#REF!,3,FALSE)","v":{"$error":"#REF!"}}]
[null,"C333","KADIN","SANCHEZ SANTIAGO",null,null,null,null,null,null,null,null,null,null,null,null,null,null,null,null,null,null,null,null,null,null,null,null,null,null,null,null,null,null,null,null,null,null,45,"","","",null,"",42,"","",null,2,0,0,87,"HABILITADO A 80KM VELOCIDAD CONTROLADA","LE FALTA  153Km",null,{"$f":"VLOOKUP(B200,#REF!,3,FALSE)","v":{"$error":"#REF!"}}]
[null,"C342","KADIR","ESPINOZA JUAN SEBASTIAN",null,null,null,null,null,null,null,null,null,null,null,null,null,null,null,null,null,null,null,null,null,null,null,null,null,null,null,null,null,null,null,null,null,null,45,"","","",47,"","","","",null,2,0,0,92,"HABILITADO A 80KM VELOCIDAD CONTROLADA","LE FALTA  148Km",null,{"$f":"VLOOKUP(B201,#REF!,3,FALSE)","v":{"$error":"#REF!"}}]
["B","C069","KAFIR","MIÑO JOSE RICARDO",null,null,null,null,null,null,null,null,null,null,null,null,null,null,null,null,null,44,null,null,null,"","","",48,null,41,null,"",null,null,null,null,null,43,"","","",null,"","","","",null,4,0,0,176,"HABILITADO A 80KM VELOCIDAD CONTROLADA","LE FALTA UNA DE 80 Km",null,{"$f":"VLOOKUP(B202,#REF!,3,FALSE)","v":{"$error":"#REF!"}}]
["B","C114","KAFIR HA","HECTOR ALMEIDA",null,null,null,null,null,null,null,null,null,null,null,"","","",null,"",null,44,null,null,null,"","","","",null,41,null,81,83,null,null,null,null,"","","","",null,"","","","",null,2,0,2,249,"HABILITADO  TEMPORALMENTE A COMPETENCIAS FEI","CLASIFICADO A COMPETENCIAS FEI",null,{"$f":"VLOOKUP(B203,#REF!,3,FALSE)","v":{"$error":"#REF!"}}]
[null,"C192","KALA","SANCHEZ VEGA SANTIAGO",null,null,null,null,null,null,null,null,null,null,null,null,null,null,null,null,null,null,null,null,null,null,null,null,null,null,null,null,null,null,null,null,null,null,null,null,null,null,47,"",42,42,"",null,3,0,0,131,"HABILITADO A 80KM VELOCIDAD CONTROLADA","LE FALTA  109Km",null,{"$f":"VLOOKUP(B204,#REF!,3,FALSE)","v":{"$error":"#REF!"}}]
["C328","C240","KALIFA","MEDINA JORGE",null,null,null,null,null,null,null,null,null,null,null,"","","",null,"","","",null,null,null,"","","","",null,"",null,"",null,null,null,null,null,"","","","",null,40,"",42,"",null,2,0,0,82,"HABILITADO A 80KM VELOCIDAD CONTROLADA","LE FALTA  158Km",null,{"$f":"VLOOKUP(B205,#REF!,3,FALSE)","v":{"$error":"#REF!"}}]
["B","CO49","KALUA",null,null,null,null,null,null,null,null,null,null,null,null,null,null,null,null,null,null,"",null,null,null,"","","","",null,"",null,"",null,null,null,null,null,"","","","",null,"","","","",null,0,0,0,0,"NO INICIA SU CLASIFICACIÓN","LE FALTA  240Km",null,{"$f":"VLOOKUP(B206,#REF!,3,FALSE)","v":{"$error":"#REF!"}}]
["CC","C279","KARIBE","GONZALEZ SEBASTIAN",null,null,null,null,null,null,null,null,null,null,null,null,null,60,null,null,null,null,null,null,null,80,null,null,null,null,null,null,null,null,null,null,null,null,"","","","",null,"","","","",null,0,1,1,140,"INICIO SU CLASIFICACIÓN","LE FALTA  100Km",null,{"$f":"VLOOKUP(B207,#REF!,3,FALSE)","v":{"$error":"#REF!"}}]
["CC","C280","KARIOKA","TAMARIZ MALO SANTIAGO",null,null,null,null,null,null,null,null,null,null,null,null,null,null,null,null,null,null,40,40,40,40,null,null,null,null,null,null,null,null,null,null,null,null,"","","","",null,"","","","",null,4,0,0,160,"HABILITADO A 80KM VELOCIDAD CONTROLADA","LE FALTA  80Km",null,{"$f":"VLOOKUP(B208,#REF!,3,FALSE)","v":{"$error":"#REF!"}}]
["B","CO66","KIM SASHA","SERGIO MORILLO",null,null,null,null,null,null,null,null,null,null,null,null,null,null,null,null,null,"",null,null,null,"","","","",null,"",null,"",null,null,null,null,null,"","","","",null,"","","","",null,0,0,0,0,"NO INICIA SU CLASIFICACIÓN","LE FALTA  240Km",null,{"$f":"VLOOKUP(B209,#REF!,3,FALSE)","v":{"$error":"#REF!"}}]
[null,"C345","KITOCHI","MALO MALO MARIA JOSE",null,null,null,null,null,null,null,null,null,null,null,null,null,null,null,null,null,null,null,null,null,null,null,null,null,null,null,null,null,null,null,null,null,null,45,"","","",null,"","","","",null,1,0,0,45,"INICIO SU CLASIFICACIÓN","LE FALTA  195Km",null,{"$f":"VLOOKUP(B210,#REF!,3,FALSE)","v":{"$error":"#REF!"}}]
["B","C","KORFU GS",null,null,null,null,null,null,null,null,null,null,null,null,"",62,"",null,"","","",null,null,null,"","","","",null,"",null,"",null,null,null,null,null,"","","","",null,"","","","",null,0,1,0,62,"INICIO SU CLASIFICACIÓN","LE FALTA  178Km",null,{"$f":"VLOOKUP(B211,#REF!,3,FALSE)","v":{"$error":"#REF!"}}]
[null,"C331","LIA","NOBOA MAURICIO",null,null,null,null,null,null,null,null,null,null,null,null,null,null,null,null,null,null,null,null,null,null,null,null,null,null,null,null,null,null,null,null,null,null,"","",43,"",47,"","","","",null,2,0,0,90,"HABILITADO A 80KM VELOCIDAD CONTROLADA","LE FALTA  150Km",null,{"$f":"VLOOKUP(B212,#REF!,3,FALSE)","v":{"$error":"#REF!"}}]
["B","C183","LIMON",null,null,null,null,null,null,null,null,null,null,null,null,"","",44,null,"","","",null,null,null,"","","","",null,"",null,"",null,null,null,null,null,"","","","",null,"","","","",null,1,0,0,44,"INICIO SU CLASIFICACIÓN","LE FALTA  196Km",null,{"$f":"VLOOKUP(B213,#REF!,3,FALSE)","v":{"$error":"#REF!"}}]
["B","CO08","LINDA","ANGEL PAILACHO",null,null,null,null,null,null,null,null,null,null,null,"",null,null,44,"","","",null,null,null,"","","","",null,"",null,"",null,null,null,null,null,"","","","",null,"","","","",null,1,0,0,44,"INICIO SU CLASIFICACIÓN","LE FALTA  196Km",null,{"$f":"VLOOKUP(B214,#REF!,3,FALSE)","v":{"$error":"#REF!"}}]
["B","C119","LLUVIA CMB","CESAR MORA BOWEN",null,null,null,null,null,null,null,null,null,null,null,62,82,87,null,"","","",null,null,null,"","","","",null,"",null,"",null,null,null,null,null,"","","","",null,"","","","",null,0,1,2,231,"INICIO SU CLASIFICACIÓN","LE FALTA UNA DE 40 Km",null,{"$f":"VLOOKUP(B215,#REF!,3,FALSE)","v":{"$error":"#REF!"}}]
["B","C137","LLUVIA DG",null,null,null,null,null,null,null,null,null,null,null,null,null,null,null,null,null,null,null,null,null,null,44,"","","",null,"",null,"",null,null,null,null,null,"","","","",null,"","","","",null,1,0,0,44,"INICIO SU CLASIFICACIÓN","LE FALTA  196Km",null,{"$f":"VLOOKUP(B216,#REF!,3,FALSE)","v":{"$error":"#REF!"}}]
["B","C138","LOIKA",null,null,null,null,null,null,null,null,null,null,null,42,44,41,"",null,62,"","",null,null,null,"","",36,"",null,41,null,42,null,null,null,null,null,84,"","","",null,"","","","",null,6,1,1,392,"LE FALTA UNA DE 80 A 90 CONTROLADA","CLASIFICADO A COMPETENCIAS FEI",null,{"$f":"VLOOKUP(B217,#REF!,3,FALSE)","v":{"$error":"#REF!"}}]
["C091","CO16","LOLA","JHONATAN TORRES",null,null,null,null,null,null,null,null,null,null,null,null,null,null,null,null,null,"",null,null,null,"","","","",null,"",null,"",null,null,null,null,null,"","","","",null,"","","","",null,0,0,0,0,"NO INICIA SU CLASIFICACIÓN","LE FALTA  240Km",null,{"$f":"VLOOKUP(B218,#REF!,3,FALSE)","v":{"$error":"#REF!"}}]
[null,"C163","LULY","FRITZ JULIANA",null,null,null,null,null,null,null,null,null,null,null,null,null,null,null,null,null,null,null,null,null,null,null,null,null,null,null,null,null,null,null,null,null,null,43,null,"","",null,"","","","",null,1,0,0,43,"INICIO SU CLASIFICACIÓN","LE FALTA  197Km",null,{"$f":"VLOOKUP(B219,#REF!,3,FALSE)","v":{"$error":"#REF!"}}]
["C047","CO58","MACARENA","DANIEL PALACIOS",null,null,null,null,null,null,null,null,null,null,null,null,null,null,null,null,null,44,null,44,null,"","","","",null,"",null,"",null,null,null,null,null,"","","","",null,"","","","",null,2,0,0,88,"HABILITADO A 80KM VELOCIDAD CONTROLADA","LE FALTA  152Km",null,{"$f":"VLOOKUP(B220,#REF!,3,FALSE)","v":{"$error":"#REF!"}}]
["C258","C168","MAGENTA","CONTRERAS MARIA ALICIA",null,null,null,null,null,null,null,null,null,null,null,"",null,40,40,43,"","",null,null,null,40,"","","",null,"",null,"",null,null,null,null,null,"","","","",null,"","","","",null,4,0,0,163,"HABILITADO A 80KM VELOCIDAD CONTROLADA","LE FALTA UNA DE 80 Km",null,{"$f":"VLOOKUP(B221,#REF!,3,FALSE)","v":{"$error":"#REF!"}}]
["CC","C282","MAGIC MENES","KOPPEL VINTIMILLA OSWALDO",null,null,null,null,null,null,null,null,null,null,null,null,null,null,null,null,null,null,null,40,40,null,null,null,null,44,null,null,null,null,null,null,null,null,"","","","",null,"","","","",null,3,0,0,124,"HABILITADO A 80KM VELOCIDAD CONTROLADA","LE FALTA  116Km",null,{"$f":"VLOOKUP(B222,#REF!,3,FALSE)","v":{"$error":"#REF!"}}]
["CC","C283","MAGIC ONE","MUÑOZ LOAIZA PAUL ESTEBAN",null,null,null,null,null,null,null,null,null,null,null,null,40,null,null,null,null,null,null,null,null,null,null,null,null,null,null,null,null,null,null,null,null,null,"","","","",null,"","","",42,null,2,0,0,82,"HABILITADO A 80KM VELOCIDAD CONTROLADA","LE FALTA  158Km",null,{"$f":"VLOOKUP(B223,#REF!,3,FALSE)","v":{"$error":"#REF!"}}]
[null,"C366","MAGO GH","MORAN KEVIN GUILLERMO",null,null,null,null,null,null,null,null,null,null,null,null,null,null,null,null,null,null,null,null,null,null,null,null,null,null,null,null,null,null,null,null,null,null,"","","",43,null,"","","","",null,1,0,0,43,"INICIO SU CLASIFICACIÓN","LE FALTA  197Km",null,{"$f":"VLOOKUP(B224,#REF!,3,FALSE)","v":{"$error":"#REF!"}}]
["B","CO48","MAMBO","JUAN MARTIN RICAURTE",null,null,null,null,null,null,null,null,null,null,null,null,null,null,null,null,null,"",null,null,null,"","","","",null,"",null,"",null,null,null,null,null,"","","","",null,"","","","",null,0,0,0,0,"NO INICIA SU CLASIFICACIÓN","LE FALTA  240Km",null,{"$f":"VLOOKUP(B225,#REF!,3,FALSE)","v":{"$error":"#REF!"}}]
["C043","C110","MANOLO","LUIS LANDAZURI",null,null,null,null,null,null,null,null,null,null,null,62,62,65,null,62,63,"",null,81,null,"","","","",null,"",null,"",null,null,null,null,null,"","","","",null,"","","","",null,0,5,1,395,"LE FALTA UNA DE 80 A 90 CONTROLADA","CLASIFICADO A COMPETENCIAS FEI",null,{"$f":"VLOOKUP(B226,#REF!,3,FALSE)","v":{"$error":"#REF!"}}]
["B","C045","MANUELA","BENITO JARAMILLO",null,null,null,null,null,null,null,null,null,null,null,null,null,null,null,null,42,44,null,null,null,44,"","",48,null,"",null,"",null,null,null,null,null,"","","","",null,"","","","",null,4,0,0,178,"HABILITADO A 80KM VELOCIDAD CONTROLADA","LE FALTA UNA DE 80 Km",null,{"$f":"VLOOKUP(B227,#REF!,3,FALSE)","v":{"$error":"#REF!"}}]
["B","CO51","MARIMBA","FABIAN ROLDAN",null,null,null,null,null,null,null,null,null,null,null,null,null,null,null,null,null,44,null,null,null,"","","","",null,"",null,"",null,null,null,null,null,"","","","",null,"","","","",null,1,0,0,44,"INICIO SU CLASIFICACIÓN","LE FALTA  196Km",null,{"$f":"VLOOKUP(B228,#REF!,3,FALSE)","v":{"$error":"#REF!"}}]
["C092","C017","MARTIN","JOSE MARIA LANDAZURI",null,null,null,null,null,null,null,null,null,null,null,null,null,null,null,null,null,"",null,null,null,"","","","",null,"",null,"",null,null,null,null,null,"","","","",null,"","","","",null,0,0,0,0,"NO INICIA SU CLASIFICACIÓN","LE FALTA  240Km",null,{"$f":"VLOOKUP(B229,#REF!,3,FALSE)","v":{"$error":"#REF!"}}]
["C038","C","MARTIN MS",null,null,null,null,null,null,null,null,null,null,null,null,"","","",null,"","","",null,null,null,"","","","",null,"",null,"",null,null,null,null,null,"","","","",null,"","","","",null,0,0,0,0,"NO INICIA SU CLASIFICACIÓN","LE FALTA  240Km",null,{"$f":"VLOOKUP(B230,#REF!,3,FALSE)","v":{"$error":"#REF!"}}]
["B","CO07","MASSUH","ALEGRIA JIJON ANDRADE",null,null,null,null,null,null,null,null,null,null,null,"","",44,44,"","","",null,null,null,"","","","",null,"",null,"",null,null,null,null,null,"","","","",null,"","","","",null,2,0,0,88,"HABILITADO A 80KM VELOCIDAD CONTROLADA","LE FALTA  152Km",null,{"$f":"VLOOKUP(B231,#REF!,3,FALSE)","v":{"$error":"#REF!"}}]
["C203","CO50","MATADOR COGNAC",null,null,null,null,null,null,null,null,null,null,null,null,null,null,null,null,null,42,44,null,null,null,"","","","",null,"",null,"",null,null,null,null,null,"","","","",null,"","","","",null,2,0,0,86,"HABILITADO A 80KM VELOCIDAD CONTROLADA","LE FALTA  154Km",null,{"$f":"VLOOKUP(B232,#REF!,3,FALSE)","v":{"$error":"#REF!"}}]
["C143","C","MATEO AD",null,null,null,null,null,null,null,null,null,null,null,null,"","","",null,"","","",null,null,null,"","","","",null,"",null,"",null,null,null,null,null,"","","","",null,"","","","",null,0,0,0,0,"NO INICIA SU CLASIFICACIÓN","LE FALTA  240Km",null,{"$f":"VLOOKUP(B233,#REF!,3,FALSE)","v":{"$error":"#REF!"}}]
["C247","C","MD ARMANI",null,null,null,null,null,null,null,null,null,null,null,null,44,"",44,null,"","","",null,null,null,"","","","",null,"",null,"",null,null,null,null,null,"","","","",null,"","","","",null,2,0,0,88,"HABILITADO A 80KM VELOCIDAD CONTROLADA","LE FALTA  152Km",null,{"$f":"VLOOKUP(B234,#REF!,3,FALSE)","v":{"$error":"#REF!"}}]
["C182","C120","MD KABUL","JOSE DANIEL ANDRADE",null,null,null,null,null,null,null,null,null,null,null,"",null,null,44,"",42,"",null,null,null,"","","","",null,"",null,"",null,null,null,null,null,84,86,"","",null,"","","","",null,2,0,2,256,"HABILITADO  TEMPORALMENTE A COMPETENCIAS FEI","CLASIFICADO A COMPETENCIAS FEI",null,{"$f":"VLOOKUP(B235,#REF!,3,FALSE)","v":{"$error":"#REF!"}}]
["C081","C164","MD RAMSES","MAURICIO NOBOA",null,null,null,null,null,null,null,null,null,null,null,null,null,null,null,null,null,null,null,null,null,null,null,52,48,null,"",null,"",null,null,null,null,null,"","","","",null,"","","","",null,2,0,0,100,"HABILITADO A 80KM VELOCIDAD CONTROLADA","LE FALTA  140Km",null,{"$f":"VLOOKUP(B236,#REF!,3,FALSE)","v":{"$error":"#REF!"}}]
["C069","C","MD SERENATA",null,null,null,null,null,null,null,null,null,null,null,null,"","","",null,"","","",null,null,null,"","","","",null,"",null,"",null,null,null,null,null,"","","","",null,"","","","",null,0,0,0,0,"NO INICIA SU CLASIFICACIÓN","LE FALTA  240Km",null,{"$f":"VLOOKUP(B237,#REF!,3,FALSE)","v":{"$error":"#REF!"}}]
[null,"C332","MD SOHAT","SERRANO ARMANDO JOSE",null,null,null,null,null,null,null,null,null,null,null,null,null,null,null,null,null,null,null,null,null,null,null,null,null,null,null,null,null,null,null,null,null,null,43,"","",43,null,"","","","",null,2,0,0,86,"HABILITADO A 80KM VELOCIDAD CONTROLADA","LE FALTA  154Km",null,{"$f":"VLOOKUP(B238,#REF!,3,FALSE)","v":{"$error":"#REF!"}}]
["C081","CO32","MEDIA LUNA","MARIA JOSE HIDALGO",null,null,null,null,null,null,null,null,null,null,null,null,null,null,null,null,null,"",null,60,null,"","","","",null,"",null,"",null,null,null,null,null,"","","","",null,"","","","",null,0,1,0,60,"INICIO SU CLASIFICACIÓN","LE FALTA  180Km",null,{"$f":"VLOOKUP(B239,#REF!,3,FALSE)","v":{"$error":"#REF!"}}]
["B","C","MEGATRON","MAURICIO NOBOA",null,null,null,null,null,null,null,null,null,null,null,null,null,null,null,null,null,null,null,null,null,null,null,null,null,null,null,null,42,null,null,null,null,null,"","","","",null,"","","","",null,1,0,0,42,"INICIO SU CLASIFICACIÓN","LE FALTA  198Km",null,{"$f":"VLOOKUP(B240,#REF!,3,FALSE)","v":{"$error":"#REF!"}}]
["B","C146","MELCOCHA",null,null,null,null,null,null,null,null,null,null,null,null,"","","",null,"","","",null,null,null,"","","","",null,"",null,"",null,null,null,null,null,"","","","",null,"","","","",null,0,0,0,0,"NO INICIA SU CLASIFICACIÓN","LE FALTA  240Km",null,{"$f":"VLOOKUP(B241,#REF!,3,FALSE)","v":{"$error":"#REF!"}}]
["C074","C","MERENGUE",null,null,null,null,null,null,null,null,null,null,null,null,"","","",null,"","","",null,null,null,"","","","",null,"",null,"",null,null,null,null,null,"","","","",null,"","","","",null,0,0,0,0,"NO INICIA SU CLASIFICACIÓN","LE FALTA  240Km",null,{"$f":"VLOOKUP(B242,#REF!,3,FALSE)","v":{"$error":"#REF!"}}]
[null,"C340","MEZCAL","MUÑOZ DENNY",null,null,null,null,null,null,null,null,null,null,null,null,null,null,null,null,null,null,null,null,null,null,null,null,null,null,null,null,null,null,null,null,null,null,45,"","","",null,"","","","",null,1,0,0,45,"INICIO SU CLASIFICACIÓN","LE FALTA  195Km",null,{"$f":"VLOOKUP(B243,#REF!,3,FALSE)","v":{"$error":"#REF!"}}]
["B","CO22","MILENIUM","ALFREDO CHIRIBOGA",null,null,null,null,null,null,null,null,null,null,null,null,null,null,null,null,null,"",60,null,null,"","","",48,null,"",null,"",null,null,null,null,null,"","","","",null,"","","","",null,1,1,0,108,"HABILITADO A 80KM VELOCIDAD CONTROLADA","LE FALTA  132Km",null,{"$f":"VLOOKUP(B244,#REF!,3,FALSE)","v":{"$error":"#REF!"}}]
["B","C029","MILONGA","JARAMILLO BENITO",null,null,null,null,null,null,null,null,null,null,null,"","",44,44,"","","",null,null,null,"","","","",null,"",null,"",null,null,null,null,null,"","","",43,null,40,"","",42,null,5,0,0,213,"HABILITADO A 80KM VELOCIDAD CONTROLADA","LE FALTA UNA DE 80 Km",null,{"$f":"VLOOKUP(B245,#REF!,3,FALSE)","v":{"$error":"#REF!"}}]
["B","C094","MISTERIO","MAURICIO MORILLO",null,null,null,null,null,null,null,null,null,null,62,62,62,87,null,80,"","",null,null,null,"","","","",null,"",null,"",null,null,null,null,null,"","","","",null,"","","","",null,0,3,2,353,"HABILITADO  TEMPORALMENTE A COMPETENCIAS FEI","CLASIFICADO A COMPETENCIAS FEI",null,{"$f":"VLOOKUP(B246,#REF!,3,FALSE)","v":{"$error":"#REF!"}}]
["C009","C","MK CARIBE",null,null,null,null,null,null,null,null,null,null,null,null,null,null,null,null,null,63,null,null,null,null,"","","","",null,"",null,"",null,null,null,null,null,"","","","",null,"","","","",null,0,1,0,63,"INICIO SU CLASIFICACIÓN","LE FALTA  177Km",null,{"$f":"VLOOKUP(B247,#REF!,3,FALSE)","v":{"$error":"#REF!"}}]
["B","C","MK KARANQUI",null,null,null,null,null,null,null,null,null,null,null,null,"","","",null,"","","",null,null,null,"","","","",null,"",null,"",null,null,null,null,null,"","","","",null,"","","","",null,0,0,0,0,"NO INICIA SU CLASIFICACIÓN","LE FALTA  240Km",null,{"$f":"VLOOKUP(B248,#REF!,3,FALSE)","v":{"$error":"#REF!"}}]
["CC","C281","MK KAROK","MERIZALDE ANGELA",null,null,null,null,null,null,null,null,null,null,null,null,null,null,null,null,null,null,null,null,null,null,null,null,null,44,null,null,null,null,null,null,null,null,"","","",47,86,"",82,"","",null,2,0,2,259,"HABILITADO  TEMPORALMENTE A COMPETENCIAS FEI","CLASIFICADO A COMPETENCIAS FEI",null,{"$f":"VLOOKUP(B249,#REF!,3,FALSE)","v":{"$error":"#REF!"}}]
["B","C","MK KORFU","ANA MARÍA MORENO",null,null,null,null,null,null,null,null,null,null,null,"","","",null,"","","",null,null,null,44,62,"","",null,"",null,"",null,null,null,null,null,"","","","",null,"","","","",null,1,1,0,106,"HABILITADO A 80KM VELOCIDAD CONTROLADA","LE FALTA  134Km",null,{"$f":"VLOOKUP(B250,#REF!,3,FALSE)","v":{"$error":"#REF!"}}]
["C309","C043","MK KRISTAL","EDISON KUZME",null,null,null,null,null,null,null,null,null,null,null,null,null,null,null,null,null,44,null,null,null,"","","","",null,41,null,"",null,null,null,null,null,"","","","",null,"","","","",null,2,0,0,85,"HABILITADO A 80KM VELOCIDAD CONTROLADA","LE FALTA  155Km",null,{"$f":"VLOOKUP(B251,#REF!,3,FALSE)","v":{"$error":"#REF!"}}]
["B","C091","MOCACHINO MA","DANIELA MORENO",null,null,null,null,null,null,null,null,null,null,null,44,null,null,null,62,"",81,null,81,null,"","","","",null,"",null,"",null,null,null,null,null,"","","","",null,"","","","",null,1,1,2,268,"HABILITADO  TEMPORALMENTE A COMPETENCIAS FEI","CLASIFICADO A COMPETENCIAS FEI",null,{"$f":"VLOOKUP(B252,#REF!,3,FALSE)","v":{"$error":"#REF!"}}]
["C020","C","MOCACHINO PM",null,null,null,null,null,null,null,null,null,null,null,null,null,"","",null,"","","",null,null,null,"","","","",null,"",null,"",null,null,null,null,null,"","","","",null,"","","","",null,0,0,0,0,"NO INICIA SU CLASIFICACIÓN","LE FALTA  240Km",null,{"$f":"VLOOKUP(B253,#REF!,3,FALSE)","v":{"$error":"#REF!"}}]
["C001","C002","MOJITO","FERNANDO ESPINDOLA",null,null,null,null,null,null,null,null,null,null,null,null,null,null,null,null,null,"",null,null,null,"","","","",null,"",null,"",null,null,null,null,null,"","","","",null,"","","","",null,0,0,0,0,"NO INICIA SU CLASIFICACIÓN","LE FALTA  240Km",null,{"$f":"VLOOKUP(B254,#REF!,3,FALSE)","v":{"$error":"#REF!"}}]
["C008","C","MONTANA",null,null,null,null,null,null,null,null,null,null,null,null,"","","",null,"","","",null,null,null,"","","","",null,"",null,"",null,null,null,null,null,"","","","",null,"","","","",null,0,0,0,0,"NO INICIA SU CLASIFICACIÓN","LE FALTA  240Km",null,{"$f":"VLOOKUP(B255,#REF!,3,FALSE)","v":{"$error":"#REF!"}}]
["C216","C025","MORANTE","SANTIAGO GUARDERAS",null,null,null,null,null,null,null,null,null,null,null,null,null,null,null,null,null,"",null,null,null,44,"","","",null,41,null,"",null,null,null,null,null,84,"",84,"",null,"","","","",null,2,0,2,253,"HABILITADO  TEMPORALMENTE A COMPETENCIAS FEI","CLASIFICADO A COMPETENCIAS FEI",null,{"$f":"VLOOKUP(B256,#REF!,3,FALSE)","v":{"$error":"#REF!"}}]
["C291","C027","MORDOR","JAIRO TIMANA",null,null,null,null,null,null,null,null,null,null,null,null,null,null,null,null,null,"",null,null,null,"","","","",null,"",null,"",null,null,null,null,null,"","","","",null,"","","","",null,0,0,0,0,"NO INICIA SU CLASIFICACIÓN","LE FALTA  240Km",null,{"$f":"VLOOKUP(B257,#REF!,3,FALSE)","v":{"$error":"#REF!"}}]
["B","C","MORITA",null,null,null,null,null,null,null,null,null,null,null,null,"","","",null,null,null,"",null,null,null,"","","","",null,"",null,"",null,null,null,null,null,"","","","",null,"","","","",null,0,0,0,0,"NO INICIA SU CLASIFICACIÓN","LE FALTA  240Km",null,{"$f":"VLOOKUP(B258,#REF!,3,FALSE)","v":{"$error":"#REF!"}}]
["B","C","MORO LB",null,null,null,null,null,null,null,81,80,88,80,null,"","","",null,"",42,"",null,null,null,"","","","",null,"",null,"",null,null,null,null,null,"","","","",null,"","","","",null,1,0,4,371,"HABILITADO  TEMPORALMENTE A COMPETENCIAS FEI","CLASIFICADO A COMPETENCIAS FEI",null,{"$f":"VLOOKUP(B259,#REF!,3,FALSE)","v":{"$error":"#REF!"}}]
["C033","C","MORO LJ",null,null,null,null,null,null,null,null,null,null,null,null,"","","",null,"","","",null,null,null,"","","","",null,"",null,"",null,null,null,null,null,"","","","",null,"","","","",null,0,0,0,0,"NO INICIA SU CLASIFICACIÓN","LE FALTA  240Km",null,{"$f":"VLOOKUP(B260,#REF!,3,FALSE)","v":{"$error":"#REF!"}}]
["C146","C062","MORO MP","MARTINA DEL POZO",null,null,null,null,null,null,null,null,null,null,null,null,null,null,null,null,null,44,null,null,null,"","","","",null,"",null,"",null,null,null,null,null,"","","","",null,"","","","",null,1,0,0,44,"INICIO SU CLASIFICACIÓN","LE FALTA  196Km",null,{"$f":"VLOOKUP(B261,#REF!,3,FALSE)","v":{"$error":"#REF!"}}]
["CC","C271","MORRISON","KOPPEL OSWALDO",null,null,null,null,null,null,null,null,null,null,null,null,null,null,null,null,null,null,null,null,null,null,null,null,null,null,null,null,null,null,null,null,null,null,"","","","",null,"","","","",null,0,0,0,0,"NO INICIA SU CLASIFICACIÓN","LE FALTA  240Km",null,{"$f":"VLOOKUP(B262,#REF!,3,FALSE)","v":{"$error":"#REF!"}}]
["B","C200","MULATA","LUIS AULES",null,null,null,null,null,null,null,null,null,null,null,null,null,null,null,null,null,null,null,null,null,null,null,null,null,null,null,null,null,null,null,null,null,42,43,"","",84,null,"","","","",null,{"$f":"COUNTIF(E263:AV263,\"<60\")","v":2},{"$f":"COUNT(E263:AV263)-AW263-AY263","v":0},{"$f":"COUNTIF(E263:AV263,\">=80\")","v":1},{"$f":"SUM(D263:AV263)","v":169},{"$f":"IF(OR(AY263>2,AND(AY263>1,(AW263+AX263)>1)),\"HABILITADO  TEMPORALMENTE A COMPETENCIAS FEI\",IF(AND(AY263=1,(AW263+AX263)>1),\"LE FALTA UNA DE 80 A 90 CONTROLADA\",IF((AW263+AX263)>1,\"HABILITADO A 80KM VELOCIDAD CONTROLADA\",IF((AW263+AX263)>0,\"INICIO SU CLASIFICACIÓN\",\"NO INICIA SU CLASIFICACIÓN\"))))","v":"LE FALTA UNA DE 80 A 90 CONTROLADA"},{"$f":"+IF(AND(AZ263>240,AY263>=1),\"CLASIFICADO A COMPETENCIAS FEI\",IF(AND(AZ263>199,AY263>=1),\"LE FALTA UNA DE 40 Km\",IF(AND(AZ263>179,AY263>=1),\"LE FALTA UNA DE 60 Km\",IF(AND(AZ263>160),\"LE FALTA UNA DE 80 Km\",\"LE FALTA  \"&240-AZ263&\"Km\"))))","v":"LE FALTA UNA DE 80 Km"},null,{"$f":"VLOOKUP(B263,#REF!,3,FALSE)","v":{"$error":"#REF!"}}]
["B","C255","MULITA","MALO DAVID",null,null,null,null,null,null,null,null,null,null,null,null,null,null,null,null,null,null,40,null,null,null,null,null,null,null,null,44,null,42,null,45,null,42,"","","","",null,"","","","",null,5,0,0,213,"HABILITADO A 80KM VELOCIDAD CONTROLADA","LE FALTA UNA DE 80 Km",null,{"$f":"VLOOKUP(B264,#REF!,3,FALSE)","v":{"$error":"#REF!"}}]
["C075","C144","MUSKATEL",null,null,null,null,null,null,null,null,null,null,null,null,"",null,null,44,"",63,"",null,null,null,"","","","",null,"",null,"",null,null,null,null,null,"","","","",null,"","","","",null,1,1,0,107,"HABILITADO A 80KM VELOCIDAD CONTROLADA","LE FALTA  133Km",null,{"$f":"VLOOKUP(B265,#REF!,3,FALSE)","v":{"$error":"#REF!"}}]
["C039","C009","MUSTAFA","MARIA ELENA YEROVI",null,null,null,null,null,null,null,null,null,null,null,null,null,null,null,null,null,"",null,null,null,"","","","",null,"",null,"",null,null,null,null,null,"","","","",null,"","","","",null,0,0,0,0,"NO INICIA SU CLASIFICACIÓN","LE FALTA  240Km",null,{"$f":"VLOOKUP(B266,#REF!,3,FALSE)","v":{"$error":"#REF!"}}]
["C208","C","MUSTAFA II SF",null,null,null,null,null,null,null,null,null,null,null,null,"","","",null,"","","",null,null,null,"","","","",null,"",null,"",null,null,null,null,null,"","","","",null,"","","","",null,0,0,0,0,"NO INICIA SU CLASIFICACIÓN","LE FALTA  240Km",null,{"$f":"VLOOKUP(B267,#REF!,3,FALSE)","v":{"$error":"#REF!"}}]
["C188","C","MUSTAFA MD",null,null,null,null,null,null,null,null,null,null,null,null,"",null,"",null,"","","",null,null,null,"","","","",null,"",null,"",null,null,null,null,null,"","","","",null,"","","","",null,0,0,0,0,"NO INICIA SU CLASIFICACIÓN","LE FALTA  240Km",null,{"$f":"VLOOKUP(B268,#REF!,3,FALSE)","v":{"$error":"#REF!"}}]
["C052","C","MUSTAFA PI",null,null,null,null,null,null,null,null,80,null,null,null,81,82,"",null,"","","",null,null,null,"","","","",null,"",null,"",null,null,null,null,null,"","","","",null,"","","","",null,0,0,3,243,"HABILITADO  TEMPORALMENTE A COMPETENCIAS FEI","CLASIFICADO A COMPETENCIAS FEI",null,{"$f":"VLOOKUP(B269,#REF!,3,FALSE)","v":{"$error":"#REF!"}}]
["C113","C030","NAIPE","MARCEL ROBERTO",null,null,null,null,null,null,null,null,null,null,null,"",null,null,87,80,"","",null,null,null,"","","","",null,"",null,"",null,null,null,42,null,"","","","",null,"","","","",null,1,0,2,209,"INICIO SU CLASIFICACIÓN","LE FALTA UNA DE 40 Km",null,{"$f":"VLOOKUP(B270,#REF!,3,FALSE)","v":{"$error":"#REF!"}}]
["C063","C","NARA",null,null,null,null,null,null,null,null,null,null,null,null,"",null,null,44,"","","",null,null,null,"","","","",null,"",null,"",null,null,null,null,null,"","","","",null,"","","","",null,1,0,0,44,"INICIO SU CLASIFICACIÓN","LE FALTA  196Km",null,{"$f":"VLOOKUP(B271,#REF!,3,FALSE)","v":{"$error":"#REF!"}}]
["C103","C044","NATANYA","LUIS ENRIQUE LANDAZURI",null,null,null,null,null,null,null,null,null,null,null,null,null,null,null,null,null,44,null,null,null,"","","","",null,"",null,"",null,null,null,null,null,"","","","",null,"","","","",null,1,0,0,44,"INICIO SU CLASIFICACIÓN","LE FALTA  196Km",null,{"$f":"VLOOKUP(B272,#REF!,3,FALSE)","v":{"$error":"#REF!"}}]
["CC","C285","NEGRA","VINTIMILLA SERRANO PABLO",null,null,null,null,null,null,null,null,null,null,null,null,null,60,null,null,null,null,80,null,null,null,null,null,null,null,null,null,null,null,null,null,null,null,"","","","",null,"","","","",null,0,1,1,140,"INICIO SU CLASIFICACIÓN","LE FALTA  100Km",null,{"$f":"VLOOKUP(B273,#REF!,3,FALSE)","v":{"$error":"#REF!"}}]
["C064","C","NEGRO BD",null,null,null,null,null,null,null,null,null,null,null,null,"","","",null,"","","",null,null,null,"","","","",null,"",null,"",null,null,null,null,null,"","","","",null,"","","","",null,0,0,0,0,"NO INICIA SU CLASIFICACIÓN","LE FALTA  240Km",null,{"$f":"VLOOKUP(B274,#REF!,3,FALSE)","v":{"$error":"#REF!"}}]
["CC","C286","NEGRO EG","BURBANO VILLAVICENCIO JAIME SEBASTIAN",null,null,null,null,null,null,null,null,null,null,null,null,null,null,null,null,null,null,null,null,null,null,null,null,null,44,null,44,null,null,null,68,null,null,"",63,"","",null,"","","","",null,2,2,0,219,"HABILITADO A 80KM VELOCIDAD CONTROLADA","LE FALTA UNA DE 80 Km",null,{"$f":"VLOOKUP(B275,#REF!,3,FALSE)","v":{"$error":"#REF!"}}]
["C161","C","NEMO VM",null,null,null,null,null,null,null,null,null,null,null,null,"","","",null,"","","",null,null,null,"","","","",null,"",null,"",null,null,null,null,null,"","","","",null,"","","","",null,0,0,0,0,"NO INICIA SU CLASIFICACIÓN","LE FALTA  240Km",null,{"$f":"VLOOKUP(B276,#REF!,3,FALSE)","v":{"$error":"#REF!"}}]
["CC","C287","NENA","BURBANO SERRANO JUAN JOSE",null,null,null,null,null,null,null,null,null,null,null,null,null,null,null,null,null,null,null,null,null,null,null,null,null,null,null,null,null,null,null,null,null,null,"","","","",null,"","","","",null,0,0,0,0,"NO INICIA SU CLASIFICACIÓN","LE FALTA  240Km",null,{"$f":"VLOOKUP(B277,#REF!,3,FALSE)","v":{"$error":"#REF!"}}]
["C066","C","NERU LP BJ",null,null,null,null,null,null,null,null,null,null,null,null,"","","",null,"","","",null,null,null,"","","","",null,"",null,"",null,null,null,null,null,"","","","",null,"","","","",null,0,0,0,0,"NO INICIA SU CLASIFICACIÓN","LE FALTA  240Km",null,{"$f":"VLOOKUP(B278,#REF!,3,FALSE)","v":{"$error":"#REF!"}}]
["CC","C288","NEVADO","SORIA VASQUEZ MARIA DANIELA",null,null,null,null,null,null,null,null,null,null,null,null,40,null,null,null,null,null,null,null,null,null,null,null,null,null,null,null,null,null,null,null,null,null,"","","","",null,"","","","",null,1,0,0,40,"INICIO SU CLASIFICACIÓN","LE FALTA  200Km",null,{"$f":"VLOOKUP(B279,#REF!,3,FALSE)","v":{"$error":"#REF!"}}]
["C181","C019","NICOLAS","MANUELA JARAMILLO",null,null,null,null,null,null,null,null,null,null,null,null,null,null,null,null,null,"",null,null,null,"","","",48,null,null,null,"",null,null,null,41,42,84,"",84,84,null,80,"","",90,null,3,0,5,553,"HABILITADO  TEMPORALMENTE A COMPETENCIAS FEI","CLASIFICADO A COMPETENCIAS FEI",null,{"$f":"VLOOKUP(B280,#REF!,3,FALSE)","v":{"$error":"#REF!"}}]
["CC","C289","ÑATO","FEICAN ANDRES",null,null,null,null,null,null,null,null,null,null,null,null,null,null,null,null,null,null,null,null,null,null,null,null,null,null,null,null,null,null,null,null,null,null,"","","","",null,"","","","",null,0,0,0,0,"NO INICIA SU CLASIFICACIÓN","LE FALTA  240Km",null,{"$f":"VLOOKUP(B281,#REF!,3,FALSE)","v":{"$error":"#REF!"}}]
["CC","C290","PADRINO","GONZALEZ ANA MARIA",null,null,null,null,null,null,null,null,null,null,null,null,null,null,null,null,null,null,40,40,40,null,null,null,null,null,null,null,null,null,null,null,null,null,"","","","",null,"","","","",null,3,0,0,120,"HABILITADO A 80KM VELOCIDAD CONTROLADA","LE FALTA  120Km",null,{"$f":"VLOOKUP(B282,#REF!,3,FALSE)","v":{"$error":"#REF!"}}]
[null,"C199","PAINT HORSES","MALO GELLIBERT ANDREA NATALY",null,null,null,null,null,null,null,null,null,null,null,null,null,null,null,null,null,null,null,null,null,null,null,null,null,null,null,null,null,null,null,null,null,null,null,null,null,"",47,"","","","",null,1,0,0,47,"INICIO SU CLASIFICACIÓN","LE FALTA  193Km",null,{"$f":"VLOOKUP(B283,#REF!,3,FALSE)","v":{"$error":"#REF!"}}]
["CC","C291","PALERMO","MALO MARIBEL",null,null,null,null,null,null,null,null,null,null,null,null,null,null,null,null,null,null,40,null,null,null,null,null,null,null,null,null,null,null,null,null,null,null,"","","","",null,"","","","",null,1,0,0,40,"INICIO SU CLASIFICACIÓN","LE FALTA  200Km",null,{"$f":"VLOOKUP(B284,#REF!,3,FALSE)","v":{"$error":"#REF!"}}]
["B","C039","PALOMA","VLADIMIR TORRES",null,null,null,null,null,null,null,null,null,null,null,null,null,null,null,null,null,"",null,null,null,"","","","",null,"",null,"",null,null,null,null,null,43,"","","",null,"","","","",null,1,0,0,43,"INICIO SU CLASIFICACIÓN","LE FALTA  197Km",null,{"$f":"VLOOKUP(B285,#REF!,3,FALSE)","v":{"$error":"#REF!"}}]
["B","C","PAPILLON",null,null,null,null,null,null,null,null,null,null,null,null,"","","",null,"","","",null,null,null,"","","","",null,"",null,"",null,null,null,null,null,"","","","",null,"","","","",null,0,0,0,0,"NO INICIA SU CLASIFICACIÓN","LE FALTA  240Km",null,{"$f":"VLOOKUP(B286,#REF!,3,FALSE)","v":{"$error":"#REF!"}}]
["CC","C197","PATACON","CLAUDIA LOYOLA",null,null,null,null,null,null,null,null,null,null,null,40,40,null,null,null,null,null,80,null,null,null,null,null,null,null,null,null,null,null,null,null,null,null,80,"","","",null,"","","","",null,2,0,2,240,"HABILITADO  TEMPORALMENTE A COMPETENCIAS FEI","LE FALTA UNA DE 40 Km",null,{"$f":"VLOOKUP(B287,#REF!,3,FALSE)","v":{"$error":"#REF!"}}]
["C139","C","PAVAROTI VM",null,null,null,null,null,null,null,null,null,null,null,null,"","","",null,"","","",null,null,null,"","","","",null,"",null,"",null,null,null,null,null,"","","","",null,"","","","",null,0,0,0,0,"NO INICIA SU CLASIFICACIÓN","LE FALTA  240Km",null,{"$f":"VLOOKUP(B288,#REF!,3,FALSE)","v":{"$error":"#REF!"}}]
[null,"C243","PAVITA","MEDINA CARVAJAL JORGE",null,null,null,null,null,null,null,null,null,null,null,null,null,null,null,null,null,null,null,null,null,null,null,null,null,null,null,null,null,null,null,null,null,null,null,null,null,null,47,"",42,42,"",null,3,0,0,131,"HABILITADO A 80KM VELOCIDAD CONTROLADA","LE FALTA  109Km",null,{"$f":"VLOOKUP(B289,#REF!,3,FALSE)","v":{"$error":"#REF!"}}]
["B","C040","PECAS GR","GALO RECALDE",null,null,null,null,null,null,null,null,null,null,null,"",41,"",null,"","","",null,null,null,"","",52,"",null,"",null,"",null,null,null,null,null,"","","","",null,"","","","",null,2,0,0,93,"HABILITADO A 80KM VELOCIDAD CONTROLADA","LE FALTA  147Km",null,{"$f":"VLOOKUP(B290,#REF!,3,FALSE)","v":{"$error":"#REF!"}}]
["C026","C","PECAS WM",null,null,null,null,null,null,null,81,null,null,null,null,44,null,"",null,62,"","",null,null,null,"","","","",null,"",null,"",null,null,null,null,null,"","","","",null,"","","","",null,1,1,1,187,"LE FALTA UNA DE 80 A 90 CONTROLADA","LE FALTA UNA DE 60 Km",null,{"$f":"VLOOKUP(B291,#REF!,3,FALSE)","v":{"$error":"#REF!"}}]
["C269","C","PEPE TRUENO",null,null,null,null,null,null,null,null,null,null,null,null,"","","",null,"","","",null,null,null,"","","","",null,"",null,"",null,null,null,null,null,"","","","",null,"","","","",null,0,0,0,0,"NO INICIA SU CLASIFICACIÓN","LE FALTA  240Km",null,{"$f":"VLOOKUP(B292,#REF!,3,FALSE)","v":{"$error":"#REF!"}}]
["C271","C","PERCAL",null,null,null,null,null,null,null,null,null,null,null,null,"","","",null,"","","",null,null,null,"","","","",null,"",null,"",null,null,null,null,null,"","","","",null,"","","","",null,0,0,0,0,"NO INICIA SU CLASIFICACIÓN","LE FALTA  240Km",null,{"$f":"VLOOKUP(B293,#REF!,3,FALSE)","v":{"$error":"#REF!"}}]
[null,"C330","PIBE","BURBANO SERRANO JAIME ROLANDO",null,null,null,null,null,null,null,null,null,null,null,null,null,null,null,null,null,null,null,null,null,null,null,null,null,null,null,null,null,null,null,null,null,null,"","","",43,null,"","","","",null,1,0,0,43,"INICIO SU CLASIFICACIÓN","LE FALTA  197Km",null,{"$f":"VLOOKUP(B294,#REF!,3,FALSE)","v":{"$error":"#REF!"}}]
["CC","C292","PINTO","ALVEAR HERNAN",null,null,null,null,null,null,null,null,null,null,null,null,null,null,null,null,null,null,null,null,null,null,null,null,null,null,null,null,null,null,null,null,null,null,"","","","",null,"","","","",null,0,0,0,0,"NO INICIA SU CLASIFICACIÓN","LE FALTA  240Km",null,{"$f":"VLOOKUP(B295,#REF!,3,FALSE)","v":{"$error":"#REF!"}}]
["C021","C","PINTO ZK",null,null,null,null,null,null,null,null,null,null,null,null,"","","",null,"","","",null,null,null,"","","","",null,"",null,"",null,null,null,null,null,"","","","",null,"","","","",null,0,0,0,0,"NO INICIA SU CLASIFICACIÓN","LE FALTA  240Km",null,{"$f":"VLOOKUP(B296,#REF!,3,FALSE)","v":{"$error":"#REF!"}}]
["C304","C","PIROPO RM",null,null,null,null,null,null,null,null,null,null,null,null,"","","",null,"","","",null,null,null,"","","","",null,"",null,"",null,null,null,null,null,"","","","",null,"","","","",null,0,0,0,0,"NO INICIA SU CLASIFICACIÓN","LE FALTA  240Km",null,{"$f":"VLOOKUP(B297,#REF!,3,FALSE)","v":{"$error":"#REF!"}}]
["CC","C293","POPEYE","GONZALEZ CARVALLO BERNARDA",null,null,null,null,null,null,null,null,null,null,null,null,null,null,null,null,null,null,null,null,40,null,null,null,null,null,null,null,null,null,null,null,null,null,"","","","",null,"","","","",null,1,0,0,40,"INICIO SU CLASIFICACIÓN","LE FALTA  200Km",null,{"$f":"VLOOKUP(B298,#REF!,3,FALSE)","v":{"$error":"#REF!"}}]
["C096","C","PREFERIDO NA",null,null,null,null,null,null,null,null,null,null,null,null,"","","",null,"","","",null,null,null,"","","","",null,"",null,"",null,null,null,null,null,"","","","",null,"","","","",null,0,0,0,0,"NO INICIA SU CLASIFICACIÓN","LE FALTA  240Km",null,{"$f":"VLOOKUP(B299,#REF!,3,FALSE)","v":{"$error":"#REF!"}}]
["B","C","PRIMAVERA TV",null,null,null,null,null,null,null,null,null,null,null,null,"","","",null,"","","",null,null,null,"","","","",null,"",null,"",null,null,null,null,null,"","","","",null,"","","","",null,0,0,0,0,"NO INICIA SU CLASIFICACIÓN","LE FALTA  240Km",null,{"$f":"VLOOKUP(B300,#REF!,3,FALSE)","v":{"$error":"#REF!"}}]
["C096","C033","PRINCIPE","DIEGO ARMANDO LUNA",null,null,null,null,null,null,null,null,null,null,null,"","","",null,"","","",null,null,null,"","","","",null,"",null,"",null,null,null,null,null,"","","","",null,"","","","",null,0,0,0,0,"NO INICIA SU CLASIFICACIÓN","LE FALTA  240Km",null,{"$f":"VLOOKUP(B301,#REF!,3,FALSE)","v":{"$error":"#REF!"}}]
["B","C","PRODIGO",null,null,null,null,null,null,null,null,null,null,null,null,"",41,"",null,"","","",null,null,null,"","","","",null,"",null,"",null,null,null,null,null,"","","","",null,"","","","",null,1,0,0,41,"INICIO SU CLASIFICACIÓN","LE FALTA  199Km",null,{"$f":"VLOOKUP(B302,#REF!,3,FALSE)","v":{"$error":"#REF!"}}]
[null,"C360","PSICOTICO","MANCHENO GALO PATRICIO",null,null,null,null,null,null,null,null,null,null,null,null,null,null,null,null,null,null,null,null,null,null,null,null,null,null,null,null,null,null,null,null,null,null,null,null,null,null,null,40,"","",42,null,null,null,null,82,"NO INICIA SU CLASIFICACIÓN","LE FALTA  158Km",null,{"$f":"VLOOKUP(B303,#REF!,3,FALSE)","v":{"$error":"#REF!"}}]
[null,"C325","PSYNCINATTI","WILLIAMS JEMMA",null,null,null,null,null,null,null,null,null,null,null,null,null,null,null,null,null,null,null,null,null,null,null,null,null,null,null,null,null,null,null,null,null,null,45,"",43,"",null,"","","","",null,{"$f":"COUNTIF(E304:AV304,\"<60\")","v":2},{"$f":"COUNT(E304:AV304)-AW304-AY304","v":0},{"$f":"COUNTIF(E304:AV304,\">=80\")","v":0},88,"HABILITADO A 80KM VELOCIDAD CONTROLADA","LE FALTA  152Km",null,{"$f":"VLOOKUP(B304,#REF!,3,FALSE)","v":{"$error":"#REF!"}}]
["B","C014","QUICK PARROT","JUAN GABRIEL REYES",null,null,null,null,null,null,null,null,null,null,null,null,null,null,null,null,null,"",null,null,null,"","","","",null,"",null,"",null,null,null,null,null,"","","","",null,"","","","",null,0,0,0,0,"NO INICIA SU CLASIFICACIÓN","LE FALTA  240Km",null,{"$f":"VLOOKUP(B305,#REF!,3,FALSE)","v":{"$error":"#REF!"}}]
["C076","C161","QUISHUAR",null,null,null,null,null,null,null,null,null,null,null,null,null,null,null,null,null,null,null,null,null,null,null,null,36,"",null,"",null,"",null,null,null,null,null,"","","","",null,"","","","",null,1,0,0,36,"INICIO SU CLASIFICACIÓN","LE FALTA  204Km",null,{"$f":"VLOOKUP(B306,#REF!,3,FALSE)","v":{"$error":"#REF!"}}]
["B","C072","QUITA PENAS","ILIANA RUIZ",null,null,null,null,null,null,null,null,null,null,null,"",null,null,44,43,42,62,null,null,null,"","","",80,null,82,null,"",null,null,null,null,null,"","","","",null,"","","","",null,3,1,2,353,"HABILITADO  TEMPORALMENTE A COMPETENCIAS FEI","CLASIFICADO A COMPETENCIAS FEI",null,{"$f":"VLOOKUP(B307,#REF!,3,FALSE)","v":{"$error":"#REF!"}}]
[null,"C324","RANCHERO","MORALES ANDRES",null,null,null,null,null,null,null,null,null,null,null,null,null,null,null,null,null,null,null,null,null,null,null,null,null,null,null,null,null,null,null,null,null,null,43,"","",43,null,40,"","","",null,3,0,0,126,"HABILITADO A 80KM VELOCIDAD CONTROLADA","LE FALTA  114Km",null,{"$f":"VLOOKUP(B308,#REF!,3,FALSE)","v":{"$error":"#REF!"}}]
["C187","C","RAYMI",null,null,null,null,null,null,null,null,null,null,null,null,null,null,null,null,null,42,null,null,null,null,"","","","",null,"",null,"",null,null,null,null,null,"","","","",null,"","","","",null,1,0,0,42,"INICIO SU CLASIFICACIÓN","LE FALTA  198Km",null,{"$f":"VLOOKUP(B309,#REF!,3,FALSE)","v":{"$error":"#REF!"}}]
[null,"C181","RAYUELA","POLIT JULIA",null,null,null,null,null,null,null,null,null,null,null,null,null,null,null,null,null,null,null,null,null,null,null,null,null,null,null,null,null,null,null,null,null,null,43,"","","",null,"","","","",null,1,0,0,43,"INICIO SU CLASIFICACIÓN","LE FALTA  197Km",null,{"$f":"VLOOKUP(B310,#REF!,3,FALSE)","v":{"$error":"#REF!"}}]
["C096","C001","REBELDE","PAULINO VINTIMILLA",null,null,null,null,null,null,null,null,null,null,null,null,null,null,null,null,null,"",null,null,null,"","","","",null,"",null,"",null,null,null,null,null,"","","","",null,"","","","",null,0,0,0,0,"NO INICIA SU CLASIFICACIÓN","LE FALTA  240Km",null,{"$f":"VLOOKUP(B311,#REF!,3,FALSE)","v":{"$error":"#REF!"}}]
["B","C","REGUETON AE",null,null,null,null,null,null,null,null,null,null,null,null,"","","",null,"","","",null,null,null,"","","","",null,"",null,"",null,null,null,null,null,"","","","",null,"","","","",null,0,0,0,0,"NO INICIA SU CLASIFICACIÓN","LE FALTA  240Km",null,{"$f":"VLOOKUP(B312,#REF!,3,FALSE)","v":{"$error":"#REF!"}}]
["CC","C294","REMOLACHA","MALO GELLIBERT ANDREA NATALY",null,null,null,null,null,null,null,null,null,null,null,"","","",null,null,{"$f":"IFERROR($BD313,\"\")","v":""},null,40,40,{"$f":"IFERROR(#REF!,\"\")","v":""},60,"",null,"",58,"",null,"",42,null,null,null,null,"","","","",null,"",42,60,90,null,5,2,1,432,"LE FALTA UNA DE 80 A 90 CONTROLADA","CLASIFICADO A COMPETENCIAS FEI",null,{"$f":"VLOOKUP(B313,#REF!,3,FALSE)","v":{"$error":"#REF!"}}]
["CC","C295","RHANIA","VINTIMILLA SERRANO PABLO XAVIER",null,null,null,null,null,null,null,null,null,null,null,null,null,null,null,null,null,null,null,null,null,40,null,null,null,null,null,null,null,null,null,null,null,null,"","","","",null,"","","","",null,1,0,0,40,"INICIO SU CLASIFICACIÓN","LE FALTA  200Km",null,{"$f":"VLOOKUP(B314,#REF!,3,FALSE)","v":{"$error":"#REF!"}}]
[null,"C241","RHYDER",null,null,null,null,null,null,null,null,null,null,null,null,null,null,null,null,null,null,null,null,null,null,null,null,null,null,null,null,null,null,null,null,null,null,null,null,null,null,null,null,"","",42,"",null,1,0,0,42,"INICIO SU CLASIFICACIÓN","LE FALTA  198Km",null,{"$f":"VLOOKUP(B315,#REF!,3,FALSE)","v":{"$error":"#REF!"}}]
[null,"C202","RIGUEL","VINTIMILLA CORDERO PABLO JOSE",null,null,null,null,null,null,null,null,null,null,null,null,null,null,null,null,null,null,null,null,null,null,null,null,null,null,null,null,null,null,null,null,null,null,45,47,"",84,86,"","","","",null,2,0,2,262,"HABILITADO  TEMPORALMENTE A COMPETENCIAS FEI","CLASIFICADO A COMPETENCIAS FEI",null,{"$f":"VLOOKUP(B316,#REF!,3,FALSE)","v":{"$error":"#REF!"}}]
["B","C057","ROBERTO","JOSE GOMEZ DE LA TORRE",null,null,null,null,null,null,null,null,null,null,null,null,null,null,null,null,null,"",null,null,null,"","","","",null,"",null,"",null,null,null,null,null,"","","","",null,"","","","",null,0,0,0,0,"NO INICIA SU CLASIFICACIÓN","LE FALTA  240Km",null,{"$f":"VLOOKUP(B317,#REF!,3,FALSE)","v":{"$error":"#REF!"}}]
["C076","C","ROBERTO CN",null,null,null,null,null,null,null,null,null,null,null,null,"",null,null,null,43,"","",null,null,null,"","","","",null,"",null,"",null,null,null,null,null,"","","","",null,"","","","",null,1,0,0,43,"INICIO SU CLASIFICACIÓN","LE FALTA  197Km",null,{"$f":"VLOOKUP(B318,#REF!,3,FALSE)","v":{"$error":"#REF!"}}]
["C187","C","ROBERTO ET",null,null,null,null,null,null,null,null,null,null,null,null,"","","",null,"","","",null,null,null,"","","","",null,"",null,"",null,null,null,null,null,"","","","",null,"","","","",null,0,0,0,0,"NO INICIA SU CLASIFICACIÓN","LE FALTA  240Km",null,{"$f":"VLOOKUP(B319,#REF!,3,FALSE)","v":{"$error":"#REF!"}}]
["C082","C117","RONCO","MARIA FERNANDA BRAUER",null,null,null,null,null,null,null,null,null,null,null,null,null,null,null,null,42,null,null,44,null,"","","","",null,"",null,"",null,null,null,null,null,"","","","",null,"","","","",null,2,0,0,86,"HABILITADO A 80KM VELOCIDAD CONTROLADA","LE FALTA  154Km",null,{"$f":"VLOOKUP(B320,#REF!,3,FALSE)","v":{"$error":"#REF!"}}]
["B","C","ROSA ELENA",null,null,null,null,null,null,null,null,null,null,null,null,"","","",null,"","","",null,null,null,"","","","",null,"",null,"",null,null,null,null,null,"","","","",null,"","","","",null,0,0,0,0,"NO INICIA SU CLASIFICACIÓN","LE FALTA  240Km",null,{"$f":"VLOOKUP(B321,#REF!,3,FALSE)","v":{"$error":"#REF!"}}]
["CC","C296","ROSILLO","SORIA JUAN MANUEL",null,null,null,null,null,null,null,null,null,null,null,null,null,null,40,null,null,null,null,null,null,null,null,null,null,null,null,null,null,null,null,null,null,null,"","","","",null,"","","","",null,1,0,0,40,"INICIO SU CLASIFICACIÓN","LE FALTA  200Km",null,{"$f":"VLOOKUP(B322,#REF!,3,FALSE)","v":{"$error":"#REF!"}}]
["C027","C035","RUMBERO","DENYS SANCHEZ",null,null,null,null,null,null,null,null,null,null,null,null,null,null,null,null,null,"",null,null,null,"","","","",null,"",null,"",null,null,null,null,null,"","","","",null,"","","","",null,0,0,0,0,"NO INICIA SU CLASIFICACIÓN","LE FALTA  240Km",null,{"$f":"VLOOKUP(B323,#REF!,3,FALSE)","v":{"$error":"#REF!"}}]
["C016","C","SAFIR VE",null,null,null,null,null,null,null,null,null,null,null,null,"","","",null,"","","",null,null,null,"","","","",null,"",null,"",null,null,null,null,null,"","","","",null,"","","","",null,0,0,0,0,"NO INICIA SU CLASIFICACIÓN","LE FALTA  240Km",null,{"$f":"VLOOKUP(B324,#REF!,3,FALSE)","v":{"$error":"#REF!"}}]
["B","C026","SAHIR SE","EMILIA SALAZAR",null,null,null,null,null,null,null,null,null,null,null,null,null,null,null,null,null,"",null,null,null,"","","","",null,"",null,"",null,null,null,null,null,"","","","",null,"","","","",null,0,0,0,0,"NO INICIA SU CLASIFICACIÓN","LE FALTA  240Km",null,{"$f":"VLOOKUP(B325,#REF!,3,FALSE)","v":{"$error":"#REF!"}}]
["B","C047","SAID HC","RICARDO GARZON",null,null,null,null,null,null,null,null,null,null,null,null,null,null,null,null,null,44,null,null,null,"","","","",null,"",null,"",null,null,null,null,null,"","","","",null,"","","","",null,1,0,0,44,"INICIO SU CLASIFICACIÓN","LE FALTA  196Km",null,{"$f":"VLOOKUP(B326,#REF!,3,FALSE)","v":{"$error":"#REF!"}}]
["CC","C297","SAILER EG","BURBANO SERRANO JAIME ROLANDO",null,null,null,null,null,null,null,null,null,null,null,null,null,null,null,null,null,null,null,null,null,null,null,null,null,44,null,44,null,null,null,null,null,null,"","","","",null,"","","","",null,2,0,0,{"$f":"SUM(D327:AV327)","v":88},{"$f":"IF(OR(AY327>2,AND(AY327>1,(AW327+AX327)>1)),\"HABILITADO  TEMPORALMENTE A COMPETENCIAS FEI\",IF(AND(AY327=1,(AW327+AX327)>1),\"LE FALTA UNA DE 80 A 90 CONTROLADA\",IF((AW327+AX327)>1,\"HABILITADO A 80KM VELOCIDAD CONTROLADA\",IF((AW327+AX327)>0,\"INICIO SU CLASIFICACIÓN\",\"NO INICIA SU CLASIFICACIÓN\"))))","v":"HABILITADO A 80KM VELOCIDAD CONTROLADA"},{"$f":"+IF(AND(AZ327>240,AY327>=1),\"CLASIFICADO A COMPETENCIAS FEI\",IF(AND(AZ327>199,AY327>=1),\"LE FALTA UNA DE 40 Km\",IF(AND(AZ327>179,AY327>=1),\"LE FALTA UNA DE 60 Km\",IF(AND(AZ327>160),\"LE FALTA UNA DE 80 Km\",\"LE FALTA  \"&240-AZ327&\"Km\"))))","v":"LE FALTA  152Km"},null,{"$f":"VLOOKUP(B327,#REF!,3,FALSE)","v":{"$error":"#REF!"}}]
["C062","C","SALTAMONTES",null,null,null,null,null,null,null,null,null,null,null,null,"","","",null,"","","",null,null,null,"","","","",null,"",null,"",null,null,null,null,null,"","","","",null,"","","","",null,0,0,0,0,"NO INICIA SU CLASIFICACIÓN","LE FALTA  240Km",null,{"$f":"VLOOKUP(B328,#REF!,3,FALSE)","v":{"$error":"#REF!"}}]
["B","C071","SARA","WLADIMIRO TORRES",null,null,null,null,null,null,null,null,null,60,null,81,"","",null,80,"",62,null,null,null,"","","","",null,"",null,"",null,null,null,null,null,84,"","","",null,"","","","",null,0,2,3,367,"HABILITADO  TEMPORALMENTE A COMPETENCIAS FEI","CLASIFICADO A COMPETENCIAS FEI",null,{"$f":"VLOOKUP(B329,#REF!,3,FALSE)","v":{"$error":"#REF!"}}]
["C014","C073","SARA CMB","CESAR MORABOWEN",null,null,null,null,null,null,null,null,null,null,null,"",null,null,44,43,"","",null,44,null,"","","","",null,"",null,"",null,null,null,null,null,"","","","",null,"","","","",null,3,0,0,131,"HABILITADO A 80KM VELOCIDAD CONTROLADA","LE FALTA  109Km",null,{"$f":"VLOOKUP(B330,#REF!,3,FALSE)","v":{"$error":"#REF!"}}]
["CC","C298","SARAÑUSCA","CORDOVA JAVIER",null,null,null,null,null,null,null,null,null,null,null,null,null,40,null,null,null,null,null,null,null,null,null,null,null,null,null,null,null,null,null,null,null,null,"","","","",null,"","","","",null,1,0,0,40,"INICIO SU CLASIFICACIÓN","LE FALTA  200Km",null,{"$f":"VLOOKUP(B331,#REF!,3,FALSE)","v":{"$error":"#REF!"}}]
["CC","C299","SARAVI","PEÑA SOFIA",null,null,null,null,null,null,null,null,null,null,null,null,null,null,null,null,null,null,null,null,null,null,null,null,null,null,null,null,null,null,null,null,null,null,"","","","",null,"","","","",null,0,0,0,0,"NO INICIA SU CLASIFICACIÓN","LE FALTA  240Km",null,{"$f":"VLOOKUP(B332,#REF!,3,FALSE)","v":{"$error":"#REF!"}}]
["B","C053","SC HURR","MATEO TOBAR",null,null,null,null,null,null,null,null,null,null,null,"","","",null,"","",44,null,null,null,"","","","",null,"",null,"",null,null,null,null,null,"","","","",null,"","","","",null,1,0,0,44,"INICIO SU CLASIFICACIÓN","LE FALTA  196Km",null,{"$f":"VLOOKUP(B333,#REF!,3,FALSE)","v":{"$error":"#REF!"}}]
["B","C140","SC SADIQ","HÉCTOR ALMEIDA",null,null,null,null,null,null,null,null,null,null,null,null,null,null,null,null,null,null,null,null,null,null,62,52,null,null,null,null,null,null,null,null,null,null,"","","",84,null,80,"","","",null,1,1,2,278,"HABILITADO  TEMPORALMENTE A COMPETENCIAS FEI","CLASIFICADO A COMPETENCIAS FEI",null,{"$f":"VLOOKUP(B334,#REF!,3,FALSE)","v":{"$error":"#REF!"}}]
["C238","C052","SC SHARA","JOSE MARTIN MONCAYO",null,null,null,null,null,null,null,null,null,null,null,null,null,null,null,null,null,44,null,null,null,"","","","",null,"",null,"",null,null,null,null,null,"","","","",null,"","","","",null,1,0,0,44,"INICIO SU CLASIFICACIÓN","LE FALTA  196Km",null,{"$f":"VLOOKUP(B335,#REF!,3,FALSE)","v":{"$error":"#REF!"}}]
["C274","C160","SECRETARIA",null,null,null,null,null,null,null,null,null,null,null,null,null,null,null,null,null,null,null,null,null,null,null,"","","",null,"",null,"",null,null,null,null,null,"","","","",null,"","","","",null,{"$f":"COUNTIF(E336:AV336,\"<60\")","v":0},{"$f":"COUNT(E336:AV336)-AW336-AY336","v":0},{"$f":"COUNTIF(E336:AV336,\">=80\")","v":0},0,"NO INICIA SU CLASIFICACIÓN","LE FALTA  240Km",null,{"$f":"VLOOKUP(B336,#REF!,3,FALSE)","v":{"$error":"#REF!"}}]
["C234","C","SECRETO GL",null,null,null,null,null,null,null,null,null,null,null,null,62,"","",null,"","","",null,null,null,"","","","",null,"",null,"",null,null,null,null,null,"","","","",null,"","","","",null,0,1,0,62,"INICIO SU CLASIFICACIÓN","LE FALTA  178Km",null,{"$f":"VLOOKUP(B337,#REF!,3,FALSE)","v":{"$error":"#REF!"}}]
["C080","C","SEDA SF",null,null,null,null,null,null,null,null,null,null,null,null,"",41,44,null,"","","",null,null,null,"","","","",null,"",null,"",null,null,null,null,null,"","","","",null,"","","","",null,2,0,0,85,"HABILITADO A 80KM VELOCIDAD CONTROLADA","LE FALTA  155Km",null,{"$f":"VLOOKUP(B338,#REF!,3,FALSE)","v":{"$error":"#REF!"}}]
[null,"C329","SERENATA CMB","MORABOWEN CESAR",null,null,null,null,null,null,null,null,null,null,null,null,null,null,null,null,null,null,null,null,null,null,null,null,null,null,null,null,null,null,null,null,null,null,43,"",43,"",null,80,82,82,90,null,2,0,4,420,"HABILITADO  TEMPORALMENTE A COMPETENCIAS FEI","CLASIFICADO A COMPETENCIAS FEI",null,{"$f":"VLOOKUP(B339,#REF!,3,FALSE)","v":{"$error":"#REF!"}}]
["C057","C060","SHAKAL","LUIS PASPUEZAN",null,null,null,null,null,null,null,null,null,null,42,44,"","",null,"","","",null,null,null,"","","",48,null,"",null,"",null,null,null,null,null,null,"","","",null,"","","","",null,3,0,0,134,"HABILITADO A 80KM VELOCIDAD CONTROLADA","LE FALTA  106Km",null,{"$f":"VLOOKUP(B340,#REF!,3,FALSE)","v":{"$error":"#REF!"}}]
["B","C154","SHAKIRA","JOSÉ LETORT MENA",null,null,null,null,null,null,null,null,null,null,null,null,null,null,null,null,null,null,null,null,null,44,62,"",80,null,"",null,"",null,null,null,90,null,null,"","","",null,"","","","",null,1,1,2,276,"HABILITADO  TEMPORALMENTE A COMPETENCIAS FEI","CLASIFICADO A COMPETENCIAS FEI",null,{"$f":"VLOOKUP(B341,#REF!,3,FALSE)","v":{"$error":"#REF!"}}]
[null,"C367","SHAKIRA MO","GONZALEZ SEBASTIAN",null,null,null,null,null,null,null,null,null,null,null,null,null,null,null,null,null,null,null,null,null,null,null,null,null,null,null,null,null,null,null,null,null,null,null,"","",43,null,"","","","",null,1,0,0,43,"INICIO SU CLASIFICACIÓN","LE FALTA  197Km",null,{"$f":"VLOOKUP(B342,#REF!,3,FALSE)","v":{"$error":"#REF!"}}]
["B","C090","SHALEA","RAFAELA DARQUEA",null,null,null,null,null,null,null,null,null,null,null,"",41,44,44,"","",81,80,null,null,"","","","",null,"",null,"",null,null,null,null,null,null,"","","",null,"","","","",null,3,0,2,290,"HABILITADO  TEMPORALMENTE A COMPETENCIAS FEI","CLASIFICADO A COMPETENCIAS FEI",null,{"$f":"VLOOKUP(B343,#REF!,3,FALSE)","v":{"$error":"#REF!"}}]
["C251","C079","SHAMIR SOLIN","FELIPE SERRANO",null,null,null,null,null,null,null,null,null,null,null,"","","",null,"",42,62,null,60,null,"","","","",null,"",null,"",null,null,null,null,null,null,"","","",null,"","","","",null,1,2,0,164,"HABILITADO A 80KM VELOCIDAD CONTROLADA","LE FALTA UNA DE 80 Km",null,{"$f":"VLOOKUP(B344,#REF!,3,FALSE)","v":{"$error":"#REF!"}}]
["CC","C300","SHANAYA","LOYOLA JERVES HERNAN GUSTAVO",null,null,null,null,null,null,null,null,null,null,null,null,null,null,null,null,null,null,40,null,null,null,null,null,null,null,null,null,null,null,null,null,null,null,null,"","","",null,"","","","",null,1,0,0,40,"INICIO SU CLASIFICACIÓN","LE FALTA  200Km",null,{"$f":"VLOOKUP(B345,#REF!,3,FALSE)","v":{"$error":"#REF!"}}]
["CC","C201","SHASHENKA","MATUTE PEDRO JOSE",null,null,null,null,null,null,null,null,null,null,null,null,null,null,null,null,null,null,40,null,60,40,null,null,null,44,null,null,null,null,null,null,null,null,45,86,"","",null,"","","","",null,4,1,1,315,"LE FALTA UNA DE 80 A 90 CONTROLADA","CLASIFICADO A COMPETENCIAS FEI",null,{"$f":"VLOOKUP(B346,#REF!,3,FALSE)","v":{"$error":"#REF!"}}]
[null,"C364","SHIMA","SAMPER ALVARO",null,null,null,null,null,null,null,null,null,null,null,null,null,null,null,null,null,null,null,null,null,null,null,null,null,null,null,null,null,null,null,null,null,null,null,"","",43,null,40,"","","",null,2,0,0,83,"HABILITADO A 80KM VELOCIDAD CONTROLADA","LE FALTA  157Km",null,{"$f":"VLOOKUP(B347,#REF!,3,FALSE)","v":{"$error":"#REF!"}}]
["CC","C193","SHIVAGO","ANDRADE PAREDES JOSE DANIEL",null,null,null,null,null,null,null,null,null,null,null,null,40,40,null,null,null,null,null,null,null,60,null,null,null,null,null,null,null,83,null,null,null,null,80,"","","",null,"","","","",null,2,1,2,303,"HABILITADO  TEMPORALMENTE A COMPETENCIAS FEI","CLASIFICADO A COMPETENCIAS FEI",null,{"$f":"VLOOKUP(B348,#REF!,3,FALSE)","v":{"$error":"#REF!"}}]
["C137","C018","SILUETA","BENITO JOSE JARAMILLO",null,null,null,null,null,null,null,null,null,null,null,null,null,null,null,null,null,"",null,null,null,"","","","",null,"",null,"",null,null,null,null,null,"","","","",null,"","","","",null,0,0,0,0,"NO INICIA SU CLASIFICACIÓN","LE FALTA  240Km",null,{"$f":"VLOOKUP(B349,#REF!,3,FALSE)","v":{"$error":"#REF!"}}]
["C177","C064","SIMBA","BERNARDA LETORT",null,null,null,null,null,null,null,null,null,null,null,null,null,null,null,null,null,44,null,null,null,44,"","","",null,"",null,"",null,null,null,null,null,"","","","",null,"","","","",null,2,0,0,88,"HABILITADO A 80KM VELOCIDAD CONTROLADA","LE FALTA  152Km",null,{"$f":"VLOOKUP(B350,#REF!,3,FALSE)","v":{"$error":"#REF!"}}]
["CC","C302","SIMON","BURBANO SERRANO JUAN JOSE",null,null,null,null,null,null,null,null,null,null,null,null,null,null,null,null,null,null,40,null,null,null,null,null,null,null,null,null,null,null,null,null,null,null,"","","","",null,"","","","",null,1,0,0,40,"INICIO SU CLASIFICACIÓN","LE FALTA  200Km",null,{"$f":"VLOOKUP(B351,#REF!,3,FALSE)","v":{"$error":"#REF!"}}]
["B","C","SIMON VM",null,null,null,null,null,null,null,null,null,null,null,null,"","","",null,"","","",null,null,null,"","","","",null,"",null,"",null,null,null,null,null,"","","","",null,"","","","",null,0,0,0,0,"NO INICIA SU CLASIFICACIÓN","LE FALTA  240Km",null,{"$f":"VLOOKUP(B352,#REF!,3,FALSE)","v":{"$error":"#REF!"}}]
["B","C031","SL SAGU","JOSE LUIS NIETO",null,null,null,null,null,null,null,null,null,null,null,null,null,null,null,null,null,"",null,null,null,"","","","",null,"",null,"",null,null,null,null,null,"",null,"","",null,"","","","",null,0,0,0,0,"NO INICIA SU CLASIFICACIÓN","LE FALTA  240Km",null,{"$f":"VLOOKUP(B353,#REF!,3,FALSE)","v":{"$error":"#REF!"}}]
["CC","C303","SOCRATES","ESPINOZA IZQUIERDO PEDRO JOSE",null,null,null,null,null,null,null,null,null,null,null,null,40,40,null,null,null,null,60,null,60,null,null,null,null,null,null,null,null,null,null,null,null,null,"",null,"","",null,"","","","",null,2,2,0,200,"HABILITADO A 80KM VELOCIDAD CONTROLADA","LE FALTA UNA DE 80 Km",null,{"$f":"VLOOKUP(B354,#REF!,3,FALSE)","v":{"$error":"#REF!"}}]
["CC","C304","SOFIA","MALO GELLIBERT ANDREA",null,null,null,null,null,null,null,null,null,null,null,null,null,null,null,null,null,null,null,60,60,null,null,null,null,null,null,null,null,null,null,null,null,null,"",null,"","",null,"","","","",null,0,2,0,120,"HABILITADO A 80KM VELOCIDAD CONTROLADA","LE FALTA  120Km",null,{"$f":"VLOOKUP(B355,#REF!,3,FALSE)","v":{"$error":"#REF!"}}]
["CC","C305","SPARTACO","MATUTE RIOFRIO PEDRO FERMIN",null,null,null,null,null,null,null,null,null,null,null,null,null,null,null,null,null,null,40,null,null,null,null,null,null,null,null,null,null,null,null,null,null,null,"",null,"","",null,"","","","",null,1,0,0,40,"INICIO SU CLASIFICACIÓN","LE FALTA  200Km",null,{"$f":"VLOOKUP(B356,#REF!,3,FALSE)","v":{"$error":"#REF!"}}]
["CC","C306","SPIRIT","PRADO CAMILO",null,null,null,null,null,null,null,null,null,null,null,null,null,60,null,null,null,null,null,null,null,null,null,null,null,null,null,null,null,null,null,null,null,null,"",null,"","",null,"","","","",null,0,1,0,60,"INICIO SU CLASIFICACIÓN","LE FALTA  180Km",null,{"$f":"VLOOKUP(B357,#REF!,3,FALSE)","v":{"$error":"#REF!"}}]
["C086","C","SPIRIT GV",null,null,null,null,null,null,null,null,null,null,null,null,"","","",null,"","","",null,null,null,"","","","",null,"",null,"",null,null,null,null,null,"",null,"","",null,"","","","",null,0,0,0,0,"NO INICIA SU CLASIFICACIÓN","LE FALTA  240Km",null,{"$f":"VLOOKUP(B358,#REF!,3,FALSE)","v":{"$error":"#REF!"}}]
["CC","C322","SUCO","VINTIMILLA CORDERO PABLO JOSÉ",null,null,null,null,null,null,null,null,null,null,null,null,60,60,null,"","","",80,null,80,null,"","","",null,"",null,"",null,null,null,null,null,45,null,"","",null,"","","","",null,1,2,2,325,"HABILITADO  TEMPORALMENTE A COMPETENCIAS FEI","CLASIFICADO A COMPETENCIAS FEI",null,{"$f":"VLOOKUP(B359,#REF!,3,FALSE)","v":{"$error":"#REF!"}}]
["C025","C081","SUE","ANDRES BARAHONA VACA",null,null,null,null,null,null,null,null,null,null,null,null,41,44,null,"",42,"",null,null,81,80,"","","",null,"",null,"",null,null,null,null,null,"","","","",null,"","","","",null,3,0,2,288,"HABILITADO  TEMPORALMENTE A COMPETENCIAS FEI","CLASIFICADO A COMPETENCIAS FEI",null,{"$f":"VLOOKUP(B360,#REF!,3,FALSE)","v":{"$error":"#REF!"}}]
["C002","C078","SUKO","RICARDO DARQUEA",null,null,null,null,null,null,null,null,null,null,null,44,41,44,null,43,42,62,null,60,null,"","","","",null,"",null,"",null,null,null,null,null,"","","","",null,"","","","",null,5,2,0,336,"HABILITADO A 80KM VELOCIDAD CONTROLADA","LE FALTA UNA DE 80 Km",null,{"$f":"VLOOKUP(B361,#REF!,3,FALSE)","v":{"$error":"#REF!"}}]
["C071","C","SUNAMI CR",null,null,null,null,null,null,null,null,null,null,null,null,"","","",null,"","","",null,null,null,"","","","",null,"",null,"",null,null,null,null,null,"","","","",null,"","","","",null,0,0,0,0,"NO INICIA SU CLASIFICACIÓN","LE FALTA  240Km",null,{"$f":"VLOOKUP(B362,#REF!,3,FALSE)","v":{"$error":"#REF!"}}]
["CC","C307","TABATHA","SORIA MARIA DANIELA",null,null,null,null,null,null,null,null,null,null,null,null,null,null,null,null,null,null,null,null,null,null,null,null,null,null,null,44,null,null,null,null,null,null,"","","","",null,"","","","",null,1,0,0,44,"INICIO SU CLASIFICACIÓN","LE FALTA  196Km",null,{"$f":"VLOOKUP(B363,#REF!,3,FALSE)","v":{"$error":"#REF!"}}]
["CC","C308","TABITA","SORIA MARIA DANIELA",null,null,null,null,null,null,null,null,null,null,null,null,null,null,40,null,null,null,null,null,null,null,null,null,null,null,null,null,null,null,null,null,null,null,"","","","",null,"","","","",null,1,0,0,40,"INICIO SU CLASIFICACIÓN","LE FALTA  200Km",null,{"$f":"VLOOKUP(B364,#REF!,3,FALSE)","v":{"$error":"#REF!"}}]
["B","C","TACONEADO CE",null,null,null,null,null,null,null,null,null,null,null,null,"","","",null,"","","",null,null,null,"","","","",null,"",null,"",null,null,null,null,null,"","","","",null,"","","","",null,0,0,0,0,"NO INICIA SU CLASIFICACIÓN","LE FALTA  240Km",null,{"$f":"VLOOKUP(B365,#REF!,3,FALSE)","v":{"$error":"#REF!"}}]
["CC","C309","TAMBO RULIMAN","DAVALOS EMILIA",null,null,null,null,null,null,null,null,null,null,null,null,40,null,null,null,null,null,null,null,null,null,null,null,null,null,null,null,null,null,null,null,null,null,"","","","",null,"","","","",null,1,0,0,40,"INICIO SU CLASIFICACIÓN","LE FALTA  200Km",null,{"$f":"VLOOKUP(B366,#REF!,3,FALSE)","v":{"$error":"#REF!"}}]
["B","C153","TANGER","RODRIGO JIJION",null,null,null,null,null,null,null,null,null,null,null,null,null,null,null,null,null,null,null,null,null,null,null,52,"",null,"",null,"",null,null,null,null,null,"","","","",null,"","","",42,null,2,0,0,94,"HABILITADO A 80KM VELOCIDAD CONTROLADA","LE FALTA  146Km",null,{"$f":"VLOOKUP(B367,#REF!,3,FALSE)","v":{"$error":"#REF!"}}]
["C322","C061","TANGO","ROSA VICTORIA",null,null,null,null,null,null,null,null,null,null,null,null,null,null,null,null,null,44,null,null,null,44,"","","",null,"",null,"",null,null,null,null,null,"","","","",null,"","","","",null,{"$f":"COUNTIF(E368:AV368,\"<60\")","v":2},{"$f":"COUNT(E368:AV368)-AW368-AY368","v":0},{"$f":"COUNTIF(E368:AV368,\">=80\")","v":0},88,"HABILITADO A 80KM VELOCIDAD CONTROLADA","LE FALTA  152Km",null,{"$f":"VLOOKUP(B368,#REF!,3,FALSE)","v":{"$error":"#REF!"}}]
["C232","C","TANGO LB",null,null,null,null,null,null,null,null,null,null,null,null,"",41,"",null,"","","",null,null,null,"","","","",null,"",null,"",null,null,null,null,null,"","","","",null,"","","","",null,1,0,0,41,"INICIO SU CLASIFICACIÓN","LE FALTA  199Km",null,{"$f":"VLOOKUP(B369,#REF!,3,FALSE)","v":{"$error":"#REF!"}}]
["B","C152","TARA",null,null,null,null,null,null,null,null,null,null,null,null,"",null,null,null,"","","",null,null,null,"","","","",null,"",null,"",null,null,null,null,null,"","","","",null,"","","","",null,0,0,0,0,"NO INICIA SU CLASIFICACIÓN","LE FALTA  240Km",null,{"$f":"VLOOKUP(B370,#REF!,3,FALSE)","v":{"$error":"#REF!"}}]
["C012","C","TARIK PI",null,null,null,null,null,null,null,null,null,null,null,null,"","","",null,"","","",null,null,null,"","","","",null,"",null,"",null,null,null,null,null,"","","","",null,"","","","",null,0,0,0,0,"NO INICIA SU CLASIFICACIÓN","LE FALTA  240Km",null,{"$f":"VLOOKUP(B371,#REF!,3,FALSE)","v":{"$error":"#REF!"}}]
["B","C","TARQUI W",null,null,null,null,null,null,null,null,null,null,60,null,"","","",null,"","","",null,null,null,"","","","",null,"",null,"",null,null,null,null,null,"","","","",null,"","","","",null,0,1,0,60,"INICIO SU CLASIFICACIÓN","LE FALTA  180Km",null,{"$f":"VLOOKUP(B372,#REF!,3,FALSE)","v":{"$error":"#REF!"}}]
[null,"C341","TENGRI","VELEZ MENA MARIA CONSUELO",null,null,null,null,null,null,null,null,null,null,null,null,null,null,null,null,null,null,null,null,null,null,null,null,null,null,null,null,null,null,null,null,null,null,45,63,"","",null,"",82,82,"",null,1,1,2,272,"HABILITADO  TEMPORALMENTE A COMPETENCIAS FEI","CLASIFICADO A COMPETENCIAS FEI",null,{"$f":"VLOOKUP(B373,#REF!,3,FALSE)","v":{"$error":"#REF!"}}]
["B","C004","TEQUILA","WILLIAM CATUCUAMBA",null,null,null,null,null,null,null,null,null,null,null,44,41,"",null,43,"","",null,null,null,"","",52,"",null,"",null,"",null,null,null,null,null,"","","","",null,"","","","",null,4,0,0,180,"HABILITADO A 80KM VELOCIDAD CONTROLADA","LE FALTA UNA DE 80 Km",null,{"$f":"VLOOKUP(B374,#REF!,3,FALSE)","v":{"$error":"#REF!"}}]
[null,"C191","TEQUILA","ALLAICO CHIMBORAZO JOSE EMILIO",null,null,null,null,null,null,null,null,null,null,null,null,null,null,null,null,null,null,null,null,null,null,null,null,null,null,null,null,null,null,null,null,null,null,null,null,null,null,47,"","","","",null,1,0,0,47,"INICIO SU CLASIFICACIÓN","LE FALTA  193Km",null,{"$f":"VLOOKUP(B375,#REF!,3,FALSE)","v":{"$error":"#REF!"}}]
["C056","C","TEQUILA YA",null,null,null,null,null,null,null,null,null,null,null,null,"","","",null,"","","",null,null,null,"","","","",null,"",null,"",null,null,null,null,null,"","","","",null,"","","","",null,0,0,0,0,"NO INICIA SU CLASIFICACIÓN","LE FALTA  240Km",null,{"$f":"VLOOKUP(B376,#REF!,3,FALSE)","v":{"$error":"#REF!"}}]
[null,"C352","TIBE","ALVEAR JUAN CARLOS",null,null,null,null,null,null,null,null,null,null,null,null,null,null,null,null,null,null,null,null,null,null,null,null,null,null,null,null,null,null,null,null,null,null,null,47,"","",null,"","","","",null,1,0,0,47,"INICIO SU CLASIFICACIÓN","LE FALTA  193Km",null,{"$f":"VLOOKUP(B377,#REF!,3,FALSE)","v":{"$error":"#REF!"}}]
["CC","C310","TICTAC","VALDIVIESO ISABEL",null,null,null,null,null,null,null,null,null,null,null,null,null,null,null,null,null,null,40,40,null,null,null,null,null,null,null,null,null,null,null,null,null,null,"","","","",null,"","","","",null,2,0,0,80,"HABILITADO A 80KM VELOCIDAD CONTROLADA","LE FALTA  160Km",null,{"$f":"VLOOKUP(B378,#REF!,3,FALSE)","v":{"$error":"#REF!"}}]
["B","C235","TOACHI","SEBASTIAN GONZALEZ",null,null,null,null,null,null,null,null,null,null,null,null,null,null,null,null,null,null,null,null,null,null,null,null,null,null,null,null,null,null,null,null,null,null,"","","","",null,"","","","",null,0,0,0,0,"NO INICIA SU CLASIFICACIÓN","LE FALTA  240Km",null,{"$f":"VLOOKUP(B379,#REF!,3,FALSE)","v":{"$error":"#REF!"}}]
[null,"C353","TOCHI","GONZALEZ SEBASTIAN",null,null,null,null,null,null,null,null,null,null,null,null,null,null,null,null,null,null,null,null,null,null,null,null,null,null,null,null,null,null,null,null,null,42,null,47,"","",null,"","","","",null,2,0,0,89,"HABILITADO A 80KM VELOCIDAD CONTROLADA","LE FALTA  151Km",null,{"$f":"VLOOKUP(B380,#REF!,3,FALSE)","v":{"$error":"#REF!"}}]
["CC","C311","TOCTE","SALINAS HERRERA CARLOS",null,null,null,null,null,null,null,null,null,null,null,null,null,null,null,null,null,null,null,null,null,40,null,null,null,null,null,null,null,null,null,null,null,null,"","","","",null,"","","","",null,1,0,0,40,"INICIO SU CLASIFICACIÓN","LE FALTA  200Km",null,{"$f":"VLOOKUP(B381,#REF!,3,FALSE)","v":{"$error":"#REF!"}}]
["CC","C312","TORDILLO","GONZALEZ CARVALLO BERNANRDA",null,null,null,null,null,null,null,null,null,null,null,null,60,60,null,null,null,null,80,80,null,null,null,null,null,null,null,null,null,null,null,null,null,null,"","","","",null,"","","","",null,0,2,2,280,"HABILITADO  TEMPORALMENTE A COMPETENCIAS FEI","CLASIFICADO A COMPETENCIAS FEI",null,{"$f":"VLOOKUP(B382,#REF!,3,FALSE)","v":{"$error":"#REF!"}}]
["B","C","TORERO",null,null,null,null,null,null,null,null,null,null,null,null,"","","",null,"","","",null,null,null,"","","","",null,"",null,"",null,null,null,null,null,"","","","",null,"","","","",null,0,0,0,0,"NO INICIA SU CLASIFICACIÓN","LE FALTA  240Km",null,{"$f":"VLOOKUP(B383,#REF!,3,FALSE)","v":{"$error":"#REF!"}}]
["CC","C313","TOSTADO","CRESPO ACOSTA ROBERTO JOSE",null,null,null,null,null,null,null,null,null,null,null,null,null,null,null,null,null,null,40,40,null,null,null,null,null,44,null,null,null,null,null,null,null,null,"","","","",null,"","","","",null,3,0,0,124,"HABILITADO A 80KM VELOCIDAD CONTROLADA","LE FALTA  116Km",null,{"$f":"VLOOKUP(B384,#REF!,3,FALSE)","v":{"$error":"#REF!"}}]
["CC","C314","TOYTOY","GONZALEZ SEBASTIAN",null,null,null,null,null,null,null,null,null,null,null,null,null,null,null,null,null,null,null,null,null,null,null,null,null,null,null,44,null,null,null,null,null,null,"","","","",null,"","","","",null,1,0,0,44,"INICIO SU CLASIFICACIÓN","LE FALTA  196Km",null,{"$f":"VLOOKUP(B385,#REF!,3,FALSE)","v":{"$error":"#REF!"}}]
["B","C172","TRES AMORES",null,null,null,null,null,null,null,null,null,null,null,null,"","","",null,"","","",null,null,null,"","","","",null,41,null,"",null,null,null,null,null,"","","","",null,"","","","",null,1,0,0,41,"INICIO SU CLASIFICACIÓN","LE FALTA  199Km",null,{"$f":"VLOOKUP(B386,#REF!,3,FALSE)","v":{"$error":"#REF!"}}]
["B","C","TRIANA",null,null,null,null,null,null,null,null,null,null,null,null,44,41,"",null,"",42,"",null,null,null,"","","","",null,"",null,"",null,null,null,null,null,"","","","",null,"","","","",null,3,0,0,127,"HABILITADO A 80KM VELOCIDAD CONTROLADA","LE FALTA  113Km",null,{"$f":"VLOOKUP(B387,#REF!,3,FALSE)","v":{"$error":"#REF!"}}]
["B","C","TROMPETA",null,null,null,null,null,null,null,null,null,null,null,null,"","","",null,"","","",null,null,null,"","","","",null,"",null,"",null,null,null,null,null,"","","","",null,"","","","",null,0,0,0,0,"NO INICIA SU CLASIFICACIÓN","LE FALTA  240Km",null,{"$f":"VLOOKUP(B388,#REF!,3,FALSE)","v":{"$error":"#REF!"}}]
["B","C099","TRUENO",null,null,null,null,null,null,null,81,80,null,null,83,62,82,"",44,"","","",null,null,null,"","",36,"",null,82,null,"",null,null,null,null,null,"","","","",null,"","","","",null,2,1,5,550,"HABILITADO  TEMPORALMENTE A COMPETENCIAS FEI","CLASIFICADO A COMPETENCIAS FEI",null,{"$f":"VLOOKUP(B389,#REF!,3,FALSE)","v":{"$error":"#REF!"}}]
[null,"C055","TUMBA HOMBRES","MALO TORAL DAVID",null,null,null,null,null,null,null,null,null,null,null,null,null,null,null,null,null,null,null,null,null,null,null,null,null,null,null,null,null,null,null,null,null,null,null,null,null,null,null,"",42,"","",null,1,0,0,42,"INICIO SU CLASIFICACIÓN","LE FALTA  198Km",null,{"$f":"VLOOKUP(B390,#REF!,3,FALSE)","v":{"$error":"#REF!"}}]
["B","C","VENADO",null,null,null,null,null,null,null,null,null,null,null,null,"","","",null,"","","",null,null,null,"","","","",null,"",null,"",null,null,null,null,null,"","","","",null,"","","","",null,0,0,0,{"$f":"SUM(D391:AV391)","v":0},{"$f":"IF(OR(AY391>2,AND(AY391>1,(AW391+AX391)>1)),\"HABILITADO  TEMPORALMENTE A COMPETENCIAS FEI\",IF(AND(AY391=1,(AW391+AX391)>1),\"LE FALTA UNA DE 80 A 90 CONTROLADA\",IF((AW391+AX391)>1,\"HABILITADO A 80KM VELOCIDAD CONTROLADA\",IF((AW391+AX391)>0,\"INICIO SU CLASIFICACIÓN\",\"NO INICIA SU CLASIFICACIÓN\"))))","v":"NO INICIA SU CLASIFICACIÓN"},{"$f":"+IF(AND(AZ391>240,AY391>=1),\"CLASIFICADO A COMPETENCIAS FEI\",IF(AND(AZ391>199,AY391>=1),\"LE FALTA UNA DE 40 Km\",IF(AND(AZ391>179,AY391>=1),\"LE FALTA UNA DE 60 Km\",IF(AND(AZ391>160),\"LE FALTA UNA DE 80 Km\",\"LE FALTA  \"&240-AZ391&\"Km\"))))","v":"LE FALTA  240Km"},null,{"$f":"VLOOKUP(B391,#REF!,3,FALSE)","v":{"$error":"#REF!"}}]
["B","C166","VENUS","ESPINOZA TOMAS",null,null,null,null,null,null,null,null,null,null,null,null,null,null,null,null,null,null,null,null,null,null,null,52,"",null,"",null,42,null,null,null,null,null,"","","","",null,"","","","",null,2,0,0,94,"HABILITADO A 80KM VELOCIDAD CONTROLADA","LE FALTA  146Km",null,{"$f":"VLOOKUP(B392,#REF!,3,FALSE)","v":{"$error":"#REF!"}}]
["B","C","VICTOR GH",null,null,null,null,null,null,null,null,null,null,null,null,null,null,null,null,null,null,null,null,null,null,null,"","","",null,"",null,"",null,null,null,null,null,"","","","",null,"","","","",null,0,0,0,0,"NO INICIA SU CLASIFICACIÓN","LE FALTA  240Km",null,{"$f":"VLOOKUP(B393,#REF!,3,FALSE)","v":{"$error":"#REF!"}}]
["CC","C315","VIKINGO","LUGMAÑA JUAN CARLOS",null,null,null,null,null,null,null,null,null,null,null,null,null,null,null,null,null,null,null,null,null,null,null,null,null,null,null,null,null,null,null,null,null,null,"","","","",null,"","","","",null,0,0,0,0,"NO INICIA SU CLASIFICACIÓN","LE FALTA  240Km",null,{"$f":"VLOOKUP(B394,#REF!,3,FALSE)","v":{"$error":"#REF!"}}]
["B","C","VP RHAMYA",null,null,null,null,null,null,null,null,null,null,null,null,null,null,null,null,null,42,null,null,null,null,"","","","",null,"",null,"",null,null,null,null,null,"","","","",null,"","","","",null,1,0,0,42,"INICIO SU CLASIFICACIÓN","LE FALTA  198Km",null,{"$f":"VLOOKUP(B395,#REF!,3,FALSE)","v":{"$error":"#REF!"}}]
["B","C074","WISKY","MAURICIO NOBOA",null,null,null,null,null,null,null,null,null,null,null,"","","",null,"","",62,null,81,null,80,"",52,"",null,"",null,"",null,null,null,null,null,"","","","",null,"","","","",null,1,1,2,275,"HABILITADO  TEMPORALMENTE A COMPETENCIAS FEI","CLASIFICADO A COMPETENCIAS FEI",null,{"$f":"VLOOKUP(B396,#REF!,3,FALSE)","v":{"$error":"#REF!"}}]
["B","C015","ZAFIRA","ANDRES AYALA",null,null,null,null,null,null,null,null,null,null,null,null,null,null,null,null,null,"",null,null,null,"","","","",null,"",null,"",null,null,null,null,null,"","","","",null,"","","","",null,0,0,0,0,"NO INICIA SU CLASIFICACIÓN","LE FALTA  240Km",null,{"$f":"VLOOKUP(B397,#REF!,3,FALSE)","v":{"$error":"#REF!"}}]
["CC","C316","ZAHIR","KOPPEL OSWALDO",null,null,null,null,null,null,null,null,null,null,null,null,null,40,null,null,null,null,null,null,null,null,null,null,null,null,null,null,null,null,null,null,null,null,"","","","",null,"","","","",null,1,0,0,40,"INICIO SU CLASIFICACIÓN","LE FALTA  200Km",null,{"$f":"VLOOKUP(B398,#REF!,3,FALSE)","v":{"$error":"#REF!"}}]
["B","C106","ZEUS LL","LUIS ENRIQUE LANDAZURI",null,null,null,null,null,null,"","",88,null,83,81,"","",null,"","","",null,null,null,"","","","",null,"",null,"",null,null,null,null,82,"","","","",null,"","","","",null,0,0,4,334,"HABILITADO  TEMPORALMENTE A COMPETENCIAS FEI","CLASIFICADO A COMPETENCIAS FEI",null,{"$f":"VLOOKUP(B399,#REF!,3,FALSE)","v":{"$error":"#REF!"}}]
["B","C077","ZEUS PB","PEDRO JOSE BACA",null,null,null,null,null,null,null,null,null,null,null,44,"",44,null,43,"","",null,null,null,"","",82,"",null,"",null,"",null,null,null,null,null,"","","","",null,"","","","",null,{"$f":"COUNTIF(E400:AV400,\"<60\")","v":3},{"$f":"COUNT(E400:AV400)-AW400-AY400","v":0},1,213,"LE FALTA UNA DE 80 A 90 CONTROLADA","LE FALTA UNA DE 40 Km",null,{"$f":"VLOOKUP(B400,#REF!,3,FALSE)","v":{"$error":"#REF!"}}]
["CC","C317","ZINGARA","NEIRA MALO MARTIN",null,null,null,null,null,null,null,null,null,null,null,null,null,null,null,null,null,null,40,40,null,null,null,null,null,null,null,null,null,null,null,null,null,null,"","","","",null,"","","","",null,2,0,0,80,"HABILITADO A 80KM VELOCIDAD CONTROLADA","LE FALTA  160Km",null,{"$f":"VLOOKUP(B401,#REF!,3,FALSE)","v":{"$error":"#REF!"}}]
["B","C174","ZT SATFANTDU","ARTURO RIBADENEIRA",null,null,null,null,null,null,null,null,null,null,null,null,null,null,null,null,null,44,null,40,null,null,null,null,null,null,41,null,"",null,40,null,null,null,"","",84,43,null,"","","",42,null,6,0,1,334,"LE FALTA UNA DE 80 A 90 CONTROLADA","CLASIFICADO A COMPETENCIAS FEI",null,{"$f":"VLOOKUP(B402,#REF!,3,FALSE)","v":{"$error":"#REF!"}}]
["B","C041","ZUCO","CESAR IGNACIO LEON ARAUJO",null,null,null,null,null,null,null,null,null,null,null,"","","",null,"","","",null,null,null,"","","",48,null,82,null,"",null,null,null,null,null,84,"","","",null,"","","","",null,1,0,2,214,"INICIO SU CLASIFICACIÓN","LE FALTA UNA DE 40 Km",null,{"$f":"VLOOKUP(B403,#REF!,3,FALSE)","v":{"$error":"#REF!"}}]
[null,"C328","ZULA","MEDINA JORGE",null,null,null,null,null,null,null,null,null,null,null,null,null,null,null,null,null,null,null,null,null,null,null,null,null,null,null,null,null,null,null,null,null,null,43,"","","",null,"","","","",null,1,0,0,43,"INICIO SU CLASIFICACIÓN","LE FALTA  197Km",null,{"$f":"VLOOKUP(B404,#REF!,3,FALSE)","v":{"$error":"#REF!"}}]
[1000,1000,"ZZZZZZZZZ",null,null,null,null,null,null,null,null,null,null,null,null,null,null,null,null,null,null,null,null,null,null,null,null,null,null,null,null,null,null,null,null,null,null,null,null,null,null,null,null,"","","","",{"$f":"IFERROR($BD405,\"\")","v":""},null,null,null,null,null,null,null,{"$f":"VLOOKUP(B405,#REF!,3,FALSE)","v":{"$error":"#REF!"}}]
[]
[null,null,null,null,null,null,null,null,null,null,null,null,null,null,null,null,null,null,null,null,null,null,null,null,null,"AZUL COMPETENCIAS DE CUENCA",null,null,null,null,null,null,null,null,null,null,null,null,"nota","Las anotaciones en roja corresponden a la clasificatoria de Cuenca"]
[]
[]
[]
[]
[]
[]
[]
[]
[]
[]
[]
[]
[]
[]
[]
[]
[]
[]
[]
[]
[]
[]
[null,null,null,null,null,null,null,null,null,null,null,null,null,null,null,null,null,null,null,null,null,null,null,null,null,null,null,null,null,null,null,null,null,null,null,null,null,null,null,null,null,null,null,null,null,null,null,null,null,null,{"$f":"IF(AW430>=60,\"CLASIFICADO A 60 Km LIBRE y 80 Km NOVICIO\",IF(AW430>=40,\"CLASIFICADO A 40 Km LIBRE y 60 Km NOVICIO\",\"\"))","v":""}]

{"sheet":"V L JUV","index":19,"n_rows":121,"n_cols":53,"rows_kept":121,"cut":false,"hidden":false,"merged":[[3,0,3,1],[4,0,4,1],[0,5,1,47],[4,3,4,8],[4,9,4,13],[4,14,4,19],[4,20,4,26],[4,37,4,46],[4,27,4,36],[3,3,3,48]]}
[null,"DERECHO ADQUIRIDO"]
[null,"VELOCIDAD LIBRE"]
[null,null,null,null,null,null,null,null,null,null,null,null,null,null,null,null,null,null,null,null,null,null,null,null,null,null,null,null,null,null,null,null,null,null,null,null,null,null,null,null,null,null,null,null,null,null,null,null,null,null,"CTRL+MAY+ T"]
[null,null,"JUVENIL","KILOMETRAJE"]
["CODIGO",null,"KILOMETROS",2009,null,null,null,null,null,2010,null,null,null,null,2011,null,null,null,null,null,2012,null,null,null,null,null,null,2013,null,null,null,null,null,null,null,null,null,2014]
["ANTERIOR","NUEVO","JINETE","I CHONE","II CHONE","III CHONE","IV CHONE","V CHONE","VI CHONE","I CHONE","II CHONE","III CHONE","IV CHONE","V CHONE","I CHONE","II CHONE","III CHONE","IV CHONE","V CHONE","VI CHONE","I CHONE","I CUENCA","II CHONE","III CHONE","IV CHONE","V CHONE","VI CHONE","I CHONE","II CHONE","III CHONE","IV CHONE","V CHONE","VI CHONE","VII CHONE","VIII CHONE","IX CHONE","X CHONE","I CHONE","II CHONE","III CHONE","IV CHONE","V CHONE","VI CHONE","VII CHONE","VIII CHONE","IX CHONE","X CHONE","MÁXIMO","CLASIFICATORIO","TOTAL","CTRL+MAY+ O"]
["J021","J","ALARCON MONCA ESTEBAN ANDRES",null,null,null,40,null,null,null,null,null,null,null,null,null,null,null,null,null,null,null,null,null,null,null,null,null,null,null,null,null,null,null,null,null,null,"","","",null,null,null,"",null,null,null,{"$f":"MAX(D7:AU7)","v":40},{"$f":"SUM(Y7:AU7)","v":0},{"$f":"SUM(D7:AU7)","v":40},null,null,{"$f":"VLOOKUP(B7,#REF!,3,FALSE)","v":{"$error":"#REF!"}}]
[null,"I012","ALZAMORA CAROLINA",null,{"$f":"IF(AND('V L AB'!D13>0,'V L CAB'!E68>0),'V L AB'!D13,IF(AND('V C AB'!D13>0,'V C CAB'!E68>0),'V C AB'!D13,\"\"))","v":""},null,null,null,null,null,null,null,null,null,null,null,null,null,null,null,null,null,null,null,null,null,null,"",null,"",null,"",null,null,null,null,null,"","","",null,null,null,"",null,null,null,0,0,0,null,null,{"$f":"VLOOKUP(B8,#REF!,3,FALSE)","v":{"$error":"#REF!"}}]
[null,"J082","ANDRADE ANDRADE EMILIA",null,null,null,null,null,null,null,null,null,null,null,null,null,40,40,null,null,null,null,null,null,null,null,null,null,null,null,null,null,null,null,null,null,null,null,"","",null,null,null,"",null,null,null,40,0,80,null,null,{"$f":"VLOOKUP(B9,#REF!,3,FALSE)","v":{"$error":"#REF!"}}]
[null,"J083","ANDRADE ANDRADE PAULA",null,null,null,null,null,null,null,null,null,null,null,null,null,null,null,null,null,null,null,null,null,null,null,null,null,null,null,null,null,null,null,null,null,null,null,"","",null,null,null,"",null,null,null,0,0,0,null,null,{"$f":"VLOOKUP(B10,#REF!,3,FALSE)","v":{"$error":"#REF!"}}]
["I043","J034","ANDRADE JOSE DANIEL",null,null,null,null,null,null,null,null,null,null,null,40,41,40,40,null,"","",null,null,null,"",null,"","",null,"",null,"",null,null,null,null,null,84,86,"",null,null,80,82,null,null,null,86,332,493,null,null,{"$f":"VLOOKUP(B11,#REF!,3,FALSE)","v":{"$error":"#REF!"}}]
["J008","J","ASTUDILLO ESTALIN",null,null,null,null,null,null,null,null,44,40,null,"","","","","","","",null,null,null,"",null,"","",null,"",null,"",null,null,null,null,null,"","","",null,null,null,"",null,null,null,44,0,84,null,null,{"$f":"VLOOKUP(B12,#REF!,3,FALSE)","v":{"$error":"#REF!"}}]
["I054","J018","BACA PEDRO JOSE",null,null,null,null,null,null,null,null,null,null,null,"","","","","","",62,null,null,null,"",null,"","",null,"",null,"",null,null,null,null,null,"","","",null,null,null,"",null,null,null,62,0,62,null,null,{"$f":"VLOOKUP(B13,#REF!,3,FALSE)","v":{"$error":"#REF!"}}]
["C","J058","BERNAL MARTIN",null,null,null,null,null,null,null,null,null,{"$f":"IFERROR($BA14,\"\")","v":""},null,null,null,null,null,null,null,null,null,null,null,null,null,null,null,null,null,null,null,null,null,null,null,null,"","","",null,null,null,"",null,null,null,0,0,0,null,null,{"$f":"VLOOKUP(B14,#REF!,3,FALSE)","v":{"$error":"#REF!"}}]
[null,"J091","BERREZUETA DELGADO PABLO SANTI",null,null,null,null,null,null,null,null,null,null,null,{"$f":"IFERROR(#REF!,\"\")","v":""},{"$f":"IFERROR(#REF!,\"\")","v":""},null,null,null,null,"",null,{"$f":"IFERROR($BA15,\"\")","v":""},null,null,null,null,null,null,null,null,null,null,null,null,null,null,null,null,null,null,null,null,"",null,null,null,0,0,0,null,null,{"$f":"VLOOKUP(B15,#REF!,3,FALSE)","v":{"$error":"#REF!"}}]
[null,"C","BOADA ABAD DOMENICA",null,null,null,null,null,null,null,null,null,null,null,null,null,null,null,null,null,null,null,null,null,null,null,null,null,null,null,null,null,null,null,null,null,null,null,null,"",null,null,null,"",null,null,null,0,0,0,null,null,{"$f":"VLOOKUP(B16,#REF!,3,FALSE)","v":{"$error":"#REF!"}}]
["J016","J","BUITRON DANIEL",null,null,null,40,null,null,null,null,null,null,null,"","","","","","","",null,null,null,"",null,"","",null,"",null,"",null,null,null,null,null,"","","",null,null,null,"",null,null,null,40,0,40,null,null,{"$f":"VLOOKUP(B17,#REF!,3,FALSE)","v":{"$error":"#REF!"}}]
["C","C","BURBANO  PEZANTES PEDRO JOSE",null,null,null,null,null,null,40,40,null,40,null,40,null,null,null,null,null,null,null,null,null,null,null,null,null,null,null,null,null,null,null,null,null,null,"","","",null,null,null,"",null,null,null,40,0,160,null,null,{"$f":"VLOOKUP(B18,#REF!,3,FALSE)","v":{"$error":"#REF!"}}]
["C","C","BURBANO SERRANO JAIME SEBASTIAN",null,null,null,null,null,null,40,40,40,40,null,null,null,40,null,null,null,null,null,null,null,null,null,null,null,null,null,null,null,null,null,null,null,null,"","","",null,null,null,"",null,null,null,40,0,200,null,null,{"$f":"VLOOKUP(B19,#REF!,3,FALSE)","v":{"$error":"#REF!"}}]
["C","J067","BURBANO VILLAVICENCIO JAIME SEBASTIAN",null,null,null,null,null,null,null,null,null,{"$f":"IFERROR($BA20,\"\")","v":""},null,40,40,null,null,null,null,null,null,null,null,null,null,null,null,null,null,null,null,null,null,null,null,null,"","","",null,null,null,"",null,null,null,40,0,80,null,null,{"$f":"VLOOKUP(B20,#REF!,3,FALSE)","v":{"$error":"#REF!"}}]
[null,"I007","CHIRIBOGA ALFREDO",null,null,null,null,null,null,null,null,null,null,null,null,null,null,null,null,null,null,null,null,null,null,null,null,null,null,null,null,null,null,null,null,null,null,"","","",null,null,null,"",null,null,null,0,0,0,null,null,{"$f":"VLOOKUP(B21,#REF!,3,FALSE)","v":{"$error":"#REF!"}}]
["I049","J","CHIRIBOGA DANIEL",null,null,null,null,null,null,null,null,null,null,null,null,null,null,null,null,null,null,null,null,null,null,null,null,null,null,null,null,null,null,null,null,null,null,"","","",null,null,null,"",null,null,null,0,0,0,null,null,{"$f":"VLOOKUP(B22,#REF!,3,FALSE)","v":{"$error":"#REF!"}}]
["I031","J048","CONTRERAS MARIA ALICIA",null,null,null,null,null,null,null,null,null,null,null,{"$f":"IFERROR(#REF!,\"\")","v":""},null,null,null,"","","",null,null,null,40,null,52,"",null,"",null,"",null,null,null,null,null,"","","",null,null,null,"",null,null,null,52,92,92,null,null,{"$f":"VLOOKUP(B23,#REF!,3,FALSE)","v":{"$error":"#REF!"}}]
[null,"J084","CORDOVA MUÑOZ SUSANA MICHELLE",null,null,null,null,null,null,null,null,null,null,null,null,null,null,null,null,null,null,null,null,null,null,null,null,null,null,null,null,null,null,null,null,null,null,null,"","",null,null,null,"",null,null,null,0,0,0,null,null,{"$f":"VLOOKUP(B24,#REF!,3,FALSE)","v":{"$error":"#REF!"}}]
["J026","J021","CORNEJO BURNEO MANUEL",null,null,null,null,null,null,54,40,44,40,42,"","","","","",42,"",null,null,null,"",null,"","",null,"",null,"",null,null,null,90,82,"","","",null,null,null,"",null,null,null,90,172,434,null,null,{"$f":"VLOOKUP(B25,#REF!,3,FALSE)","v":{"$error":"#REF!"}}]
["J019","J015","DARQUEA ANDRES",null,null,null,null,null,null,null,null,null,null,null,"","","","","","","",null,null,null,"",null,"","",null,"",null,"",null,null,null,null,null,"","","",null,null,null,"",null,null,null,0,0,0,null,null,{"$f":"VLOOKUP(B26,#REF!,3,FALSE)","v":{"$error":"#REF!"}}]
[null,"J089","DARQUEA DAVALOS ANA MARIA",null,null,null,null,null,null,null,null,null,null,null,null,null,null,null,null,null,null,null,null,null,null,null,null,null,null,null,null,null,null,null,null,null,null,null,null,null,null,null,null,"",null,null,null,0,0,0,null,null,{"$f":"VLOOKUP(B27,#REF!,3,FALSE)","v":{"$error":"#REF!"}}]
[null,"J040","DARQUEA GABRIEL IGNACIO",null,null,null,null,null,null,null,null,null,null,null,null,null,null,null,null,null,null,null,null,null,"",null,52,48,null,"",null,"",null,null,null,null,null,"","","",null,null,null,"",null,null,null,52,100,100,null,null,{"$f":"VLOOKUP(B28,#REF!,3,FALSE)","v":{"$error":"#REF!"}}]
["J031","J","DARQUEA JIJON ANDRES",null,null,null,null,null,null,54,null,null,null,null,"","","","","","","",null,null,null,"",null,"","",null,"",null,"",null,null,null,null,null,"","","",null,null,null,"",null,null,null,54,0,54,null,null,{"$f":"VLOOKUP(B29,#REF!,3,FALSE)","v":{"$error":"#REF!"}}]
["J003","J024","DARQUEA RAFAELA",null,60,60,60,null,60,null,null,null,null,null,"","","","",43,null,"",null,null,null,44,null,"","",null,"",null,"",null,null,null,null,null,43,"","",null,null,null,"",null,null,null,60,87,370,null,null,{"$f":"VLOOKUP(B30,#REF!,3,FALSE)","v":{"$error":"#REF!"}}]
["J009","J019","DARQUEA RICARDO",null,null,null,null,null,null,null,null,null,null,42,"","","","","","","",null,null,null,"",null,"","",null,"",null,"",null,null,null,null,null,43,"","",null,null,null,"",null,null,null,43,43,85,null,null,{"$f":"VLOOKUP(B31,#REF!,3,FALSE)","v":{"$error":"#REF!"}}]
["C","J068","DAVALOS LARIVA MARIA EMILIA",null,null,null,null,null,null,null,null,40,{"$f":"IFERROR($BA32,\"\")","v":""},null,null,null,null,null,null,null,null,null,null,null,null,null,null,null,null,null,null,null,null,null,null,null,null,"","","",null,null,null,"",null,null,null,40,0,40,null,null,{"$f":"VLOOKUP(B32,#REF!,3,FALSE)","v":{"$error":"#REF!"}}]
[null,"J009","DEL POZO MARTINA",null,null,null,null,null,null,null,null,null,null,null,null,null,null,null,null,null,null,null,null,null,"",null,"","",null,"",null,"",null,null,null,null,null,"","","",null,null,null,"",null,null,null,0,0,0,null,null,{"$f":"VLOOKUP(B33,#REF!,3,FALSE)","v":{"$error":"#REF!"}}]
["J017","J032","DELGADO JUAN ",null,null,null,null,null,null,null,null,null,null,null,"","","","","","","",null,null,null,"",null,"","",null,"",null,"",null,null,null,null,null,"","","",null,null,null,"",null,null,null,0,0,0,null,null,{"$f":"VLOOKUP(B34,#REF!,3,FALSE)","v":{"$error":"#REF!"}}]
["C","J069","DONOSO CARRASCO MARIA DANIELA",null,null,null,null,null,null,null,40,40,40,null,null,null,40,null,null,null,null,null,null,null,null,null,null,null,44,null,42,null,42,null,null,null,null,"","","",null,null,null,"",null,null,null,44,128,288,null,null,{"$f":"VLOOKUP(B35,#REF!,3,FALSE)","v":{"$error":"#REF!"}}]
[null,"J059","DUBACH CAROLINA",null,null,null,null,null,null,null,null,null,null,null,null,null,null,null,null,null,null,null,null,null,null,null,null,null,null,null,null,null,null,null,null,null,null,null,null,null,null,null,null,"",null,null,null,0,0,0,null,null,{"$f":"VLOOKUP(B36,#REF!,3,FALSE)","v":{"$error":"#REF!"}}]
[null,"J042","DUEÑAS GONZALO",null,null,null,40,null,null,null,null,null,null,null,"","","","","","","",null,null,null,"",null,"","",null,"",null,"",null,null,null,null,null,"","","",null,null,null,"",null,null,null,40,0,40,null,null,{"$f":"VLOOKUP(B37,#REF!,3,FALSE)","v":{"$error":"#REF!"}}]
["C","J070","ESPINOZA ALVARADO JUAN SEBASTIAN",null,null,null,null,null,null,null,null,40,{"$f":"IFERROR($BA38,\"\")","v":""},null,40,40,40,40,null,null,null,null,null,null,null,null,null,null,null,null,null,null,null,null,null,null,null,"","","",null,null,null,"",null,null,null,40,0,200,null,null,{"$f":"VLOOKUP(B38,#REF!,3,FALSE)","v":{"$error":"#REF!"}}]
[null,"J065","ESPINOZA BARBARA",null,null,null,null,null,null,null,null,null,null,null,null,null,null,null,null,null,null,null,null,null,"",null,"","",null,"",null,"",null,null,null,null,null,"","","",null,null,null,"",null,null,null,{"$f":"MAX(D39:AU39)","v":0},{"$f":"SUM(Y39:AU39)","v":0},{"$f":"SUM(D39:AU39)","v":0},null,null,{"$f":"VLOOKUP(B39,#REF!,3,FALSE)","v":{"$error":"#REF!"}}]
["J005","J","ESPINOZA JUAN FERNANDO",null,null,null,null,null,null,null,null,null,null,null,"","","","","","","",null,null,null,"",null,"","",null,"",null,"",null,null,null,null,null,"","","",null,null,null,"",null,null,null,0,0,0,null,null,{"$f":"VLOOKUP(B40,#REF!,3,FALSE)","v":{"$error":"#REF!"}}]
["J013","J007","ESPINOZA TOMAS",null,null,null,null,null,null,null,null,null,null,null,{"$f":"IFERROR(#REF!,\"\")","v":""},{"$f":"IFERROR(#REF!,\"\")","v":""},44,"","","",44,null,null,null,"",null,"","",null,"",null,"",null,null,null,null,null,"","","",null,null,null,"",null,null,null,44,0,88,null,null,{"$f":"VLOOKUP(B41,#REF!,3,FALSE)","v":{"$error":"#REF!"}}]
[null,"M010","FRITZ JULIANA",null,null,null,null,null,null,null,null,null,null,null,null,null,null,null,null,null,null,null,null,null,null,null,null,null,null,null,null,null,null,null,null,null,null,null,null,"",null,null,null,"",null,null,null,0,0,0,null,null,{"$f":"VLOOKUP(B42,#REF!,3,FALSE)","v":{"$error":"#REF!"}}]
[null,"J050","FRITZ PAULA",null,null,null,null,null,null,null,null,null,null,null,{"$f":"IFERROR(#REF!,\"\")","v":""},{"$f":"IFERROR(#REF!,\"\")","v":""},null,null,null,null,"",null,{"$f":"IFERROR($BA43,\"\")","v":""},{"$f":"IFERROR($BA43,\"\")","v":""},"",null,null,"",{"$f":"IFERROR($BA43,\"\")","v":""},"",{"$f":"IFERROR($BA43,\"\")","v":""},"",{"$f":"IFERROR($BA43,\"\")","v":""},"","","","","","","",null,null,null,"",null,null,null,0,0,0,null,null,{"$f":"VLOOKUP(B43,#REF!,3,FALSE)","v":{"$error":"#REF!"}}]
[null,"J049","FRITZ SEBASTIAN",null,null,null,null,null,null,null,null,null,null,null,{"$f":"IFERROR(#REF!,\"\")","v":""},{"$f":"IFERROR(#REF!,\"\")","v":""},null,null,null,null,"",null,{"$f":"IFERROR($BA44,\"\")","v":""},{"$f":"IFERROR($BA44,\"\")","v":""},"",null,null,"",{"$f":"IFERROR($BA44,\"\")","v":""},"",{"$f":"IFERROR($BA44,\"\")","v":""},"","","","","","","","","",null,null,null,"",null,null,null,0,0,0,null,null,{"$f":"VLOOKUP(B44,#REF!,3,FALSE)","v":{"$error":"#REF!"}}]
["J038","J008","GOMEZ MICHILENA ALEXANDER",null,null,null,null,null,null,54,40,null,null,null,null,null,"",87,"","",44,null,null,null,"",null,"","",null,99,null,"",null,null,null,null,null,"","",84,null,null,null,"",null,null,null,99,183,408,null,null,{"$f":"VLOOKUP(B45,#REF!,3,FALSE)","v":{"$error":"#REF!"}}]
[null,"J063","GONZALEZ BERNARDA",null,null,null,null,null,null,null,null,null,null,null,null,null,null,60,null,null,null,null,null,null,null,null,null,null,null,null,null,null,null,null,null,null,null,"",86,"",null,null,null,82,null,null,null,86,168,228,null,null,{"$f":"VLOOKUP(B46,#REF!,3,FALSE)","v":{"$error":"#REF!"}}]
[null,"J002","GUARDERAS BELEN",null,null,null,null,null,null,null,null,null,null,null,null,null,null,null,null,null,null,null,null,null,"",null,52,"",null,"",null,"",null,null,null,null,null,"","","",null,null,null,"",null,null,null,52,52,52,null,null,{"$f":"VLOOKUP(B47,#REF!,3,FALSE)","v":{"$error":"#REF!"}}]
[null,"J057","GUARDERAS JOSE GABRIEL",null,null,null,null,null,null,null,null,null,null,null,null,null,null,null,null,null,null,null,null,null,null,null,null,null,null,null,null,null,null,null,null,null,null,null,null,"",null,null,null,"",null,null,null,0,0,0,null,null,{"$f":"VLOOKUP(B48,#REF!,3,FALSE)","v":{"$error":"#REF!"}}]
[null,"J014","GUARDERAS PEDRO JOSE",null,null,null,null,null,null,null,null,null,null,null,null,null,null,null,null,null,null,null,44,40,"",null,52,"",null,"",null,"",null,null,null,null,null,"","","",null,null,null,"",null,null,null,52,52,136,null,null,{"$f":"VLOOKUP(B49,#REF!,3,FALSE)","v":{"$error":"#REF!"}}]
[null,"J003","GUARDERAS SANTIAGO",null,null,null,null,null,null,null,null,null,null,null,null,null,null,null,null,null,null,null,null,null,"",null,"","",null,"",null,59,null,null,null,null,null,"","","",null,null,null,"",null,null,null,59,59,59,null,null,{"$f":"VLOOKUP(B50,#REF!,3,FALSE)","v":{"$error":"#REF!"}}]
["I005","I006","HERRERA JUAN DIEGO",null,null,null,null,null,null,null,null,null,null,null,{"$f":"IFERROR(#REF!,\"\")","v":""},null,null,null,"","","",null,44,null,"",null,"","",null,"",null,"",null,null,null,null,null,"","","",null,null,null,"",null,null,null,44,0,44,null,null,{"$f":"VLOOKUP(B51,#REF!,3,FALSE)","v":{"$error":"#REF!"}}]
[null,"J053","INGUILLAY LUIS FERNANDO",null,null,null,null,null,null,null,null,null,null,null,{"$f":"IFERROR(#REF!,\"\")","v":""},{"$f":"IFERROR(#REF!,\"\")","v":""},null,null,null,null,"",null,{"$f":"IFERROR($BA52,\"\")","v":""},{"$f":"IFERROR($BA52,\"\")","v":""},"",{"$f":"IFERROR($BA52,\"\")","v":""},{"$f":"IFERROR($BA52,\"\")","v":""},"",null,"",null,"",null,null,null,null,null,"","","",null,null,null,"",null,null,null,0,0,0,null,null,{"$f":"VLOOKUP(B52,#REF!,3,FALSE)","v":{"$error":"#REF!"}}]
[null,"J","JACOME ESPINOZA MARCO",null,null,40,40,null,null,null,null,null,null,null,"","","","","","","",null,null,null,"",null,"","",null,"",null,"",null,null,null,null,null,"","","",null,null,null,"",null,null,null,40,0,80,null,null,{"$f":"VLOOKUP(B53,#REF!,3,FALSE)","v":{"$error":"#REF!"}}]
[null,"M013","JARAMILLO BENITO",null,null,null,null,null,null,null,null,null,null,null,null,null,null,null,null,null,null,null,null,null,null,null,null,null,null,null,null,null,null,null,null,null,null,"","","",null,null,null,"",null,null,null,0,0,0,null,null,{"$f":"VLOOKUP(B54,#REF!,3,FALSE)","v":{"$error":"#REF!"}}]
[null,"J079","JARAMILLO MANUELA",null,null,null,null,null,null,null,null,null,null,null,null,null,null,null,null,null,null,null,null,null,null,null,null,null,null,null,null,null,null,null,null,null,null,null,"","",null,null,null,"",null,null,null,0,0,0,null,null,{"$f":"VLOOKUP(B55,#REF!,3,FALSE)","v":{"$error":"#REF!"}}]
[null,"J030","JARAMILLO MARTIN",null,null,null,null,null,null,null,null,null,null,null,null,null,null,null,null,null,null,null,null,null,"",null,"","",null,"",null,"",null,null,null,null,null,"","","",null,null,null,"",null,null,null,0,0,0,null,null,{"$f":"VLOOKUP(B56,#REF!,3,FALSE)","v":{"$error":"#REF!"}}]
[null,"J096","JIJON ANA FRANCISCA",null,null,null,null,null,null,null,null,null,null,null,{"$f":"IFERROR(#REF!,\"\")","v":""},{"$f":"IFERROR(#REF!,\"\")","v":""},null,null,null,null,"",null,{"$f":"IFERROR($BA57,\"\")","v":""},null,null,null,null,null,null,null,null,null,null,null,null,null,null,null,null,null,null,null,null,null,null,null,null,0,0,0,null,null,{"$f":"VLOOKUP(B57,#REF!,3,FALSE)","v":{"$error":"#REF!"}}]
["J049","J022","JIJON JUAN ESTEBAN",null,null,null,null,null,null,null,null,null,null,null,{"$f":"IFERROR(#REF!,\"\")","v":""},{"$f":"IFERROR(#REF!,\"\")","v":""},44,"","","","",null,null,null,"",null,"","",null,"",null,"",null,null,null,null,null,"","","",null,null,null,"",null,null,null,44,0,44,null,null,{"$f":"VLOOKUP(B58,#REF!,3,FALSE)","v":{"$error":"#REF!"}}]
[null,"J005","JIJON MARÍA PAULA",null,null,null,null,null,null,null,null,null,null,null,null,null,null,null,null,null,null,null,null,null,"",null,"","",null,"",null,"",null,null,null,null,null,43,"","",null,null,null,"",null,null,null,43,43,43,null,null,{"$f":"VLOOKUP(B59,#REF!,3,FALSE)","v":{"$error":"#REF!"}}]
[null,"J017","KAKABADSE MANUEL",null,null,null,null,null,null,null,null,null,null,null,null,null,null,null,null,null,null,null,null,null,"",null,"","",null,"",null,"",null,null,null,null,null,"","","",null,null,null,"",null,null,null,0,0,0,null,null,{"$f":"VLOOKUP(B60,#REF!,3,FALSE)","v":{"$error":"#REF!"}}]
["C","C","LARRIVA JUAN FRANCISCO",null,null,null,null,null,null,null,40,null,{"$f":"IFERROR($BA61,\"\")","v":""},null,null,null,null,null,null,null,null,null,null,null,null,null,null,null,null,null,null,null,null,null,null,null,null,"","","",null,null,null,"",null,null,null,40,0,40,null,null,{"$f":"VLOOKUP(B61,#REF!,3,FALSE)","v":{"$error":"#REF!"}}]
["C","J071","LARRIVA LOYOLA CAROLINA",null,null,null,null,null,null,null,null,null,{"$f":"IFERROR($BA62,\"\")","v":""},null,null,null,null,40,null,null,null,null,null,null,null,null,null,null,null,null,null,null,null,null,null,null,null,"","","",null,null,null,"",null,null,null,40,0,40,null,null,{"$f":"VLOOKUP(B62,#REF!,3,FALSE)","v":{"$error":"#REF!"}}]
["J037","J001","LEON ARAUJO CESAR ANDRES",null,null,null,null,null,null,null,null,null,null,null,43,"",44,"","","","",null,null,null,"",null,"","",null,"",null,"",null,null,null,null,null,"","","",null,null,null,"",null,null,null,44,0,87,null,null,{"$f":"VLOOKUP(B63,#REF!,3,FALSE)","v":{"$error":"#REF!"}}]
["J039","J011","LETORT DUEÑAS BERNARDA",null,null,40,40,40,null,null,null,null,null,42,"","","","","","","",null,null,null,"",null,"","",null,99,null,"",null,null,null,null,null,"","","",null,null,null,"",null,null,null,99,99,261,null,null,{"$f":"VLOOKUP(B64,#REF!,3,FALSE)","v":{"$error":"#REF!"}}]
["J034","J047","LETORT DUEÑAS JOSE",null,null,null,null,null,null,null,null,null,null,42,"","","","",43,42,"",null,null,null,"",null,"","",null,"",null,42,null,null,null,null,null,"","",84,null,null,null,"",null,null,null,84,126,253,null,null,{"$f":"VLOOKUP(B65,#REF!,3,FALSE)","v":{"$error":"#REF!"}}]
[null,"J010","LLUMIQUINGA JONATHAN",null,null,null,null,null,null,null,null,null,null,null,null,null,null,null,null,null,null,null,null,null,"",null,"","",null,"",null,"",null,null,null,null,null,"","","",null,null,null,"",null,null,null,0,0,0,null,null,{"$f":"VLOOKUP(B66,#REF!,3,FALSE)","v":{"$error":"#REF!"}}]
[null,"J","LÓPEZ CORDERO JOAQUIN",null,null,40,null,null,null,null,null,null,null,null,"","","","","","","",null,null,null,"",null,"","",null,"",null,"",null,null,null,null,null,"","","",null,null,null,"",null,null,null,40,0,40,null,null,{"$f":"VLOOKUP(B67,#REF!,3,FALSE)","v":{"$error":"#REF!"}}]
[null,"J093","LOPEZ EMILIA",null,null,null,null,null,null,null,null,null,null,null,{"$f":"IFERROR(#REF!,\"\")","v":""},{"$f":"IFERROR(#REF!,\"\")","v":""},null,null,null,null,"",null,{"$f":"IFERROR($BA68,\"\")","v":""},null,null,null,null,null,null,null,null,null,null,null,null,null,null,null,null,null,null,null,null,"",null,null,null,0,0,0,null,null,{"$f":"VLOOKUP(B68,#REF!,3,FALSE)","v":{"$error":"#REF!"}}]
[null,"J094","LOPEZ MIRANDA",null,null,null,null,null,null,null,null,null,null,null,{"$f":"IFERROR(#REF!,\"\")","v":""},{"$f":"IFERROR(#REF!,\"\")","v":""},null,null,null,null,"",null,{"$f":"IFERROR($BA69,\"\")","v":""},null,null,null,null,null,null,null,null,null,null,null,null,null,null,null,null,null,null,null,null,null,null,null,null,0,0,0,null,null,{"$f":"VLOOKUP(B69,#REF!,3,FALSE)","v":{"$error":"#REF!"}}]
[null,"J055","LOYOLA VINTIMILLA MARIA CLAUDIA",null,null,null,null,null,null,null,null,null,null,null,null,null,40,40,null,null,null,null,null,null,null,null,null,null,58,null,63,null,null,null,68,null,null,"","",84,null,null,null,82,null,null,null,84,355,435,null,null,{"$f":"VLOOKUP(B70,#REF!,3,FALSE)","v":{"$error":"#REF!"}}]
[null,"J090","LOYOLA VINTIMILLA TEODORO ANDRES",null,null,null,null,null,null,null,null,null,null,null,null,null,null,null,null,null,null,null,null,null,null,null,null,null,null,null,null,null,null,null,null,null,null,null,null,null,null,null,null,"",null,null,null,{"$f":"MAX(D71:AU71)","v":0},{"$f":"SUM(Y71:AU71)","v":0},{"$f":"SUM(D71:AU71)","v":0},null,null,{"$f":"VLOOKUP(B71,#REF!,3,FALSE)","v":{"$error":"#REF!"}}]
[null,"J085","MALO GONZALEZ JOSE",null,null,null,null,null,null,null,null,null,null,null,null,null,null,null,null,null,null,null,null,null,null,null,null,null,null,null,null,null,null,null,null,null,null,null,"","",null,null,null,"",null,null,null,0,0,0,null,null,{"$f":"VLOOKUP(B72,#REF!,3,FALSE)","v":{"$error":"#REF!"}}]
["C","J072","MALO MALO MARIA JOSE",null,null,null,null,null,null,null,null,null,{"$f":"IFERROR($BA73,\"\")","v":""},null,null,null,null,null,null,null,null,null,null,40,null,null,null,null,null,null,null,null,null,null,null,null,null,"","","",null,null,null,"",null,null,null,40,0,40,null,null,{"$f":"VLOOKUP(B73,#REF!,3,FALSE)","v":{"$error":"#REF!"}}]
[null,"J087","MALO TORAL DAVID",null,null,null,null,null,null,null,null,null,null,null,null,null,null,null,null,null,null,null,null,null,null,null,null,null,null,null,null,null,null,40,null,null,null,"","","",null,null,null,"",null,null,null,40,40,40,null,null,{"$f":"VLOOKUP(B74,#REF!,3,FALSE)","v":{"$error":"#REF!"}}]
[null,"J056","MATUTE PEDRO FERMIN",null,null,null,null,null,null,null,null,null,null,null,40,40,40,40,null,null,null,null,null,null,null,null,null,null,null,null,42,null,42,null,45,null,null,"","","",null,null,null,"",null,null,null,45,129,289,null,null,{"$f":"VLOOKUP(B75,#REF!,3,FALSE)","v":{"$error":"#REF!"}}]
[null,"M012","MAZAPANTA KEVIN",null,null,null,null,null,null,null,null,null,null,null,null,null,null,null,null,null,null,null,null,null,null,null,null,null,null,null,null,null,null,40,null,null,null,"","","",null,null,null,"",null,null,null,40,40,40,null,null,{"$f":"VLOOKUP(B76,#REF!,3,FALSE)","v":{"$error":"#REF!"}}]
[null,"J081","MEDINA DAVALOS JORGE",null,null,null,null,null,null,null,null,null,null,null,null,null,null,null,null,null,null,null,null,null,null,null,null,null,null,null,null,null,null,null,null,null,null,null,"","",null,null,null,"",null,null,null,0,0,0,null,null,{"$f":"VLOOKUP(B77,#REF!,3,FALSE)","v":{"$error":"#REF!"}}]
[null,"J","MIÑO CHIRIBOGA JOSÉ",null,null,null,null,null,null,null,null,null,null,null,null,null,null,null,null,null,null,null,null,null,"",null,"","",null,"",null,"",null,null,null,null,null,"","","",null,null,null,"",null,null,null,0,0,0,null,null,{"$f":"VLOOKUP(B78,#REF!,3,FALSE)","v":{"$error":"#REF!"}}]
["J036","J027","MIÑO JOSE IGNACIO",null,null,null,null,null,null,54,40,null,null,42,"","","","","","",81,null,null,null,59,null,"","",null,"",null,"",null,null,null,null,null,"","","",null,null,null,"",null,null,null,81,59,276,null,null,{"$f":"VLOOKUP(B79,#REF!,3,FALSE)","v":{"$error":"#REF!"}}]
[null,"J016","MIÑO JOSE RICARDO",null,null,null,null,null,null,null,null,null,null,null,null,null,null,null,null,null,null,null,null,null,null,null,null,null,null,null,null,null,null,null,null,null,null,null,"","",null,null,null,"",null,null,null,0,0,0,null,null,{"$f":"VLOOKUP(B80,#REF!,3,FALSE)","v":{"$error":"#REF!"}}]
["J004","J012","MIÑO SANTIAGO",null,null,40,60,60,60,null,null,null,null,42,"","","","","","","",null,null,null,"",null,"","",null,"",null,null,null,null,null,null,null,"","","",null,null,null,"",null,null,null,60,0,262,null,null,{"$f":"VLOOKUP(B81,#REF!,3,FALSE)","v":{"$error":"#REF!"}}]
["J018","J","MOLESTINA FRANCISCO",null,null,40,null,null,null,null,null,null,null,null,"","","","","","","",null,null,null,"",null,"","",null,"",null,"",null,null,null,null,null,"","","",null,null,null,"",null,null,null,40,0,40,null,null,{"$f":"VLOOKUP(B82,#REF!,3,FALSE)","v":{"$error":"#REF!"}}]
["J012","J023","MOLESTINA NICOLAS",null,null,null,null,null,40,54,40,null,null,null,"","","","","","","",null,null,null,"",null,"","",null,"",null,"",null,null,null,null,null,"","","",null,null,null,"",null,null,null,54,0,134,null,null,{"$f":"VLOOKUP(B83,#REF!,3,FALSE)","v":{"$error":"#REF!"}}]
["A119","J033","MONROY BAROJA MARIA",null,null,40,60,60,60,null,null,null,null,null,"",62,87,"",62,63,"",null,null,81,"",null,82,80,null,"",null,"",83,null,null,null,82,"","","",null,null,null,"",null,null,null,87,327,902,null,null,{"$f":"VLOOKUP(B84,#REF!,3,FALSE)","v":{"$error":"#REF!"}}]
[null,"J036","MORAN KEVIN GUILLERMO",null,null,null,null,null,null,null,null,null,null,null,null,null,null,null,null,null,null,null,null,null,null,null,null,null,null,null,null,null,null,null,null,null,null,null,null,null,null,null,null,"",null,null,null,0,0,0,null,null,{"$f":"VLOOKUP(B85,#REF!,3,FALSE)","v":{"$error":"#REF!"}}]
["J002","J025","MORENO CORDOVEZ DANIELA",null,null,40,60,60,60,null,40,44,null,42,"","","","","","","",null,null,null,"",null,"","",null,"",null,"",null,null,null,null,null,"","","",null,null,null,"",null,null,null,60,0,346,null,null,{"$f":"VLOOKUP(B86,#REF!,3,FALSE)","v":{"$error":"#REF!"}}]
[null,"J043","MORENO DANIEL",null,null,null,null,null,null,null,null,null,null,null,null,null,null,null,null,null,null,null,null,null,null,null,null,"",null,"",null,59,null,null,null,null,null,"","","",null,null,null,"",null,null,null,59,59,59,null,null,{"$f":"VLOOKUP(B87,#REF!,3,FALSE)","v":{"$error":"#REF!"}}]
["J041","J026","MORENO NICOLAS JUAN",null,null,null,null,null,null,null,40,44,null,42,"","","","","","","",null,null,null,80,90,"",80,null,"",null,"",null,null,null,null,null,"","","",null,null,null,"",null,null,null,90,250,376,null,null,{"$f":"VLOOKUP(B88,#REF!,3,FALSE)","v":{"$error":"#REF!"}}]
["J046","J013","MORILLO SERGIO",null,null,null,null,null,null,null,null,null,null,null,{"$f":"IFERROR(#REF!,\"\")","v":""},null,null,null,"","","",null,null,null,"",null,"","",null,"",null,"",null,93,null,null,82,43,"","",null,null,null,"",null,null,null,93,218,218,null,null,{"$f":"VLOOKUP(B89,#REF!,3,FALSE)","v":{"$error":"#REF!"}}]
["C","J073","MUÑOZ LOAIZA PAUL ESTEBAN",null,null,null,null,null,null,null,null,null,{"$f":"IFERROR($BA90,\"\")","v":""},null,null,null,null,null,null,null,null,null,null,null,null,null,null,null,null,null,null,null,null,null,null,null,null,"","","",null,null,null,"",null,null,null,0,0,0,null,null,{"$f":"VLOOKUP(B90,#REF!,3,FALSE)","v":{"$error":"#REF!"}}]
[null,"J086","NICOLE WILLIAMS",null,null,null,null,null,null,null,null,null,null,null,null,null,null,null,null,null,null,null,null,null,null,null,null,null,null,null,null,null,null,null,null,null,null,null,"","",null,null,null,"",null,null,null,0,0,0,null,null,{"$f":"VLOOKUP(B91,#REF!,3,FALSE)","v":{"$error":"#REF!"}}]
["J045","J","NIETO JOSE LUIS",null,null,null,null,null,null,null,null,null,null,42,"","","","","","","",null,null,null,"",null,"","",null,"",null,"",null,null,null,null,null,"","","",null,null,null,"",null,null,null,42,0,42,null,null,{"$f":"VLOOKUP(B92,#REF!,3,FALSE)","v":{"$error":"#REF!"}}]
["J015","J","ORTIZ JOSE FRANCISCO",null,null,null,null,null,null,null,null,null,null,null,"","","","","","","",null,null,null,"",null,"","",null,"",null,"",null,null,null,null,null,"","","",null,null,null,"",null,null,null,0,0,0,null,null,{"$f":"VLOOKUP(B93,#REF!,3,FALSE)","v":{"$error":"#REF!"}}]
["C","J074","PEÑA CORDERO SOFIA CAROLINA",null,null,null,null,null,null,null,40,40,{"$f":"IFERROR($BA94,\"\")","v":""},null,null,40,40,null,null,null,null,null,null,null,null,null,null,null,null,null,null,null,null,null,null,null,null,"","","",null,null,null,"",null,null,null,40,0,160,null,null,{"$f":"VLOOKUP(B94,#REF!,3,FALSE)","v":{"$error":"#REF!"}}]
[null,"J051","POLIT JULIA",null,null,null,null,null,null,null,null,null,null,null,null,null,null,null,null,null,null,null,null,null,null,null,null,null,null,null,null,null,null,null,null,null,null,null,"","",null,null,null,"",null,null,null,0,0,0,null,null,{"$f":"VLOOKUP(B95,#REF!,3,FALSE)","v":{"$error":"#REF!"}}]
["J006","J","RIBADENEIRA EMILIA",null,null,null,null,null,null,null,null,null,null,42,"","","","","","","",null,null,null,"",null,"","",null,"",null,"",null,null,null,null,null,"","","",null,null,null,"",null,null,null,42,0,42,null,null,{"$f":"VLOOKUP(B96,#REF!,3,FALSE)","v":{"$error":"#REF!"}}]
["J001","J031","RIBADENEIRA SOFIA",null,60,60,60,60,40,null,null,null,null,null,null,82,"",87,"",84,"",null,null,null,80,null,82,"",null,99,null,81,null,null,null,null,82,"","","",null,null,null,"",null,null,null,99,424,957,null,null,{"$f":"VLOOKUP(B97,#REF!,3,FALSE)","v":{"$error":"#REF!"}}]
["C","C","RIOS LARRIVA JUAN BERNARDO",null,null,null,null,null,null,null,40,40,{"$f":"IFERROR($BA98,\"\")","v":""},null,null,null,null,null,null,null,null,null,null,null,null,null,null,null,null,null,null,null,null,null,null,null,null,"","","",null,null,null,"",null,null,null,40,0,80,null,null,{"$f":"VLOOKUP(B98,#REF!,3,FALSE)","v":{"$error":"#REF!"}}]
[null,"J099","RODITTI CARVAJAL CRISTORO",null,null,null,null,null,null,null,null,null,null,null,null,null,null,null,null,null,null,null,null,null,null,null,null,null,null,null,null,null,null,null,null,null,null,null,null,null,null,null,null,"",null,null,null,0,0,0,null,null,{"$f":"VLOOKUP(B99,#REF!,3,FALSE)","v":{"$error":"#REF!"}}]
[null,"J004","SALAZAR EMILIA",null,null,null,null,null,null,null,null,null,null,null,null,null,null,null,null,null,null,null,null,null,"",null,"","",null,"",null,"",null,null,null,null,null,"","","",null,null,null,"",null,null,null,0,0,0,null,null,{"$f":"VLOOKUP(B100,#REF!,3,FALSE)","v":{"$error":"#REF!"}}]
["J032","J020","SERRANO VALLEJO FELIPE",null,null,null,null,null,null,null,40,null,40,42,"","","","","",null,"",null,null,null,"",null,"","",null,"",null,"",null,null,null,null,null,"","","",null,null,null,"",null,null,null,42,0,122,null,null,{"$f":"VLOOKUP(B101,#REF!,3,FALSE)","v":{"$error":"#REF!"}}]
[null,"J088","SIMON NICOLAS",null,null,null,null,null,null,null,null,null,null,null,null,null,null,null,null,null,null,null,null,null,null,null,null,null,null,null,null,null,null,null,null,null,null,null,null,null,null,null,null,"",null,null,null,0,0,0,null,null,{"$f":"VLOOKUP(B102,#REF!,3,FALSE)","v":{"$error":"#REF!"}}]
["C","J075","SORIA VASQUEZ JUAN MANUEL",null,null,null,null,null,null,null,null,null,{"$f":"IFERROR($BA103,\"\")","v":""},null,null,null,null,null,null,null,null,null,null,null,null,null,null,null,null,null,null,null,null,null,null,null,null,"","","",null,null,null,"",null,null,null,{"$f":"MAX(D103:AU103)","v":0},{"$f":"SUM(Y103:AU103)","v":0},{"$f":"SUM(D103:AU103)","v":0},null,null,{"$f":"VLOOKUP(B103,#REF!,3,FALSE)","v":{"$error":"#REF!"}}]
["C","J076","SORIA VAZQUEZ MARIA DANIELA",null,null,null,null,null,null,null,null,null,{"$f":"IFERROR($BA104,\"\")","v":""},null,null,null,null,null,null,null,null,null,40,40,null,null,null,null,null,null,null,null,null,null,null,null,null,"","","",null,null,null,"",null,null,null,40,0,80,null,null,{"$f":"VLOOKUP(B104,#REF!,3,FALSE)","v":{"$error":"#REF!"}}]
["C","J077","TAMARIZ MALO SANTIAGO",null,null,null,null,null,null,null,null,null,{"$f":"IFERROR($BA105,\"\")","v":""},null,null,null,null,null,null,null,null,null,null,null,null,null,null,null,null,null,null,null,null,null,null,null,null,"","","",null,null,null,"",null,null,null,0,0,0,null,null,{"$f":"VLOOKUP(B105,#REF!,3,FALSE)","v":{"$error":"#REF!"}}]
[null,"J060","TRUEBA VICTORIA",null,null,null,null,null,null,null,null,null,null,null,null,null,null,null,null,null,null,null,null,null,null,null,null,null,null,null,null,null,null,null,null,null,null,"","","",null,null,null,"",null,null,null,0,0,0,null,null,{"$f":"VLOOKUP(B106,#REF!,3,FALSE)","v":{"$error":"#REF!"}}]
["C","J078","UGALDE ANDRADE CARLOS ESTEBAN",null,null,null,null,null,null,null,null,null,{"$f":"IFERROR($BA107,\"\")","v":""},null,null,null,null,null,null,null,null,null,null,null,null,null,null,null,null,null,null,null,null,null,null,null,null,"","","",null,null,null,"",null,null,null,0,0,0,null,null,{"$f":"VLOOKUP(B107,#REF!,3,FALSE)","v":{"$error":"#REF!"}}]
[null,"M027","VAZCONEZ CAMILA",null,null,null,null,null,null,null,null,null,null,null,{"$f":"IFERROR(#REF!,\"\")","v":""},{"$f":"IFERROR(#REF!,\"\")","v":""},null,null,null,null,"",null,{"$f":"IFERROR($BA108,\"\")","v":""},null,null,null,null,null,null,null,null,null,null,null,null,null,null,null,null,null,null,null,null,null,null,null,null,0,0,0,null,null,{"$f":"VLOOKUP(B108,#REF!,3,FALSE)","v":{"$error":"#REF!"}}]
[null,"J","VERA ZAMBRANO DAYANA",null,null,40,null,null,null,null,null,null,null,null,"","","","","","","",null,null,null,"",null,"","",null,"",null,"",null,null,null,null,null,"","","",null,null,null,"",null,null,null,40,0,40,null,null,{"$f":"VLOOKUP(B109,#REF!,3,FALSE)","v":{"$error":"#REF!"}}]
["J029","J","VERGARA MARIE CLAUDE ",null,null,null,null,40,40,54,null,null,null,null,"","","","","","","",null,null,null,"",null,"","",null,"",null,"",null,null,null,null,null,"","","",null,null,null,"",null,null,null,54,0,134,null,null,{"$f":"VLOOKUP(B110,#REF!,3,FALSE)","v":{"$error":"#REF!"}}]
["J030","J","VERGARA MURIEL ",null,null,null,null,40,40,54,null,null,null,null,"","","","","","","",null,null,null,"",null,"","",null,"",null,"",null,null,null,null,null,"","","",null,null,null,"",null,null,null,54,0,134,null,null,{"$f":"VLOOKUP(B111,#REF!,3,FALSE)","v":{"$error":"#REF!"}}]
["J052","J054","VINTIMILLA CORDERO PABLO",null,40,null,null,null,null,null,40,null,null,null,"","","",60,null,"","",null,null,null,"",null,"","",null,"",84,"",null,null,45,null,null,"","","",null,null,null,"",null,null,null,84,129,269,null,null,{"$f":"VLOOKUP(B112,#REF!,3,FALSE)","v":{"$error":"#REF!"}}]
["J","J","WILLIAMS NICOLE",null,null,null,null,null,null,null,null,null,null,null,null,null,null,null,null,null,null,null,null,null,null,null,null,null,null,null,null,null,null,null,null,null,null,"",null,"",null,null,null,"",null,null,null,0,0,0,null,null,{"$f":"VLOOKUP(B113,#REF!,3,FALSE)","v":{"$error":"#REF!"}}]
["J040","J028","WRAY VINUEZA MATEO",null,null,40,60,60,60,null,null,44,null,42,"","","","",62,"","",null,null,null,"",null,"","",null,"",null,"",null,null,null,null,null,"","","",null,null,null,"",null,null,null,62,0,368,null,null,{"$f":"VLOOKUP(B114,#REF!,3,FALSE)","v":{"$error":"#REF!"}}]
["I057","J035","WRAY VINUEZA THOMAS",null,null,null,null,null,null,null,null,null,null,null,"","","","","",42,"",null,60,null,"",null,"","",null,"",null,"",null,null,null,null,null,"","","",null,null,null,"",null,null,null,60,0,102,null,null,{"$f":"VLOOKUP(B115,#REF!,3,FALSE)","v":{"$error":"#REF!"}}]
["J008","J","ZAMBRANO KAREN",null,60,60,null,null,60,null,null,null,null,null,"","","","","","","",null,null,null,"",null,"","",null,"",null,"",null,null,null,null,null,"","","",null,null,null,"",null,null,null,60,0,180,null,null,{"$f":"VLOOKUP(B116,#REF!,3,FALSE)","v":{"$error":"#REF!"}}]
[1000,1000,"ZZZZZZZ",null,null,null,null,null,null,null,null,null,{"$f":"IFERROR($BA117,\"\")","v":""},null,{"$f":"IFERROR(#REF!,\"\")","v":""},{"$f":"IFERROR(#REF!,\"\")","v":""},null,null,null,null,"",null,{"$f":"IFERROR($BA117,\"\")","v":""},{"$f":"IFERROR($BA117,\"\")","v":""},"",null,null,"",{"$f":"IFERROR($BA117,\"\")","v":""},"",{"$f":"IFERROR($BA117,\"\")","v":""},"","","","","","","","","",{"$f":"IFERROR($BA117,\"\")","v":""},{"$f":"IFERROR($BA117,\"\")","v":""},{"$f":"IFERROR($BA117,\"\")","v":""},"",{"$f":"IFERROR($BA117,\"\")","v":""},{"$f":"IFERROR($BA117,\"\")","v":""},{"$f":"IFERROR($BA117,\"\")","v":""},0,0,0,null,null,{"$f":"VLOOKUP(B117,#REF!,3,FALSE)","v":{"$error":"#REF!"}}]
[null,null,null,null,null,null,null,null,null,null,null,null,null,null,null,null,null,null,null,null,null,null,null,null,null,null,null,null,null,null,null,null,null,null,null,null,null,null,null,null,null,null,null,null,null,null,null,0,0,0,null,null,{"$f":"VLOOKUP(B118,#REF!,3,FALSE)","v":{"$error":"#REF!"}}]
[]
[]
[null,null,null,null,null,null,null,null,null,null,null,null,null,null,null,null,null,null,null,null,null,null,null,null,null,null,"AZUL COMPETENCIAS DE CUENCA"]

{"sheet":"V L AB","index":20,"n_rows":254,"n_cols":53,"rows_kept":254,"cut":false,"hidden":false,"merged":[[3,0,3,1],[4,0,4,1],[0,5,2,47],[4,3,4,8],[4,9,4,13],[4,14,4,19],[3,3,3,26],[4,20,4,26],[4,37,4,46],[4,27,4,36]]}
[null,"DERECHO ADQUIRIDO"]
[null,"VELOCIDAD LIBRE",null,null,null,null,null,null,null,null,null,null,null,null,null,null,null,null,null,null,null,null,null,null,null,null,null,null,null,null,null,null,null,null,null,null,null,null,null,null,null,null,null,null,null,null,null,null,null,null,null,"CRTL+MAY+ U"]
[]
[null,null,"ABIERTA","KILOMETRAJE"]
["CODIGO",null,"KILOMETROS",2009,null,null,null,null,null,2010,null,null,null,null,2011,null,null,null,null,null,2012,null,null,null,null,null,null,2013,null,null,null,null,null,null,null,null,null,2014,null,null,null,null,null,null,null,null,null,null,null,null,null,"CRTL+MAY+ J"]
["ANTERIOR","NUEVO","JINETE","I CHONE","II CHONE","III CHONE","IV CHONE","V CHONE","VI CHONE","I CHONE","II CHONE","III CHONE","IV CHONE","V CHONE","I CHONE","II CHONE","III CHONE","IV CHONE","V CHONE","VI CHONE","I CHONE","CUENCA","II CHONE","III CHONE","IV CHONE","V CHONE","VI CHONE","I CHONE","II CHONE","III CHONE","IV CHONE","V CHONE","VI CHONE","VII CHONE","VIII CHONE","IX CHONE","X CHONE","I CHONE","II CHONE","III CHONE","IV CHONE","V CHONE","VI CHONE","VII CHONE","VIII CHONE","IX CHONE","X CHONE","MÁXIMO","CLASIFICATORIO","TOTAL"]
["A081","A","ABAD ANDRE",null,null,null,null,null,null,null,null,null,40,null,null,null,null,null,null,null,null,null,null,null,null,null,null,"",null,"",null,"",null,null,null,null,null,"","","",null,null,"","","",null,null,{"$f":"MAX(D7:AU7)","v":40},{"$f":"SUM(Y7:AU7)","v":0},{"$f":"SUM(D7:AU7)","v":40},null,null,{"$f":"VLOOKUP(B7,#REF!,3,FALSE)","v":{"$error":"#REF!"}}]
["A080","A","ABAD FRANCIS",null,{"$f":"IF(AND('V L AB'!D13>0,'V L CAB'!E68>0),'V L AB'!D13,IF(AND('V C AB'!D13>0,'V C CAB'!E68>0),'V C AB'!D13,\"\"))","v":""},null,null,null,null,null,null,null,40,null,"","","","","","","",null,null,null,"",{"$f":"IFERROR($BA8,\"\")","v":""},"","",null,"",null,"",null,null,null,null,null,"","","",null,null,"","","",null,null,40,0,40,null,null,{"$f":"VLOOKUP(B8,#REF!,3,FALSE)","v":{"$error":"#REF!"}}]
["A014","A","ACHANCE SEGUNDO",null,null,null,null,null,null,null,null,44,null,null,"","","","","","","",null,null,null,"",{"$f":"IFERROR($BA9,\"\")","v":""},"","",null,"",null,"",null,null,null,null,null,"","","",null,null,"","","",null,null,44,0,44,null,null,{"$f":"VLOOKUP(B9,#REF!,3,FALSE)","v":{"$error":"#REF!"}}]
[null,"A","ALARCON VERGARA ESTEBAN",null,null,null,null,null,40,null,null,null,null,null,"","","","","","","",null,null,null,"",{"$f":"IFERROR($BA10,\"\")","v":""},"","",null,"",null,"",null,null,null,null,null,"","","",null,null,"","","",null,null,40,0,40,null,null,{"$f":"VLOOKUP(B10,#REF!,3,FALSE)","v":{"$error":"#REF!"}}]
["A120","A","ALBUJA FUERTES PATRICIO",60,60,60,60,null,null,null,null,null,null,null,"","","","","","","",null,null,null,"",{"$f":"IFERROR($BA11,\"\")","v":""},"","",null,"",null,"",null,null,null,null,null,"","","",null,null,"","","",null,null,60,0,240,null,null,{"$f":"VLOOKUP(B11,#REF!,3,FALSE)","v":{"$error":"#REF!"}}]
["C","C","ALDAZ RAUL",null,null,null,null,null,null,null,null,40,null,null,null,null,null,null,null,null,null,null,null,null,null,null,null,null,null,null,null,null,null,null,null,null,null,"","","",null,null,"","","",null,null,40,0,40,null,null,{"$f":"VLOOKUP(B12,#REF!,3,FALSE)","v":{"$error":"#REF!"}}]
[null,"A181","ALLAICO CHIMBORAZO JOSE EMILIO",null,null,null,null,null,null,null,null,null,null,null,null,null,null,null,null,null,null,null,null,null,null,null,null,null,null,null,null,null,null,null,null,null,null,null,null,null,null,null,"","",42,null,null,{"$f":"MAX(L13:AA13)","v":0},42,42,null,null,{"$f":"VLOOKUP(B13,#REF!,3,FALSE)","v":{"$error":"#REF!"}}]
["A037","A059","ALMEIDA AYALA HECTOR",null,40,40,60,60,40,null,null,null,null,null,null,null,87,null,80,"",81,null,null,null,80,null,"",80,null,99,null,"",83,null,null,null,null,"","",84,null,null,80,"",82,null,null,{"$f":"MAX(D14:AU14)","v":99},588,1076,null,null,{"$f":"VLOOKUP(B14,#REF!,3,FALSE)","v":{"$error":"#REF!"}}]
[null,"A011","ALMEIDA PARDO DAVID",null,null,null,null,null,null,null,null,null,null,null,null,null,null,null,null,null,null,null,null,null,null,null,null,null,null,null,null,null,null,null,null,null,null,"","","",{"$f":"IF(AND('V L JUV'!AN62>0,'V L CAB'!AO90>0),'V L JUV'!AN62,IF(AND('V C JUV'!AN62>0,'V C CAB'!AO90>0),'V C JUV'!AN62,\"\"))","v":""},{"$f":"IF(AND('V L JUV'!AO62>0,'V L CAB'!AP90>0),'V L JUV'!AO62,IF(AND('V C JUV'!AO62>0,'V C CAB'!AP90>0),'V C JUV'!AO62,\"\"))","v":""},"","","",{"$f":"IF(AND('V L JUV'!AS62>0,'V L CAB'!AT90>0),'V L JUV'!AS62,IF(AND('V C JUV'!AS62>0,'V C CAB'!AT90>0),'V C JUV'!AS62,\"\"))","v":""},{"$f":"IF(AND('V L JUV'!AT62>0,'V L CAB'!AU90>0),'V L JUV'!AT62,IF(AND('V C JUV'!AT62>0,'V C CAB'!AU90>0),'V C JUV'!AT62,\"\"))","v":""},0,0,0,null,null,{"$f":"VLOOKUP(B15,#REF!,3,FALSE)","v":{"$error":"#REF!"}}]
[null,"A012","ALMEIDA PARDO HECTOR",null,null,null,40,40,null,null,null,null,null,null,"","","","","","","",null,null,null,"",{"$f":"IFERROR($BA16,\"\")","v":""},"","",null,"",null,"",null,null,null,null,null,"","","",null,null,"","","",null,null,40,0,80,null,null,{"$f":"VLOOKUP(B16,#REF!,3,FALSE)","v":{"$error":"#REF!"}}]
["M004","A021","ALVEAR JUAN CARLOS",null,null,null,null,null,null,null,null,null,null,null,null,null,null,null,null,42,44,null,null,null,"",{"$f":"IFERROR($BA17,\"\")","v":""},"","",null,"",null,"",null,null,null,null,null,"","","",null,null,"","","",null,null,44,0,86,null,null,{"$f":"VLOOKUP(B17,#REF!,3,FALSE)","v":{"$error":"#REF!"}}]
["A020","A088","ALZAMORA GUERRERO ESTEBAN",null,null,null,null,null,null,null,40,null,null,null,"","","","","","","",null,null,null,"",{"$f":"IFERROR($BA18,\"\")","v":""},"","",null,"",null,"",null,null,null,null,null,"","","",null,null,"","","",null,null,40,0,40,null,null,{"$f":"VLOOKUP(B18,#REF!,3,FALSE)","v":{"$error":"#REF!"}}]
["A070","A050","ALZAMORA MARIA CECILIA",null,null,null,null,null,null,null,null,null,null,42,"","","","","","","",null,null,null,"",{"$f":"IFERROR($BA19,\"\")","v":""},"","",null,"",null,"",null,null,null,null,null,"","","",null,null,"","","",null,null,42,0,42,null,null,{"$f":"VLOOKUP(B19,#REF!,3,FALSE)","v":{"$error":"#REF!"}}]
[null,"A178","ANDRADE JUAN CARLOS",null,null,null,null,null,null,null,null,null,null,null,null,null,null,null,null,null,null,null,null,null,null,null,null,null,null,null,null,null,null,null,null,null,null,null,null,null,null,null,"","","",null,null,{"$f":"MAX(L20:AA20)","v":0},0,0,null,null,{"$f":"VLOOKUP(B20,#REF!,3,FALSE)","v":{"$error":"#REF!"}}]
["J008","A","ASTUDILLO ESTALIN",null,null,null,null,null,null,null,null,null,null,null,"","","","","","","",null,null,null,"",{"$f":"IFERROR($BA21,\"\")","v":""},"","",null,"",null,"",null,null,null,null,null,"","","",null,null,"","","",null,null,{"$f":"MAX(D21:AU21)","v":0},0,0,null,null,{"$f":"VLOOKUP(B21,#REF!,3,FALSE)","v":{"$error":"#REF!"}}]
[null,"A095","AULES LUIS RAUL",null,null,null,null,null,null,null,null,null,null,null,null,null,null,null,null,null,null,null,null,null,null,null,null,null,null,null,null,null,null,null,null,null,null,"","","",null,null,"","","",null,null,0,0,0,null,null,{"$f":"VLOOKUP(B22,#REF!,3,FALSE)","v":{"$error":"#REF!"}}]
["A049","A","AYALA ANDREA",null,null,null,null,null,null,null,null,null,null,null,null,null,null,null,null,null,"",null,null,null,"",{"$f":"IFERROR($BA23,\"\")","v":""},"","",null,"",null,"",null,null,null,null,null,"","","",null,null,"","","",null,null,0,0,0,null,null,{"$f":"VLOOKUP(B23,#REF!,3,FALSE)","v":{"$error":"#REF!"}}]
["A028","A","AYALA DANIEL",null,null,null,null,null,null,null,null,null,null,null,"","","","","","","",null,null,null,"",{"$f":"IFERROR($BA24,\"\")","v":""},"","",null,"",null,"",null,null,null,null,null,"","","",null,null,"","","",null,null,0,0,0,null,null,{"$f":"VLOOKUP(B24,#REF!,3,FALSE)","v":{"$error":"#REF!"}}]
["A112","A048","BARAHONA ANDRES",null,null,40,60,null,60,null,null,null,null,null,null,null,"","","","","",null,null,null,"",{"$f":"IFERROR($BA25,\"\")","v":""},"","",null,"",null,"",null,null,null,null,null,"","","",null,null,"","","",null,null,60,0,160,null,null,{"$f":"VLOOKUP(B25,#REF!,3,FALSE)","v":{"$error":"#REF!"}}]
["A0159","A","BERMEO JUAM BERNARDO",null,null,null,null,null,null,null,null,null,null,null,"","","","","","","",null,null,null,"",{"$f":"IFERROR($BA26,\"\")","v":""},"","",null,"",null,"",null,null,null,null,null,"","","",null,null,"","","",null,null,0,0,0,null,null,{"$f":"VLOOKUP(B26,#REF!,3,FALSE)","v":{"$error":"#REF!"}}]
["A101","A049","BRAUER MARIA FERNANDA",null,null,null,null,null,null,null,null,null,null,null,null,null,null,"","","","",null,null,null,"",null,82,"",null,82,null,"",null,null,null,null,null,"","","",null,null,"","","",null,null,82,164,164,null,null,{"$f":"VLOOKUP(B27,#REF!,3,FALSE)","v":{"$error":"#REF!"}}]
[null,"A","BRAVO LUIS GUSTAVO",null,null,null,40,40,40,null,null,null,null,null,"","","","","","","",null,null,null,"",{"$f":"IFERROR($BA28,\"\")","v":""},"","",null,"",null,"",null,null,null,null,null,"","","",null,null,"","","",null,null,40,0,120,null,null,{"$f":"VLOOKUP(B28,#REF!,3,FALSE)","v":{"$error":"#REF!"}}]
[null,"A185","BURBANO SERRANO JAIME ROLANDO",null,null,null,null,null,null,null,null,null,null,null,null,null,null,null,null,null,null,null,null,null,null,null,null,null,null,null,null,null,null,null,null,null,null,null,null,null,null,47,"","","",null,null,{"$f":"MAX(L29:AA29)","v":0},47,47,null,null,{"$f":"VLOOKUP(B29,#REF!,3,FALSE)","v":{"$error":"#REF!"}}]
["C","A133","BURBANO SERRANO JUAN JOSE",null,null,null,null,null,null,null,null,40,"",null,40,null,null,null,null,null,null,null,null,null,null,null,null,null,null,null,null,null,null,null,null,null,null,"","","",null,null,"","","",null,null,{"$f":"MAX(D30:AU30)","v":40},0,80,null,null,{"$f":"VLOOKUP(B30,#REF!,3,FALSE)","v":{"$error":"#REF!"}}]
[null,"A172","BURBANO VILLAVICENCIO JAIME SEBASTIAN",null,null,null,null,null,null,null,null,null,"",null,40,40,null,null,null,null,null,null,null,null,null,null,null,null,null,null,null,null,null,null,null,null,null,null,null,"",null,null,"","","",null,null,{"$f":"MAX(L31:AA31)","v":40},0,80,null,null,{"$f":"VLOOKUP(B31,#REF!,3,FALSE)","v":{"$error":"#REF!"}}]
["A151","A","BUSTAMENTE RODRIGO",null,null,40,null,40,null,null,null,null,null,null,"","","","","","","",null,null,null,"",{"$f":"IFERROR($BA32,\"\")","v":""},"","",null,"",null,"",null,null,null,null,null,"","","",null,null,"","","",null,null,{"$f":"MAX(D32:AU32)","v":40},0,80,null,null,{"$f":"VLOOKUP(B32,#REF!,3,FALSE)","v":{"$error":"#REF!"}}]
["C","C","CAMACHO VINTIMILLA JUAN",null,null,null,null,null,null,null,40,null,"",null,null,null,null,null,null,null,null,null,null,null,null,null,null,null,null,null,null,null,null,null,null,null,null,"","","",null,null,"","","",null,null,40,0,40,null,null,{"$f":"VLOOKUP(B33,#REF!,3,FALSE)","v":{"$error":"#REF!"}}]
["A046","A103","CANDELEJO NELSON",null,null,null,null,null,null,null,null,null,null,null,null,null,null,null,"","","",null,null,null,"",{"$f":"IFERROR($BA34,\"\")","v":""},"","",null,"",null,"",null,null,null,null,null,"","","",null,null,"","","",null,null,0,0,0,null,null,{"$f":"VLOOKUP(B34,#REF!,3,FALSE)","v":{"$error":"#REF!"}}]
["A068","A067","CANDO MARIO",null,null,null,null,null,40,null,null,null,null,42,"","","","","","","",null,null,81,"",null,82,80,null,99,null,"",null,null,null,null,null,"","",84,null,null,"","","",null,null,99,345,508,null,null,{"$f":"VLOOKUP(B35,#REF!,3,FALSE)","v":{"$error":"#REF!"}}]
["A059","A015","CARDENAS DANIEL",null,null,null,null,null,null,null,null,null,null,null,"","","","","","","",null,null,null,"",{"$f":"IFERROR($BA36,\"\")","v":""},"","",null,"",null,"",null,null,null,null,null,"","","",null,null,"","","",null,null,0,0,0,null,null,{"$f":"VLOOKUP(B36,#REF!,3,FALSE)","v":{"$error":"#REF!"}}]
["C","A134","CARRASCO AUGUSTO",null,null,null,null,null,null,null,40,null,"",null,null,null,40,40,null,null,null,null,null,null,null,null,null,null,null,null,null,null,null,null,null,null,null,"","","",null,null,"","","",null,null,40,0,120,null,null,{"$f":"VLOOKUP(B37,#REF!,3,FALSE)","v":{"$error":"#REF!"}}]
["A069","A064","CASTILLO DIEGO",null,null,null,null,null,null,null,null,null,null,42,"","","","","","",62,null,null,null,"",{"$f":"IFERROR($BA38,\"\")","v":""},"",48,null,"",null,59,null,null,null,53,null,"","","",null,null,"","","",null,null,62,160,264,null,null,{"$f":"VLOOKUP(B38,#REF!,3,FALSE)","v":{"$error":"#REF!"}}]
["A020","A","CASTILLO MIGUEL",null,null,null,null,null,null,null,null,null,null,null,"","","","","","","",null,null,null,"",{"$f":"IFERROR($BA39,\"\")","v":""},"","",null,"",null,"",null,null,null,null,null,"","","",null,null,"","","",null,null,0,0,0,null,null,{"$f":"VLOOKUP(B39,#REF!,3,FALSE)","v":{"$error":"#REF!"}}]
[null,"A004","CATUCUAMBA WILLIAM MEDARDO",40,null,40,null,40,null,null,null,null,40,null,"","","","","","","",null,null,null,"",{"$f":"IFERROR($BA40,\"\")","v":""},"","",null,"",null,"",null,null,null,null,null,"","","",null,null,"","","",null,null,40,0,160,null,null,{"$f":"VLOOKUP(B40,#REF!,3,FALSE)","v":{"$error":"#REF!"}}]
["C","A160","CEDILLO RAMIRO",null,null,null,null,null,null,null,null,null,40,null,null,null,null,null,null,null,null,null,null,null,null,null,null,null,null,null,null,null,null,null,null,null,null,"","","",null,null,"","","",null,null,40,0,40,null,null,{"$f":"VLOOKUP(B41,#REF!,3,FALSE)","v":{"$error":"#REF!"}}]
["A029","A078","CHANGO ESTEFANIA",null,null,null,null,null,null,null,null,null,null,null,null,null,null,null,null,null,null,null,null,null,null,null,"","",null,"",null,"",null,null,null,null,null,"","","",null,null,"","","",null,null,0,0,0,null,null,{"$f":"VLOOKUP(B42,#REF!,3,FALSE)","v":{"$error":"#REF!"}}]
["M140","A","CHIRIBOGA ALLUT ESTEBAN ",null,null,40,null,null,null,null,null,null,null,null,"","","","","","","",null,null,null,"",{"$f":"IFERROR($BA43,\"\")","v":""},"","",null,"",null,"",null,null,null,null,null,"","","",null,null,"","","",null,null,40,0,40,null,null,{"$f":"VLOOKUP(B43,#REF!,3,FALSE)","v":{"$error":"#REF!"}}]
[null,"M054","CHIRIBOGA AUGUSTO",null,null,null,null,null,null,null,null,null,null,null,null,null,null,"","","","",null,null,null,"",{"$f":"IFERROR($BA44,\"\")","v":""},"","",null,"",null,"",null,null,null,null,null,"","","",null,null,"","","",null,null,0,0,0,null,null,{"$f":"VLOOKUP(B44,#REF!,3,FALSE)","v":{"$error":"#REF!"}}]
["J026","A","CHIRIBOGA RICARDO ",null,null,null,40,null,null,null,null,null,null,null,"","","","","","","",null,null,null,"","","","",null,"",null,"",null,null,null,null,null,"","","",null,null,"","","",null,null,40,0,40,null,null,{"$f":"VLOOKUP(B45,#REF!,3,FALSE)","v":{"$error":"#REF!"}}]
["C","C","CORDERO FERNANDO",null,null,null,null,null,null,null,40,null,"",null,null,null,null,null,null,null,null,null,null,null,null,null,null,null,null,null,null,null,null,null,null,null,null,"","","",null,null,"","","",null,null,40,0,40,null,null,{"$f":"VLOOKUP(B46,#REF!,3,FALSE)","v":{"$error":"#REF!"}}]
["A070","A","CORNEJO MANUEL",null,null,null,null,null,null,null,null,null,null,null,"","","","","","","",null,null,null,"","","","",null,"",null,"",null,null,null,null,null,"","","",null,null,"","","",null,null,0,0,0,null,null,{"$f":"VLOOKUP(B47,#REF!,3,FALSE)","v":{"$error":"#REF!"}}]
["A010","A","CUICHAN CARLOS",null,null,null,null,null,null,null,null,null,null,null,"","","","","","","",null,null,null,"","","","",null,"",null,"",null,null,null,null,null,"","","",null,null,"","","",null,null,0,0,0,null,null,{"$f":"VLOOKUP(B48,#REF!,3,FALSE)","v":{"$error":"#REF!"}}]
["A104","A052","DARQUEA BERNARDO",40,null,40,60,60,null,null,null,null,null,null,"",82,"",87,80,"","",null,null,null,80,"",52,"",null,82,null,81,null,null,null,null,null,"","",49,null,null,"","","",null,null,87,344,793,null,null,{"$f":"VLOOKUP(B49,#REF!,3,FALSE)","v":{"$error":"#REF!"}}]
[null,"A057","DAVILA GORDILLO JUAN DIEGO",null,null,null,40,40,40,null,40,null,null,null,"","","","","","","",null,null,null,"","","","",null,"",null,"",null,null,null,null,null,"","",84,null,null,"","","",null,null,84,84,244,null,null,{"$f":"VLOOKUP(B50,#REF!,3,FALSE)","v":{"$error":"#REF!"}}]
[null,"A016","DEL POZO JUAN",null,null,null,null,null,null,null,null,null,null,null,null,null,null,null,null,null,"",null,null,null,"","","","",null,"",null,"",null,null,null,null,null,"","","",null,null,"","","",null,null,0,0,0,null,null,{"$f":"VLOOKUP(B51,#REF!,3,FALSE)","v":{"$error":"#REF!"}}]
["C","A135","DONOSO LOYOLA SEBASTIAN FERNANDO",null,null,null,null,null,null,40,40,40,40,null,null,null,null,null,null,null,null,null,null,80,null,null,null,null,null,null,null,null,null,null,null,null,null,"","","",null,null,"","","",null,null,80,0,240,null,null,{"$f":"VLOOKUP(B52,#REF!,3,FALSE)","v":{"$error":"#REF!"}}]
[null,"A062","DUEÑAS RICARDO",null,null,null,null,null,null,null,null,null,null,null,null,null,null,null,null,null,62,null,60,null,"","",52,"",null,"",null,"",null,null,null,null,null,"","","",null,null,"","","",null,null,62,52,174,null,null,{"$f":"VLOOKUP(B53,#REF!,3,FALSE)","v":{"$error":"#REF!"}}]
[null,"A176","ESCOBAR LUIS",null,null,null,null,null,null,null,null,null,null,null,null,null,null,null,null,null,null,null,null,null,null,null,null,null,null,null,null,null,null,null,null,null,null,null,null,null,null,null,"","","",null,null,{"$f":"MAX(L54:AA54)","v":0},0,0,null,null,{"$f":"VLOOKUP(B54,#REF!,3,FALSE)","v":{"$error":"#REF!"}}]
["A010","A002","ESPINDOLA FERNANDO",null,null,null,null,null,null,null,null,null,null,null,null,null,null,null,null,null,"",null,null,null,"","","","",null,"",null,"",null,null,null,null,null,"","","",null,null,"","","",null,null,{"$f":"MAX(D55:AU55)","v":0},0,0,null,null,{"$f":"VLOOKUP(B55,#REF!,3,FALSE)","v":{"$error":"#REF!"}}]
["C","C","ESPINOZA ALVARADO JUAN SEBASTIAN",null,null,null,null,null,null,null,40,null,40,null,null,null,null,null,null,null,null,null,null,null,null,null,null,null,null,null,null,null,null,null,null,null,null,"","","",null,null,"","","",null,null,40,0,80,null,null,{"$f":"VLOOKUP(B56,#REF!,3,FALSE)","v":{"$error":"#REF!"}}]
[null,"A036","ESPINOZA ALVARO",null,null,null,null,null,null,null,null,null,null,null,null,null,null,null,"","","",null,null,null,"","","","",null,"",null,"",null,null,null,null,null,"","","",null,null,"","","",null,null,0,0,0,null,null,{"$f":"VLOOKUP(B57,#REF!,3,FALSE)","v":{"$error":"#REF!"}}]
["C","A136","ESPINOZA IZQUIERDO PEDRO JOSE",null,null,null,null,null,null,null,null,null,"",null,null,null,null,40,null,null,null,null,null,null,null,null,null,null,null,null,null,null,null,null,null,null,null,"","","",null,null,"","","",null,null,40,0,40,null,null,{"$f":"VLOOKUP(B58,#REF!,3,FALSE)","v":{"$error":"#REF!"}}]
[null,"A","ESPINOZA JAIME FERNANDO",null,null,null,40,40,null,null,null,null,null,null,"","","","","","","",null,null,null,"","","","",null,"",null,"",null,null,null,null,null,"","","",null,null,"","","",null,null,40,0,80,null,null,{"$f":"VLOOKUP(B59,#REF!,3,FALSE)","v":{"$error":"#REF!"}}]
["C","A137","ESPINOZA JUAN SEBASTIAN",null,null,null,null,null,null,null,null,null,"",null,null,null,null,null,null,null,null,null,null,null,null,null,null,null,null,null,null,null,63,null,null,null,null,"","","",null,null,"","","",null,null,63,63,63,null,null,{"$f":"VLOOKUP(B60,#REF!,3,FALSE)","v":{"$error":"#REF!"}}]
["C","A138","FEICAN ANDRES",null,null,null,null,null,null,null,40,40,"",null,null,40,40,40,null,null,null,null,null,null,null,null,null,null,null,null,null,null,null,null,null,null,null,"","","",null,null,"","","",null,null,40,0,200,null,null,{"$f":"VLOOKUP(B61,#REF!,3,FALSE)","v":{"$error":"#REF!"}}]
["A025","A","GALEAS ADOLFO ",null,null,null,40,null,null,null,null,null,null,null,"","","","","","","",null,null,null,"","","","",null,"",null,"",null,null,null,null,null,"","","",null,null,"","","",null,null,40,0,40,null,null,{"$f":"VLOOKUP(B62,#REF!,3,FALSE)","v":{"$error":"#REF!"}}]
[null,"A","GARCES LEON PATRICIO",40,null,40,40,null,null,54,40,null,null,null,"","","","","","","",null,null,null,"","","","",null,"",null,"",null,null,null,null,null,"","","",null,null,"","","",null,null,54,0,214,null,null,{"$f":"VLOOKUP(B63,#REF!,3,FALSE)","v":{"$error":"#REF!"}}]
[null,"A082","GARZÓN JOSÉ RICARDO",null,null,null,null,null,null,null,null,null,null,null,null,null,null,null,null,null,"",null,null,null,"","","","",null,"",null,"",null,null,null,null,null,"","","",null,null,"","","",null,null,0,0,0,null,null,{"$f":"VLOOKUP(B64,#REF!,3,FALSE)","v":{"$error":"#REF!"}}]
["A050","A119","GÓMEZ DE LA TORRE JOSÉ",null,null,null,null,null,null,null,null,null,null,null,null,null,null,null,null,null,"",null,null,null,"","","","",null,"",null,"",null,null,null,null,null,"","","",null,null,"","","",null,null,0,0,0,null,null,{"$f":"VLOOKUP(B65,#REF!,3,FALSE)","v":{"$error":"#REF!"}}]
[null,"A080","GÓMEZ JUAN MARTIN",null,null,40,null,null,null,null,null,null,null,null,"","","","","","","",null,null,null,"","","","",null,"",null,"",null,null,null,null,null,"","",49,null,null,"","","",null,null,49,49,89,null,null,{"$f":"VLOOKUP(B66,#REF!,3,FALSE)","v":{"$error":"#REF!"}}]
["C","A139","GONZALEZ ANA MARIA",null,null,null,null,null,null,null,null,null,"",null,null,null,null,null,null,null,null,null,null,null,null,null,null,null,null,null,44,null,null,null,68,null,null,"","","",null,null,"","","",null,null,68,112,112,null,null,{"$f":"VLOOKUP(B67,#REF!,3,FALSE)","v":{"$error":"#REF!"}}]
["C","A140","GONZALEZ GONZALEZ RENATO",null,null,null,null,null,null,null,null,null,"",null,40,null,null,40,null,null,null,null,null,null,null,null,null,null,null,null,null,null,null,null,null,null,null,"","","",null,null,"","","",null,null,40,0,80,null,null,{"$f":"VLOOKUP(B68,#REF!,3,FALSE)","v":{"$error":"#REF!"}}]
["C","A141","GONZALEZ JARAMILLO CRISTIAN HUMBERTO",null,null,null,null,null,null,null,40,null,40,null,null,null,40,null,null,null,null,null,null,null,null,null,null,null,null,null,null,null,null,null,null,null,null,"","","",null,null,"","","",null,null,40,0,120,null,null,{"$f":"VLOOKUP(B69,#REF!,3,FALSE)","v":{"$error":"#REF!"}}]
["C","C","GONZALEZ JERVES XIMENA",null,null,null,null,null,null,null,40,null,"",null,null,null,null,null,null,null,null,null,null,null,null,null,null,null,null,null,null,null,null,null,null,null,null,"","","",null,null,"","","",null,null,40,0,40,null,null,{"$f":"VLOOKUP(B70,#REF!,3,FALSE)","v":{"$error":"#REF!"}}]
["A164","A072","GONZALEZ JOSE MIGUEL",null,null,null,null,null,null,null,null,null,null,null,null,null,null,null,null,null,null,null,null,null,null,null,null,"",null,"",null,"",null,null,null,null,null,"","","",null,null,"","","",null,null,0,{"$f":"SUM(Y71:AU71)","v":0},{"$f":"SUM(D71:AU71)","v":0},null,null,{"$f":"VLOOKUP(B71,#REF!,3,FALSE)","v":{"$error":"#REF!"}}]
[null,"A124","GONZÁLEZ JUAN SEBASTIÁN",null,null,null,null,null,null,null,null,null,40,null,null,null,null,null,null,null,null,null,null,null,"","","","",null,"",null,"",null,null,null,null,null,"","","",null,null,"","","",null,null,40,0,40,null,null,{"$f":"VLOOKUP(B72,#REF!,3,FALSE)","v":{"$error":"#REF!"}}]
["C","A142","GONZALEZ SEBASTIAN",null,null,null,null,null,null,null,null,null,40,null,null,40,null,null,null,null,null,null,null,null,null,null,null,null,null,null,null,null,null,null,null,null,null,"","","",null,null,"","","",null,null,40,0,80,null,null,{"$f":"VLOOKUP(B73,#REF!,3,FALSE)","v":{"$error":"#REF!"}}]
["A103","A","GORDILLO BARAHONA LEONOR",null,null,40,null,null,null,null,null,null,null,null,"","","","","","","",null,null,null,"","","","",null,"",null,"",null,null,null,null,null,"","","",null,null,"","","",null,null,40,0,40,null,null,{"$f":"VLOOKUP(B74,#REF!,3,FALSE)","v":{"$error":"#REF!"}}]
["A061","A","GORDILLO BARAHONA VARINIA",null,null,null,null,60,60,54,40,null,null,null,"","","","","","","",null,null,null,"","","","",null,"",null,"",null,null,null,null,null,"","","",null,null,"","","",null,null,60,0,214,null,null,{"$f":"VLOOKUP(B75,#REF!,3,FALSE)","v":{"$error":"#REF!"}}]
["A017","A034","GUARDERAS ARTETA PEDRO JOSE",null,null,null,null,40,null,null,null,null,null,null,null,null,null,"","","","",null,null,40,"","","","",null,"",null,"",null,null,null,53,null,"","","",null,null,"","","",null,null,53,53,133,null,null,{"$f":"VLOOKUP(B76,#REF!,3,FALSE)","v":{"$error":"#REF!"}}]
["A049","A051","GUARDERAS BARAHONA SEBASTIAN",null,null,40,40,40,null,null,null,null,null,null,"","","","","","","",null,null,null,80,"","",80,null,99,null,81,null,null,null,null,null,"","",84,null,null,80,"","",null,null,99,504,624,null,null,{"$f":"VLOOKUP(B77,#REF!,3,FALSE)","v":{"$error":"#REF!"}}]
["A062","A","HAYOUN ERAN ",null,null,null,40,null,null,null,null,null,40,null,"","","",null,"","","",null,null,null,"","","","",null,"",null,"",null,null,null,null,null,"","","",null,null,"","","",null,null,40,0,80,null,null,{"$f":"VLOOKUP(B78,#REF!,3,FALSE)","v":{"$error":"#REF!"}}]
["A043","A","HERRERA DIEGO",null,null,null,null,null,null,null,null,null,null,null,null,null,"","","","","",null,null,null,"","","","",null,"",null,"",null,null,null,null,null,"","","",null,null,"","","",null,null,0,0,0,null,null,{"$f":"VLOOKUP(B79,#REF!,3,FALSE)","v":{"$error":"#REF!"}}]
[null,"A010","HIDALGO GUSTAVO",null,null,null,null,null,null,null,null,null,null,null,null,null,null,null,null,null,44,null,44,null,null,null,52,null,null,null,null,null,null,null,null,null,null,"","","",null,null,"","","",null,null,52,52,140,null,null,{"$f":"VLOOKUP(B80,#REF!,3,FALSE)","v":{"$error":"#REF!"}}]
["A026",null,"HIDALGO MARIA JOSE ",null,null,null,40,null,null,null,null,null,null,null,"","","","","","","",null,null,null,"","","","",null,"",null,"",null,null,null,null,null,"","","",null,null,"","","",null,null,40,0,40,null,null,{"$f":"VLOOKUP(B81,#REF!,3,FALSE)","v":{"$error":"#REF!"}}]
[null,"A071","HOLGUIN ENRIQUE",null,null,null,null,null,null,null,null,null,null,null,null,null,null,null,null,null,null,null,null,null,"","","","",null,"",null,"",null,null,null,null,null,"","","",null,null,"","","",null,null,0,0,0,null,null,{"$f":"VLOOKUP(B82,#REF!,3,FALSE)","v":{"$error":"#REF!"}}]
[null,"A132","JARA CHECA HUGO FERNANDO",null,null,40,null,null,null,54,40,null,null,null,"","","","","","","",null,null,null,"","","","",null,"",null,"",null,null,null,null,null,"","","",null,null,"","","",null,null,54,0,134,null,null,{"$f":"VLOOKUP(B83,#REF!,3,FALSE)","v":{"$error":"#REF!"}}]
["A042","A025","JARAMILLO BENITO",null,null,null,null,null,null,null,null,null,null,null,null,null,null,null,null,null,"",null,null,null,"",62,52,48,null,62,null,"",null,null,null,null,null,"","","",null,null,"","","",null,null,62,224,224,null,null,{"$f":"VLOOKUP(B84,#REF!,3,FALSE)","v":{"$error":"#REF!"}}]
["A064","A007","JIJON ANDRADE ALEGRÍA",null,null,null,null,null,null,null,null,null,null,null,null,null,null,null,null,null,"",null,null,null,"","","","",null,"",null,"",null,null,null,null,null,"","","",null,null,"","","",null,null,0,0,0,null,null,{"$f":"VLOOKUP(B85,#REF!,3,FALSE)","v":{"$error":"#REF!"}}]
["A091","A","JIJON LETORT RODRIGO",null,null,null,null,null,null,null,null,null,null,42,"","","","","","","",null,44,null,"","","","",null,"",null,"",null,null,null,null,null,"","","",null,null,"","","",null,null,44,0,86,null,null,{"$f":"VLOOKUP(B86,#REF!,3,FALSE)","v":{"$error":"#REF!"}}]
[null,"A131","JIJON MARIA CLARA",null,null,null,null,null,null,null,null,null,null,42,"","","","","","","",null,null,null,"","","","",null,"",null,"",null,null,null,null,null,"","","",null,null,"","","",null,null,{"$f":"MAX(D87:AU87)","v":42},0,42,null,null,{"$f":"VLOOKUP(B87,#REF!,3,FALSE)","v":{"$error":"#REF!"}}]
["A023","A","JIMENEZ BEGOÑA",null,null,null,null,null,null,null,null,null,null,null,null,null,null,"","","","",null,null,null,"","","","",null,"",null,"",null,null,null,null,null,"","","",null,null,"","","",null,null,0,0,0,null,null,{"$f":"VLOOKUP(B88,#REF!,3,FALSE)","v":{"$error":"#REF!"}}]
["C","A159","JUNIOR PLUAS",null,null,null,null,null,null,null,40,null,40,null,null,null,null,null,null,null,null,null,null,null,null,null,null,null,null,null,null,null,null,null,null,null,null,"","","",null,null,"","","",null,null,40,0,80,null,null,{"$f":"VLOOKUP(B89,#REF!,3,FALSE)","v":{"$error":"#REF!"}}]
["C","A081","KOPPEL OSWALDO",null,null,null,null,null,null,null,40,null,40,null,40,null,null,null,null,null,null,null,null,null,40,null,null,null,null,null,null,null,null,null,null,null,null,"","","",null,null,"",82,"",null,null,82,122,242,null,null,{"$f":"VLOOKUP(B90,#REF!,3,FALSE)","v":{"$error":"#REF!"}}]
["A111","A112","KUZME EDISON",null,null,null,null,null,null,null,null,null,null,null,null,null,null,null,null,null,"",null,null,null,"","","","",null,"",null,"",null,null,null,null,null,"","","",null,null,"","","",null,null,0,0,0,null,null,{"$f":"VLOOKUP(B91,#REF!,3,FALSE)","v":{"$error":"#REF!"}}]
[null,"A113","LANDAZURI MORA LUIS ENRIQUE",40,null,40,null,null,null,null,null,null,null,null,"","",87,"","","","",null,null,null,80,"","","",null,"",null,"",null,null,null,null,null,"","","",null,null,"","","",null,null,87,80,247,null,null,{"$f":"VLOOKUP(B92,#REF!,3,FALSE)","v":{"$error":"#REF!"}}]
["A145","A","LANDAZURI WITT LUIS",null,null,null,null,null,null,54,null,null,null,null,"","","","","","","",null,null,null,"","","","",null,"",null,"",null,null,null,null,null,"","","",null,null,"","","",null,null,54,0,54,null,null,{"$f":"VLOOKUP(B93,#REF!,3,FALSE)","v":{"$error":"#REF!"}}]
["C","C","LANDIVAR ALEXANDRA",null,null,null,null,null,null,40,null,null,"",null,null,null,null,null,null,null,null,null,null,null,null,null,null,null,null,null,null,null,null,null,null,null,null,"","","",null,null,"","","",null,null,40,0,40,null,null,{"$f":"VLOOKUP(B94,#REF!,3,FALSE)","v":{"$error":"#REF!"}}]
["A045","A","LARA LAUREANO",null,null,40,null,null,null,null,null,null,null,null,"","","","","","","",null,null,null,"","","","",null,"",null,"",null,null,null,null,null,"","","",null,null,"","","",null,null,40,0,40,null,null,{"$f":"VLOOKUP(B95,#REF!,3,FALSE)","v":{"$error":"#REF!"}}]
["A114","A","LARREA BYRON",null,null,null,null,null,null,null,null,null,null,null,null,null,"","","","","",null,null,null,"","","","",null,"",null,"",null,null,null,null,null,"","","",null,null,"","","",null,null,0,0,0,null,null,{"$f":"VLOOKUP(B96,#REF!,3,FALSE)","v":{"$error":"#REF!"}}]
["C","C","LARRIVA LOYOLA CAROLINA",null,null,null,null,null,null,null,40,null,"",null,null,null,null,null,null,null,null,null,null,null,null,null,null,null,null,null,null,null,null,null,null,null,null,"","","",null,null,"","","",null,null,40,0,40,null,null,{"$f":"VLOOKUP(B97,#REF!,3,FALSE)","v":{"$error":"#REF!"}}]
["C","C","LARRIVA LOYOLA JAIME ALEJANDRO",null,null,null,null,null,null,null,null,null,"",null,null,null,null,null,null,null,null,null,null,null,null,null,null,null,null,null,null,null,null,null,null,null,null,"","","",null,null,"","","",null,null,0,0,0,null,null,{"$f":"VLOOKUP(B98,#REF!,3,FALSE)","v":{"$error":"#REF!"}}]
["A044","A038","LEON CESAR IGNACIO",null,null,null,null,null,40,null,null,null,null,null,"","","","","",null,"",null,null,null,"","","","",null,"",null,"",null,null,null,null,null,"","","",null,null,"","","",null,null,40,0,40,null,null,{"$f":"VLOOKUP(B99,#REF!,3,FALSE)","v":{"$error":"#REF!"}}]
["A024","A","LEON FERNANDO IVAN ",null,null,null,null,40,null,null,40,null,null,null,"","","",44,"","","",null,null,null,"","","","",null,"",null,"",null,null,null,null,null,"","","",null,null,"","","",null,null,44,0,124,null,null,{"$f":"VLOOKUP(B100,#REF!,3,FALSE)","v":{"$error":"#REF!"}}]
["A092","A","LEON IGNACIO",null,null,null,null,null,null,null,null,null,null,null,44,"","","","","",44,null,null,null,"","","","",null,"",null,"",null,null,null,null,null,"","","",null,null,"","","",null,null,44,0,88,null,null,{"$f":"VLOOKUP(B101,#REF!,3,FALSE)","v":{"$error":"#REF!"}}]
["A110","A","LEPPERT MICHELLE",null,null,null,null,null,null,null,40,null,null,null,"","","","","","","",null,null,null,"","","","",null,"",null,"",null,null,null,null,null,"","","",null,null,"","","",null,null,40,0,40,null,null,{"$f":"VLOOKUP(B102,#REF!,3,FALSE)","v":{"$error":"#REF!"}}]
["A071","A","LETORT EDUARDO",null,null,null,null,null,null,null,null,null,null,42,"","","","","","","",null,null,null,"","","","",null,"",null,"",null,null,null,null,null,"","","",null,null,"","","",null,null,42,0,42,null,null,{"$f":"VLOOKUP(B103,#REF!,3,FALSE)","v":{"$error":"#REF!"}}]
[null,"A026","LETORT MENA JOSÉ",40,null,40,null,null,null,null,null,null,40,null,"","","","",43,"","",null,null,null,"","","","",null,"",null,"",null,null,null,null,null,84,"",84,null,null,"","","",null,null,84,168,331,null,null,{"$f":"VLOOKUP(B104,#REF!,3,FALSE)","v":{"$error":"#REF!"}}]
["A134","A","LLANEZ CRISTIAN DANIEL",null,null,null,null,null,null,null,null,null,null,null,"","","","","","","",null,null,null,"","","","",null,"",null,"",null,null,null,null,null,"","","",null,null,"","","",null,null,0,0,0,null,null,{"$f":"VLOOKUP(B105,#REF!,3,FALSE)","v":{"$error":"#REF!"}}]
["A012","A","LÓPEZ JUAN DIEGO",null,null,40,null,null,null,null,null,null,null,null,"","","","","","","",null,null,null,"","","","",null,"",null,"",null,null,null,null,null,"","","",null,null,"","","",null,null,40,0,40,null,null,{"$f":"VLOOKUP(B106,#REF!,3,FALSE)","v":{"$error":"#REF!"}}]
[null,"A190","LOZADA ARMANDO",null,null,null,null,null,null,null,null,null,null,null,null,null,null,null,null,null,null,null,null,null,null,null,null,null,null,null,null,null,null,null,null,null,null,null,null,null,null,null,"","","",null,null,0,0,0,null,null,{"$f":"VLOOKUP(B107,#REF!,3,FALSE)","v":{"$error":"#REF!"}}]
["C","A143","LUGMAÑA JUAN CARLOS",null,null,null,null,null,null,null,40,null,"",null,null,40,null,null,null,null,null,null,null,null,null,null,null,null,null,null,null,null,null,null,null,null,null,"","","",null,null,"","","",null,null,40,0,80,null,null,{"$f":"VLOOKUP(B108,#REF!,3,FALSE)","v":{"$error":"#REF!"}}]
["A041","A020","LUNA ARMANDO",null,null,null,null,null,null,null,null,null,null,null,null,null,null,null,43,"","",null,null,null,"","","","",null,"",null,"",null,null,null,null,null,"","","",null,null,"","","",null,null,43,0,43,null,null,{"$f":"VLOOKUP(B109,#REF!,3,FALSE)","v":{"$error":"#REF!"}}]
[null,"A005","MALDONADO JOSE",null,null,null,null,null,null,null,null,null,null,42,"","","","",43,42,"",null,null,null,"","","","",null,"",null,"",null,null,null,null,null,"","","",null,null,"","","",null,null,43,0,127,null,null,{"$f":"VLOOKUP(B110,#REF!,3,FALSE)","v":{"$error":"#REF!"}}]
["C","A144","MALO ANDREA",null,null,null,null,null,null,null,null,null,"",null,null,null,null,null,null,null,null,null,null,null,null,null,null,null,null,null,null,null,null,null,null,null,null,"","","",null,null,"","","",null,null,0,0,0,null,null,{"$f":"VLOOKUP(B111,#REF!,3,FALSE)","v":{"$error":"#REF!"}}]
[null,"A014","MALO DIANA",null,null,null,null,null,null,null,null,null,null,null,null,null,null,null,null,null,null,null,null,null,null,null,null,null,null,null,null,null,null,null,null,null,null,null,null,null,null,null,null,"","",null,null,{"$f":"MAX(L112:AA112)","v":0},0,0,null,null,{"$f":"VLOOKUP(B112,#REF!,3,FALSE)","v":{"$error":"#REF!"}}]
["C","A145","MALO GELLIBERT ANDREA NATALY",null,null,null,null,null,null,null,null,null,"",null,null,null,null,null,null,null,null,null,null,null,null,null,null,null,null,null,null,null,null,null,null,null,null,"","","",null,null,"","","",null,null,{"$f":"MAX(D113:AU113)","v":0},0,0,null,null,{"$f":"VLOOKUP(B113,#REF!,3,FALSE)","v":{"$error":"#REF!"}}]
["A116","A130","MALO JAIME",null,null,null,null,null,null,null,null,null,null,null,null,null,null,null,null,null,null,null,null,null,null,null,null,null,null,null,null,null,null,null,null,null,null,"","","",null,null,"","","",null,null,{"$f":"MAX(D114:AU114)","v":0},0,0,null,null,{"$f":"VLOOKUP(B114,#REF!,3,FALSE)","v":{"$error":"#REF!"}}]
["C","A146","MALO MARIBEL",null,null,null,null,null,null,null,40,40,40,null,40,40,40,40,null,null,null,null,null,null,null,null,null,null,null,null,44,null,42,null,45,null,null,"","","",null,null,"","","",null,null,{"$f":"MAX(D115:AU115)","v":45},131,411,null,null,{"$f":"VLOOKUP(B115,#REF!,3,FALSE)","v":{"$error":"#REF!"}}]
["C","A118","MALO SEBASTIAN",null,null,null,null,null,null,null,40,null,null,null,null,null,null,null,null,null,null,null,null,null,null,null,null,null,null,null,null,null,null,null,null,null,null,"","","",null,null,"","","",null,null,{"$f":"MAX(D116:AU116)","v":40},0,40,null,null,{"$f":"VLOOKUP(B116,#REF!,3,FALSE)","v":{"$error":"#REF!"}}]
["C","C","MALO TORAL SANTIAGO",null,null,null,null,null,null,null,40,null,"",null,null,null,null,null,null,null,null,null,null,null,null,null,null,null,null,null,null,null,null,null,null,null,null,"","","",null,null,"","","",null,null,{"$f":"MAX(D117:AU117)","v":40},0,40,null,null,{"$f":"VLOOKUP(B117,#REF!,3,FALSE)","v":{"$error":"#REF!"}}]
[null,"A200","MANCHENO GALO PATRICIO",null,null,null,null,null,null,null,null,null,null,null,null,null,null,null,null,null,null,null,null,null,null,null,null,null,null,null,null,null,null,null,null,null,null,null,null,null,null,null,null,null,null,null,null,{"$f":"MAX(L118:AA118)","v":0},0,0,null,null,{"$f":"VLOOKUP(B118,#REF!,3,FALSE)","v":{"$error":"#REF!"}}]
[null,"A053","MARCEL ROBERTO",40,null,null,null,null,null,null,null,null,40,null,"","","","","","","",null,null,null,80,"","","",null,"",null,"",null,null,null,null,null,"","","",null,null,"","","",null,null,{"$f":"MAX(D119:AU119)","v":80},80,160,null,null,{"$f":"VLOOKUP(B119,#REF!,3,FALSE)","v":{"$error":"#REF!"}}]
[null,"A","MARTÍNEZ EDWIN GABRIEL",null,null,40,null,40,null,null,null,null,null,null,"","","","","","","",null,null,null,"","","","",null,"",null,"",null,null,null,null,null,"","","",null,null,"","","",null,null,40,0,80,null,null,{"$f":"VLOOKUP(B120,#REF!,3,FALSE)","v":{"$error":"#REF!"}}]
[null,"A","MARTÍNEZ JOSÉ ELOY",60,60,60,60,60,null,null,null,null,null,null,"","","",null,"","","",null,null,null,"","","","",null,"",null,"",null,null,null,null,null,"","","",null,null,"","","",null,null,60,0,300,null,null,{"$f":"VLOOKUP(B121,#REF!,3,FALSE)","v":{"$error":"#REF!"}}]
["A117","A","MARTINEZ PAOLA ",null,null,null,40,null,null,null,null,null,null,null,"","","","","","","",null,null,null,"","","","",null,"",null,"",null,null,null,null,null,"","","",null,null,"","","",null,null,40,0,40,null,null,{"$f":"VLOOKUP(B122,#REF!,3,FALSE)","v":{"$error":"#REF!"}}]
["J012","A","MEJIA MIGUEL",null,null,null,null,40,null,null,null,null,null,null,"","","","","","","",null,null,null,"","","","",null,"",null,"",null,null,null,null,null,"","","",null,null,"","","",null,null,40,0,40,null,null,{"$f":"VLOOKUP(B123,#REF!,3,FALSE)","v":{"$error":"#REF!"}}]
[null,"A065","MENESES FELIPE",null,null,null,null,null,null,null,null,null,null,null,null,null,null,null,null,null,"",null,null,null,"","","","",null,"",null,"",null,null,null,null,null,"","","",null,null,"","","",null,null,0,0,0,null,null,{"$f":"VLOOKUP(B124,#REF!,3,FALSE)","v":{"$error":"#REF!"}}]
["C","C","MERISALDE  SANTIAGO",null,null,null,null,null,null,null,null,null,"",null,null,null,null,null,null,null,null,null,null,null,null,null,null,null,null,null,null,null,null,null,null,null,null,"","","",null,null,"","","",null,null,0,0,0,null,null,{"$f":"VLOOKUP(B125,#REF!,3,FALSE)","v":{"$error":"#REF!"}}]
["C","C","MERIZALDE ANGELA",null,null,null,null,null,null,null,null,null,null,null,null,null,null,null,null,null,null,null,null,null,null,null,null,null,null,null,null,null,null,null,null,null,null,null,null,"",null,null,"","","",null,null,0,0,0,null,null,{"$f":"VLOOKUP(B126,#REF!,3,FALSE)","v":{"$error":"#REF!"}}]
[null,"A061","MIÑO BENALCAZAR ROBERTO",40,null,null,40,60,60,null,null,null,null,null,"",82,"","","","",81,null,null,null,"","","","",null,"",null,"",null,null,null,null,82,"","","",null,null,"","","",null,null,82,82,445,null,null,{"$f":"VLOOKUP(B127,#REF!,3,FALSE)","v":{"$error":"#REF!"}}]
["A119","A","MOLESTINA NICOLAS",null,null,null,null,null,null,null,null,null,null,null,"","","","","","","",null,null,null,"",null,"","",null,"",null,"",null,null,null,null,null,"","","",null,null,"","","",null,null,0,0,0,null,null,{"$f":"VLOOKUP(B128,#REF!,3,FALSE)","v":{"$error":"#REF!"}}]
["A113","A030","MONCAYO DANILO",null,null,null,null,null,null,null,null,null,null,null,null,null,null,null,null,null,"",null,null,null,"","","","",null,"",null,"",null,null,null,null,null,"","","",null,null,"","","",null,null,0,0,0,null,null,{"$f":"VLOOKUP(B129,#REF!,3,FALSE)","v":{"$error":"#REF!"}}]
["A021","A032","MONCAYO JOSÉ MARTÍN",null,null,null,null,null,null,null,null,null,null,null,null,null,null,null,null,null,"",null,null,null,"","","","",null,"",null,"",null,null,null,null,null,"","","",null,null,"","","",null,null,0,0,0,null,null,{"$f":"VLOOKUP(B130,#REF!,3,FALSE)","v":{"$error":"#REF!"}}]
["A033","A068","MONROY BAROJA MARIA FERNANDA",null,null,40,60,60,60,null,null,null,null,null,"",62,87,"",62,63,"",null,null,81,"",null,82,80,null,"",null,"",83,null,null,null,82,"","","",null,null,"","","",null,null,87,327,902,null,null,{"$f":"VLOOKUP(B131,#REF!,3,FALSE)","v":{"$error":"#REF!"}}]
["I018","A066","MONROY BUITRON LUIS EDUARDO",null,null,null,null,40,40,null,null,44,40,42,"",41,44,"","","",62,null,null,null,null,null,null,"",null,"",null,"",null,null,null,null,null,"","","",null,null,"","","",null,null,62,0,353,null,null,{"$f":"VLOOKUP(B132,#REF!,3,FALSE)","v":{"$error":"#REF!"}}]
[null,"A045","MORABOWEN CESAR",null,null,null,40,null,40,null,40,null,null,42,"","","","","","","",null,null,null,"","","","",null,"",null,"",null,null,null,null,null,"","","",null,null,"","","",null,null,42,0,162,null,null,{"$f":"VLOOKUP(B133,#REF!,3,FALSE)","v":{"$error":"#REF!"}}]
[null,"A165","MORALES ANDRES",null,null,null,null,null,null,null,null,null,null,null,null,null,null,null,null,null,null,null,null,null,null,null,null,null,null,null,null,null,null,null,null,null,null,null,"","",null,null,"","","",null,null,{"$f":"MAX(L134:AA134)","v":0},0,0,null,null,{"$f":"VLOOKUP(B134,#REF!,3,FALSE)","v":{"$error":"#REF!"}}]
["A121","A084","MORENO ANA MARIA",null,null,null,null,null,null,null,null,null,null,42,"","","","","","","",null,null,null,"","","","",null,"",null,"",null,null,null,null,null,"","","",null,null,"","","",null,null,{"$f":"MAX(D135:AU135)","v":42},{"$f":"SUM(Y135:AU135)","v":0},{"$f":"SUM(D135:AU135)","v":42},null,null,{"$f":"VLOOKUP(B135,#REF!,3,FALSE)","v":{"$error":"#REF!"}}]
[null,"A","MORENO ANDRES",null,null,null,null,null,null,null,null,null,null,null,null,null,null,null,"","","",null,null,null,"","","","",null,"",null,"",null,null,null,null,null,"","","",null,null,"","","",null,null,0,0,0,null,null,{"$f":"VLOOKUP(B136,#REF!,3,FALSE)","v":{"$error":"#REF!"}}]
[null,"A","MORENO CORDOVEZ ANDRES",40,null,null,null,null,null,null,null,null,null,null,"","","","","","","",null,null,null,"","","","",null,"",null,"",null,null,null,null,null,"","","",null,null,"","","",null,null,40,0,40,null,null,{"$f":"VLOOKUP(B137,#REF!,3,FALSE)","v":{"$error":"#REF!"}}]
["C","A161","MORENO PAUL",null,null,null,null,null,null,40,null,null,40,null,null,null,null,null,null,null,null,null,null,null,null,null,null,null,null,null,null,null,null,null,null,null,null,"","","",null,null,"","","",null,null,40,0,80,null,null,{"$f":"VLOOKUP(B138,#REF!,3,FALSE)","v":{"$error":"#REF!"}}]
[null,"A056","MORILLO MAURICIO",null,null,null,null,null,null,null,null,null,null,null,null,null,null,null,null,84,81,null,null,null,80,90,82,80,null,82,null,"",null,null,null,null,82,43,"",84,null,null,80,"","",null,null,90,703,868,null,null,{"$f":"VLOOKUP(B139,#REF!,3,FALSE)","v":{"$error":"#REF!"}}]
["C","A148","MUNOZ GARCIA RENATO ISMAEL",null,null,null,null,null,null,null,40,null,"",null,null,null,null,null,null,null,null,null,null,null,null,null,null,null,null,null,null,null,null,null,null,null,null,"","","",null,null,"","","",null,null,40,0,40,null,null,{"$f":"VLOOKUP(B140,#REF!,3,FALSE)","v":{"$error":"#REF!"}}]
["C","A149","MUÑOZ CALDERON RAUL ALBERTO",null,null,null,null,null,null,40,40,40,40,null,null,40,null,null,null,null,null,null,null,null,60,null,null,null,null,null,null,null,null,null,null,null,null,"","","",null,null,"","","",null,null,60,60,260,null,null,{"$f":"VLOOKUP(B141,#REF!,3,FALSE)","v":{"$error":"#REF!"}}]
[null,"A168","MUÑOZ DENNY",null,null,null,null,null,null,null,null,null,null,null,null,null,null,null,null,null,null,null,null,null,null,null,null,null,null,null,null,null,null,null,null,null,null,null,"","",null,null,"","","",null,null,{"$f":"MAX(L142:AA142)","v":0},0,0,null,null,{"$f":"VLOOKUP(B142,#REF!,3,FALSE)","v":{"$error":"#REF!"}}]
["A099","A070","NARANJO JOSE MARTIN",null,null,null,null,null,null,null,null,null,null,null,null,null,null,null,null,null,null,null,null,null,"","","","",null,"",null,"",null,null,null,null,null,"","","",null,null,"","","",null,null,{"$f":"MAX(D143:AU143)","v":0},0,0,null,null,{"$f":"VLOOKUP(B143,#REF!,3,FALSE)","v":{"$error":"#REF!"}}]
[null,"A","NARANJO MUÑOZ ESTEBAN ",null,null,null,40,null,null,null,null,null,null,null,"","","","","","","",null,null,null,"","","","",null,"",null,"",null,null,null,null,null,"","","",null,null,"","","",null,null,40,0,40,null,null,{"$f":"VLOOKUP(B144,#REF!,3,FALSE)","v":{"$error":"#REF!"}}]
["A039","A","NAVAS MARÍA ALEJANDRA",60,60,null,null,null,null,null,null,null,null,null,"","","","","","","",null,null,null,"","","","",null,"",null,"",null,null,null,null,null,"","","",null,null,"","","",null,null,60,0,120,null,null,{"$f":"VLOOKUP(B145,#REF!,3,FALSE)","v":{"$error":"#REF!"}}]
["C","A150","NEIRA MALO MARTIN",null,null,null,null,null,null,null,null,null,"",null,null,null,null,null,null,null,null,null,null,40,40,null,null,null,null,null,null,null,null,null,null,null,null,"","","",null,null,"","","",null,null,40,40,80,null,null,{"$f":"VLOOKUP(B146,#REF!,3,FALSE)","v":{"$error":"#REF!"}}]
["A063","A047","NEUMANN KARINA",null,null,null,null,null,null,null,40,null,null,null,"","","","","","","",null,null,null,"","","",80,null,82,null,81,null,null,null,null,null,"","","",null,null,80,"","",null,null,82,323,363,null,null,{"$f":"VLOOKUP(B147,#REF!,3,FALSE)","v":{"$error":"#REF!"}}]
[null,"A108","NIETO JOSÉ LUIS",null,null,null,null,null,null,null,null,null,null,null,null,null,null,null,null,null,"",null,null,null,"","","","",null,"",null,"",null,null,null,null,null,"","","",null,null,"","","",null,null,0,0,0,null,null,{"$f":"VLOOKUP(B148,#REF!,3,FALSE)","v":{"$error":"#REF!"}}]
["A161","A046","NOBOA MAURICIO",null,null,null,null,null,null,null,null,null,null,null,44,41,44,44,43,42,null,null,null,null,null,null,null,80,44,62,null,"",null,null,68,53,null,"","","",60,null,"","","",null,null,80,367,625,null,null,{"$f":"VLOOKUP(B149,#REF!,3,FALSE)","v":{"$error":"#REF!"}}]
[null,"A","ORDONEZ FRANCISCO",null,null,null,null,null,null,null,null,null,null,null,null,"","","","","","",null,null,null,"","","","",null,"",null,"",null,null,null,null,null,"","","",null,null,"","","",null,null,0,0,0,null,null,{"$f":"VLOOKUP(B150,#REF!,3,FALSE)","v":{"$error":"#REF!"}}]
["A130","A089","ORTIZ FERNANDO",null,null,null,null,null,null,null,null,null,null,null,null,null,null,null,null,null,null,null,null,null,null,null,"","",null,"",null,"",null,null,null,null,null,"","","",null,null,"","","",null,null,0,0,0,null,null,{"$f":"VLOOKUP(B151,#REF!,3,FALSE)","v":{"$error":"#REF!"}}]
["A022","A008","PAILACHO ANGEL",null,null,null,null,null,null,null,null,null,null,null,{"$f":"IFERROR(BA152,\"\")","v":""},"",44,"","","","",null,null,null,"","","","",null,"",null,"",null,null,null,null,null,"","","",null,null,"","","",null,null,44,0,44,null,null,{"$f":"VLOOKUP(B152,#REF!,3,FALSE)","v":{"$error":"#REF!"}}]
["A130","A090","PAIMAN CAROLINA",null,null,null,null,null,null,null,null,null,null,null,null,null,null,null,null,null,null,null,null,null,null,null,"","",null,"",null,"",null,null,null,null,null,"","","",null,null,"","","",null,null,0,0,0,null,null,{"$f":"VLOOKUP(B153,#REF!,3,FALSE)","v":{"$error":"#REF!"}}]
["A007","A120","PALACIOS DANIEL",null,null,null,null,null,null,null,null,null,null,null,null,null,null,"","","","",null,null,null,"","","","",null,"",null,"",null,null,null,null,null,"","","",null,null,"","","",null,null,0,0,0,null,null,{"$f":"VLOOKUP(B154,#REF!,3,FALSE)","v":{"$error":"#REF!"}}]
["A006","A","PALLARES ALFREDO",null,null,null,null,null,null,null,null,null,null,null,"","","","","","","",null,null,null,"","","","",null,"",null,"",null,null,null,null,null,"","","",null,null,"","","",null,null,0,0,0,null,null,{"$f":"VLOOKUP(B155,#REF!,3,FALSE)","v":{"$error":"#REF!"}}]
["A065","A","PANIZO PEDRO",null,null,null,null,null,null,null,null,null,null,null,null,null,null,null,null,null,null,null,null,null,null,null,null,null,null,null,null,null,null,null,null,null,null,"","","",null,null,"","","",null,null,0,0,0,null,null,{"$f":"VLOOKUP(B156,#REF!,3,FALSE)","v":{"$error":"#REF!"}}]
["C","A161","PAUL MORENO",null,null,null,null,null,null,null,null,null,null,null,null,null,null,null,null,null,null,null,null,null,null,null,null,null,null,null,null,null,null,null,null,null,null,"","","",null,null,"","","",null,null,0,0,0,null,null,{"$f":"VLOOKUP(B157,#REF!,3,FALSE)","v":{"$error":"#REF!"}}]
["A002","A040","PAZPUEZAN LUIS ALEXANDER",null,null,40,40,40,null,null,40,null,40,null,"","","","","","","",null,null,null,"","","","",null,"",null,"",null,null,null,null,null,"","","",null,null,"","","",null,null,40,0,200,null,null,{"$f":"VLOOKUP(B158,#REF!,3,FALSE)","v":{"$error":"#REF!"}}]
["C","C","PEÑA GARCIA LUIS ALBERTO",null,null,null,null,null,null,null,40,null,"",null,null,null,null,null,null,null,null,null,null,null,null,null,null,null,null,null,null,null,null,null,null,null,null,"","","",null,null,"","","",null,null,40,0,40,null,null,{"$f":"VLOOKUP(B159,#REF!,3,FALSE)","v":{"$error":"#REF!"}}]
["C","A151","PERALTA VALERIA",null,null,null,null,null,null,null,null,null,"",null,null,null,null,40,null,null,null,null,null,null,null,null,null,null,null,null,null,null,null,null,null,null,null,"","","",null,null,"","","",null,null,40,0,40,null,null,{"$f":"VLOOKUP(B160,#REF!,3,FALSE)","v":{"$error":"#REF!"}}]
[null,"A121","PEREZ ARTETA IGNACIO",null,null,null,null,40,null,null,40,null,null,null,"","","","","","","",null,null,null,"","","","",null,"",null,"",null,null,null,null,null,"","","",null,null,"","","",null,null,40,0,80,null,null,{"$f":"VLOOKUP(B161,#REF!,3,FALSE)","v":{"$error":"#REF!"}}]
[null,null,"PÉREZ CARMEN ALICIA",null,null,40,40,40,40,null,null,null,null,42,"","","","","","","",null,null,null,"","","","",null,"",null,"",null,null,null,null,null,"","","",null,null,"","","",null,null,42,0,202,null,null,{"$f":"VLOOKUP(B162,#REF!,3,FALSE)","v":{"$error":"#REF!"}}]
["A015","A","PEREZ FREILE IGNACIO",40,40,40,60,40,60,null,null,null,null,null,"","","","","","","",null,null,null,"","","","",null,"",null,"",null,null,null,null,null,"","","",null,null,"","","",null,null,60,0,280,null,null,{"$f":"VLOOKUP(B163,#REF!,3,FALSE)","v":{"$error":"#REF!"}}]
[null,"A042","PINCHAO NOLBERTO",null,null,null,null,null,null,null,null,null,null,null,null,null,null,null,null,null,"",null,null,null,"","","","",null,"",null,"",null,null,null,null,null,"","","",null,null,"","","",null,null,0,0,0,null,null,{"$f":"VLOOKUP(B164,#REF!,3,FALSE)","v":{"$error":"#REF!"}}]
["A138","A","PLUAS JUNIOR ",null,null,null,40,null,null,null,null,null,null,null,"","","","","","","",null,null,null,"","","","",null,"",null,"",null,null,null,null,null,"","","",null,null,"","","",null,null,40,0,40,null,null,{"$f":"VLOOKUP(B165,#REF!,3,FALSE)","v":{"$error":"#REF!"}}]
["NO","A","POLANCO MARCO",null,40,40,40,null,40,null,null,null,null,null,"","","",null,"","","",null,null,null,"","","","",null,"",null,"",null,null,null,null,null,"","","",null,null,"","","",null,null,40,0,160,null,null,{"$f":"VLOOKUP(B166,#REF!,3,FALSE)","v":{"$error":"#REF!"}}]
["A084","A035","PORTILLA FELIPE",null,null,null,null,null,null,null,null,null,null,null,null,null,"","","","","",null,null,null,"","","","",null,"",null,"",null,null,null,null,null,"","","",null,null,"","","",61,null,61,61,61,null,null,{"$f":"VLOOKUP(B167,#REF!,3,FALSE)","v":{"$error":"#REF!"}}]
["C","A152","PRADO PRADO CAMILO FABIAN",null,null,null,null,null,null,null,null,40,"",null,40,40,null,null,null,null,null,null,null,null,null,null,null,null,null,null,null,null,null,null,null,null,null,"","","",null,null,"","","",null,null,40,0,120,null,null,{"$f":"VLOOKUP(B168,#REF!,3,FALSE)","v":{"$error":"#REF!"}}]
["A106","A","PROAÑO JOAQUIN",null,null,null,null,null,null,null,null,null,null,null,null,null,"","","","","",null,null,null,"","","","",null,"",null,"",null,null,null,null,null,"","","",null,null,"","","",null,null,0,0,0,null,null,{"$f":"VLOOKUP(B169,#REF!,3,FALSE)","v":{"$error":"#REF!"}}]
[null,"A","PROAÑO JOSE ANTONIO",40,null,null,null,null,null,null,null,null,null,null,"","","","","","","",null,null,null,"","","","",null,"",null,"",null,null,null,null,null,"","","",null,null,"","","",null,null,40,0,40,null,null,{"$f":"VLOOKUP(B170,#REF!,3,FALSE)","v":{"$error":"#REF!"}}]
["A013","A063","QUIROZ ORLANDO",null,null,null,null,null,null,null,null,null,null,null,null,null,"","","","",62,null,60,62,"","","","",null,"",null,"",null,null,null,null,null,"","","",null,null,"","","",null,null,62,0,184,null,null,{"$f":"VLOOKUP(B171,#REF!,3,FALSE)","v":{"$error":"#REF!"}}]
[null,"A177","RAMIREZ FABRICIO",null,null,null,null,null,null,null,null,null,null,null,null,null,null,null,null,null,null,null,null,null,null,null,null,null,null,null,null,null,null,null,null,null,null,null,null,null,null,null,60,"","",61,null,{"$f":"MAX(L172:AA172)","v":0},121,121,null,null,{"$f":"VLOOKUP(B172,#REF!,3,FALSE)","v":{"$error":"#REF!"}}]
["A060","A024","RECALDE GALO",null,null,null,null,null,null,null,null,null,null,null,null,null,null,null,null,"",44,null,null,null,null,null,null,48,null,62,null,"",null,40,null,null,61,"","","",null,null,"","","",null,null,{"$f":"MAX(D173:AU173)","v":62},211,255,null,null,{"$f":"VLOOKUP(B173,#REF!,3,FALSE)","v":{"$error":"#REF!"}}]
[null,"A060","RECALDE JUAN JOSE",null,null,null,null,null,null,54,40,44,null,null,null,null,null,null,null,null,81,null,null,null,80,90,82,"",null,82,null,81,null,null,null,null,61,43,"",49,null,null,60,"","",null,null,{"$f":"MAX(D174:AU174)","v":90},628,847,null,null,{"$f":"VLOOKUP(B174,#REF!,3,FALSE)","v":{"$error":"#REF!"}}]
[null,"A173","REIVAN GORDILLO JHONZON VINICIO",null,null,null,null,null,null,null,null,null,null,null,null,null,null,null,null,null,null,null,null,null,null,null,null,null,null,null,null,null,null,null,null,null,null,null,"","",null,null,"","","",null,null,{"$f":"MAX(L175:AA175)","v":0},0,0,null,null,{"$f":"VLOOKUP(B175,#REF!,3,FALSE)","v":{"$error":"#REF!"}}]
["A051","A104","REYES JUAN GABRIEL",null,null,null,null,null,null,null,null,null,null,null,null,null,null,null,null,null,"",null,null,null,"","","","",null,"",null,"",null,null,null,null,null,"","","",null,null,"","","",null,null,{"$f":"MAX(D176:AU176)","v":0},0,0,null,null,{"$f":"VLOOKUP(B176,#REF!,3,FALSE)","v":{"$error":"#REF!"}}]
["A055","A058","RIBADENEIRA ARTURO",40,40,null,null,40,40,null,null,null,null,42,"","",65,"",62,"",81,null,null,null,44,"",52,"",null,62,null,81,null,93,null,null,82,"","","",null,null,80,"","",null,null,93,494,904,null,null,{"$f":"VLOOKUP(B177,#REF!,3,FALSE)","v":{"$error":"#REF!"}}]
["A136","A017","RIBADENEIRA SANTIAGO",null,null,null,null,null,null,null,40,null,40,42,"","","","","","","",null,null,null,"","","","",null,"",null,"",null,null,null,null,null,"","","",null,null,"","","",null,null,42,0,122,null,null,{"$f":"VLOOKUP(B178,#REF!,3,FALSE)","v":{"$error":"#REF!"}}]
[null,"A028","RICAURTE JUAN MARTIN",40,null,null,null,null,null,null,null,null,null,null,"","","","","","","",null,null,null,"",null,"","",null,"",null,"",null,null,null,null,null,"","","",null,null,"","","",null,null,40,0,40,null,null,{"$f":"VLOOKUP(B179,#REF!,3,FALSE)","v":{"$error":"#REF!"}}]
[null,"A116","ROLDAN FABIAN",null,null,null,null,null,null,null,null,null,null,null,null,null,null,null,null,null,"",null,null,null,"",null,"","",null,"",null,"",null,null,null,null,null,"","","",null,null,"","","",null,null,0,0,0,null,null,{"$f":"VLOOKUP(B180,#REF!,3,FALSE)","v":{"$error":"#REF!"}}]
[null,"A","ROMO ALFONSO",null,null,null,null,null,40,null,40,null,null,null,"","","","","","","",null,null,null,"","","","",null,"",null,"",null,null,null,null,null,"","","",null,null,"","","",null,null,40,0,80,null,null,{"$f":"VLOOKUP(B181,#REF!,3,FALSE)","v":{"$error":"#REF!"}}]
[null,"A","ROMO DIEGO",null,null,null,null,null,40,null,40,null,null,null,"","","","","","","",null,null,null,"","","","",null,"",null,"",null,null,null,null,null,"","","",null,null,"","","",null,null,40,0,80,null,null,{"$f":"VLOOKUP(B182,#REF!,3,FALSE)","v":{"$error":"#REF!"}}]
["J032","A044","RUIZ ILIANA",null,null,null,null,null,null,null,null,null,null,null,null,null,"","","","","",null,60,62,"",62,"","",null,"",null,"",null,61,null,null,null,"","","",null,null,"","","",null,null,62,123,245,null,null,{"$f":"VLOOKUP(B183,#REF!,3,FALSE)","v":{"$error":"#REF!"}}]
["A003","A","SABALA DANIEL",null,40,null,null,null,null,null,null,null,null,null,"","","","","","","",null,null,null,"","","","",null,"",null,"",null,null,null,null,null,"","","",null,null,"","","",null,null,40,0,40,null,null,{"$f":"VLOOKUP(B184,#REF!,3,FALSE)","v":{"$error":"#REF!"}}]
["A011","A098","SALAZAR ROSA VICTORIA",null,null,null,null,null,null,null,null,null,null,null,null,null,null,null,null,null,"",null,null,null,"","","","",null,"",null,"",null,null,null,null,null,"","","",null,null,"","","",null,null,0,0,0,null,null,{"$f":"VLOOKUP(B185,#REF!,3,FALSE)","v":{"$error":"#REF!"}}]
["C","A153","SALINAS HERRERA CARLOS",null,null,null,null,null,null,null,null,null,"",null,null,null,null,null,null,null,null,null,null,null,null,null,null,null,null,null,null,null,null,null,null,null,null,"","","",null,null,"","","",null,null,0,0,0,null,null,{"$f":"VLOOKUP(B186,#REF!,3,FALSE)","v":{"$error":"#REF!"}}]
["A005","A123","SAMPER ALVARO",null,null,null,null,null,null,null,null,null,null,null,null,null,null,null,null,null,null,null,null,null,null,null,null,null,null,null,null,null,null,null,null,null,null,"","","",null,null,"","","",null,null,0,0,0,null,null,{"$f":"VLOOKUP(B187,#REF!,3,FALSE)","v":{"$error":"#REF!"}}]
[null,"A111","SÁNCHEZ DENYS",null,null,null,null,null,null,null,null,null,null,null,null,null,null,null,null,null,44,null,null,null,"","","","",null,"",null,"",null,null,null,null,null,"","","",null,null,"","","",null,null,44,0,44,null,null,{"$f":"VLOOKUP(B188,#REF!,3,FALSE)","v":{"$error":"#REF!"}}]
[null,"A169","SANCHEZ VEGA SANTIAGO",null,null,null,null,null,null,null,null,null,null,null,null,null,null,null,null,null,null,null,null,null,null,null,null,null,null,null,null,null,null,null,null,null,null,null,"","",null,null,"","","",null,null,{"$f":"MAX(L189:AA189)","v":0},0,0,null,null,{"$f":"VLOOKUP(B189,#REF!,3,FALSE)","v":{"$error":"#REF!"}}]
["A018","A115","SANTANA VELÁSQUEZ GEOVANNY",null,null,null,null,null,null,null,null,null,null,null,null,null,null,null,null,null,"",null,null,null,"","","","",null,"",null,"",null,null,null,null,null,"","","",null,null,"","","",null,null,{"$f":"MAX(D190:AU190)","v":0},0,0,null,null,{"$f":"VLOOKUP(B190,#REF!,3,FALSE)","v":{"$error":"#REF!"}}]
["A086","A033","SERRANO ARMANDO JOSE",null,null,null,null,null,null,null,null,null,null,null,null,null,null,null,null,null,null,null,null,null,null,null,null,null,null,null,null,null,null,null,null,null,null,"","","",null,null,60,"","",null,null,60,60,60,null,null,{"$f":"VLOOKUP(B191,#REF!,3,FALSE)","v":{"$error":"#REF!"}}]
["A016","A","SERRANO FELIPE",null,null,null,null,null,null,null,null,null,null,null,"","","","","","","",null,null,null,"","","","",null,"",null,"",null,null,null,null,null,"","","",null,null,"","","",null,null,0,0,0,null,null,{"$f":"VLOOKUP(B192,#REF!,3,FALSE)","v":{"$error":"#REF!"}}]
["A097","A023","SERRANO JUAN CARLOS",60,60,60,null,60,null,null,null,null,null,null,"","","","","","","",null,null,null,"","","","",null,"",null,"",null,null,null,null,null,"","","",null,null,"","","",null,null,60,0,240,null,null,{"$f":"VLOOKUP(B193,#REF!,3,FALSE)","v":{"$error":"#REF!"}}]
[null,"A","SIMBAÑA FRANCISCO JOSÉ",null,null,40,40,60,null,null,null,null,40,null,"","","","","","","",null,null,null,"","","","",null,"",null,"",null,null,null,null,null,"","","",null,null,"","","",null,null,60,0,180,null,null,{"$f":"VLOOKUP(B194,#REF!,3,FALSE)","v":{"$error":"#REF!"}}]
[null,"A","TAYO SANDRA",null,null,null,null,null,null,null,null,null,null,null,null,null,"","","","","",null,null,null,"","","","",null,"",null,"",null,null,null,null,null,"","","",null,null,"","","",null,null,0,0,0,null,null,{"$f":"VLOOKUP(B195,#REF!,3,FALSE)","v":{"$error":"#REF!"}}]
["C","C","TEJADA ALBERTO",null,null,null,null,null,null,40,null,null,"",null,null,null,null,null,null,null,null,null,null,null,null,null,null,null,null,null,null,null,null,null,null,null,null,"","","",null,null,"","","",null,null,40,0,40,null,null,{"$f":"VLOOKUP(B196,#REF!,3,FALSE)","v":{"$error":"#REF!"}}]
["A056","A","TERAN TORO BAYARDO ",40,null,null,null,null,null,null,null,null,null,null,"","","","","","","",null,null,null,"","","","",null,"",null,"",null,null,null,null,null,"","","",null,null,"","","",null,null,40,0,40,null,null,{"$f":"VLOOKUP(B197,#REF!,3,FALSE)","v":{"$error":"#REF!"}}]
[null,"A","TIMPE LUIS ANDRES",null,null,null,null,null,null,null,40,null,null,null,"","","","","","","",null,null,null,"","","","",null,"",null,"",null,null,null,null,null,"","","",null,null,"","","",null,null,40,0,40,null,null,{"$f":"VLOOKUP(B198,#REF!,3,FALSE)","v":{"$error":"#REF!"}}]
[null,"A117","TOBAR MONCAYO MATEO",null,null,null,null,null,null,null,40,null,null,null,"","","","","","","",null,null,null,"","","","",null,"",null,"",null,null,null,null,null,"","","",null,null,"","","",null,null,40,{"$f":"SUM(Y199:AU199)","v":0},{"$f":"SUM(D199:AU199)","v":40},null,null,{"$f":"VLOOKUP(B199,#REF!,3,FALSE)","v":{"$error":"#REF!"}}]
["C","A154","TORAL ANA MARIA",null,null,null,null,null,null,null,null,null,"",null,null,null,null,null,null,null,null,null,null,null,null,null,null,null,null,null,null,null,null,null,null,null,null,"","","",null,null,"","","",null,null,0,0,0,null,null,{"$f":"VLOOKUP(B200,#REF!,3,FALSE)","v":{"$error":"#REF!"}}]
["C","A155","TORAL GUERRERO JUAN DIEGO",null,null,null,null,null,null,null,null,null,"",null,null,null,null,null,null,null,null,null,null,null,null,null,null,null,null,null,null,null,null,null,null,null,null,"","","",null,null,"","","",null,null,0,0,0,null,null,{"$f":"VLOOKUP(B201,#REF!,3,FALSE)","v":{"$error":"#REF!"}}]
[null,"A170","TORRES JOSUE",null,null,null,null,null,null,null,null,null,null,null,null,null,null,null,null,null,null,null,null,null,null,null,null,null,null,null,null,null,null,null,null,null,null,null,"","",null,null,"","","",null,null,{"$f":"MAX(L202:AA202)","v":0},0,0,null,null,{"$f":"VLOOKUP(B202,#REF!,3,FALSE)","v":{"$error":"#REF!"}}]
[null,"A019","TORRES VLADIMIRO",40,null,null,40,40,40,null,null,null,null,null,"","","","","",63,"",null,null,null,"","","","",null,"",null,"",null,null,null,null,null,"","","",null,null,"","","",null,null,{"$f":"MAX(D203:AU203)","v":63},0,223,null,null,{"$f":"VLOOKUP(B203,#REF!,3,FALSE)","v":{"$error":"#REF!"}}]
[null,"A","TRUEBA VICTORIA",null,null,null,null,null,null,54,40,null,null,null,"","","","","","","",null,null,null,"","","","",null,"",null,"",null,null,null,null,null,"","","",null,null,"","","",null,null,54,0,94,null,null,{"$f":"VLOOKUP(B204,#REF!,3,FALSE)","v":{"$error":"#REF!"}}]
[null,"A085","URIBE CARLOS JOSE",null,null,null,null,null,null,null,null,null,null,null,null,null,null,null,null,null,null,null,null,null,"","","","",null,"",null,81,null,null,null,null,null,"","","",null,null,"","","",null,null,81,81,81,null,null,{"$f":"VLOOKUP(B205,#REF!,3,FALSE)","v":{"$error":"#REF!"}}]
["I009","A","VALDEZ ESTEBAN",40,null,null,null,null,null,null,null,null,null,null,"","","","","","","",null,null,null,"","","","",null,"",null,"",null,null,null,null,null,"","","",null,null,"","","",null,null,40,0,40,null,null,{"$f":"VLOOKUP(B206,#REF!,3,FALSE)","v":{"$error":"#REF!"}}]
["C","A156","VALDIVIESO ISABEL",null,null,null,null,null,null,null,null,null,"",null,null,null,null,null,null,null,null,null,null,null,null,null,null,null,null,null,null,null,null,null,null,null,null,"","","",null,null,"","","",null,null,0,0,0,null,null,{"$f":"VLOOKUP(B207,#REF!,3,FALSE)","v":{"$error":"#REF!"}}]
["C","C","VALDIVIESO JUAN FERNANDO",null,null,null,null,null,null,null,40,null,"",null,null,null,null,null,null,null,null,null,null,null,null,null,null,null,null,null,null,null,null,null,null,null,null,"","","",null,null,"","","",null,null,40,0,40,null,null,{"$f":"VLOOKUP(B208,#REF!,3,FALSE)","v":{"$error":"#REF!"}}]
["C","A157","VEGA CALDERON ANDRES",null,null,null,null,null,null,null,null,null,"",null,40,null,null,null,null,null,null,null,null,null,null,null,null,null,null,null,null,null,null,null,null,null,null,"","","",null,null,"","","",null,null,40,0,40,null,null,{"$f":"VLOOKUP(B209,#REF!,3,FALSE)","v":{"$error":"#REF!"}}]
[null,"A","VELASTEGUI ESTEFANIA",40,null,null,null,null,null,null,null,null,null,null,"","","","","","","",null,null,null,"","","","",null,"",null,"",null,null,null,null,null,"","","",null,null,"","","",null,null,40,0,40,null,null,{"$f":"VLOOKUP(B210,#REF!,3,FALSE)","v":{"$error":"#REF!"}}]
[null,"A171","VELEZ MENA MARIA CONSUELO",null,null,null,null,null,null,null,null,null,null,null,null,null,null,null,null,null,null,null,null,null,null,null,null,null,null,null,null,null,null,null,null,null,null,null,"","",null,null,"","","",null,null,{"$f":"MAX(L211:AA211)","v":0},0,0,null,null,{"$f":"VLOOKUP(B211,#REF!,3,FALSE)","v":{"$error":"#REF!"}}]
["A137","A","VERA  ZAMBRANO VIVIANA",null,40,null,null,null,null,null,null,null,null,null,"","","","","","","",null,null,null,"","","","",null,"",null,"",null,null,null,null,null,"","","",null,null,"","","",null,null,{"$f":"MAX(D212:AU212)","v":40},0,40,null,null,{"$f":"VLOOKUP(B212,#REF!,3,FALSE)","v":{"$error":"#REF!"}}]
["A135","A","VERA ZAMBRANO CARLOS ",null,null,null,null,null,null,null,null,null,null,null,"","","","","","","",null,null,null,"",90,"","",null,"",null,"",null,null,null,null,null,"","","",null,null,"","","",null,null,90,90,90,null,null,{"$f":"VLOOKUP(B213,#REF!,3,FALSE)","v":{"$error":"#REF!"}}]
["A109","A","VERA ZAMBRANO MONICA",40,null,null,null,null,null,null,null,null,null,null,"","","","","","","",null,null,null,"","","","",null,"",null,"",null,null,null,null,null,"","","",null,null,"","","",null,null,40,0,40,null,null,{"$f":"VLOOKUP(B214,#REF!,3,FALSE)","v":{"$error":"#REF!"}}]
["A004","A003","VERGARA JUAN",null,null,null,null,null,null,null,null,null,null,null,null,null,null,null,null,null,"",null,null,null,"","","","",null,"",null,"",null,null,null,null,null,"","","",null,null,"","","",null,null,0,0,0,null,null,{"$f":"VLOOKUP(B215,#REF!,3,FALSE)","v":{"$error":"#REF!"}}]
["A031","A017","VILLACIS FERNANDO",null,null,null,null,null,null,null,null,null,null,null,null,null,null,null,null,null,44,null,null,null,"","","","",null,"",null,"",null,null,null,null,null,"","","",null,null,"","","",null,null,44,0,44,null,null,{"$f":"VLOOKUP(B216,#REF!,3,FALSE)","v":{"$error":"#REF!"}}]
[null,"A","VILLARROEL LUIS ALFONSO",null,null,null,null,null,null,null,null,null,null,null,null,null,null,null,null,null,null,null,null,null,"","","","",null,"",null,"",null,null,null,null,null,"","","",null,null,"","","",null,null,0,0,0,null,null,{"$f":"VLOOKUP(B217,#REF!,3,FALSE)","v":{"$error":"#REF!"}}]
["A027","A001","VINTIMILLA PAULINO",null,null,null,null,null,null,null,null,40,null,null,null,null,40,null,null,null,"",null,null,null,"","","","",null,"",null,"",null,null,null,null,null,"","","",null,null,"","","",null,null,40,0,80,null,null,{"$f":"VLOOKUP(B218,#REF!,3,FALSE)","v":{"$error":"#REF!"}}]
[null,"A092","VITIMILLA SERRANO PABLO",null,null,null,null,null,null,null,40,null,40,null,null,null,null,null,null,null,null,null,null,null,"","","","",null,"",null,"",null,93,null,null,null,"","","",null,null,"","","",null,null,93,93,173,null,null,{"$f":"VLOOKUP(B219,#REF!,3,FALSE)","v":{"$error":"#REF!"}}]
[null,"A055","WEEMAELS NATHALIE",null,null,null,null,null,null,null,null,null,null,null,null,null,null,null,null,63,null,null,null,81,80,"",82,"",null,99,null,"",null,null,null,null,82,"","",84,null,null,"","","",null,null,99,427,571,null,null,{"$f":"VLOOKUP(B220,#REF!,3,FALSE)","v":{"$error":"#REF!"}}]
["C","A158","WILLIAMS JEMMA",null,null,null,null,null,null,null,null,null,"",null,null,null,null,null,null,null,null,null,null,null,null,null,null,null,null,null,null,null,null,null,null,null,null,"","","",null,null,"","","",null,null,0,0,0,null,null,{"$f":"VLOOKUP(B221,#REF!,3,FALSE)","v":{"$error":"#REF!"}}]
[null,"A","WRAY ESPINOZA ROBERTO",null,null,40,null,40,40,null,null,null,null,null,"","","","","","","",null,null,null,"",null,"","",null,"",null,"",null,null,null,null,null,"","","",null,null,"","","",null,null,40,0,120,null,null,{"$f":"VLOOKUP(B222,#REF!,3,FALSE)","v":{"$error":"#REF!"}}]
["M006","A","WRAY VINUEZA ROBERTO",60,60,40,60,null,60,null,null,null,40,null,"","","","","","","",null,null,null,"","","","",null,"",null,"",null,null,null,null,null,"","","",null,null,"","","",null,null,60,0,320,null,null,{"$f":"VLOOKUP(B223,#REF!,3,FALSE)","v":{"$error":"#REF!"}}]
[null,"A","YANASCUAL FELIX",null,null,null,null,null,null,null,null,44,40,null,"","","","","","","",null,null,null,"","","","",null,"",null,"",null,null,null,null,null,"","","",null,null,"","","",null,null,44,0,84,null,null,{"$f":"VLOOKUP(B224,#REF!,3,FALSE)","v":{"$error":"#REF!"}}]
[null,"A","YANEZ MARCO DAVID ",null,null,null,null,null,null,null,null,null,null,null,"","","","","","","",null,null,null,"","","","",null,"",null,"",null,null,null,null,null,"","","",null,null,"","","",null,null,0,0,0,null,null,{"$f":"VLOOKUP(B225,#REF!,3,FALSE)","v":{"$error":"#REF!"}}]
[null,"A","YAZIGI LASSO ALEJANDRO",null,null,40,null,40,null,null,40,null,null,null,"","","","","","","",null,null,null,"","","","",null,"",null,"",null,null,null,null,null,"","","",null,null,"","","",null,null,40,0,120,null,null,{"$f":"VLOOKUP(B226,#REF!,3,FALSE)","v":{"$error":"#REF!"}}]
[null,"A009","YEROVI MARÍA ELENA",null,null,null,null,null,null,null,null,null,null,null,null,null,null,null,null,null,"",null,60,null,"","","","",null,"",null,"",null,null,null,null,null,"","","",null,null,"","","",null,null,60,0,60,null,null,{"$f":"VLOOKUP(B227,#REF!,3,FALSE)","v":{"$error":"#REF!"}}]
[null,"A","ZAMBRANO NELLY",null,60,null,null,null,null,null,null,null,null,null,"","","","",null,"","",null,null,null,"","","","",null,null,null,"",null,null,null,null,null,"","","",null,null,"","","",null,null,60,0,60,null,null,{"$f":"VLOOKUP(B228,#REF!,3,FALSE)","v":{"$error":"#REF!"}}]
[1000,1000,"ZZZZZZZZZ",{"$f":"IFERROR($BA229,\"\")","v":""},{"$f":"IFERROR($BA229,\"\")","v":""},{"$f":"IFERROR($BA229,\"\")","v":""},"",null,null,null,null,null,null,null,null,null,null,null,null,{"$f":"IFERROR($BA229,\"\")","v":""},null,null,{"$f":"IFERROR($BA229,\"\")","v":""},{"$f":"IFERROR($BA229,\"\")","v":""},"","",null,"","","","","","","","","","","","","",{"$f":"IFERROR($BA229,\"\")","v":""},{"$f":"IFERROR($BA229,\"\")","v":""},"","","",{"$f":"IFERROR($BA229,\"\")","v":""},{"$f":"IFERROR($BA229,\"\")","v":""},{"$f":"MAX(L229:AA229)","v":0},0,0,null,null,{"$f":"VLOOKUP(B229,#REF!,3,FALSE)","v":{"$error":"#REF!"}}]
[null,null,null,null,null,null,null,null,null,null,null,null,null,null,null,null,null,null,null,null,null,null,null,null,null,null,null,null,null,null,null,null,null,null,null,null,null,null,null,null,null,null,null,null,null,null,null,{"$f":"MAX(L230:AA230)","v":0},0,0,null,null,{"$f":"VLOOKUP(B230,#REF!,3,FALSE)","v":{"$error":"#REF!"}}]
[null,null,null,null,null,null,null,null,null,null,null,null,null,null,null,null,null,"",null,null,null,null,null,null,null,""]
[null,null,null,null,null,null,null,null,null,null,null,null,null,null,null,null,null,"",null,null,null,null,null,null,null,""]
[null,null,null,null,null,null,null,null,null,null,null,null,null,null,null,null,null,"",null,null,null,null,null,null,null,""]
[null,null,null,null,null,null,null,null,null,null,null,null,null,null,null,null,null,"",null,null,null,null,null,"AZUL COMPETENCIAS DE CUENCA",null,""]
[null,null,null,null,null,null,null,null,null,null,null,null,null,null,null,null,null,"",null,null,null,null,null,null,null,""]
[null,null,null,null,null,null,null,null,null,null,null,null,null,null,null,null,null,"",null,null,null,null,null,null,null,""]
[null,null,null,null,null,null,null,null,null,null,null,null,null,null,null,null,null,null,null,null,null,null,null,null,null,""]
[null,null,null,null,null,null,null,null,null,null,null,null,null,null,null,null,null,null,null,null,null,null,null,null,null,""]
[null,null,null,null,null,null,null,null,null,null,null,null,null,null,null,null,null,null,null,null,null,null,null,null,null,""]
[null,null,null,null,null,null,null,null,null,null,null,null,null,null,null,null,null,null,null,null,null,null,null,null,null,""]
[null,null,null,null,null,null,null,null,null,null,null,null,null,null,null,null,null,null,null,null,null,null,null,null,null,""]
[null,null,null,null,null,null,null,null,null,null,null,null,null,null,null,null,null,null,null,null,null,null,null,null,null,""]
[null,null,null,null,null,null,null,null,null,null,null,null,null,null,null,null,null,null,null,null,null,null,null,null,null,""]
[null,null,null,null,null,null,null,null,null,null,null,null,null,null,null,null,null,null,null,null,null,null,null,null,null,""]
[null,null,null,null,null,null,null,null,null,null,null,null,null,null,null,null,null,null,null,null,null,null,null,null,null,""]
[null,null,null,null,null,null,null,null,null,null,null,null,null,null,null,null,null,null,null,null,null,null,null,null,null,""]
[null,null,null,null,null,null,null,null,null,null,null,null,null,null,null,null,null,null,null,null,null,null,null,null,null,""]
[null,null,null,null,null,null,null,null,null,null,null,null,null,null,null,null,null,null,null,null,null,null,null,null,null,""]
[null,null,null,null,null,null,null,null,null,null,null,null,null,null,null,null,null,null,null,null,null,null,null,null,null,""]
[null,null,null,null,null,null,null,null,null,null,null,null,null,null,null,null,null,null,null,null,null,null,null,null,null,""]
[null,null,null,null,null,null,null,null,null,null,null,null,null,null,null,null,null,null,null,null,null,null,null,null,null,""]
[null,null,null,null,null,null,null,null,null,null,null,null,null,null,null,null,null,null,null,null,null,null,null,null,null,""]
[null,null,null,null,null,null,null,null,null,null,null,null,null,null,null,null,null,null,null,null,null,null,null,null,null,""]
[null,null,null,null,null,null,null,null,null,null,null,null,null,null,null,null,null,null,null,null,null,null,null,null,null,""]

{"sheet":"V L MAY","index":21,"n_rows":67,"n_cols":42,"rows_kept":67,"cut":false,"hidden":true,"merged":[[3,0,3,1],[4,0,4,1],[0,5,2,37],[4,3,4,8],[4,9,4,13],[4,14,4,19],[3,3,3,26],[4,20,4,26],[4,27,4,36]]}
[null,"DERECHO ADQUIRIDO"]
[null,"VELOCIDAD LIBRE",null,null,null,null,null,null,null,null,null,null,null,null,null,null,null,null,null,null,null,null,null,null,null,null,null,null,null,null,null,null,null,null,null,null,null,null,null,null,null,"CRTL+MAY+ Y"]
[]
[null,null,"MASTER","KILOMETRAJE"]
["CODIGO",null,null,2009,null,null,null,null,null,2010,null,null,null,null,2011,null,null,null,null,null,2012,null,null,null,null,null,null,2013,null,null,null,null,null,null,null,null,null,null,null,null,null,"CRTL+MAY+ M"]
["ANTERIOR","NUEVO","JINETE","I CHONE","II CHONE","III CHONE","IV CHONE","V CHONE","VI CHONE","I CHONE","II CHONE","III CHONE","IV CHONE","V CHONE","I CHONE","II CHONE","III CHONE","IV CHONE","V CHONE","VI CHONE","I CHONE","CUENCA","II CHONE","III CHONE","IV CHONE","V CHONE","VI CHONE","I CHONE","II CHONE","III CHONE","IV CHONE","V CHONE","VI CHONE","VII CHONE","VII CHONE","IX CHONE","X CHONE","MÁXIMO","CLASIFICATORIO","TOTAL"]
["M001","A059","ALMEIDA AYALA HÉCTOR",{"$f":"IF('V L AB'!D12=\"\",\"\",'V L AB'!D12)","v":""},{"$f":"IF('V L AB'!E12=\"\",\"\",'V L AB'!E12)","v":""},{"$f":"IF('V L AB'!F12=\"\",\"\",'V L AB'!F12)","v":""},{"$f":"IF('V L AB'!G12=\"\",\"\",'V L AB'!G12)","v":""},{"$f":"IF('V L AB'!H12=\"\",\"\",'V L AB'!H12)","v":""},{"$f":"IF('V L AB'!I12=\"\",\"\",'V L AB'!I12)","v":""},{"$f":"IF('V L AB'!J12=\"\",\"\",'V L AB'!J12)","v":""},{"$f":"IF('V L AB'!K12=\"\",\"\",'V L AB'!K12)","v":""},{"$f":"IF('V L AB'!L12=\"\",\"\",'V L AB'!L12)","v":40},{"$f":"IF('V L AB'!M12=\"\",\"\",'V L AB'!M12)","v":""},{"$f":"IF('V L AB'!N12=\"\",\"\",'V L AB'!N12)","v":""},{"$f":"IF('V L AB'!O12=\"\",\"\",'V L AB'!O12)","v":""},{"$f":"IF('V L AB'!P12=\"\",\"\",'V L AB'!P12)","v":""},{"$f":"IF('V L AB'!Q12=\"\",\"\",'V L AB'!Q12)","v":""},{"$f":"IF('V L AB'!R12=\"\",\"\",'V L AB'!R12)","v":""},{"$f":"IF('V L AB'!S12=\"\",\"\",'V L AB'!S12)","v":""},{"$f":"IF('V L AB'!T12=\"\",\"\",'V L AB'!T12)","v":""},{"$f":"IF('V L AB'!U12=\"\",\"\",'V L AB'!U12)","v":""},{"$f":"IF('V L AB'!V12=\"\",\"\",'V L AB'!V12)","v":""},{"$f":"IF('V L AB'!W12=\"\",\"\",'V L AB'!W12)","v":""},{"$f":"IF('V L AB'!X12=\"\",\"\",'V L AB'!X12)","v":""},{"$f":"IF('V L AB'!Y12=\"\",\"\",'V L AB'!Y12)","v":""},{"$f":"IF('V L AB'!Z12=\"\",\"\",'V L AB'!Z12)","v":""},{"$f":"IF('V L AB'!AA12=\"\",\"\",'V L AB'!AA12)","v":""},{"$f":"IF('V L AB'!AL13=\"\",\"\",'V L AB'!AL13)","v":""},{"$f":"IF('V L AB'!AM13=\"\",\"\",'V L AB'!AM13)","v":""},{"$f":"IF('V L AB'!AN13=\"\",\"\",'V L AB'!AN13)","v":""},{"$f":"IF('V L AB'!AO13=\"\",\"\",'V L AB'!AO13)","v":""},{"$f":"IF('V L AB'!AP13=\"\",\"\",'V L AB'!AP13)","v":""},{"$f":"IF('V L AB'!AQ13=\"\",\"\",'V L AB'!AQ13)","v":""},{"$f":"IF('V L AB'!AR13=\"\",\"\",'V L AB'!AR13)","v":""},{"$f":"IF('V L AB'!AS13=\"\",\"\",'V L AB'!AS13)","v":42},{"$f":"IF('V L AB'!AT13=\"\",\"\",'V L AB'!AT13)","v":""},{"$f":"IF('V L AB'!AU13=\"\",\"\",'V L AB'!AU13)","v":""},{"$f":"MAX(L7:AA7)","v":40},{"$f":"SUM(L7:AA7)","v":40},{"$f":"SUM(D7:AK7)","v":82}]
["M003","A","ANDRADE ANIBAL",null,null,null,null,null,null,null,null,null,null,null,null,null,null,null,null,"",null,null,null,null,null,null,null,null,null,null,null,null,null,null,null,null,null,{"$f":"MAX(L8:AA8)","v":0},{"$f":"SUM(L8:AA8)","v":0},{"$f":"SUM(D8:AK8)","v":0}]
["M014","A","CAMPUZANO ISABEL",null,null,null,null,null,null,null,null,null,null,null,null,null,null,null,null,"",null,null,null,null,null,null,null,null,null,null,null,null,null,null,null,null,null,0,0,0]
["M009","A","DEL OLMO JOSE",null,null,null,null,null,null,null,null,null,null,null,null,null,null,null,null,"",null,null,null,null,null,null,null,null,null,null,null,null,null,null,null,null,null,0,0,0]
[null,"A066","MONROY EDUARDO",null,null,null,null,40,40,null,null,null,40,42,"",41,44,"","","",62,null,null,null,"","",null,null,null,null,null,null,null,null,null,null,null,62,229,309]
["M002","A","ENDARA IVAN MAURICIO",null,null,null,null,null,null,null,null,null,null,null,null,null,null,null,null,"",null,null,null,null,null,null,null,null,null,null,null,null,null,null,null,null,null,0,0,0]
["M017","A","GABELA MARCELO",null,null,null,null,null,null,null,null,null,null,null,null,null,null,null,null,"",null,null,null,null,null,null,null,null,null,null,null,null,null,null,null,null,null,0,0,0]
["M011","A","GARCES PATRICIO",null,null,null,null,null,null,null,null,null,null,null,null,null,null,null,null,"",null,null,null,null,null,null,null,null,null,null,null,null,null,null,null,null,null,0,0,0]
["A061","A","GUARDERAS PEDRO JOSE",null,null,null,null,40,null,null,null,null,null,null,null,null,null,null,"","",null,null,null,null,null,null,null,null,null,null,null,null,null,null,null,null,null,0,0,40]
[null,"M002","HERRERA MARCELO",null,null,null,null,null,null,null,null,null,null,null,null,null,null,null,null,null,null,null,null,null,null,null,null,null,null,null,null,null,null,null,null,null,null,0,0,0]
["M010","M005","HIDALGO GUSTAVO",null,null,null,null,null,null,null,null,null,null,null,null,null,null,null,null,"",44,null,44,null,44,null,52,null,null,null,null,null,null,null,null,null,null,52,184,184]
["M006","A","JIJON FRANCISCO",null,null,null,null,null,null,null,null,null,null,null,null,null,null,null,null,"",null,null,null,null,null,null,null,null,null,null,null,null,null,null,null,null,null,0,0,0]
[null,"M004","LEÓN ARAUJO CÉSAR IGNACIO",null,null,null,null,null,null,null,null,null,null,null,null,null,null,null,null,null,null,null,null,null,null,null,null,null,null,null,null,null,null,null,null,null,null,0,0,0]
[null,"A","LOPÉZ JAIME ANDRES",null,null,40,null,null,null,null,null,null,null,null,null,null,null,null,null,"",null,null,null,null,null,null,null,null,null,null,null,null,null,null,null,null,null,0,0,40]
["M002","A","PEREZ ARTETA IGNACIO",null,null,null,40,40,null,null,null,null,null,null,null,null,null,null,null,"",null,null,null,null,null,null,null,null,null,null,null,null,null,null,null,null,null,0,0,80]
["M007","M003","RECALDE GALO",null,null,null,null,null,null,null,null,null,null,null,null,null,null,null,null,"",44,null,null,null,null,null,null,null,null,null,null,null,null,null,null,null,null,44,44,44]
["M008","A","ROMERO JULIO",null,null,null,null,null,null,null,null,null,null,null,null,null,null,null,null,"",null,null,null,null,null,null,null,null,null,null,null,null,null,null,null,null,null,0,0,0]
[null,"M001","TIMANA JAIRO",null,null,null,null,null,null,null,null,null,null,null,null,null,null,null,null,null,null,null,null,null,null,null,null,null,null,null,null,null,null,null,null,null,null,0,0,0]
["M003","A","VERA MENESES CARLOS",40,null,null,null,null,null,null,null,null,null,null,null,null,null,null,null,"",null,null,null,null,null,null,null,null,null,null,null,null,null,null,null,null,null,0,0,40]
["A109","A","WRAY ESPINOZA ROBERTO",null,null,40,40,40,null,null,null,null,null,null,null,null,null,null,null,"",null,null,null,null,null,null,null,null,null,null,null,null,null,null,null,null,null,0,0,120]
[1000,1000,"ZZZZZZZZ",null,null,null,null,null,null,null,null,null,null,null,null,{"$f":"IFERROR(AQ27,\"\")","v":0},null,null,null,null,null,null,null,null,null,null,null,null,{"$f":"IFERROR(AY27,\"\")","v":0},0,0,0,0,0,0,0,0,0,0,0]
[null,null,null,null,null,null,null,null,null,null,null,null,null,null,null,null,null,null,null,null,null,null,null,null,null,null,null,null,null,null,null,null,null,null,null,null,null,0,0,0]
[]
[]
[]
[]
[]
[]
[]
[]
[null,null,null,null,null,null,null,null,null,null,null,null,null,null,null,null,null,null,null,null,null,null,null,null,null,null,null,null,null,null,null,null,null,null,null,null,null,{"$f":"MAX(D37:AK37)","v":0},{"$f":"SUM(D37:AK37)","v":0},{"$f":"SUM(D37:AK37)","v":0}]
[null,null,null,null,null,null,null,null,null,null,null,null,null,null,null,null,null,null,null,null,null,null,null,null,null,null,null,null,null,null,null,null,null,null,null,null,null,{"$f":"MAX(D38:AK38)","v":0},{"$f":"SUM(D38:AK38)","v":0},{"$f":"SUM(D38:AK38)","v":0}]
[null,null,null,null,null,null,null,null,null,null,null,null,null,null,null,null,null,null,null,null,null,null,null,null,null,null,null,null,null,null,null,null,null,null,null,null,null,0,0,0]
[null,null,null,null,null,null,null,null,null,null,null,null,null,null,null,null,null,null,null,null,null,null,null,null,null,null,null,null,null,null,null,null,null,null,null,null,null,0,0,0]
[null,null,null,null,null,null,null,null,null,null,null,null,null,null,null,null,null,null,null,null,null,null,null,null,null,null,null,null,null,null,null,null,null,null,null,null,null,0,0,0]
[null,null,null,null,null,null,null,null,null,null,null,null,null,null,null,null,null,null,null,null,null,null,null,null,null,null,null,null,null,null,null,null,null,null,null,null,null,0,0,0]
[null,null,null,null,null,null,null,null,null,null,null,null,null,null,null,null,null,null,null,null,null,null,null,null,null,null,null,null,null,null,null,null,null,null,null,null,null,0,0,0]
[null,null,null,null,null,null,null,null,null,null,null,null,null,null,null,null,null,null,null,null,null,null,null,null,null,null,null,null,null,null,null,null,null,null,null,null,null,0,0,0]
[null,null,null,null,null,null,null,null,null,null,null,null,null,null,null,null,null,null,null,null,null,null,null,null,null,null,null,null,null,null,null,null,null,null,null,null,null,0,0,0]
[null,null,null,null,null,null,null,null,null,null,null,null,null,null,null,null,null,null,null,null,null,null,null,null,null,null,null,null,null,null,null,null,null,null,null,null,null,0,0,0]
[null,null,null,null,null,null,null,null,null,null,null,null,null,null,null,null,null,null,null,null,null,null,null,null,null,null,null,null,null,null,null,null,null,null,null,null,null,0,0,0]
[null,null,null,null,null,null,null,null,null,null,null,null,null,null,null,null,null,null,null,null,null,null,null,null,null,null,null,null,null,null,null,null,null,null,null,null,null,0,0,0]
[null,null,null,null,null,null,null,null,null,null,null,null,null,null,null,null,null,null,null,null,null,null,null,null,null,null,null,null,null,null,null,null,null,null,null,null,null,0,0,0]
[]
[null,null,null,null,null,null,null,null,null,null,null,null,null,null,null,null,null,null,null,null,null,null,null,null,null,null,null,null,null,null,null,null,null,null,null,null,null,0,0,0]
[null,null,null,null,null,null,null,null,null,null,null,null,null,null,null,null,null,null,null,null,null,null,null,null,null,null,null,null,null,null,null,null,null,null,null,null,null,0,0,0]
[null,null,null,null,null,null,null,null,null,null,null,null,null,null,null,null,null,null,null,null,null,null,null,null,null,null,null,null,null,null,null,null,null,null,null,null,null,0,0,0]
[null,null,null,null,null,null,null,null,null,null,null,null,null,null,null,null,null,null,null,null,null,null,null,null,null,null,null,null,null,null,null,null,null,null,null,null,null,0,0,0]
[null,null,null,null,null,null,null,null,null,null,null,null,null,null,null,null,null,null,null,null,null,null,null,null,null,null,null,null,null,null,null,null,null,null,null,null,null,0,0,0]
[null,null,null,null,null,null,null,null,null,null,null,null,null,null,null,null,null,null,null,null,null,null,null,null,null,null,null,null,null,null,null,null,null,null,null,null,null,0,0,0]
[null,null,null,null,null,null,null,null,null,null,null,null,null,null,null,null,null,null,null,null,null,null,null,null,null,null,null,null,null,null,null,null,null,null,null,null,null,0,0,0]
[null,null,null,null,null,null,null,null,null,null,null,null,null,null,null,null,null,null,null,null,null,null,null,null,null,null,null,null,null,null,null,null,null,null,null,null,null,0,0,0]
[null,null,null,null,null,null,null,null,null,null,null,null,null,null,null,null,null,null,null,null,null,null,null,null,null,null,null,null,null,null,null,null,null,null,null,null,null,0,0,0]
[null,null,null,null,null,null,null,null,null,null,null,null,null,null,null,null,null,null,null,null,null,null,null,null,null,null,null,null,null,null,null,null,null,null,null,null,null,0,0,0]
[null,null,null,null,null,null,null,null,null,null,null,null,null,null,null,null,null,null,null,null,null,null,null,null,null,null,null,null,null,null,null,null,null,null,null,null,null,0,0,0]
[null,null,null,null,null,null,null,null,null,null,null,null,null,null,null,null,null,null,null,null,null,null,null,null,null,null,null,null,null,null,null,null,null,null,null,null,null,0,0,0]
[null,null,null,null,null,null,null,null,null,null,null,null,null,null,null,null,null,null,null,null,null,null,null,null,null,null,null,null,null,null,null,null,null,null,null,null,null,0,0,0]
[null,null,null,null,null,null,null,null,null,null,null,null,null,null,null,null,null,null,null,null,null,null,null,null,null,null,null,null,null,null,null,null,null,null,null,null,null,0,0,0]
[null,null,null,null,null,null,null,null,null,null,null,null,null,null,null,null,null,null,null,null,null,null,null,null,null,null,null,null,null,null,null,null,null,null,null,null,null,0,0,0]
[null,null,null,null,null,null,null,null,null,null,null,null,null,null,null,null,null,null,null,null,null,null,null,null,null,null,null,null,null,null,null,null,null,null,null,null,null,0,0,0]
[null,null,null,null,null,null,null,null,null,null,null,null,null,null,null,null,null,null,null,null,null,null,null,null,null,null,null,null,null,null,null,null,null,null,null,null,null,0,0,0]

{"sheet":"V L CAB","index":22,"n_rows":417,"n_cols":53,"rows_kept":417,"cut":false,"hidden":false,"merged":[[0,6,2,49],[4,48,4,49],[4,15,4,20],[3,0,3,1],[4,0,4,1],[4,4,4,9],[3,4,3,19],[4,10,4,14],[4,21,4,27],[4,38,4,47],[4,28,4,37]]}
[null,"DERECHO ADQUIRIDO"]
[null,"VELOCIDAD LIBRE",null,null,null,null,null,null,null,null,null,null,null,null,null,null,null,null,null,null,null,null,null,null,null,null,null,null,null,null,null,null,null,null,null,null,null,null,null,null,null,null,null,null,null,null,null,null,null,null,null,null,"CRTL+MAY+I"]
[]
[null,null,"CABALLOS","JINETE/DUEÑO","KILOMETRAJE"]
["CODIGO",null,"KILOMETROS",null,2009,null,null,null,null,null,2010,null,null,null,null,2011,null,null,null,null,null,2012,null,null,null,null,null,null,2013,null,null,null,null,null,null,null,null,null,2014,null,null,null,null,null,null,null,null,null,"RESUMEN",null,null,null,"CRTL+MAY+K"]
["ANTERIOR","NUEVO","CABALLOS",null,"I CHONE","II CHONE","III CHONE","IV CHONE","V CHONE","VI CHONE","I CHONE","II CHONE","III CHONE","IV CHONE","V CHONE","I CHONE","II CHONE","III CHONE","IV CHONE","V CHONE","VI CHONE","I CHONE","I CUENCA","II CHONE","III CHONE","IV CHONE","V CHONE","VI CHONE","I CHONE","II CHONE","III CHONE","IV CHONE","V CHONE","VI CHONE","VII CHONE","VIII CHONE","IX CHONE","X CHONE","I CHONE","II CHONE","III CHONE","IV CHONE","V CHONE","VI CHONE","VII CHONE","VIII CHONE","IX CHONE","X CHONE","MÁXIMO","CLASIFICATORIO","TOTAL"]
["B","C","AARON",null,null,null,null,null,null,null,54,null,null,null,null,"","","","","","","",null,null,null,"","",null,"",null,"",null,"",null,null,null,null,null,"","","",null,null,"","",{"$f":"IFERROR($BA7,\"\")","v":""},null,null,{"$f":"MAX(E7:AV7)","v":54},{"$f":"SUM(Z7:AV7)","v":0},{"$f":"SUM(E7:AV7)","v":54},null,{"$f":"VLOOKUP(B7,#REF!,3,FALSE)","v":{"$error":"#REF!"}}]
["B","C010","ADEBERAN","FELIPE MENECES",{"$f":"IF(AND('V L AB'!D13>0,'V L CAB'!E68>0),'V L AB'!D13,IF(AND('V C AB'!D13>0,'V C CAB'!E68>0),'V C AB'!D13,\"\"))","v":""},null,null,null,null,null,null,null,null,null,null,null,null,null,null,null,null,"",null,null,null,"","",null,"",null,"",null,"",null,null,null,null,null,"","","",null,null,"","","",null,null,0,0,0,null,{"$f":"VLOOKUP(B8,#REF!,3,FALSE)","v":{"$error":"#REF!"}}]
["B","C209","AISHA","NOBOA MAURICIO",null,null,null,null,null,null,null,null,null,null,null,null,null,null,null,null,null,null,null,null,null,null,null,null,null,null,null,null,"",null,null,null,null,null,"","","",null,null,"","","",null,null,0,0,0,null,{"$f":"VLOOKUP(B9,#REF!,3,FALSE)","v":{"$error":"#REF!"}}]
["B","C","AL HUAIRA",null,null,null,40,null,null,null,null,null,null,null,null,"","","","","","","",null,null,null,"","",null,"",null,"",null,"",null,null,null,null,null,"","","",null,null,"","","",null,null,40,0,40,null,{"$f":"VLOOKUP(B10,#REF!,3,FALSE)","v":{"$error":"#REF!"}}]
["B","C","AL ZAFIA",null,null,null,40,null,null,null,null,null,null,null,null,"","","","","","","",null,null,null,"","",null,"",null,"",null,"",null,null,null,null,null,"","","",null,null,"","","",null,null,40,0,40,null,{"$f":"VLOOKUP(B11,#REF!,3,FALSE)","v":{"$error":"#REF!"}}]
["B","C","ALADINO",null,null,null,40,null,null,null,null,null,null,null,null,"","","","","","","",null,null,null,"","",null,"",null,"",null,null,null,null,null,null,null,"","","",null,null,"","","",null,null,40,0,40,null,{"$f":"VLOOKUP(B12,#REF!,3,FALSE)","v":{"$error":"#REF!"}}]
["C023","C100","ALELI ","JOSE IGNACIO MIÑO",{"$f":"IF(AND('V L JUV'!D62>0,'V L CAB'!E90>0),'V L JUV'!D62,IF(AND('V C JUV'!D62>0,'V C CAB'!E90>0),'V C JUV'!D62,\"\"))","v":""},"","","","","","",40,null,"",42,"",62,"","",null,"",81,"",null,"",null,90,"",null,"","","","","","","","","","","","",{"$f":"IF(AND('V L JUV'!AO62>0,'V L CAB'!AP90>0),'V L JUV'!AO62,IF(AND('V C JUV'!AO62>0,'V C CAB'!AP90>0),'V C JUV'!AO62,\"\"))","v":""},null,"","","",null,null,90,90,315,null,{"$f":"VLOOKUP(B13,#REF!,3,FALSE)","v":{"$error":"#REF!"}}]
[null,"C143","ALI","MAZAPANTA KEVIN",null,null,null,null,null,null,null,null,null,null,null,null,null,null,null,null,null,null,null,null,null,null,null,null,null,null,null,null,null,null,null,null,null,null,"","","",null,null,"","","",null,null,0,0,0,null,{"$f":"VLOOKUP(B14,#REF!,3,FALSE)","v":{"$error":"#REF!"}}]
["C051","C083","ALI  BABA","MARIA CECILIA ALZAMORA",null,40,40,null,null,null,54,40,null,null,42,"","","","","","","",null,null,null,"","",null,"",null,"",null,"",null,null,null,null,null,"","","",null,null,"","","",null,null,54,0,216,null,{"$f":"VLOOKUP(B15,#REF!,3,FALSE)","v":{"$error":"#REF!"}}]
["B","C","ALIA",null,null,null,null,null,null,null,null,null,null,40,42,null,null,null,null,"","","",null,null,null,"","",null,"",null,"",null,"",null,null,null,null,null,"","","",null,null,"","","",null,null,42,0,82,null,{"$f":"VLOOKUP(B16,#REF!,3,FALSE)","v":{"$error":"#REF!"}}]
["CC","C245","AMARANTA","MUNOZ GARCIA RENATO ISMAEL",null,null,null,null,null,null,null,null,null,null,null,null,null,null,null,null,null,null,null,null,null,null,null,null,null,null,null,null,null,null,null,null,null,null,"","","",null,null,"","","",null,null,0,0,0,null,{"$f":"VLOOKUP(B17,#REF!,3,FALSE)","v":{"$error":"#REF!"}}]
["B","C046","AMARETO","JOSE LETORT",null,null,null,null,null,null,null,null,null,null,null,null,null,null,null,null,null,"",null,null,null,"","",null,"",null,99,null,"",null,null,null,null,null,84,"",84,null,null,"","","",null,null,99,267,267,null,{"$f":"VLOOKUP(B18,#REF!,3,FALSE)","v":{"$error":"#REF!"}}]
["C222","C102","AMID","RICARDO DUEÑAS",null,null,null,null,null,null,null,null,null,null,42,"","","","","","",62,null,60,null,"","",null,"",null,"",null,"",null,null,null,null,null,"","","",null,null,"","","",null,null,62,0,164,null,{"$f":"VLOOKUP(B19,#REF!,3,FALSE)","v":{"$error":"#REF!"}}]
["B","C","AMIRA II RD",null,40,60,60,60,null,60,54,null,null,null,null,"","","","","","","",null,null,null,"","",null,"",null,"",null,"",null,null,null,null,null,"","","",null,null,"","","",null,null,60,0,334,null,{"$f":"VLOOKUP(B20,#REF!,3,FALSE)","v":{"$error":"#REF!"}}]
["CC","C246","AN SHARIF","DONOSO CARRASCO MARIA DANIELA",null,null,null,null,null,null,null,null,null,null,null,null,null,null,null,null,null,null,null,null,null,null,null,null,null,44,null,44,null,42,null,null,null,null,"","","",null,null,"","","",null,null,44,130,130,null,{"$f":"VLOOKUP(B21,#REF!,3,FALSE)","v":{"$error":"#REF!"}}]
["CC","C247","ANNIE","WILLIAMS JEMMA",null,null,null,null,null,null,null,null,null,null,null,null,null,null,null,null,null,null,null,null,null,null,null,null,null,null,null,null,null,null,null,null,null,null,"","","",null,null,"","","",null,null,0,0,0,null,{"$f":"VLOOKUP(B22,#REF!,3,FALSE)","v":{"$error":"#REF!"}}]
["CC","C248","APOLO","BOADA DOMENICA",null,null,null,null,null,null,null,null,null,null,null,null,null,null,null,null,null,null,null,null,null,null,null,null,null,null,null,null,null,null,null,null,null,null,"","","",null,null,"","","",null,null,0,0,0,null,{"$f":"VLOOKUP(B23,#REF!,3,FALSE)","v":{"$error":"#REF!"}}]
["CC","C249","APOLO LA CHAMIZA","DONOSO LOYOLA SEBASTIAN FERNANDO",null,null,null,null,null,null,null,null,null,null,null,null,null,null,null,null,null,null,null,null,80,null,null,null,null,null,null,null,null,null,null,null,null,null,"","","",null,null,"","","",null,null,80,0,80,null,{"$f":"VLOOKUP(B24,#REF!,3,FALSE)","v":{"$error":"#REF!"}}]
[null,"C204","AR ALBATSYN","ARTURO RIBADENEIRA",null,null,null,null,null,null,null,null,null,null,null,null,null,null,null,null,null,null,null,null,null,null,null,null,null,null,null,null,null,null,null,null,null,null,null,null,"",null,null,"","","",61,null,61,61,61,null,{"$f":"VLOOKUP(B25,#REF!,3,FALSE)","v":{"$error":"#REF!"}}]
["C007","C103","AR AMIRA","ORLANDO QUIROZ",null,null,null,null,null,40,null,40,null,40,42,"","","","","","",62,null,60,62,"","",null,"",null,"",null,"",null,null,null,null,null,"","","",null,null,"","","",null,null,62,0,346,null,{"$f":"VLOOKUP(B26,#REF!,3,FALSE)","v":{"$error":"#REF!"}}]
["C100","C096","AR FAISAN","ARTURO RIBADENEIRA",60,60,60,null,null,null,null,null,null,null,null,"",82,65,87,62,84,81,null,null,null,80,"",82,"",null,99,null,81,null,null,null,null,82,"","","",null,null,80,"","",null,null,99,504,1145,null,{"$f":"VLOOKUP(B27,#REF!,3,FALSE)","v":{"$error":"#REF!"}}]
["B","C163","AR SEGOVIA",null,null,null,null,null,40,null,null,null,null,null,42,"","","","","","","",null,null,null,44,"",52,"",null,"",null,"",null,null,null,null,null,"","","",null,null,"","","",null,null,52,96,178,null,{"$f":"VLOOKUP(B28,#REF!,3,FALSE)","v":{"$error":"#REF!"}}]
["B","C","AR TAMARA",null,40,null,null,60,60,40,null,null,null,null,null,"","","","","","","",null,null,null,"","",null,"",null,"",null,"",null,null,null,null,null,"","","",null,null,"","","",null,null,60,0,200,null,{"$f":"VLOOKUP(B29,#REF!,3,FALSE)","v":{"$error":"#REF!"}}]
["C271","C038","ARABITA","TOMAS ESPINOZA",null,null,null,null,null,null,null,null,null,null,null,null,null,null,"","","",44,null,null,null,"","",null,"",null,"",null,"",null,null,null,null,null,"","","",null,null,"","","",null,null,44,0,44,null,{"$f":"VLOOKUP(B30,#REF!,3,FALSE)","v":{"$error":"#REF!"}}]
["B","C208","ARAGON","MALO SEBATIAN",null,null,null,null,null,null,null,null,null,null,null,null,null,null,null,null,null,null,null,null,null,null,null,null,null,null,null,null,null,null,null,null,null,null,"","","",null,null,"","","",null,null,0,0,0,null,{"$f":"VLOOKUP(B31,#REF!,3,FALSE)","v":{"$error":"#REF!"}}]
["B","C068","ARANDU","ANDRES DARQUEA",null,null,null,null,null,null,null,null,null,null,null,null,null,null,null,null,null,"",null,null,null,"","",null,"",null,"",null,"",null,null,null,null,null,"","","",null,null,"","","",null,null,0,0,0,null,{"$f":"VLOOKUP(B32,#REF!,3,FALSE)","v":{"$error":"#REF!"}}]
["B","C","ARANJUEZ",null,null,null,null,null,null,null,null,null,44,null,null,"","","","","","","",null,null,null,"","",null,"",null,"",null,"",null,null,null,null,null,"","","",null,null,"","","",null,null,44,0,44,null,{"$f":"VLOOKUP(B33,#REF!,3,FALSE)","v":{"$error":"#REF!"}}]
["CC","C232","ASRAEL","BERNARDA GONZALEZ",null,null,null,null,null,null,null,null,null,null,null,null,null,null,null,null,null,null,null,null,null,null,null,null,null,null,null,null,null,null,null,null,null,null,"",86,"",null,null,"",82,"",null,null,86,168,168,null,{"$f":"VLOOKUP(B34,#REF!,3,FALSE)","v":{"$error":"#REF!"}}]
["B","C063","ATENEA","JONATHAN LLUMIQUINGA",null,null,null,null,null,null,null,null,null,null,null,null,null,null,null,null,null,"",null,null,null,"","",null,"",null,"",null,"",null,null,null,null,null,"","","",null,null,"","","",null,null,0,0,0,null,{"$f":"VLOOKUP(B35,#REF!,3,FALSE)","v":{"$error":"#REF!"}}]
["CC","C250","ATLANTA","GOTTIFREDI NEIRA FRANCISCO AGUSTIN",null,null,null,null,null,null,null,null,null,null,null,null,null,null,null,null,null,null,null,null,null,null,null,null,null,null,null,null,null,null,null,null,null,null,"","","",null,null,"","","",null,null,0,0,0,null,{"$f":"VLOOKUP(B36,#REF!,3,FALSE)","v":{"$error":"#REF!"}}]
["C098","C037","ATREVIDO","JUAN DIEGO HERRERA",null,null,null,null,null,null,null,null,null,null,null,null,"","","","","","",null,null,null,"","",null,"",null,"",null,"",null,null,null,null,null,"","","",null,null,"","","",null,null,0,0,0,null,{"$f":"VLOOKUP(B37,#REF!,3,FALSE)","v":{"$error":"#REF!"}}]
["B","C115","AVENTURERO","HECTOR ALMEIDA AYALA",null,null,null,null,null,null,null,null,null,null,null,null,null,null,null,null,null,null,null,null,null,null,null,null,"",null,"",null,"",null,null,null,null,null,"","","",null,null,80,"","",null,null,80,80,80,null,{"$f":"VLOOKUP(B38,#REF!,3,FALSE)","v":{"$error":"#REF!"}}]
["CC","C251","AVENTURERO","NOBOA MAURICIO",null,null,null,null,null,null,null,null,null,null,null,null,null,null,null,null,null,null,null,null,null,null,null,null,null,44,null,null,null,null,null,null,null,null,"","","",null,null,"","","",null,null,44,44,44,null,{"$f":"VLOOKUP(B39,#REF!,3,FALSE)","v":{"$error":"#REF!"}}]
["B","C023","AZABACHE","CESAR ANDRES LEON PROAÑO",null,null,null,null,null,null,null,null,null,null,null,44,"",44,"","","","",null,null,null,"","",null,"",null,"",null,"",null,null,null,null,null,"","","",null,null,"","","",null,null,44,0,88,null,{"$f":"VLOOKUP(B40,#REF!,3,FALSE)","v":{"$error":"#REF!"}}]
["B","C157","AZUCENA","JARAMILLO BENITO",null,null,null,null,null,null,null,null,null,null,null,null,null,null,null,null,null,null,null,null,null,null,null,null,null,null,null,null,null,null,null,null,null,null,"","","",null,null,"","","",null,null,0,0,0,null,{"$f":"VLOOKUP(B41,#REF!,3,FALSE)","v":{"$error":"#REF!"}}]
["B","C124","BAILARINA","GUARDERAS ARTETA PEDRO",null,null,null,null,null,null,null,null,null,null,null,null,null,null,null,null,null,null,null,null,40,"","",null,"",null,"",null,"",null,null,null,null,null,"","","",null,null,"","","",null,null,40,0,40,null,{"$f":"VLOOKUP(B42,#REF!,3,FALSE)","v":{"$error":"#REF!"}}]
["B","C","BAMBOLA VC",null,40,null,null,null,null,null,null,null,null,null,null,"","","","","","","",null,null,null,"","",null,"",null,"",null,"",null,null,null,null,null,"","","",null,null,"","","",null,null,40,0,40,null,{"$f":"VLOOKUP(B43,#REF!,3,FALSE)","v":{"$error":"#REF!"}}]
["B","C","BARBARITA MS",null,null,null,40,null,null,null,null,null,null,null,null,"","","","","","","",null,null,null,"","",null,"",null,"",null,"",null,null,null,null,null,"","","",null,null,"","","",null,null,40,0,40,null,{"$f":"VLOOKUP(B44,#REF!,3,FALSE)","v":{"$error":"#REF!"}}]
["B","C080","BARON","PEDRO CORNEJO",null,null,null,null,null,null,null,null,null,null,null,null,null,null,null,null,null,"",null,null,null,"","",null,"",null,"",null,"",null,null,null,null,null,"","","",null,null,"","","",null,null,0,0,0,null,{"$f":"VLOOKUP(B45,#REF!,3,FALSE)","v":{"$error":"#REF!"}}]
["C235","C233","BAUTRUS YUSUF","ALVARO SAMPER",null,null,null,null,null,null,null,null,null,null,null,null,null,null,null,null,null,null,null,null,null,null,null,null,null,null,null,null,null,null,null,null,null,null,"","","",null,null,"","","",null,null,0,0,0,null,{"$f":"VLOOKUP(B46,#REF!,3,FALSE)","v":{"$error":"#REF!"}}]
["B","C","BAVARIA",null,null,null,null,null,null,40,null,null,null,null,null,"","","","","","","",null,null,null,"","",null,"",null,"",null,"",null,null,null,null,null,"","","",null,null,"","","",null,null,40,0,40,null,{"$f":"VLOOKUP(B47,#REF!,3,FALSE)","v":{"$error":"#REF!"}}]
["B","C013","BAYO K BAYO","NELSON CANDELEJO",null,null,null,null,null,null,null,null,null,null,null,null,null,null,null,null,null,"",null,null,null,"","",null,"",null,"",null,"",null,null,null,null,null,"","","",null,null,"","","",null,null,0,0,0,null,{"$f":"VLOOKUP(B48,#REF!,3,FALSE)","v":{"$error":"#REF!"}}]
["B","C","BAYON",null,null,null,null,null,null,null,null,null,null,null,null,"","",44,"","","","",null,null,null,"","",null,"",null,"",null,"",null,null,null,null,null,"","","",null,null,"","","",null,null,44,0,44,null,{"$f":"VLOOKUP(B49,#REF!,3,FALSE)","v":{"$error":"#REF!"}}]
["CC","C252","BIANCA","BERNAL MARTIN",null,null,null,null,null,null,null,null,null,null,null,null,null,null,null,null,null,null,null,null,null,null,null,null,null,null,null,null,null,null,null,null,null,null,"","","",null,null,"","","",null,null,0,0,0,null,{"$f":"VLOOKUP(B50,#REF!,3,FALSE)","v":{"$error":"#REF!"}}]
["B","C085","BLACK FAIR","BERNARDO DARQUEA",null,null,null,null,null,null,null,null,null,null,null,"","","","","","","",null,null,null,"","",null,"",null,"",null,"",null,null,null,null,null,"","","",null,null,"","","",null,null,0,0,0,null,{"$f":"VLOOKUP(B51,#REF!,3,FALSE)","v":{"$error":"#REF!"}}]
[null,"C347","BOEMIO","MALO GONZALEZ JOSE",null,null,null,null,null,null,null,null,null,null,null,null,null,null,null,null,null,null,null,null,null,null,null,null,null,null,null,null,null,null,null,null,null,null,null,"","",null,null,"","","",null,null,0,0,0,null,{"$f":"VLOOKUP(B52,#REF!,3,FALSE)","v":{"$error":"#REF!"}}]
["B","C","BOHEMIA DJ",null,null,null,null,null,40,null,null,null,null,null,null,"","","","","","","",null,null,null,"","",null,"",null,"",null,"",null,null,null,null,null,"","","",null,null,"","","",null,null,40,0,40,null,{"$f":"VLOOKUP(B53,#REF!,3,FALSE)","v":{"$error":"#REF!"}}]
["B","C","BOHEMIO AP",null,60,60,60,60,null,null,null,null,null,null,null,"","","","","","","",null,null,null,"","",null,"",null,"",null,"",null,null,null,null,null,"","","",null,null,"","","",null,null,60,0,240,null,{"$f":"VLOOKUP(B54,#REF!,3,FALSE)","v":{"$error":"#REF!"}}]
["C277","C098","BOM BOM","JUAN RECALDE",null,null,40,null,null,null,54,40,null,null,null,"","","","","","",81,null,null,null,80,90,82,80,null,81,null,"",null,null,null,null,null,"","","",null,null,"","","",null,null,90,413,628,null,{"$f":"VLOOKUP(B55,#REF!,3,FALSE)","v":{"$error":"#REF!"}}]
["B","C122","BONDADOSO","THOMAS WRAY",null,null,null,null,null,null,null,null,null,null,null,"","","","","",42,"",null,60,null,"","",null,"",null,"",null,"",null,null,null,null,null,"","","",null,null,"","","",null,null,60,0,102,null,{"$f":"VLOOKUP(B56,#REF!,3,FALSE)","v":{"$error":"#REF!"}}]
["C110","C109","BRANCO","SERGIO MORILLO",null,null,null,null,null,null,null,null,null,null,null,"","","","","","","",null,null,null,"","",null,"",null,"",null,"",null,null,null,null,null,"","","",null,null,"","","",null,null,0,0,0,null,{"$f":"VLOOKUP(B57,#REF!,3,FALSE)","v":{"$error":"#REF!"}}]
["B","C142","BRICHOLA","CARLOS JOSE URIBE",null,null,null,null,null,null,null,null,null,null,null,null,null,null,null,null,null,null,null,null,null,"","",null,"",null,"",null,81,null,null,null,null,null,"","","",null,null,"","","",null,null,81,81,81,null,{"$f":"VLOOKUP(B58,#REF!,3,FALSE)","v":{"$error":"#REF!"}}]
["B","C028","BRONCO","MARCELO HERRERA",null,null,null,null,null,null,null,null,null,null,null,null,null,"","","","","",null,null,null,"","",null,"",null,"",null,"",null,null,null,null,null,"","","",null,null,"","","",null,null,0,0,0,null,{"$f":"VLOOKUP(B59,#REF!,3,FALSE)","v":{"$error":"#REF!"}}]
["B","C126","BRUMA","CANDO MARIO",null,null,null,null,null,null,null,null,null,null,42,null,null,null,null,null,null,null,null,null,null,"","",82,80,null,99,null,"",null,null,null,null,null,"","",84,null,null,"","","",null,null,99,345,387,null,{"$f":"VLOOKUP(B60,#REF!,3,FALSE)","v":{"$error":"#REF!"}}]
[null,"C349","BRUNA","ANDRADE ANDRADE PAULA",null,null,null,null,null,null,null,null,null,null,null,null,null,null,null,null,null,null,null,null,null,null,null,null,null,null,null,null,null,null,null,null,null,null,null,"","",null,null,"","","",null,null,0,0,0,null,{"$f":"VLOOKUP(B61,#REF!,3,FALSE)","v":{"$error":"#REF!"}}]
["B","C229","BULERIA","NOBOA MAURICIO",null,null,null,null,null,null,null,null,null,null,null,null,null,null,null,null,null,null,null,null,null,null,null,null,null,null,null,null,"",null,null,null,null,null,"","","",null,null,"","","",null,null,0,0,0,null,{"$f":"VLOOKUP(B62,#REF!,3,FALSE)","v":{"$error":"#REF!"}}]
["B","C011","BUMERAN","HECTOR DANIEL ALMEIDA",null,null,null,40,40,null,null,null,null,null,null,"","","","","","","",null,null,null,"","",null,"",null,"",null,"",null,null,null,null,null,"","","",null,null,"","","",null,null,40,0,80,null,{"$f":"VLOOKUP(B63,#REF!,3,FALSE)","v":{"$error":"#REF!"}}]
[null,"C350","BZ RHEEMAH","FELIPE ANDRADE",null,null,null,null,null,null,null,null,null,null,null,null,null,null,null,null,null,null,null,null,null,null,null,null,null,null,null,null,null,null,null,null,null,null,null,86,"",null,null,"","","",null,null,86,86,86,null,{"$f":"VLOOKUP(B64,#REF!,3,FALSE)","v":{"$error":"#REF!"}}]
["C005","C236","CABALLO DE GUERRA","PAULINO VINTIMILLA",null,null,null,null,null,null,null,null,null,null,null,null,null,null,null,null,null,null,null,null,null,null,null,null,null,null,null,null,null,null,null,null,null,null,"","","",null,null,"","","",null,null,0,0,0,null,{"$f":"VLOOKUP(B65,#REF!,3,FALSE)","v":{"$error":"#REF!"}}]
["B","C003","CAIPIRIÑA","JUAN VERGARA",null,null,null,null,null,null,null,null,null,null,null,null,null,null,null,null,null,"",null,null,null,"","",null,"",null,"",null,"",null,null,null,null,null,"","","",null,null,"","","",null,null,0,0,0,null,{"$f":"VLOOKUP(B66,#REF!,3,FALSE)","v":{"$error":"#REF!"}}]
["B","C116","CALEÑA AJ","NOBOA MAURICIO",null,null,null,null,null,null,null,null,null,null,null,null,null,null,null,null,null,null,null,null,null,null,null,null,null,null,null,null,null,null,null,null,null,null,"","","",null,null,"","","",null,null,0,0,0,null,{"$f":"VLOOKUP(B67,#REF!,3,FALSE)","v":{"$error":"#REF!"}}]
[null,"C238","CALEÑA CMB","SIMON NICOLAS",null,null,null,null,null,null,null,null,null,null,null,null,null,null,null,null,null,null,null,null,null,null,null,null,null,null,null,null,null,null,null,null,null,null,"","","",{"$f":"IFERROR($BA68,\"\")","v":""},null,"","","",null,null,0,0,0,null,{"$f":"VLOOKUP(B68,#REF!,3,FALSE)","v":{"$error":"#REF!"}}]
[null,"C147","CAMARON","GUARDERAS JOSE GABRIEL",null,null,null,null,null,null,null,null,null,null,null,null,null,null,null,null,null,null,null,null,null,null,null,null,null,null,null,null,null,null,null,null,null,null,"","","",null,null,"","","",null,null,0,0,0,null,{"$f":"VLOOKUP(B69,#REF!,3,FALSE)","v":{"$error":"#REF!"}}]
["B","C","CAMILA ZK",null,40,null,null,null,null,60,null,null,null,null,null,"","","","","","","",null,null,null,"","",null,"",null,"",null,"",null,null,null,null,null,"","","",null,null,"","","",null,null,60,0,100,null,{"$f":"VLOOKUP(B70,#REF!,3,FALSE)","v":{"$error":"#REF!"}}]
["B","C042","CANELA","GUSTAVO HIDALGO",null,null,null,null,null,null,null,null,null,null,null,null,null,null,null,null,null,44,null,null,null,"","",52,"",null,"",null,"",null,null,null,null,null,"","","",null,null,"","","",null,null,{"$f":"MAX(E71:AV71)","v":52},{"$f":"SUM(Z71:AV71)","v":52},{"$f":"SUM(E71:AV71)","v":96},null,{"$f":"VLOOKUP(B71,#REF!,3,FALSE)","v":{"$error":"#REF!"}}]
["B","C067","CANELA PG","PEDRO JOSE GUARDERAS",null,null,null,null,null,null,null,null,null,null,null,null,null,null,null,null,null,"",null,44,40,"","",null,"",null,"",null,"",null,null,null,null,null,"","","",null,null,"","","",null,null,44,0,84,null,{"$f":"VLOOKUP(B72,#REF!,3,FALSE)","v":{"$error":"#REF!"}}]
["B","C095","CANELO","FERNANDA MONROY",null,null,40,60,60,60,null,null,null,null,null,"",62,87,null,62,63,"",null,null,null,"","",null,"",null,"",null,"",null,null,null,null,null,"","","",null,null,"","","",null,null,87,0,494,null,{"$f":"VLOOKUP(B73,#REF!,3,FALSE)","v":{"$error":"#REF!"}}]
["B","C","CANGUIL VE",null,40,null,null,null,null,null,null,null,null,null,null,"","","","","","","",null,null,null,"","",null,"",null,"",null,"",null,null,null,null,null,"","","",null,null,"","","",null,null,40,0,40,null,{"$f":"VLOOKUP(B74,#REF!,3,FALSE)","v":{"$error":"#REF!"}}]
["C003","C","CAPITAN",null,40,null,null,null,null,null,null,null,null,null,null,"","","","","","","",null,null,null,"","",null,"",null,"",null,"",null,null,null,null,null,"","","",null,null,"","","",null,null,40,0,40,null,{"$f":"VLOOKUP(B75,#REF!,3,FALSE)","v":{"$error":"#REF!"}}]
["CC","C253","CAPOEIRA","TORAL GUERRERO JUAN DIEGO",null,null,null,null,null,null,null,null,null,null,null,null,null,null,null,null,null,null,null,null,null,null,null,null,null,null,null,null,null,null,null,null,null,null,"","","",null,null,"","","",null,null,0,0,0,null,{"$f":"VLOOKUP(B76,#REF!,3,FALSE)","v":{"$error":"#REF!"}}]
[null,"C 337","CAPORAL","NOBOA MAURICIO",null,null,null,null,null,null,null,null,null,null,null,null,null,null,null,null,null,null,null,null,null,null,null,null,null,null,null,null,null,null,null,null,null,null,null,"","",60,null,"","","",null,null,60,60,60,null,{"$f":"VLOOKUP(B77,#REF!,3,FALSE)","v":{"$error":"#REF!"}}]
["C237","C021","CAPULI","BARBARA ESPINOZA",null,null,null,null,null,null,null,null,null,null,null,null,null,null,null,null,null,"",null,null,null,"","",null,"",null,"",null,"",null,null,null,null,null,"","","",null,null,"","","",null,null,0,0,0,null,{"$f":"VLOOKUP(B78,#REF!,3,FALSE)","v":{"$error":"#REF!"}}]
["CC","C319","CAPULI","VEGA CALDERON ANDRES",null,null,null,null,null,null,null,null,null,null,null,40,null,null,null,null,null,null,null,null,null,null,null,null,null,null,null,null,null,null,null,null,null,null,"","","",null,null,"","","",null,null,40,0,40,null,{"$f":"VLOOKUP(B79,#REF!,3,FALSE)","v":{"$error":"#REF!"}}]
[null,"CC","CAPULINA","BOADA ABAD DOMENICA",null,null,null,null,null,null,null,null,null,null,null,null,null,null,null,null,null,null,null,null,null,null,null,null,null,null,null,null,null,null,null,null,null,null,null,null,"",null,null,"","","",null,null,0,0,0,null,{"$f":"VLOOKUP(B80,#REF!,3,FALSE)","v":{"$error":"#REF!"}}]
["B","C135","CARAGUAY CM","CORNEJO MANUEL",null,null,null,null,null,null,null,40,44,40,42,"","","","","","","",null,null,null,"","",null,"",null,"",null,"",null,null,null,90,null,"","",49,null,null,"","","",null,null,90,139,305,null,{"$f":"VLOOKUP(B81,#REF!,3,FALSE)","v":{"$error":"#REF!"}}]
["B","C101","CARAMELO","MAZAPANTA KEVIN",null,null,null,null,null,null,null,null,null,null,null,null,null,null,null,null,null,"",null,null,null,"","",null,"",null,"",null,"",null,null,null,null,null,"","","",null,null,"","","",null,null,0,0,0,null,{"$f":"VLOOKUP(B82,#REF!,3,FALSE)","v":{"$error":"#REF!"}}]
[null,"C351","CARNIVAL RHYDER","VINTIMILLA SERRANO PABLO XAVIER",null,null,null,null,null,null,null,null,null,null,null,null,null,null,null,null,null,null,null,null,null,null,null,null,null,null,null,null,null,null,null,null,null,null,null,"","",null,null,"","","",null,null,0,0,0,null,{"$f":"VLOOKUP(B83,#REF!,3,FALSE)","v":{"$error":"#REF!"}}]
["CC","C254","CASANOVA","MUÑOZ ESTEBAN",null,null,null,null,null,null,null,null,null,null,null,null,null,null,null,null,null,null,null,null,null,null,null,null,null,null,null,null,null,null,null,null,null,null,"","","",null,null,"","","",null,null,0,0,0,null,{"$f":"VLOOKUP(B84,#REF!,3,FALSE)","v":{"$error":"#REF!"}}]
["B","C065","CASHMERE","SANTIAGO MIÑO",null,null,null,null,null,null,null,null,null,null,null,null,null,null,null,null,null,"",null,null,null,59,"",null,"",null,"",null,"",null,null,null,null,null,"","","",null,null,"","","",null,null,59,59,59,null,{"$f":"VLOOKUP(B85,#REF!,3,FALSE)","v":{"$error":"#REF!"}}]
["CC","C255","CASIR","MUÑOZ CALDERON ALBERTO",null,null,null,null,null,null,null,null,null,null,null,null,40,null,null,null,null,null,null,null,null,null,null,null,null,null,null,null,null,null,null,null,null,null,"","","",null,null,"","","",null,null,40,0,40,null,{"$f":"VLOOKUP(B86,#REF!,3,FALSE)","v":{"$error":"#REF!"}}]
["CC","C256","CASTAÑO","VINTIMILLA SERRANO PABLO XAVIER",null,null,null,null,null,null,null,null,null,null,null,null,null,null,null,null,null,null,null,null,null,null,null,null,null,null,null,null,null,null,93,null,null,null,"","","",null,null,"","","",null,null,93,93,93,null,{"$f":"VLOOKUP(B87,#REF!,3,FALSE)","v":{"$error":"#REF!"}}]
[null,"C388","CASTAÑUELA","LETORT MENA JOSE",null,null,null,null,null,null,null,null,null,null,null,null,null,null,null,null,null,null,null,null,null,null,null,null,null,null,null,null,null,null,null,null,null,null,null,null,null,null,null,"","","",null,null,0,0,0,null,{"$f":"VLOOKUP(B88,#REF!,3,FALSE)","v":{"$error":"#REF!"}}]
[null,"C375","CAYETANA","ALVEAR JUAN CARLOS",null,null,null,null,null,null,null,null,null,null,null,null,null,null,null,null,null,null,null,null,null,null,null,null,null,null,null,null,null,null,null,null,null,null,null,null,null,null,null,"","","",null,null,0,0,0,null,{"$f":"VLOOKUP(B89,#REF!,3,FALSE)","v":{"$error":"#REF!"}}]
["B","C076","CAZIQUE","MANUEL KAKABADSE",null,null,null,null,null,null,null,null,null,null,null,null,null,null,null,null,null,"",null,null,null,"","",null,"",null,"",null,"",null,null,null,null,null,"","","",null,null,"","","",null,null,0,0,0,null,{"$f":"VLOOKUP(B90,#REF!,3,FALSE)","v":{"$error":"#REF!"}}]
["B","C097","CENTAURO","HECTOR ALMEIDA",null,40,40,60,60,40,null,null,null,null,null,"",null,87,"",80,"",81,null,null,null,80,null,null,80,null,99,null,"",83,null,null,null,null,"","",84,null,null,"","","",null,null,99,426,914,null,{"$f":"VLOOKUP(B91,#REF!,3,FALSE)","v":{"$error":"#REF!"}}]
["B","C093","CG ALLASKI","NATHALIE WEEMAELS",null,null,null,null,null,null,null,null,null,null,null,null,"","","","",63,"",null,null,81,80,"",82,"",null,99,null,"",null,null,null,null,82,"","",84,null,null,"","","",null,null,99,427,571,null,{"$f":"VLOOKUP(B92,#REF!,3,FALSE)","v":{"$error":"#REF!"}}]
["CC","C257","CHAGRA","BUSTAMANTE GUSTAVO",null,null,null,null,null,null,null,null,null,null,null,null,null,null,null,null,null,null,null,null,null,null,null,null,null,null,null,null,null,null,null,null,null,null,"","","",null,null,60,"","",61,null,61,121,121,null,{"$f":"VLOOKUP(B93,#REF!,3,FALSE)","v":{"$error":"#REF!"}}]
["CC","C258","CHAHUAR","MALO ANDREA",null,null,null,null,null,null,null,null,null,null,null,null,null,null,null,null,null,null,null,null,null,null,null,null,null,null,null,null,null,null,null,null,null,null,"","","",null,null,"","","",null,null,0,0,0,null,{"$f":"VLOOKUP(B94,#REF!,3,FALSE)","v":{"$error":"#REF!"}}]
["C343","C","CHAKAL MA",null,null,null,null,null,null,null,null,null,null,null,null,null,null,"","","","","",null,null,null,"","",null,"",null,"",null,"",null,null,null,null,null,"","","",null,null,"","","",null,null,0,0,0,null,{"$f":"VLOOKUP(B95,#REF!,3,FALSE)","v":{"$error":"#REF!"}}]
["CC","C259","CHAVO","VINTIMILLA TORRES PAULINO ENRIQUE",null,null,null,null,null,null,null,null,null,null,null,null,null,null,null,null,null,null,null,null,null,null,null,null,null,null,null,null,null,null,null,null,null,null,"","","",null,null,"","","",null,null,0,0,0,null,{"$f":"VLOOKUP(B96,#REF!,3,FALSE)","v":{"$error":"#REF!"}}]
[null,"C383","CHEQUE","SAMPER ALVARO",null,null,null,null,null,null,null,null,null,null,null,null,null,null,null,null,null,null,null,null,null,null,null,null,null,null,null,null,null,null,null,null,null,null,null,null,null,null,null,"","","",null,null,0,0,0,null,{"$f":"VLOOKUP(B97,#REF!,3,FALSE)","v":{"$error":"#REF!"}}]
["B","C","CHERNA",null,null,null,null,null,null,null,null,null,null,null,null,"","","","","","","",null,null,null,"","",null,"",null,"",null,"",null,null,null,null,null,"","","",null,null,"","","",null,null,0,0,0,null,{"$f":"VLOOKUP(B98,#REF!,3,FALSE)","v":{"$error":"#REF!"}}]
["B","C","CHESTER",null,null,null,40,60,null,60,null,null,null,null,null,"","","","","","","",null,null,null,"","",null,"",null,"",null,"",null,null,null,null,null,"","","",null,null,"","","",null,null,60,0,160,null,{"$f":"VLOOKUP(B99,#REF!,3,FALSE)","v":{"$error":"#REF!"}}]
["CC","C260","CHICO","PERALTA VALERIA",null,null,null,null,null,null,null,null,null,null,null,null,null,null,40,null,null,null,null,null,null,null,null,null,null,null,null,null,null,null,null,null,null,null,"","","",null,null,"","","",null,null,40,0,40,null,{"$f":"VLOOKUP(B100,#REF!,3,FALSE)","v":{"$error":"#REF!"}}]
["CC","C262","CHINO","GONZALEZ JERVES XIMENA",null,null,null,null,null,null,null,null,null,null,null,40,null,null,null,null,null,null,null,null,null,null,null,null,null,null,null,null,null,null,null,null,null,null,"","","",null,null,"","","",null,null,40,0,40,null,{"$f":"VLOOKUP(B101,#REF!,3,FALSE)","v":{"$error":"#REF!"}}]
["CC","C263","CHISPIOLA","DAVALOS EMILIA",null,null,null,null,null,null,null,null,null,null,null,null,null,null,null,null,null,null,null,null,null,null,null,null,null,null,null,null,null,null,null,null,null,null,"","","",null,null,"","","",null,null,0,0,0,null,{"$f":"VLOOKUP(B102,#REF!,3,FALSE)","v":{"$error":"#REF!"}}]
[null,"C113","CHIVIRIKA","NEUMANN KARINA",null,null,null,null,null,null,null,null,null,null,null,null,null,null,null,null,null,null,null,null,null,null,null,null,null,null,null,null,null,null,null,null,null,null,null,"","",null,null,"","","",null,null,0,0,0,null,{"$f":"VLOOKUP(B103,#REF!,3,FALSE)","v":{"$error":"#REF!"}}]
["C270","C","CHOCO",null,null,null,null,40,null,40,null,null,null,null,null,"","","","","","","",null,null,null,"","",null,"",null,"",null,"",null,null,null,null,null,"","","",null,null,"","","",null,null,40,0,80,null,{"$f":"VLOOKUP(B104,#REF!,3,FALSE)","v":{"$error":"#REF!"}}]
["C307","C237","CHULPI","BENITO  JARAMILLO",null,null,null,null,null,null,null,null,null,null,null,null,null,null,null,null,null,null,null,null,null,null,null,null,null,null,null,null,null,null,null,null,null,null,"","","",null,null,"","","",null,null,0,0,0,null,{"$f":"VLOOKUP(B105,#REF!,3,FALSE)","v":{"$error":"#REF!"}}]
["B","C210","CHUQUIRAGUA","GUSTAVO HIDALGO",null,null,null,null,null,null,null,null,null,null,null,null,null,null,null,null,null,null,null,null,null,null,null,null,null,null,null,null,null,null,null,null,null,null,"","","",null,null,"","","",null,null,0,0,0,null,{"$f":"VLOOKUP(B106,#REF!,3,FALSE)","v":{"$error":"#REF!"}}]
["B","C175","CLAW",null,null,null,null,null,null,null,null,null,null,null,null,null,null,null,null,null,null,null,null,null,null,null,null,null,"",null,"",null,"",null,null,null,null,null,"","","",null,null,80,"","",null,null,80,80,80,null,{"$f":"VLOOKUP(B107,#REF!,3,FALSE)","v":{"$error":"#REF!"}}]
["CC","C195","CLICK","ANDRADE JOSE DANIEL",null,null,null,null,null,null,null,null,null,null,null,null,null,null,null,null,null,null,null,null,null,null,null,null,null,null,null,null,"",null,null,null,null,null,"","","",null,null,"","","",null,null,0,0,0,null,{"$f":"VLOOKUP(B108,#REF!,3,FALSE)","v":{"$error":"#REF!"}}]
[null,"C150","COCHIS","MALO GELIBERT ANDREA",null,null,null,null,null,null,null,null,null,null,null,null,null,null,null,null,null,null,null,null,null,null,null,null,null,null,null,null,null,null,null,null,null,null,"","","",null,null,"","","",null,null,0,0,0,null,{"$f":"VLOOKUP(B109,#REF!,3,FALSE)","v":{"$error":"#REF!"}}]
["C155","C034","COHETE","JUAN CARLOS ALVEAR",null,null,null,null,null,null,null,null,null,null,null,"","","","",null,42,44,null,null,null,"","",null,"",null,"",null,"",null,null,null,null,null,"","","",null,null,"","","",null,null,44,0,86,null,{"$f":"VLOOKUP(B110,#REF!,3,FALSE)","v":{"$error":"#REF!"}}]
["B","C162","COLORADO","HIDALGO GUSTAVO",null,null,null,null,null,null,null,null,null,null,null,null,null,null,null,null,null,null,null,null,null,null,null,null,"",null,"",null,"",null,null,null,null,null,"","","",null,null,"","","",null,null,0,0,0,null,{"$f":"VLOOKUP(B111,#REF!,3,FALSE)","v":{"$error":"#REF!"}}]
["CC","C264","COLTA","LARRIVA JAIME",null,null,null,null,null,null,null,null,null,null,null,null,null,null,null,null,null,null,null,null,null,null,null,null,null,null,null,null,null,null,null,null,null,null,"","","",null,null,"","","",null,null,0,0,0,null,{"$f":"VLOOKUP(B112,#REF!,3,FALSE)","v":{"$error":"#REF!"}}]
["CC","C265","COMETA","MUÑOZ CALDERON RAUL ALBERTO",null,null,null,null,null,null,null,null,null,null,null,null,null,null,null,null,null,null,null,null,60,null,null,null,null,null,null,null,null,null,null,null,null,null,"","","",null,null,"","","",null,null,60,0,60,null,{"$f":"VLOOKUP(B113,#REF!,3,FALSE)","v":{"$error":"#REF!"}}]
["B","C","CONEJO ZC",null,60,null,null,null,null,null,null,null,null,null,null,"","","","","","","",null,null,null,"","",null,"",null,"",null,"",null,null,null,null,null,"","","",null,null,"","","",null,null,60,0,60,null,{"$f":"VLOOKUP(B114,#REF!,3,FALSE)","v":{"$error":"#REF!"}}]
["B","C056","CONTESINA EA","ALVARO ESPINOZA",null,null,null,null,null,null,null,null,null,null,null,null,null,null,null,"","","",null,null,null,"","",null,"",null,"",null,"",null,null,null,null,null,"","","",null,null,"","","",null,null,0,0,0,null,{"$f":"VLOOKUP(B115,#REF!,3,FALSE)","v":{"$error":"#REF!"}}]
["B","C087","CORFU CA","AUGUSTO CHIRIBOGA",null,null,null,null,null,null,null,null,null,null,null,null,null,"","","","","",null,null,null,"","",null,"",null,"",null,"",null,null,null,null,null,"","","",null,null,"","","",null,null,0,0,0,null,{"$f":"VLOOKUP(B116,#REF!,3,FALSE)","v":{"$error":"#REF!"}}]
["B","C","COSA ZN",null,null,60,null,null,null,null,null,null,null,null,null,"","","","","","","",null,null,null,"","",null,"",null,"",null,"",null,null,null,null,null,"","","",null,null,"","","",null,null,60,0,60,null,{"$f":"VLOOKUP(B117,#REF!,3,FALSE)","v":{"$error":"#REF!"}}]
["CC","C266","CRIOLLA","SORIA MARIA DANIELA",null,null,null,null,null,null,null,null,null,null,null,null,null,null,null,null,null,null,null,null,null,null,null,null,null,null,null,null,null,null,null,null,null,null,"","","",null,null,"","","",null,null,0,0,0,null,{"$f":"VLOOKUP(B118,#REF!,3,FALSE)","v":{"$error":"#REF!"}}]
["B","C","DALIAT TT",null,40,null,null,null,null,null,null,null,null,null,null,"","","","","","","",null,null,null,"","",null,"",null,"",null,"",null,null,null,null,null,"","","",null,null,"","","",null,null,40,0,40,null,{"$f":"VLOOKUP(B119,#REF!,3,FALSE)","v":{"$error":"#REF!"}}]
["B","C020","DAMA","ISABEL PAZMIÑO",null,null,null,null,null,null,null,null,null,null,null,null,null,null,null,null,null,"",null,null,null,"","",null,"",null,"",null,"",null,null,null,null,null,"","","",null,null,"","","",null,null,0,0,0,null,{"$f":"VLOOKUP(B120,#REF!,3,FALSE)","v":{"$error":"#REF!"}}]
["B","C092","DAMASCO","NICOLAS MORENO",null,null,null,null,null,null,null,40,44,null,42,null,null,null,null,null,null,null,null,null,null,80,90,null,80,null,"",null,"",null,null,null,null,null,"","","",null,null,"","","",null,null,90,250,376,null,{"$f":"VLOOKUP(B121,#REF!,3,FALSE)","v":{"$error":"#REF!"}}]
["CC","C267","DEBORA","MALO JAIME",null,null,null,null,null,null,null,null,null,null,null,null,null,null,null,null,null,null,null,null,null,null,null,null,null,null,null,null,null,null,null,null,null,null,"","","",null,null,"","","",null,null,0,0,0,null,{"$f":"VLOOKUP(B122,#REF!,3,FALSE)","v":{"$error":"#REF!"}}]
["B","C","DIABLO",null,null,null,null,40,null,40,null,null,null,null,null,"","","","","","","",null,null,null,"","",null,"",null,"",null,"",null,null,null,null,null,"","","",null,null,"","","",null,null,40,0,80,null,{"$f":"VLOOKUP(B123,#REF!,3,FALSE)","v":{"$error":"#REF!"}}]
["CC","C268","DISCORDIA","VINTIMILLA PAULINO",null,null,null,null,null,null,null,null,null,null,null,null,null,40,null,null,null,null,null,null,null,null,null,null,null,null,null,null,null,null,null,null,null,null,"","","",null,null,"","","",null,null,40,0,40,null,{"$f":"VLOOKUP(B124,#REF!,3,FALSE)","v":{"$error":"#REF!"}}]
["B","C","DISTINGUIDO WR",null,60,null,40,60,null,null,null,null,null,null,null,"","","","",62,42,"",null,null,null,"","",null,"",null,"",null,"",null,null,null,null,null,"","","",null,null,"","","",null,null,62,0,264,null,{"$f":"VLOOKUP(B125,#REF!,3,FALSE)","v":{"$error":"#REF!"}}]
[null,"C346","DONATELO","CORDOVA MUÑOZ SUSANA MICHELLE",null,null,null,null,null,null,null,null,null,null,null,null,null,null,null,null,null,null,null,null,null,null,null,null,null,null,null,null,null,null,null,null,null,null,null,"","",null,null,"","","",null,null,0,0,0,null,{"$f":"VLOOKUP(B126,#REF!,3,FALSE)","v":{"$error":"#REF!"}}]
[null,"C242","DUBAI",null,null,null,null,null,null,null,null,null,null,null,null,null,null,null,null,null,null,null,null,null,null,null,null,null,null,null,null,null,null,null,null,null,null,null,null,null,null,null,null,"","","",null,null,0,0,0,null,{"$f":"VLOOKUP(B127,#REF!,3,FALSE)","v":{"$error":"#REF!"}}]
["B","C","DUN DUN",null,null,null,40,60,null,null,null,null,null,null,null,"","","","","","","",null,null,null,"","",null,"",null,"",null,"",null,null,null,null,null,"","","",null,null,"","","",null,null,60,0,100,null,{"$f":"VLOOKUP(B128,#REF!,3,FALSE)","v":{"$error":"#REF!"}}]
["B","C","DUNGA",null,null,null,null,null,null,null,null,null,44,40,null,"","","","","","","",null,null,null,"","",null,"",null,"",null,"",null,null,null,null,null,"","","",null,null,"","","",null,null,44,0,84,null,{"$f":"VLOOKUP(B129,#REF!,3,FALSE)","v":{"$error":"#REF!"}}]
["B","C","EDY",null,null,null,null,null,null,null,null,null,null,null,null,null,null,"","","","","",null,null,null,"","",null,"",null,"",null,"",null,null,null,null,null,"","","",null,null,"","","",null,null,0,0,0,null,{"$f":"VLOOKUP(B130,#REF!,3,FALSE)","v":{"$error":"#REF!"}}]
["B","C234","EL PADRINO","MALO JAIME",null,null,null,null,null,null,null,null,null,null,null,null,null,null,null,null,null,null,null,null,null,null,null,null,null,null,null,null,null,null,null,null,null,null,"","","",null,null,"","","",null,null,0,0,0,null,{"$f":"VLOOKUP(B131,#REF!,3,FALSE)","v":{"$error":"#REF!"}}]
["CC","C269","ESCARLET","MALO JAIME",null,null,null,null,null,null,null,null,null,null,null,null,null,null,null,null,null,null,null,null,null,null,null,null,null,null,null,null,null,null,null,null,null,null,"","","",null,null,"","","",null,null,0,0,0,null,{"$f":"VLOOKUP(B132,#REF!,3,FALSE)","v":{"$error":"#REF!"}}]
["B","C","ESFUERZO",null,40,null,null,null,null,null,null,null,null,null,null,"","","","","","","",null,null,null,"","",null,"",null,"",null,"",null,null,null,null,null,"","","",null,null,"","","",null,null,40,0,40,null,{"$f":"VLOOKUP(B133,#REF!,3,FALSE)","v":{"$error":"#REF!"}}]
[null,"C339","ESPARTACO","TORRES JOSUE",null,null,null,null,null,null,null,null,null,null,null,null,null,null,null,null,null,null,null,null,null,null,null,null,null,null,null,null,null,null,null,null,null,null,null,"","",null,null,"","","",null,null,0,0,0,null,{"$f":"VLOOKUP(B134,#REF!,3,FALSE)","v":{"$error":"#REF!"}}]
["B","C","ESPIRIT DJ",null,null,null,null,40,null,60,null,null,null,null,null,"","","","","","","",null,null,null,"","",null,"",null,"",null,"",null,null,null,null,null,"","","",null,null,"","","",null,null,{"$f":"MAX(E135:AV135)","v":60},{"$f":"SUM(Z135:AV135)","v":0},{"$f":"SUM(E135:AV135)","v":100},null,{"$f":"VLOOKUP(B135,#REF!,3,FALSE)","v":{"$error":"#REF!"}}]
[null,"C130","ESPIRITU DEL ECUADOR","BERREZUETA DELGADO PABLO SANTI",null,null,null,null,null,null,null,null,null,null,null,null,null,null,null,null,null,null,null,null,null,null,null,null,null,null,null,null,null,null,null,null,null,null,null,null,null,null,null,"","","",null,null,0,0,0,null,{"$f":"VLOOKUP(B136,#REF!,3,FALSE)","v":{"$error":"#REF!"}}]
["B","C","EVA LUNA",null,null,null,null,60,60,null,null,null,null,null,null,"","","","","","","",null,null,null,"","",null,"",null,"",null,"",null,null,null,null,null,"","","",null,null,"","","",null,null,60,0,120,null,{"$f":"VLOOKUP(B137,#REF!,3,FALSE)","v":{"$error":"#REF!"}}]
["B","C","EXAMINADO",null,null,null,null,null,null,null,null,null,null,null,null,"","","","","","","",null,null,null,"","",null,"",null,"",null,"",null,null,null,null,null,"","","",null,null,"","","",null,null,0,0,0,null,{"$f":"VLOOKUP(B138,#REF!,3,FALSE)","v":{"$error":"#REF!"}}]
["CC","C270","FANDANGO","GONZALEZ RENATO",null,null,null,null,null,null,null,null,null,null,null,null,null,null,null,null,null,null,null,null,null,null,null,null,null,null,null,null,null,null,null,null,null,null,"","","",null,null,"","","",null,null,0,0,0,null,{"$f":"VLOOKUP(B139,#REF!,3,FALSE)","v":{"$error":"#REF!"}}]
["B","C123","FARAON","TORRES WLADIMIRO",null,null,null,null,null,null,null,null,null,null,null,null,null,null,null,null,null,null,null,null,null,"","",null,"",null,"",null,"",null,null,null,null,null,"","","",null,null,"","","",null,null,0,0,0,null,{"$f":"VLOOKUP(B140,#REF!,3,FALSE)","v":{"$error":"#REF!"}}]
["B","C131","FELIPE DE MONACO","SALAZAR ROSA VICTORIA",null,null,null,null,null,null,null,null,null,null,null,null,null,null,null,null,null,null,null,null,null,"","",null,"",null,"",null,"",null,null,null,null,null,"","","",null,null,"","","",null,null,0,0,0,null,{"$f":"VLOOKUP(B141,#REF!,3,FALSE)","v":{"$error":"#REF!"}}]
["B","C112","FELIPE GR","ALEXANDER GOMEZ",null,null,null,null,null,null,54,40,null,null,null,"","","",87,"","","",null,null,null,"","",null,"",null,99,null,"",null,null,null,null,null,"","","",null,null,"","","",null,null,99,99,280,null,{"$f":"VLOOKUP(B142,#REF!,3,FALSE)","v":{"$error":"#REF!"}}]
["B","C036","FERMIN","MARIA PAULA JIJON",null,null,null,null,null,null,null,null,null,null,null,"","",44,"","","","",null,null,null,"","",null,"",null,"",null,"",null,null,null,null,null,43,"","",null,null,"","","",null,null,44,43,87,null,{"$f":"VLOOKUP(B143,#REF!,3,FALSE)","v":{"$error":"#REF!"}}]
["B","C136","FHARA CONEJA","DARQUEA BERNARDO",40,null,40,60,60,null,null,null,null,null,null,null,82,null,87,80,null,null,null,null,null,80,null,52,80,null,82,null,81,null,null,null,null,82,43,"",49,null,null,80,"","",null,null,87,629,1078,null,{"$f":"VLOOKUP(B144,#REF!,3,FALSE)","v":{"$error":"#REF!"}}]
["C155","C024","FOSFORITO","GUARDERAS BELEN",null,null,null,null,null,null,null,null,null,null,null,null,null,null,null,null,null,"",null,null,null,"","",null,"",null,"",null,"",null,null,null,null,null,"","","",null,null,"","","",null,null,0,0,0,null,{"$f":"VLOOKUP(B145,#REF!,3,FALSE)","v":{"$error":"#REF!"}}]
["B","C188","FRODO","RIBADENEIRA ARTURO",null,null,null,null,null,null,null,null,null,null,null,null,null,null,null,null,null,null,null,null,null,null,null,null,null,null,62,null,81,null,93,null,null,82,"","",84,null,null,"","","",null,null,93,402,402,null,{"$f":"VLOOKUP(B146,#REF!,3,FALSE)","v":{"$error":"#REF!"}}]
["B","C148","FUERTE","ALEXANDER GOMEZ",null,null,null,null,null,null,null,null,null,null,null,null,null,null,null,null,null,null,null,null,null,null,null,null,"",null,"",null,"",null,null,null,null,null,"","","",null,null,"","","",null,null,0,0,0,null,{"$f":"VLOOKUP(B147,#REF!,3,FALSE)","v":{"$error":"#REF!"}}]
["CC","C272","FUGAZ","GONZALEZ JARAMILLO CRISTIAN HUMBERTO",null,null,null,null,null,null,null,null,null,null,null,null,null,40,null,null,null,null,null,null,null,null,null,null,null,null,null,null,null,null,null,null,null,null,"","","",null,null,"","","",null,null,40,0,40,null,{"$f":"VLOOKUP(B148,#REF!,3,FALSE)","v":{"$error":"#REF!"}}]
["B","C088","FURIOSA","JUAN ESTEBAN JIJON",null,null,null,null,null,null,null,null,null,null,null,null,null,null,null,null,null,"",null,null,null,"","",null,"",null,"",null,"",null,null,null,null,null,"","","",null,null,"","","",null,null,0,0,0,null,{"$f":"VLOOKUP(B149,#REF!,3,FALSE)","v":{"$error":"#REF!"}}]
["B","C","GABO ML",null,null,null,null,null,40,40,null,null,null,null,null,"","","","","","","",null,null,null,"","",null,"",null,"",null,"",null,null,null,null,null,"","","",null,null,"","","",null,null,40,0,80,null,{"$f":"VLOOKUP(B150,#REF!,3,FALSE)","v":{"$error":"#REF!"}}]
["C128","C139","GADAFY",null,null,null,null,null,null,null,null,null,null,null,null,null,null,null,null,null,null,null,null,null,null,44,"",null,"",null,"",null,"",null,null,null,null,null,"","","",null,null,"","","",null,null,44,44,44,null,{"$f":"VLOOKUP(B151,#REF!,3,FALSE)","v":{"$error":"#REF!"}}]
[null,"C218","GALAN","DARQUEA DAVALOS ANA MARIA",null,null,null,null,null,null,null,null,null,null,null,null,null,null,null,null,null,null,null,null,null,null,null,null,null,null,null,null,null,null,null,null,null,null,null,null,null,null,null,"","","",null,null,0,0,0,null,{"$f":"VLOOKUP(B152,#REF!,3,FALSE)","v":{"$error":"#REF!"}}]
[null,"C384","GALAN","NOBOA MAURICIO",null,null,null,null,null,null,null,null,null,null,null,null,null,null,null,null,null,null,null,null,null,null,null,null,null,null,null,null,null,null,null,null,null,null,null,null,null,null,null,"","","",null,null,0,0,0,null,{"$f":"VLOOKUP(B153,#REF!,3,FALSE)","v":{"$error":"#REF!"}}]
["C112","C","GALEO JM",null,null,40,40,null,null,null,null,null,null,null,null,"","","","","","","",null,null,null,"","",null,"",null,"",null,"",null,null,null,null,null,"","","",null,null,"","","",null,null,40,0,80,null,{"$f":"VLOOKUP(B154,#REF!,3,FALSE)","v":{"$error":"#REF!"}}]
["B","C005","GANDALF","MALDONADO JOSE",null,null,null,null,null,null,null,null,null,null,null,null,null,null,null,null,null,"",null,null,null,"","",null,"",null,"",null,"",null,null,null,null,null,"","","",null,null,"","","",null,null,0,0,0,null,{"$f":"VLOOKUP(B155,#REF!,3,FALSE)","v":{"$error":"#REF!"}}]
["B","C198","GAYTA","LETORT JOSE IGNACIO",null,null,null,null,null,null,null,null,null,40,42,"","","","",43,42,"",null,null,null,"","",null,"",null,"",null,42,null,null,null,null,null,"","","",null,null,"","","",null,null,43,42,209,null,{"$f":"VLOOKUP(B156,#REF!,3,FALSE)","v":{"$error":"#REF!"}}]
["C206","C170","GEISHA",null,null,null,null,null,null,null,null,null,null,null,null,null,null,null,null,null,null,null,null,null,null,null,null,null,"",null,"",null,"",null,null,null,null,null,"","","",null,null,"","","",null,null,0,0,0,null,{"$f":"VLOOKUP(B157,#REF!,3,FALSE)","v":{"$error":"#REF!"}}]
[null,"C323","GH MAGIC ONE",null,null,null,null,null,null,null,null,null,null,null,null,null,null,null,null,null,null,null,null,null,null,null,null,null,null,null,null,null,null,null,null,null,null,null,null,null,null,null,null,"","","",null,null,0,0,0,null,{"$f":"VLOOKUP(B158,#REF!,3,FALSE)","v":{"$error":"#REF!"}}]
["B","C086","GHAFIL","ROBERTO MARCEL",40,null,null,null,null,null,null,null,null,40,null,"","","","","","","",null,null,null,"","",null,"",null,99,null,81,null,null,null,null,null,"","",84,null,null,80,"","",null,null,99,344,424,null,{"$f":"VLOOKUP(B159,#REF!,3,FALSE)","v":{"$error":"#REF!"}}]
[null,"C344","GITANA","ANDRADE ANDRADE EMILIA",null,null,null,null,null,null,null,null,null,null,null,null,null,null,null,null,null,null,null,null,null,null,null,null,null,null,null,null,null,null,null,null,null,null,null,"","",null,null,"","","",null,null,0,0,0,null,{"$f":"VLOOKUP(B160,#REF!,3,FALSE)","v":{"$error":"#REF!"}}]
["B","C111","GITANILLO","EDUARDO MONROY",null,null,null,null,null,null,null,null,44,40,42,"",41,44,"","","",62,null,null,null,"","",82,80,null,"",83,"",83,null,null,null,82,"","","",null,null,"","","",null,null,83,410,683,null,{"$f":"VLOOKUP(B161,#REF!,3,FALSE)","v":{"$error":"#REF!"}}]
["B","C","GOLDEN GJ",null,null,null,40,40,null,null,null,null,null,null,null,"","","","","","","",null,null,null,"","",null,"",null,"",null,"",null,null,null,null,null,"","","",null,null,"","","",null,null,40,0,80,null,{"$f":"VLOOKUP(B162,#REF!,3,FALSE)","v":{"$error":"#REF!"}}]
["C203","C054","GOLONDRINA","PEDRO GUARDERAS ARTETA",null,null,null,null,null,null,null,null,null,null,null,null,null,null,null,null,null,"",null,null,null,"","",52,"",null,"",null,"",null,null,null,53,null,"","","",null,null,"","","",null,null,53,105,105,null,{"$f":"VLOOKUP(B163,#REF!,3,FALSE)","v":{"$error":"#REF!"}}]
["CC","C273","GOLOSO","PEÑA JUAN DIEGO",null,null,null,null,null,null,null,null,null,null,null,null,null,40,null,null,null,null,null,null,null,null,null,null,null,null,null,null,null,null,null,null,null,null,"","","",null,null,"","","",null,null,40,0,40,null,{"$f":"VLOOKUP(B164,#REF!,3,FALSE)","v":{"$error":"#REF!"}}]
["B","C","GORBAN",null,null,null,null,null,null,null,null,null,null,40,null,"","","","","","","",null,null,null,"","",null,"",null,"",null,"",null,null,null,null,null,"","","",null,null,"","","",null,null,40,0,40,null,{"$f":"VLOOKUP(B165,#REF!,3,FALSE)","v":{"$error":"#REF!"}}]
["B","C089","GR COMPADRE PN",null,null,null,null,null,null,null,null,40,null,null,null,"","","","","","","",null,null,null,"","",82,"",null,81,null,"",null,null,null,null,null,"","","",null,null,"","","",null,null,82,163,203,null,{"$f":"VLOOKUP(B166,#REF!,3,FALSE)","v":{"$error":"#REF!"}}]
["B","C070","GR NURIA","JUAN JOSE RECALDE",null,null,40,null,null,null,null,40,null,null,null,"","","","","","","",null,null,null,"","",null,48,null,"",null,81,null,null,null,null,61,43,"","",null,null,"","","",null,null,81,233,313,null,{"$f":"VLOOKUP(B167,#REF!,3,FALSE)","v":{"$error":"#REF!"}}]
["B","C","GRANTS",null,null,null,null,null,null,40,null,40,44,40,null,"","","","","","","",null,null,null,"","",null,"",null,"",null,"",null,null,null,null,null,"","","",null,null,"","","",null,null,44,0,164,null,{"$f":"VLOOKUP(B168,#REF!,3,FALSE)","v":{"$error":"#REF!"}}]
[null,"C261","GRINGO","BARAHONA VACA ANDRES",null,null,null,null,null,null,null,null,null,null,null,null,null,null,null,null,null,null,null,null,null,null,null,null,null,null,null,null,null,null,null,null,null,null,null,"","",null,null,"","","",null,null,0,0,0,null,{"$f":"VLOOKUP(B169,#REF!,3,FALSE)","v":{"$error":"#REF!"}}]
["C191","C059","GS RASHID","MAURICIO CASTILLO",null,null,null,null,null,null,null,null,null,null,null,null,null,null,null,null,null,"",null,null,null,"","",null,"",null,"",null,"",null,null,null,null,null,"","","",null,null,"","","",null,null,0,0,0,null,{"$f":"VLOOKUP(B170,#REF!,3,FALSE)","v":{"$error":"#REF!"}}]
["CC","C274","GUAJIRO","AUGUSTO CARRASCO",null,null,null,null,null,null,null,null,null,null,null,null,null,40,null,null,null,null,null,null,null,null,null,null,null,null,null,null,null,null,null,null,null,null,"","","",null,null,"","","",null,null,40,0,40,null,{"$f":"VLOOKUP(B171,#REF!,3,FALSE)","v":{"$error":"#REF!"}}]
["CC","C275","GUTA","MALO MARIBEL",null,null,null,null,null,null,null,null,null,null,null,40,40,40,40,null,null,null,null,null,null,null,null,null,null,null,null,null,null,null,null,null,null,null,"","","",null,null,"","","",null,null,40,0,160,null,{"$f":"VLOOKUP(B172,#REF!,3,FALSE)","v":{"$error":"#REF!"}}]
["B","C189","HAAKIR","PEDRO CORNEJO",null,null,null,null,null,null,null,null,null,null,null,null,null,null,null,null,null,null,null,null,null,null,null,null,"",null,"",null,"",null,null,null,null,82,"","","",null,null,"","","",null,null,82,82,82,null,{"$f":"VLOOKUP(B173,#REF!,3,FALSE)","v":{"$error":"#REF!"}}]
["C019","C104","HALCON","DIEGO CASTILLO",null,null,null,null,null,null,null,null,null,null,42,"","","","","","",62,null,null,null,"","",null,48,null,"",null,59,null,null,null,53,null,"","","",null,null,"","","",null,null,62,160,264,null,{"$f":"VLOOKUP(B174,#REF!,3,FALSE)","v":{"$error":"#REF!"}}]
["CC","C108","HASAN","FELIPE ANDRADE",null,null,null,null,null,null,null,null,null,null,null,null,null,null,null,null,null,null,null,null,null,"","",null,"",null,"",null,"",null,null,null,null,null,"","","",null,null,"","","",null,null,0,0,0,null,{"$f":"VLOOKUP(B175,#REF!,3,FALSE)","v":{"$error":"#REF!"}}]
["B","C","HECHIZO CW",null,40,null,40,null,40,null,null,null,null,null,null,"","","","","","","",null,null,null,"","",null,"",null,"",null,"",null,null,null,null,null,"","","",null,null,"","","",null,null,40,0,120,null,{"$f":"VLOOKUP(B176,#REF!,3,FALSE)","v":{"$error":"#REF!"}}]
["CC","C276","HOMERO","LARRIVA CAROLINA",null,null,null,null,null,null,null,null,null,null,null,null,null,40,40,null,null,null,null,null,null,null,null,null,null,null,null,null,null,null,null,null,null,null,"","","",null,null,"","","",null,null,40,0,80,null,{"$f":"VLOOKUP(B177,#REF!,3,FALSE)","v":{"$error":"#REF!"}}]
["B","C151","ILUSION",null,null,null,null,null,null,null,null,null,44,null,null,null,null,null,null,null,null,null,null,null,null,null,null,52,"",null,62,null,"",null,null,null,null,null,"","","",null,null,"","","",null,null,62,114,158,null,{"$f":"VLOOKUP(B178,#REF!,3,FALSE)","v":{"$error":"#REF!"}}]
["B","C","IN ALIA",null,null,null,null,null,null,null,null,40,null,null,null,"","","","","","","",null,null,null,"","",null,"",null,"",null,"",null,null,null,null,null,"","","",null,null,"","","",null,null,40,0,40,null,{"$f":"VLOOKUP(B179,#REF!,3,FALSE)","v":{"$error":"#REF!"}}]
["B","C","IN LATIFA",null,null,null,null,null,null,null,null,null,null,40,null,"","","","","","","",null,null,null,"","",null,"",null,"",null,"",null,null,null,null,null,"","","",null,null,"","","",null,null,40,0,40,null,{"$f":"VLOOKUP(B180,#REF!,3,FALSE)","v":{"$error":"#REF!"}}]
["B","C","IN NEMESIS",null,null,null,40,40,40,null,null,40,null,null,null,"","","","","","","",null,null,null,"","",null,"",null,"",null,"",null,null,null,null,null,"","","",null,null,"","","",null,null,40,0,160,null,{"$f":"VLOOKUP(B181,#REF!,3,FALSE)","v":{"$error":"#REF!"}}]
["B","C","INGENIERA NK",null,null,null,null,null,null,null,null,40,null,null,null,"","","","","","","",null,null,null,"","",null,"",null,"",null,"",null,null,null,null,null,"","","",null,null,"","","",null,null,40,0,40,null,{"$f":"VLOOKUP(B182,#REF!,3,FALSE)","v":{"$error":"#REF!"}}]
["B","C","ISIS",null,null,null,null,null,40,40,null,40,null,null,null,"","","","","","","",null,null,null,"","",null,"",null,"",null,"",null,null,null,null,null,"","","",null,null,"","","",null,null,40,0,120,null,{"$f":"VLOOKUP(B183,#REF!,3,FALSE)","v":{"$error":"#REF!"}}]
["B","C006","JAFFAR",null,null,null,null,null,null,null,null,null,null,null,42,"","","","","","","",null,44,null,"","",null,"",null,"",null,"",null,null,null,null,null,"","","",null,null,"","","",null,null,44,0,86,null,{"$f":"VLOOKUP(B184,#REF!,3,FALSE)","v":{"$error":"#REF!"}}]
["B","C149","JAGGER",null,null,null,null,null,null,null,null,null,null,null,null,null,null,null,null,null,null,null,null,null,null,null,null,null,"",null,"",null,"",null,null,null,null,null,"","","",null,null,"","","",null,null,0,0,0,null,{"$f":"VLOOKUP(B185,#REF!,3,FALSE)","v":{"$error":"#REF!"}}]
["CC","C277","JAQUE MATE","CARRASCO ABAD ALVARO JAVIER",null,null,null,null,null,null,null,null,null,null,null,null,null,null,null,null,null,null,null,null,null,null,null,null,null,null,null,null,null,null,null,null,null,null,"","","",null,null,"","","",null,null,0,0,0,null,{"$f":"VLOOKUP(B186,#REF!,3,FALSE)","v":{"$error":"#REF!"}}]
["C111","C082","JEQUE LL",null,40,null,40,null,null,null,null,null,null,null,null,"","","","","","","",null,null,null,80,"",52,"",null,"",null,"",null,null,null,null,null,"","","",null,null,"","","",null,null,80,132,212,null,{"$f":"VLOOKUP(B187,#REF!,3,FALSE)","v":{"$error":"#REF!"}}]
["C151","C","JEQUE PA",null,null,null,null,null,null,null,null,null,null,null,null,null,null,"","","","","",null,null,null,"","",null,"",null,"",null,"",null,null,null,null,null,"","","",null,null,"","","",null,null,0,0,0,null,{"$f":"VLOOKUP(B188,#REF!,3,FALSE)","v":{"$error":"#REF!"}}]
["B","C","JEQUE WR",null,null,null,null,null,null,40,null,null,null,null,null,"","","","","","","",null,null,null,"","",null,"",null,"",null,"",null,null,null,null,null,"","","",null,null,"","","",null,null,40,0,40,null,{"$f":"VLOOKUP(B189,#REF!,3,FALSE)","v":{"$error":"#REF!"}}]
["B","C","JERESANO MS",null,null,null,null,40,40,60,54,null,null,null,null,"","","","","","","",null,null,null,"","",null,"",null,"",null,"",null,null,null,null,null,"","","",null,null,"","","",null,null,60,0,194,null,{"$f":"VLOOKUP(B190,#REF!,3,FALSE)","v":{"$error":"#REF!"}}]
["C259","C","JOSELO GP",null,40,null,40,40,null,null,54,40,null,null,null,"","","","","","","",null,null,null,"","",null,"",null,"",null,"",null,null,null,null,null,"","","",null,null,"","","",null,null,54,0,214,null,{"$f":"VLOOKUP(B191,#REF!,3,FALSE)","v":{"$error":"#REF!"}}]
["C114","C075","JR NARA","KARINA NEUMAN",null,null,null,null,null,null,null,null,null,null,null,null,null,null,null,null,null,"",null,null,null,"","",null,"",null,81,null,81,null,null,null,null,null,"","","",null,null,"","","",null,null,81,162,162,null,{"$f":"VLOOKUP(B192,#REF!,3,FALSE)","v":{"$error":"#REF!"}}]
["C301","C","JUAN ANDRES",null,null,null,null,null,40,null,null,40,null,null,null,"","","","","","","",null,null,null,"","",null,"",null,"",null,"",null,null,null,null,null,"","","",null,null,"","","",null,null,40,0,80,null,{"$f":"VLOOKUP(B193,#REF!,3,FALSE)","v":{"$error":"#REF!"}}]
["CC","C278","JUGUETE","ESPINOZA JUAN SEBASTIAN",null,null,null,null,null,null,null,null,null,null,null,40,40,40,40,null,null,null,null,null,null,null,null,null,null,null,null,null,null,63,null,null,null,null,"","","",null,null,"","","",null,null,63,63,223,null,{"$f":"VLOOKUP(B194,#REF!,3,FALSE)","v":{"$error":"#REF!"}}]
["C042","C134","JUPITER","HECTOR ALMEIDA",null,null,null,null,null,null,null,null,null,null,null,null,null,null,null,null,null,null,null,null,null,"","",null,"",null,"",null,"",null,null,null,null,null,"","","",null,null,"",82,82,null,null,82,164,164,null,{"$f":"VLOOKUP(B195,#REF!,3,FALSE)","v":{"$error":"#REF!"}}]
["B","C167","K BAYO",null,null,null,null,null,null,null,null,null,null,null,null,null,null,null,null,null,null,null,null,null,null,"","",null,"",null,"",null,"",null,null,null,null,null,"","","",null,null,"","","",null,null,0,0,0,null,{"$f":"VLOOKUP(B196,#REF!,3,FALSE)","v":{"$error":"#REF!"}}]
[null,"C327","KA SAN","WILLIAMS JEMMA",null,null,null,null,null,null,null,null,null,null,null,null,null,null,null,null,null,null,null,null,null,null,null,null,null,null,null,null,null,null,null,null,null,null,null,"","",null,null,"","","",null,null,0,0,0,null,{"$f":"VLOOKUP(B197,#REF!,3,FALSE)","v":{"$error":"#REF!"}}]
[null,"C348","KA SAU","NICOLE WILLIAMS",null,null,null,null,null,null,null,null,null,null,null,null,null,null,null,null,null,null,null,null,null,null,null,null,null,null,null,null,null,null,null,null,null,null,null,"","",null,null,"","","",null,null,0,0,0,null,{"$f":"VLOOKUP(B198,#REF!,3,FALSE)","v":{"$error":"#REF!"}}]
["C171","C084","KADAFI","DANIEL MORENO",null,null,null,null,null,null,null,null,null,null,null,"","","","","","","",null,null,null,"","",null,"",null,"",null,59,null,null,null,null,null,"","","",null,null,"","","",null,null,{"$f":"MAX(E199:AV199)","v":59},{"$f":"SUM(Z199:AV199)","v":59},{"$f":"SUM(E199:AV199)","v":59},null,{"$f":"VLOOKUP(B199,#REF!,3,FALSE)","v":{"$error":"#REF!"}}]
[null,"C333","KADIN","SANCHEZ SANTIAGO",null,null,null,null,null,null,null,null,null,null,null,null,null,null,null,null,null,null,null,null,null,null,null,null,null,null,null,null,null,null,null,null,null,null,null,"","",null,null,"","",42,null,null,42,42,42,null,{"$f":"VLOOKUP(B200,#REF!,3,FALSE)","v":{"$error":"#REF!"}}]
[null,"C342","KADIR","ESPINOZA JUAN SEBASTIAN",null,null,null,null,null,null,null,null,null,null,null,null,null,null,null,null,null,null,null,null,null,null,null,null,null,null,null,null,null,null,null,null,null,null,null,"","",null,null,"","","",null,null,0,0,0,null,{"$f":"VLOOKUP(B201,#REF!,3,FALSE)","v":{"$error":"#REF!"}}]
["B","C069","KAFIR","MIÑO JOSE RICARDO",null,null,null,null,null,null,null,null,null,null,null,null,null,null,null,null,null,"",null,null,null,"","",null,"",null,"",null,"",null,null,null,null,null,"","","",null,null,"","","",null,null,0,0,0,null,{"$f":"VLOOKUP(B202,#REF!,3,FALSE)","v":{"$error":"#REF!"}}]
["B","C114","KAFIR HA","HECTOR ALMEIDA",null,null,null,null,null,null,null,null,null,40,null,"","","","","","","",null,null,null,"","",null,"",null,"",null,"",null,null,null,null,null,"","",84,null,null,"","","",null,null,84,84,124,null,{"$f":"VLOOKUP(B203,#REF!,3,FALSE)","v":{"$error":"#REF!"}}]
[null,"C192","KALA","SANCHEZ VEGA SANTIAGO",null,null,null,null,null,null,null,null,null,null,null,null,null,null,null,null,null,null,null,null,null,null,null,null,null,null,null,null,null,null,null,null,null,null,null,null,null,null,null,"","","",null,null,0,0,0,null,{"$f":"VLOOKUP(B204,#REF!,3,FALSE)","v":{"$error":"#REF!"}}]
["C328","C240","KALIFA",null,null,null,null,null,null,null,null,null,null,null,42,"","","","","","","",null,null,null,"","",null,"",null,"",null,"",null,null,null,null,null,"","","",null,null,"","","",null,null,42,0,42,null,{"$f":"VLOOKUP(B205,#REF!,3,FALSE)","v":{"$error":"#REF!"}}]
["B","CO49","KALUA",null,null,null,null,null,null,null,null,null,null,null,null,null,null,null,null,null,null,"",null,null,null,"","",null,"",null,"",null,"",null,null,null,null,null,"","","",null,null,"","","",null,null,0,0,0,null,{"$f":"VLOOKUP(B206,#REF!,3,FALSE)","v":{"$error":"#REF!"}}]
["CC","C279","KARIBE","GONZALEZ SEBASTIAN",null,null,null,null,null,null,null,null,null,null,null,null,40,null,null,null,null,null,null,null,null,null,null,null,null,null,null,null,null,null,null,null,null,null,"","","",null,null,"","","",null,null,40,0,40,null,{"$f":"VLOOKUP(B207,#REF!,3,FALSE)","v":{"$error":"#REF!"}}]
["CC","C280","KARIOKA","TAMARIZ MALO SANTIAGO",null,null,null,null,null,null,null,null,null,null,null,null,null,null,null,null,null,null,null,null,null,null,null,null,null,null,null,null,null,null,null,null,null,null,"","","",null,null,"","","",null,null,0,0,0,null,{"$f":"VLOOKUP(B208,#REF!,3,FALSE)","v":{"$error":"#REF!"}}]
["B","CO66","KIM SASHA","SERGIO MORILLO",null,null,null,null,null,null,null,null,null,null,null,null,null,null,null,null,null,"",null,null,null,"","",null,"",null,"",null,"",null,null,null,null,null,"","","",null,null,"","","",null,null,0,0,0,null,{"$f":"VLOOKUP(B209,#REF!,3,FALSE)","v":{"$error":"#REF!"}}]
[null,"C345","KITOCHI","MALO MALO MARIA JOSE",null,null,null,null,null,null,null,null,null,null,null,null,null,null,null,null,null,null,null,null,null,null,null,null,null,null,null,null,null,null,null,null,null,null,null,"","",null,null,"","","",null,null,0,0,0,null,{"$f":"VLOOKUP(B210,#REF!,3,FALSE)","v":{"$error":"#REF!"}}]
["B","C","KORFU GS",null,null,null,null,null,null,null,null,null,null,null,null,null,"","","","","","",null,null,null,"","",null,"",null,"",null,"",null,null,null,null,null,"","","",null,null,"","","",null,null,0,0,0,null,{"$f":"VLOOKUP(B211,#REF!,3,FALSE)","v":{"$error":"#REF!"}}]
[null,"C331","LIA","NOBOA MAURICIO",null,null,null,null,null,null,null,null,null,null,null,null,null,null,null,null,null,null,null,null,null,null,null,null,null,null,null,null,null,null,null,null,null,null,"","","",null,null,"","","",null,null,0,0,0,null,{"$f":"VLOOKUP(B212,#REF!,3,FALSE)","v":{"$error":"#REF!"}}]
["B","C183","LIMON",null,null,null,null,null,null,null,null,null,null,null,null,"","","","","","","",null,null,null,"","",null,"",null,"",null,"",null,null,null,null,null,"","","",null,null,"","","",null,null,0,0,0,null,{"$f":"VLOOKUP(B213,#REF!,3,FALSE)","v":{"$error":"#REF!"}}]
["B","CO08","LINDA","ANGEL PAILACHO",null,null,null,null,null,null,null,null,null,null,null,null,null,"","","","","",null,null,null,"","",null,"",null,"",null,"",null,null,null,null,null,"","","",null,null,"","","",null,null,0,0,0,null,{"$f":"VLOOKUP(B214,#REF!,3,FALSE)","v":{"$error":"#REF!"}}]
["B","C119","LLUVIA CMB","CESAR MORA BOWEN",null,null,40,40,40,null,null,40,null,null,42,"","","","","","","",null,null,null,"","",52,"",null,"",null,"",null,null,null,null,null,"","","",null,null,"","","",null,null,52,52,254,null,{"$f":"VLOOKUP(B215,#REF!,3,FALSE)","v":{"$error":"#REF!"}}]
["B","C137","LLUVIA DG",null,null,null,null,null,null,null,null,null,null,null,null,null,null,null,null,null,null,null,null,null,null,"","",null,"",null,"",null,"",null,null,null,null,null,"","","",null,null,"","","",null,null,0,0,0,null,{"$f":"VLOOKUP(B216,#REF!,3,FALSE)","v":{"$error":"#REF!"}}]
["B","C138","LOIKA",null,null,null,null,null,null,null,null,null,null,null,42,"","","","","","","",null,null,null,"","",null,"",null,"",null,"",null,null,null,null,null,"","","",null,null,"","","",null,null,42,0,42,null,{"$f":"VLOOKUP(B217,#REF!,3,FALSE)","v":{"$error":"#REF!"}}]
["C091","CO16","LOLA","JHONATAN TORRES",null,null,null,null,null,null,null,null,null,null,null,null,null,null,null,null,null,"",null,null,null,"","",null,"",null,"",null,"",null,null,null,null,null,"","","",null,null,"","","",null,null,0,0,0,null,{"$f":"VLOOKUP(B218,#REF!,3,FALSE)","v":{"$error":"#REF!"}}]
[null,"C163","LULY","FRITZ JULIANA",null,null,null,null,null,null,null,null,null,null,null,null,null,null,null,null,null,null,null,null,null,null,null,null,null,null,null,null,null,null,null,null,null,null,null,null,"",null,null,"","","",null,null,0,0,0,null,{"$f":"VLOOKUP(B219,#REF!,3,FALSE)","v":{"$error":"#REF!"}}]
["C047","CO58","MACARENA","DANIEL PALACIOS",null,null,null,null,null,null,null,null,null,null,null,null,null,null,null,null,null,"",null,null,null,"","",null,"",null,"",null,"",null,null,null,null,null,"","","",null,null,"","","",null,null,0,0,0,null,{"$f":"VLOOKUP(B220,#REF!,3,FALSE)","v":{"$error":"#REF!"}}]
["C258","C168","MAGENTA","CONTRERAS MARIA ALICIA",null,null,null,null,null,null,null,null,null,null,null,null,null,null,null,"","","",null,null,null,40,"",52,"",null,"",null,"",null,null,null,null,null,"","","",null,null,"","","",null,null,52,92,92,null,{"$f":"VLOOKUP(B221,#REF!,3,FALSE)","v":{"$error":"#REF!"}}]
["CC","C282","MAGIC MENES","KOPPEL VINTIMILLA OSWALDO",null,null,null,null,null,null,null,null,null,null,null,null,null,null,null,null,null,null,null,null,null,40,null,null,null,null,null,null,null,null,null,null,null,null,"","","",null,null,"","","",null,null,40,40,40,null,{"$f":"VLOOKUP(B222,#REF!,3,FALSE)","v":{"$error":"#REF!"}}]
["CC","C283","MAGIC ONE","MUÑOZ LOAIZA PAUL ESTEBAN",null,null,null,null,null,null,null,null,null,null,null,null,null,null,null,null,null,null,null,null,null,null,null,null,null,null,null,null,null,null,null,null,null,null,"","","",null,null,"","","",null,null,0,0,0,null,{"$f":"VLOOKUP(B223,#REF!,3,FALSE)","v":{"$error":"#REF!"}}]
[null,"C366","MAGO GH","MORAN KEVIN GUILLERMO",null,null,null,null,null,null,null,null,null,null,null,null,null,null,null,null,null,null,null,null,null,null,null,null,null,null,null,null,null,null,null,null,null,null,"","","",{"$f":"IFERROR($BA224,\"\")","v":""},null,"","","",null,null,0,0,0,null,{"$f":"VLOOKUP(B224,#REF!,3,FALSE)","v":{"$error":"#REF!"}}]
["B","CO48","MAMBO","JUAN MARTIN RICAURTE",null,null,null,null,null,null,null,null,null,null,null,null,null,null,null,null,null,"",null,null,null,"","",null,"",null,"",null,"",null,null,null,null,null,"","","",null,null,"","","",null,null,0,0,0,null,{"$f":"VLOOKUP(B225,#REF!,3,FALSE)","v":{"$error":"#REF!"}}]
["C043","C110","MANOLO","LUIS LANDAZURI",null,null,null,null,null,null,null,null,null,null,42,"","","","","","","",null,null,null,"","",null,"",null,"",null,"",null,null,null,null,null,"","","",null,null,"","","",null,null,42,0,42,null,{"$f":"VLOOKUP(B226,#REF!,3,FALSE)","v":{"$error":"#REF!"}}]
["B","C045","MANUELA","BENITO JARAMILLO",null,null,null,null,null,null,null,null,null,null,null,null,null,null,null,null,null,"",null,null,null,"","",null,"",null,"",null,"",null,null,null,null,null,"","","",null,null,"","","",null,null,0,0,0,null,{"$f":"VLOOKUP(B227,#REF!,3,FALSE)","v":{"$error":"#REF!"}}]
["B","CO51","MARIMBA","FABIAN ROLDAN",null,null,null,null,null,null,null,null,null,null,null,null,null,null,null,null,null,"",null,null,null,"","",null,"",null,"",null,"",null,null,null,null,null,"","","",null,null,"","","",null,null,0,0,0,null,{"$f":"VLOOKUP(B228,#REF!,3,FALSE)","v":{"$error":"#REF!"}}]
["C092","C017","MARTIN","JOSE MARIA LANDAZURI",null,null,null,null,null,null,null,null,null,null,null,null,null,null,null,null,null,"",null,null,null,"","",null,"",null,"",null,"",null,null,null,null,null,"","","",null,null,"","","",null,null,0,0,0,null,{"$f":"VLOOKUP(B229,#REF!,3,FALSE)","v":{"$error":"#REF!"}}]
["C038","C","MARTIN MS",null,40,null,null,null,40,null,null,null,null,null,null,"","","","","","","",null,null,null,"","",null,"",null,"",null,"",null,null,null,null,null,"","","",null,null,"","","",null,null,40,0,80,null,{"$f":"VLOOKUP(B230,#REF!,3,FALSE)","v":{"$error":"#REF!"}}]
["B","CO07","MASSUH","ALEGRIA JIJON ANDRADE",null,null,null,null,null,null,null,null,null,null,42,"","","","","","","",null,null,null,"","",null,"",null,"",null,"",null,null,null,null,null,"","","",null,null,"","","",null,null,42,0,42,null,{"$f":"VLOOKUP(B231,#REF!,3,FALSE)","v":{"$error":"#REF!"}}]
["C203","CO50","MATADOR COGNAC",null,null,null,null,null,null,null,null,null,null,null,null,null,null,null,null,null,null,"",null,null,null,"","",null,"",null,"",null,"",null,null,null,null,null,"","","",null,null,"","","",null,null,0,0,0,null,{"$f":"VLOOKUP(B232,#REF!,3,FALSE)","v":{"$error":"#REF!"}}]
["C143","C","MATEO AD",null,40,null,null,null,null,null,null,null,null,null,null,"","","","","","","",null,null,null,"","",null,"",null,"",null,"",null,null,null,null,null,"","","",null,null,"","","",null,null,40,0,40,null,{"$f":"VLOOKUP(B233,#REF!,3,FALSE)","v":{"$error":"#REF!"}}]
["C247","C","MD ARMANI",null,null,null,null,40,40,null,null,null,null,null,null,"","","","","","","",null,null,null,"","",null,"",null,"",null,"",null,null,null,null,null,"","","",null,null,"","","",null,null,40,0,80,null,{"$f":"VLOOKUP(B234,#REF!,3,FALSE)","v":{"$error":"#REF!"}}]
["C182","C120","MD KABUL","JOSE DANIEL ANDRADE",null,null,null,null,null,null,null,null,null,null,null,40,41,40,"","","","",null,null,null,"","",null,"",null,"",null,"",null,null,null,null,null,"","","",null,null,"",82,"",null,null,82,82,203,null,{"$f":"VLOOKUP(B235,#REF!,3,FALSE)","v":{"$error":"#REF!"}}]
["C081","C164","MD RAMSES","MAURICIO NOBOA",null,null,null,null,null,null,null,null,null,null,null,null,null,null,null,null,null,null,null,null,null,null,null,null,"",null,"",null,"",null,null,null,null,null,"","","",null,null,"","","",null,null,0,0,0,null,{"$f":"VLOOKUP(B236,#REF!,3,FALSE)","v":{"$error":"#REF!"}}]
["C069","C","MD SERENATA",null,null,null,null,40,40,40,null,null,null,null,null,"","","","","","","",null,null,null,"","",null,"",null,"",null,"",null,null,null,null,null,"","","",null,null,"","","",null,null,40,0,120,null,{"$f":"VLOOKUP(B237,#REF!,3,FALSE)","v":{"$error":"#REF!"}}]
[null,"C332","MD SOHAT","SERRANO ARMANDO JOSE",null,null,null,null,null,null,null,null,null,null,null,null,null,null,null,null,null,null,null,null,null,null,null,null,null,null,null,null,null,null,null,null,null,null,null,"","",null,null,60,"","",null,null,60,60,60,null,{"$f":"VLOOKUP(B238,#REF!,3,FALSE)","v":{"$error":"#REF!"}}]
["C081","CO32","MEDIA LUNA","MARIA JOSE HIDALGO",null,null,null,40,null,null,null,null,null,null,null,null,null,null,null,null,null,"",null,null,null,"","",null,"",null,"",null,"",null,null,null,null,null,"","","",null,null,"","","",null,null,40,0,40,null,{"$f":"VLOOKUP(B239,#REF!,3,FALSE)","v":{"$error":"#REF!"}}]
["B","C","MEGATRON","MAURICIO NOBOA",null,null,null,null,null,null,null,null,null,null,null,null,null,null,null,null,null,null,null,null,null,null,null,null,null,null,null,null,"",null,null,null,null,null,"","","",null,null,"","","",null,null,0,0,0,null,{"$f":"VLOOKUP(B240,#REF!,3,FALSE)","v":{"$error":"#REF!"}}]
["B","C146","MELCOCHA",null,null,null,null,null,40,null,null,null,null,null,null,"","","","","","","",null,null,null,"","",null,"",null,"",null,"",null,null,null,null,null,"","","",null,null,"","","",null,null,40,0,40,null,{"$f":"VLOOKUP(B241,#REF!,3,FALSE)","v":{"$error":"#REF!"}}]
["C074","C","MERENGUE",null,null,null,40,40,40,null,null,null,null,null,null,"","","","","","","",null,null,null,"","",null,"",null,"",null,"",null,null,null,null,null,"","","",null,null,"","","",null,null,40,0,120,null,{"$f":"VLOOKUP(B242,#REF!,3,FALSE)","v":{"$error":"#REF!"}}]
[null,"C340","MEZCAL","MUÑOZ DENNY",null,null,null,null,null,null,null,null,null,null,null,null,null,null,null,null,null,null,null,null,null,null,null,null,null,null,null,null,null,null,null,null,null,null,null,"","",null,null,"","","",null,null,0,0,0,null,{"$f":"VLOOKUP(B243,#REF!,3,FALSE)","v":{"$error":"#REF!"}}]
["B","CO22","MILENIUM","ALFREDO CHIRIBOGA",null,null,null,40,null,null,null,null,null,null,null,null,null,null,null,null,null,"",null,null,null,"","",null,"",null,"",null,"",null,null,null,null,null,"","","",null,null,"","","",null,null,40,0,40,null,{"$f":"VLOOKUP(B244,#REF!,3,FALSE)","v":{"$error":"#REF!"}}]
["B","C029","MILONGA","JARAMILLO BENITO",null,null,null,null,null,null,null,null,null,null,42,"","","","","","","",null,null,null,"","",null,"",null,"",null,"",null,null,null,null,null,43,"","",null,null,"","","",null,null,43,43,85,null,{"$f":"VLOOKUP(B245,#REF!,3,FALSE)","v":{"$error":"#REF!"}}]
["B","C094","MISTERIO","MAURICIO MORILLO",null,null,null,null,null,null,54,null,null,null,null,"","","","","",84,81,null,null,null,80,90,82,80,null,82,null,"",null,null,null,null,82,43,"","",null,null,"","","",null,null,90,539,758,null,{"$f":"VLOOKUP(B246,#REF!,3,FALSE)","v":{"$error":"#REF!"}}]
["C009","C","MK CARIBE",null,null,null,null,null,null,null,null,null,null,null,null,null,null,null,null,null,null,null,null,null,null,0,"",null,"",null,"",null,"",null,null,null,null,null,"","","",null,null,"","","",null,null,0,0,0,null,{"$f":"VLOOKUP(B247,#REF!,3,FALSE)","v":{"$error":"#REF!"}}]
["B","C","MK KARANQUI",null,null,null,40,null,null,null,null,null,null,null,null,"","","","","","","",null,null,null,"","",null,"",null,"",null,"",null,null,null,null,null,"","","",null,null,"","","",null,null,40,0,40,null,{"$f":"VLOOKUP(B248,#REF!,3,FALSE)","v":{"$error":"#REF!"}}]
["CC","C281","MK KAROK","MERIZALDE ANGELA",null,null,null,null,null,null,null,null,null,null,null,null,null,null,null,null,null,null,null,null,null,null,null,null,null,null,null,null,null,null,null,null,null,null,"","","",null,null,"","","",null,null,0,0,0,null,{"$f":"VLOOKUP(B249,#REF!,3,FALSE)","v":{"$error":"#REF!"}}]
[null,"C281","MK KAROK","GONZALEZ RENATO",null,null,null,null,null,null,null,null,null,null,null,null,null,null,null,null,null,null,null,null,null,null,null,null,null,null,null,null,null,null,null,null,null,null,null,null,null,null,null,"","","",null,null,0,0,0,null,{"$f":"VLOOKUP(B250,#REF!,3,FALSE)","v":{"$error":"#REF!"}}]
["B","C","MK KORFU","ANA MARÍA MORENO",null,null,null,null,null,null,null,null,null,null,42,"","","","","","","",null,null,null,"","",null,"",null,"",null,"",null,null,null,null,null,"","","",null,null,"","","",null,null,42,0,42,null,{"$f":"VLOOKUP(B251,#REF!,3,FALSE)","v":{"$error":"#REF!"}}]
["C309","C043","MK KRISTAL","EDISON KUZME",null,null,40,null,null,null,null,null,null,null,null,null,null,null,null,null,null,"",null,null,null,"","",null,"",null,"",null,"",null,null,null,null,null,"","","",null,null,"","","",null,null,40,0,40,null,{"$f":"VLOOKUP(B252,#REF!,3,FALSE)","v":{"$error":"#REF!"}}]
["B","C091","MOCACHINO MA","DANIELA MORENO",null,null,null,null,null,null,null,null,null,null,null,null,null,null,null,"","","",null,null,null,"","",null,"",null,"",null,"",null,null,null,null,null,"","","",null,null,"","","",null,null,0,0,0,null,{"$f":"VLOOKUP(B253,#REF!,3,FALSE)","v":{"$error":"#REF!"}}]
["C020","C","MOCACHINO PM",null,40,40,null,null,null,null,null,null,null,null,null,"","","","","","","",null,null,null,"","",null,"",null,"",null,"",null,null,null,null,null,"","","",null,null,"","","",null,null,40,0,80,null,{"$f":"VLOOKUP(B254,#REF!,3,FALSE)","v":{"$error":"#REF!"}}]
["C001","C002","MOJITO","FERNANDO ESPINDOLA",null,null,null,null,null,null,null,null,null,null,null,null,null,null,null,null,null,"",null,null,null,"","",null,"",null,"",null,"",null,null,null,null,null,"","","",null,null,"","","",null,null,0,0,0,null,{"$f":"VLOOKUP(B255,#REF!,3,FALSE)","v":{"$error":"#REF!"}}]
["C008","C","MONTANA",null,null,null,null,40,null,null,null,null,null,40,null,"","","","","","","",null,null,null,"","",null,"",null,"",null,"",null,null,null,null,null,"","","",null,null,"","","",null,null,40,0,80,null,{"$f":"VLOOKUP(B256,#REF!,3,FALSE)","v":{"$error":"#REF!"}}]
["C216","C025","MORANTE","SANTIAGO GUARDERAS",null,null,null,null,null,null,null,null,null,null,null,null,null,null,null,null,null,"",null,null,null,"","",null,"",null,"",null,59,null,null,null,null,null,"","","",null,null,"","","",null,null,59,59,59,null,{"$f":"VLOOKUP(B257,#REF!,3,FALSE)","v":{"$error":"#REF!"}}]
["C291","C027","MORDOR","JAIRO TIMANA",null,null,null,null,null,null,null,null,null,null,null,null,null,null,null,null,null,"",null,null,null,"","",null,"",null,"",null,"",null,null,null,null,null,"","","",null,null,"","","",null,null,0,0,0,null,{"$f":"VLOOKUP(B258,#REF!,3,FALSE)","v":{"$error":"#REF!"}}]
["B","C","MORITA",null,null,null,null,null,null,40,null,40,null,null,null,"","","","","","","",null,null,null,"","",null,"",null,"",null,"",null,null,null,null,null,"","","",null,null,"","","",null,null,40,0,80,null,{"$f":"VLOOKUP(B259,#REF!,3,FALSE)","v":{"$error":"#REF!"}}]
["B","C","MORO LB",null,null,null,40,null,40,null,null,null,null,null,null,"","","","",43,"","",null,null,null,"","",null,"",null,"",null,"",null,null,null,null,null,"","","",null,null,"","","",null,null,43,0,123,null,{"$f":"VLOOKUP(B260,#REF!,3,FALSE)","v":{"$error":"#REF!"}}]
["C033","C","MORO LJ",null,40,null,null,null,null,null,null,null,null,null,null,"","","","","","","",null,null,null,"","",null,"",null,"",null,"",null,null,null,null,null,"","","",null,null,"","","",null,null,40,0,40,null,{"$f":"VLOOKUP(B261,#REF!,3,FALSE)","v":{"$error":"#REF!"}}]
["C146","C062","MORO MP","MARTINA DEL POZO",null,null,null,null,null,null,null,null,null,null,null,null,null,null,null,null,null,"",null,null,null,"","",null,"",null,"",null,"",null,null,null,null,null,"","","",null,null,"","","",null,null,0,0,0,null,{"$f":"VLOOKUP(B262,#REF!,3,FALSE)","v":{"$error":"#REF!"}}]
["CC","C271","MORRISON","KOPPEL OSWALDO",null,null,null,null,null,null,null,null,null,null,null,40,null,null,null,null,null,null,null,null,null,null,null,null,null,null,null,null,null,null,null,null,null,null,"","","",null,null,"","","",null,null,{"$f":"MAX(E263:AV263)","v":40},{"$f":"SUM(Z263:AV263)","v":0},{"$f":"SUM(E263:AV263)","v":40},null,{"$f":"VLOOKUP(B263,#REF!,3,FALSE)","v":{"$error":"#REF!"}}]
["B","C200","MULATA","LUIS AULES",null,null,null,null,null,null,null,null,null,null,null,null,null,null,null,null,null,null,null,null,null,null,null,null,null,null,null,null,null,null,null,null,null,null,"","",49,null,null,60,"","",null,null,60,109,109,null,{"$f":"VLOOKUP(B264,#REF!,3,FALSE)","v":{"$error":"#REF!"}}]
["B","C255","MULITA","MALO DAVID",null,null,null,null,null,null,null,null,null,null,null,null,null,null,null,null,null,null,null,null,null,null,null,null,null,null,null,null,null,null,null,null,null,null,"","","",null,null,"","","",null,null,0,0,0,null,{"$f":"VLOOKUP(B265,#REF!,3,FALSE)","v":{"$error":"#REF!"}}]
["C075","C144","MUSKATEL",null,null,null,null,null,null,null,null,null,null,null,null,null,null,"","","","","",null,null,null,"","",null,"",null,"",null,"",null,null,null,null,null,"","","",null,null,"","","",null,null,0,0,0,null,{"$f":"VLOOKUP(B266,#REF!,3,FALSE)","v":{"$error":"#REF!"}}]
["C039","C009","MUSTAFA","MARIA ELENA YEROVI",null,null,null,null,null,null,null,null,null,null,null,null,null,null,null,null,null,"",null,null,null,"","",null,"",null,"",null,"",null,null,null,null,null,"","","",null,null,"","","",null,null,0,0,0,null,{"$f":"VLOOKUP(B267,#REF!,3,FALSE)","v":{"$error":"#REF!"}}]
["C208","C","MUSTAFA II SF",null,null,40,40,40,60,null,null,null,null,null,null,"","","","","","","",null,null,null,"","",null,"",null,"",null,"",null,null,null,null,null,"","","",null,null,"","","",null,null,60,0,180,null,{"$f":"VLOOKUP(B268,#REF!,3,FALSE)","v":{"$error":"#REF!"}}]
["C188","C","MUSTAFA MD",null,40,null,40,60,60,60,null,null,null,null,null,"","","","","","","",null,null,null,"","",null,"",null,"",null,"",null,null,null,null,null,"","","",null,null,"","","",null,null,60,0,260,null,{"$f":"VLOOKUP(B269,#REF!,3,FALSE)","v":{"$error":"#REF!"}}]
["C052","C","MUSTAFA PI",null,null,null,40,60,null,60,null,null,null,null,42,"","",87,"","","","",null,null,null,"","",null,"",null,"",null,"",null,null,null,null,null,"","","",null,null,"","","",null,null,87,0,289,null,{"$f":"VLOOKUP(B270,#REF!,3,FALSE)","v":{"$error":"#REF!"}}]
["C113","C030","NAIPE","MARCEL ROBERTO",null,null,null,null,null,null,null,null,null,null,null,null,null,"","","","",44,null,null,null,"","",null,"",null,"",null,"",null,null,null,null,null,"","","",null,null,"","","",null,null,44,0,44,null,{"$f":"VLOOKUP(B271,#REF!,3,FALSE)","v":{"$error":"#REF!"}}]
["C063","C","NARA",null,null,null,null,null,null,null,null,null,null,null,null,null,null,"","","","","",null,null,null,"","",null,"",null,"",null,"",null,null,null,null,null,"","","",null,null,"","","",null,null,0,0,0,null,{"$f":"VLOOKUP(B272,#REF!,3,FALSE)","v":{"$error":"#REF!"}}]
["C103","C044","NATANYA","LUIS ENRIQUE LANDAZURI",null,null,null,null,null,null,null,null,null,null,null,null,null,null,null,null,null,"",null,null,null,"","",null,"",null,"",null,"",null,null,null,null,null,"","","",null,null,"","","",null,null,0,0,0,null,{"$f":"VLOOKUP(B273,#REF!,3,FALSE)","v":{"$error":"#REF!"}}]
["CC","C285","NEGRA","VINTIMILLA SERRANO PABLO",null,null,null,null,null,null,null,null,null,null,null,null,null,null,null,null,null,null,null,null,null,null,null,null,null,null,null,null,null,null,null,null,null,null,"","","",null,null,"","","",null,null,0,0,0,null,{"$f":"VLOOKUP(B274,#REF!,3,FALSE)","v":{"$error":"#REF!"}}]
["C064","C","NEGRO BD",null,null,null,null,null,null,null,null,null,null,null,null,"","","","","","","",null,null,null,"","",null,"",null,"",null,"",null,null,null,null,null,"","","",null,null,"","","",null,null,0,0,0,null,{"$f":"VLOOKUP(B275,#REF!,3,FALSE)","v":{"$error":"#REF!"}}]
["CC","C286","NEGRO EG","BURBANO VILLAVICENCIO JAIME SEBASTIAN",null,null,null,null,null,null,null,null,null,null,null,40,40,40,null,null,null,null,null,null,null,null,null,null,null,null,null,null,null,null,null,null,null,null,"","","",null,null,"","","",null,null,40,0,120,null,{"$f":"VLOOKUP(B276,#REF!,3,FALSE)","v":{"$error":"#REF!"}}]
["C161","C","NEMO VM",null,null,null,null,null,40,40,54,null,null,40,null,"","","","","","","",null,null,null,"","",null,"",null,"",null,"",null,null,null,null,null,"","","",null,null,"","","",null,null,54,0,174,null,{"$f":"VLOOKUP(B277,#REF!,3,FALSE)","v":{"$error":"#REF!"}}]
["CC","C287","NENA","BURBANO SERRANO JUAN JOSE",null,null,null,null,null,null,null,null,null,null,null,40,null,null,null,null,null,null,null,null,null,null,null,null,null,null,null,null,null,null,null,null,null,null,"","","",null,null,"","","",null,null,40,0,40,null,{"$f":"VLOOKUP(B278,#REF!,3,FALSE)","v":{"$error":"#REF!"}}]
["C066","C","NERU LP BJ",null,null,null,null,null,null,null,null,40,null,null,null,"","","","","","","",null,null,null,"","",null,"",null,"",null,"",null,null,null,null,null,"","","",null,null,"","","",null,null,40,0,40,null,{"$f":"VLOOKUP(B279,#REF!,3,FALSE)","v":{"$error":"#REF!"}}]
["CC","C288","NEVADO","SORIA VASQUEZ MARIA DANIELA",null,null,null,null,null,null,null,null,null,null,null,null,null,null,null,null,null,null,null,null,null,null,null,null,null,null,null,null,null,null,null,null,null,null,"","","",null,null,"","","",null,null,0,0,0,null,{"$f":"VLOOKUP(B280,#REF!,3,FALSE)","v":{"$error":"#REF!"}}]
["C181","C019","NICOLAS","MANUELA JARAMILLO",null,null,null,null,null,null,null,null,null,null,null,null,null,null,null,null,null,"",null,null,null,"","",null,"",null,"",null,"",null,null,null,null,null,"","","",null,null,"","","",null,null,0,0,0,null,{"$f":"VLOOKUP(B281,#REF!,3,FALSE)","v":{"$error":"#REF!"}}]
["CC","C289","ÑATO","FEICAN ANDRES",null,null,null,null,null,null,null,null,null,null,null,null,40,40,40,null,null,null,null,null,null,null,null,null,null,null,null,null,null,null,null,null,null,null,"","","",null,null,"","","",null,null,40,0,120,null,{"$f":"VLOOKUP(B282,#REF!,3,FALSE)","v":{"$error":"#REF!"}}]
["CC","C290","PADRINO","GONZALEZ ANA MARIA",null,null,null,null,null,null,null,null,null,null,null,null,null,null,null,null,null,null,null,null,null,null,null,null,null,null,null,44,null,null,null,68,null,null,"","","",null,null,"","","",null,null,68,112,112,null,{"$f":"VLOOKUP(B283,#REF!,3,FALSE)","v":{"$error":"#REF!"}}]
[null,"C199","PAINT HORSES","MALO GELLIBERT ANDREA NATALY",null,null,null,null,null,null,null,null,null,null,null,null,null,null,null,null,null,null,null,null,null,null,null,null,null,null,null,null,null,null,null,null,null,null,null,null,null,null,null,"","","",null,null,0,0,0,null,{"$f":"VLOOKUP(B284,#REF!,3,FALSE)","v":{"$error":"#REF!"}}]
["CC","C291","PALERMO","MALO MARIBEL",null,null,null,null,null,null,null,null,null,null,null,null,null,null,null,null,null,null,null,null,null,null,null,null,null,null,null,44,null,42,null,45,null,null,"","","",null,null,"","","",null,null,45,131,131,null,{"$f":"VLOOKUP(B285,#REF!,3,FALSE)","v":{"$error":"#REF!"}}]
["B","C039","PALOMA","VLADIMIR TORRES",null,null,null,null,null,null,null,null,null,null,null,null,null,null,null,null,null,44,null,null,null,"","",null,"",null,"",null,"",null,null,null,null,null,"","","",null,null,"","","",null,null,44,0,44,null,{"$f":"VLOOKUP(B286,#REF!,3,FALSE)","v":{"$error":"#REF!"}}]
["B","C","PAPILLON",null,null,null,null,null,40,null,null,null,null,null,null,"","","","","","","",null,null,null,"","",null,"",null,"",null,"",null,null,null,null,null,"","","",null,null,"","","",null,null,40,0,40,null,{"$f":"VLOOKUP(B287,#REF!,3,FALSE)","v":{"$error":"#REF!"}}]
["CC","C197","PATACON","CLAUDIA LOYOLA",null,null,null,null,null,null,null,null,null,null,null,null,null,40,40,null,null,null,null,null,null,null,null,null,null,58,null,63,null,null,null,68,null,null,"","",84,null,null,"",82,"",null,null,84,355,435,null,{"$f":"VLOOKUP(B288,#REF!,3,FALSE)","v":{"$error":"#REF!"}}]
["C139","C","PAVAROTI VM",null,null,null,null,null,40,40,null,null,null,null,null,"","","","","","","",null,null,null,"","",null,"",null,"",null,"",null,null,null,null,null,"","","",null,null,"","","",null,null,40,0,80,null,{"$f":"VLOOKUP(B289,#REF!,3,FALSE)","v":{"$error":"#REF!"}}]
[null,"C243","PAVITA","MEDINA CARVAJAL JORGE",null,null,null,null,null,null,null,null,null,null,null,null,null,null,null,null,null,null,null,null,null,null,null,null,null,null,null,null,null,null,null,null,null,null,null,null,null,null,null,"","","",null,null,0,0,0,null,{"$f":"VLOOKUP(B290,#REF!,3,FALSE)","v":{"$error":"#REF!"}}]
["B","C040","PECAS GR","GALO RECALDE",null,null,null,null,null,null,null,null,null,null,null,null,"","","","","",44,null,null,null,"","",null,"",null,62,null,"",null,40,null,null,61,"","","",null,null,"","","",null,null,62,163,207,null,{"$f":"VLOOKUP(B291,#REF!,3,FALSE)","v":{"$error":"#REF!"}}]
["C026","C","PECAS WM",null,null,null,40,60,60,60,null,null,null,40,null,"","","","","","","",null,null,null,"","",null,"",null,"",null,"",null,null,null,null,null,"","","",null,null,"","","",null,null,60,0,260,null,{"$f":"VLOOKUP(B292,#REF!,3,FALSE)","v":{"$error":"#REF!"}}]
["C269","C","PEPE TRUENO",null,null,null,40,null,null,null,null,null,null,null,null,"","","","","","","",null,null,null,"","",null,"",null,"",null,"",null,null,null,null,null,"","","",null,null,"","","",null,null,40,0,40,null,{"$f":"VLOOKUP(B293,#REF!,3,FALSE)","v":{"$error":"#REF!"}}]
["C271","C","PERCAL",null,null,null,null,null,null,null,null,null,null,null,null,"","","","","","","",null,null,null,"","",null,"",null,"",null,"",null,null,null,null,null,"","","",null,null,"","","",null,null,0,0,0,null,{"$f":"VLOOKUP(B294,#REF!,3,FALSE)","v":{"$error":"#REF!"}}]
[null,"C330","PIBE","BURBANO SERRANO JAIME ROLANDO",null,null,null,null,null,null,null,null,null,null,null,null,null,null,null,null,null,null,null,null,null,null,null,null,null,null,null,null,null,null,null,null,null,null,"","","",{"$f":"IFERROR($BA295,\"\")","v":""},null,"","","",null,null,0,0,0,null,{"$f":"VLOOKUP(B295,#REF!,3,FALSE)","v":{"$error":"#REF!"}}]
["CC","C292","PINTO","ALVEAR HERNAN",null,null,null,null,null,null,null,null,null,null,null,null,40,null,null,null,null,null,null,null,null,null,null,null,null,null,null,null,null,null,null,null,null,null,"","","",null,null,"","","",null,null,40,0,40,null,{"$f":"VLOOKUP(B296,#REF!,3,FALSE)","v":{"$error":"#REF!"}}]
["C021","C","PINTO ZK",null,null,60,60,null,null,null,null,null,null,null,null,"","","","","","","",null,null,null,"","",null,"",null,"",null,"",null,null,null,null,null,"","","",null,null,"","","",null,null,60,0,120,null,{"$f":"VLOOKUP(B297,#REF!,3,FALSE)","v":{"$error":"#REF!"}}]
["C304","C","PIROPO RM",null,40,null,null,null,null,null,null,null,null,null,null,"","","","","","","",null,null,null,"","",null,"",null,"",null,"",null,null,null,null,null,"","","",null,null,"","","",null,null,40,0,40,null,{"$f":"VLOOKUP(B298,#REF!,3,FALSE)","v":{"$error":"#REF!"}}]
["CC","C293","POPEYE","GONZALEZ CARVALLO BERNARDA",null,null,null,null,null,null,null,null,null,null,null,null,null,null,null,null,null,null,null,null,null,null,null,null,null,null,null,null,null,null,null,null,null,null,"","","",null,null,"","","",null,null,0,0,0,null,{"$f":"VLOOKUP(B299,#REF!,3,FALSE)","v":{"$error":"#REF!"}}]
["C096","C","PREFERIDO NA",null,60,60,null,null,null,null,null,null,null,null,null,"","","","","","","",null,null,null,"","",null,"",null,"",null,"",null,null,null,null,null,"","","",null,null,"","","",null,null,60,0,120,null,{"$f":"VLOOKUP(B300,#REF!,3,FALSE)","v":{"$error":"#REF!"}}]
["B","C","PRIMAVERA TV",null,null,null,null,null,null,null,54,null,null,null,null,"","","","","","","",null,null,null,"","",null,"",null,"",null,"",null,null,null,null,null,"","","",null,null,"","","",null,null,54,0,54,null,{"$f":"VLOOKUP(B301,#REF!,3,FALSE)","v":{"$error":"#REF!"}}]
["C096","C033","PRINCIPE","DIEGO ARMANDO LUNA",null,null,null,null,null,null,null,null,null,null,null,"","","","",43,"","",null,null,null,"","",null,"",null,"",null,"",null,null,null,null,null,"","","",null,null,"","","",null,null,43,0,43,null,{"$f":"VLOOKUP(B302,#REF!,3,FALSE)","v":{"$error":"#REF!"}}]
["B","C","PRODIGO",null,null,null,null,null,null,null,null,null,null,null,null,null,"","","","","","",null,null,null,"","",null,"",null,"",null,"",null,null,null,null,null,"","","",null,null,"","","",null,null,0,0,0,null,{"$f":"VLOOKUP(B303,#REF!,3,FALSE)","v":{"$error":"#REF!"}}]
[null,"C360","PSICOTICO","MANCHENO GALO PATRICIO",null,null,null,null,null,null,null,null,null,null,null,null,null,null,null,null,null,null,null,null,null,null,null,null,null,null,null,null,null,null,null,null,null,null,null,null,null,null,null,"","","",null,null,0,0,0,null,{"$f":"VLOOKUP(B304,#REF!,3,FALSE)","v":{"$error":"#REF!"}}]
[null,"C325","PSYNCINATTI","WILLIAMS JEMMA",null,null,null,null,null,null,null,null,null,null,null,null,null,null,null,null,null,null,null,null,null,null,null,null,null,null,null,null,null,null,null,null,null,null,null,"","",null,null,"","","",null,null,0,0,0,null,{"$f":"VLOOKUP(B305,#REF!,3,FALSE)","v":{"$error":"#REF!"}}]
["B","C014","QUICK PARROT","JUAN GABRIEL REYES",null,null,null,null,null,null,null,null,null,null,null,null,null,null,null,null,null,"",null,null,null,"","",null,"",null,"",null,"",null,null,null,null,null,"","","",null,null,"","","",null,null,0,0,0,null,{"$f":"VLOOKUP(B306,#REF!,3,FALSE)","v":{"$error":"#REF!"}}]
["C076","C161","QUISHUAR",null,null,null,null,null,null,null,null,null,null,null,null,null,null,null,null,null,null,null,null,null,null,null,null,null,"",null,"",null,"",null,null,null,null,null,"","","",null,null,"","","",null,null,0,0,0,null,{"$f":"VLOOKUP(B307,#REF!,3,FALSE)","v":{"$error":"#REF!"}}]
["B","C072","QUITA PENAS","ILIANA RUIZ",null,null,null,null,null,null,null,null,null,null,null,null,null,"","","","","",null,60,62,"",59,null,"",null,"",null,"",null,null,null,null,82,43,"","",null,null,"","","",null,null,82,184,306,null,{"$f":"VLOOKUP(B308,#REF!,3,FALSE)","v":{"$error":"#REF!"}}]
[null,"C324","RANCHERO","MORALES ANDRES",null,null,null,null,null,null,null,null,null,null,null,null,null,null,null,null,null,null,null,null,null,null,null,null,null,null,null,null,null,null,null,null,null,null,null,"","",null,null,"","","",null,null,0,0,0,null,{"$f":"VLOOKUP(B309,#REF!,3,FALSE)","v":{"$error":"#REF!"}}]
["C187","C","RAYMI",null,null,null,null,null,null,null,null,null,null,null,null,null,null,null,null,null,null,null,null,null,null,0,"",null,"",null,"",null,"",null,null,null,null,null,"","","",null,null,"","","",null,null,0,0,0,null,{"$f":"VLOOKUP(B310,#REF!,3,FALSE)","v":{"$error":"#REF!"}}]
[null,"C181","RAYUELA","POLIT JULIA",null,null,null,null,null,null,null,null,null,null,null,null,null,null,null,null,null,null,null,null,null,null,null,null,null,null,null,null,null,null,null,null,null,null,null,"","",null,null,"","","",null,null,0,0,0,null,{"$f":"VLOOKUP(B311,#REF!,3,FALSE)","v":{"$error":"#REF!"}}]
["C096","C001","REBELDE","PAULINO VINTIMILLA",null,null,null,null,null,null,null,null,null,null,null,null,null,null,null,null,null,"",null,null,null,"","",null,"",null,"",null,"",null,null,null,null,null,"","","",null,null,"","","",null,null,0,0,0,null,{"$f":"VLOOKUP(B312,#REF!,3,FALSE)","v":{"$error":"#REF!"}}]
["B","C","REGUETON AE",null,null,null,null,null,null,40,null,null,null,null,null,"","","","","","","",null,null,null,"","",null,"",null,"",null,"",null,null,null,null,null,"","","",null,null,"","","",null,null,40,0,40,null,{"$f":"VLOOKUP(B313,#REF!,3,FALSE)","v":{"$error":"#REF!"}}]
["CC","C294","REMOLACHA","MALO GELLIBERT ANDREA NATALY",null,null,null,null,null,null,null,null,null,null,null,null,"","","",null,{"$f":"IFERROR(BA314,\"\")","v":""},null,null,{"$f":"IFERROR($BA314,\"\")","v":""},40,null,"",null,"",null,"",null,"",null,null,null,null,null,"","","",null,null,"","","",null,null,40,0,40,null,{"$f":"VLOOKUP(B314,#REF!,3,FALSE)","v":{"$error":"#REF!"}}]
["CC","C295","RHANIA","VINTIMILLA SERRANO PABLO XAVIER",null,null,null,null,null,null,null,null,null,null,null,null,null,null,null,null,null,null,null,null,null,null,null,null,null,null,null,null,null,null,null,null,null,null,"","","",null,null,"","","",null,null,0,0,0,null,{"$f":"VLOOKUP(B315,#REF!,3,FALSE)","v":{"$error":"#REF!"}}]
[null,"C241","RHYDER",null,null,null,null,null,null,null,null,null,null,null,null,null,null,null,null,null,null,null,null,null,null,null,null,null,null,null,null,null,null,null,null,null,null,null,null,null,null,null,null,"","","",null,null,0,0,0,null,{"$f":"VLOOKUP(B316,#REF!,3,FALSE)","v":{"$error":"#REF!"}}]
[null,"C202","RIGUEL","VINTIMILLA CORDERO PABLO JOSE",null,null,null,null,null,null,null,null,null,null,null,null,null,null,null,null,null,null,null,null,null,null,null,null,null,null,null,null,null,null,null,null,null,null,null,"","",null,null,"","","",null,null,0,0,0,null,{"$f":"VLOOKUP(B317,#REF!,3,FALSE)","v":{"$error":"#REF!"}}]
["B","C057","ROBERTO","JOSE GOMEZ DE LA TORRE",null,null,null,null,null,null,null,null,null,null,null,null,null,null,null,null,null,"",null,44,null,"","",null,"",null,"",null,"",null,null,null,null,null,"","","",null,null,"","","",null,null,44,0,44,null,{"$f":"VLOOKUP(B318,#REF!,3,FALSE)","v":{"$error":"#REF!"}}]
["C076","C","ROBERTO CN",null,null,null,null,null,null,null,null,null,null,null,null,null,null,null,null,"","","",null,null,null,"","",null,"",null,"",null,"",null,null,null,null,null,"","","",null,null,"","","",null,null,0,0,0,null,{"$f":"VLOOKUP(B319,#REF!,3,FALSE)","v":{"$error":"#REF!"}}]
["C187","C","ROBERTO ET",null,null,null,null,null,null,null,null,null,null,null,null,"","",44,"","","","",null,null,null,"","",null,"",null,"",null,"",null,null,null,null,null,"","","",null,null,"","","",null,null,44,0,44,null,{"$f":"VLOOKUP(B320,#REF!,3,FALSE)","v":{"$error":"#REF!"}}]
["C082","C117","RONCO","MARIA FERNANDA BRAUER",null,null,null,null,null,null,null,null,null,null,null,null,null,null,null,null,null,null,null,null,null,0,"",null,"",null,"",null,"",null,null,null,null,null,"","","",null,null,"","","",null,null,0,0,0,null,{"$f":"VLOOKUP(B321,#REF!,3,FALSE)","v":{"$error":"#REF!"}}]
["B","C","ROSA ELENA",null,null,null,40,40,null,40,null,null,null,null,null,"","","","","","","",null,null,null,"","",null,"",null,"",null,"",null,null,null,null,null,"","","",null,null,"","","",null,null,40,0,120,null,{"$f":"VLOOKUP(B322,#REF!,3,FALSE)","v":{"$error":"#REF!"}}]
["CC","C296","ROSILLO","SORIA JUAN MANUEL",null,null,null,null,null,null,null,null,null,null,null,null,null,null,null,null,null,null,null,null,null,null,null,null,null,null,null,null,null,null,null,null,null,null,"","","",null,null,"","","",null,null,0,0,0,null,{"$f":"VLOOKUP(B323,#REF!,3,FALSE)","v":{"$error":"#REF!"}}]
["C027","C035","RUMBERO","DENYS SANCHEZ",null,null,null,null,null,null,null,null,null,null,null,null,null,null,null,null,null,44,null,null,null,"","",null,"",null,"",null,"",null,null,null,null,null,"","","",null,null,"","","",null,null,44,0,44,null,{"$f":"VLOOKUP(B324,#REF!,3,FALSE)","v":{"$error":"#REF!"}}]
["C016","C","SAFIR VE",null,40,null,null,null,null,null,null,null,null,null,null,"","","","","","","",null,null,null,"","",null,"",null,"",null,"",null,null,null,null,null,"","","",null,null,"","","",null,null,40,0,40,null,{"$f":"VLOOKUP(B325,#REF!,3,FALSE)","v":{"$error":"#REF!"}}]
["B","C026","SAHIR SE","EMILIA SALAZAR",null,null,null,null,null,null,null,null,null,null,null,null,null,null,null,null,null,"",null,null,null,"","",null,"",null,"",null,"",null,null,null,null,null,"","","",null,null,"","","",null,null,0,0,0,null,{"$f":"VLOOKUP(B326,#REF!,3,FALSE)","v":{"$error":"#REF!"}}]
["B","C047","SAID HC","RICARDO GARZON",null,null,null,null,null,null,null,null,null,null,null,null,null,null,null,null,null,"",null,null,null,"","",null,"",null,"",null,"",null,null,null,null,null,"","","",null,null,"","","",null,null,{"$f":"MAX(E327:AV327)","v":0},{"$f":"SUM(Z327:AV327)","v":0},{"$f":"SUM(E327:AV327)","v":0},null,{"$f":"VLOOKUP(B327,#REF!,3,FALSE)","v":{"$error":"#REF!"}}]
["CC","C297","SAILER EG","BURBANO SERRANO JAIME ROLANDO",null,null,null,null,null,null,null,null,null,null,null,null,null,null,null,null,null,null,null,null,null,null,null,null,null,null,null,null,null,null,null,null,null,null,"",47,"",null,47,"","","",null,null,47,94,94,null,{"$f":"VLOOKUP(B328,#REF!,3,FALSE)","v":{"$error":"#REF!"}}]
["C062","C","SALTAMONTES",null,null,null,null,null,40,null,null,null,null,null,null,"","","","","","","",null,null,null,"","",null,"",null,"",null,"",null,null,null,null,null,"","","",null,null,"","","",null,null,40,0,40,null,{"$f":"VLOOKUP(B329,#REF!,3,FALSE)","v":{"$error":"#REF!"}}]
["B","C071","SARA","WLADIMIRO TORRES",40,null,null,40,40,40,null,null,null,null,null,"","","","","",63,"",null,null,81,"","",null,"",null,"",null,"",null,null,null,null,null,"","","",null,null,"","","",null,null,81,0,304,null,{"$f":"VLOOKUP(B330,#REF!,3,FALSE)","v":{"$error":"#REF!"}}]
["C014","C073","SARA CMB","CESAR MORABOWEN",null,null,null,null,null,null,null,null,null,null,42,null,null,null,null,"","","",null,null,null,"","",null,"",null,"",null,"",null,null,null,null,null,"","","",null,null,"","","",null,null,42,0,42,null,{"$f":"VLOOKUP(B331,#REF!,3,FALSE)","v":{"$error":"#REF!"}}]
["CC","C298","SARAÑUSCA","CORDOVA JAVIER",null,null,null,null,null,null,null,null,null,null,null,null,null,null,null,null,null,null,null,null,null,null,null,null,null,null,null,null,null,null,null,null,null,null,"","","",null,null,"","","",null,null,0,0,0,null,{"$f":"VLOOKUP(B332,#REF!,3,FALSE)","v":{"$error":"#REF!"}}]
["CC","C299","SARAVI","PEÑA SOFIA",null,null,null,null,null,null,null,null,null,null,null,null,40,40,null,null,null,null,null,null,null,null,null,null,null,null,null,null,null,null,null,null,null,null,"","","",null,null,"","","",null,null,40,0,80,null,{"$f":"VLOOKUP(B333,#REF!,3,FALSE)","v":{"$error":"#REF!"}}]
["B","C053","SC HURR","MATEO TOBAR",null,null,null,null,null,null,null,40,null,null,null,"","","","","","","",null,null,null,"","",null,"",null,"",null,"",null,null,null,null,null,"","","",null,null,"","","",null,null,40,0,40,null,{"$f":"VLOOKUP(B334,#REF!,3,FALSE)","v":{"$error":"#REF!"}}]
["B","C140","SC SADIQ","HÉCTOR ALMEIDA",null,null,null,null,null,null,null,null,null,null,null,null,null,null,null,null,null,null,null,null,null,null,null,null,null,null,null,null,null,null,null,null,null,null,"","","",null,null,"","","",null,null,0,0,0,null,{"$f":"VLOOKUP(B335,#REF!,3,FALSE)","v":{"$error":"#REF!"}}]
["C238","C052","SC SHARA","JOSE MARTIN MONCAYO",null,null,null,null,null,null,null,null,null,null,null,null,null,null,null,null,null,"",null,null,null,"","",null,"",null,"",null,"",null,null,null,null,null,"","","",null,null,"","","",null,null,0,0,0,null,{"$f":"VLOOKUP(B336,#REF!,3,FALSE)","v":{"$error":"#REF!"}}]
["C274","C160","SECRETARIA",null,null,null,null,null,null,null,null,null,null,null,null,null,null,null,null,null,null,null,null,null,null,"","",null,"",null,"",null,"",null,null,null,null,null,"","","",null,null,"","","",null,null,0,0,0,null,{"$f":"VLOOKUP(B337,#REF!,3,FALSE)","v":{"$error":"#REF!"}}]
["C234","C","SECRETO GL",null,null,40,40,null,null,null,null,null,null,null,null,"","","","","","","",null,null,null,"","",null,"",null,"",null,"",null,null,null,null,null,"","","",null,null,"","","",null,null,40,0,80,null,{"$f":"VLOOKUP(B338,#REF!,3,FALSE)","v":{"$error":"#REF!"}}]
["C080","C","SEDA SF",null,null,null,null,null,null,null,null,40,null,40,42,"","","","","","","",null,null,null,"","",null,"",null,"",null,"",null,null,null,null,null,"","","",null,null,"","","",null,null,42,0,122,null,{"$f":"VLOOKUP(B339,#REF!,3,FALSE)","v":{"$error":"#REF!"}}]
[null,"C329","SERENATA CMB","MORABOWEN CESAR",null,null,null,null,null,null,null,null,null,null,null,null,null,null,null,null,null,null,null,null,null,null,null,null,null,null,null,null,null,null,null,null,null,null,null,"","",null,null,"","","",null,null,0,0,0,null,{"$f":"VLOOKUP(B340,#REF!,3,FALSE)","v":{"$error":"#REF!"}}]
["C057","C060","SHAKAL","LUIS PASPUEZAN",null,null,null,null,null,null,null,null,null,null,42,"","","","","","","",null,null,null,"","",null,"",null,"",null,"",null,null,null,null,null,"","","",null,null,"","","",null,null,42,0,42,null,{"$f":"VLOOKUP(B341,#REF!,3,FALSE)","v":{"$error":"#REF!"}}]
["B","C154","SHAKIRA","JOSÉ LETORT MENA",null,null,null,null,null,null,null,null,null,null,null,null,null,null,null,null,null,null,null,null,null,"","",null,"",null,"",null,"",null,null,null,null,null,"","",84,null,null,"","","",null,null,84,84,84,null,{"$f":"VLOOKUP(B342,#REF!,3,FALSE)","v":{"$error":"#REF!"}}]
[null,"C367","SHAKIRA MO","GONZALEZ SEBASTIAN",null,null,null,null,null,null,null,null,null,null,null,null,null,null,null,null,null,null,null,null,null,null,null,null,null,null,null,null,null,null,null,null,null,null,"","","",{"$f":"IFERROR($BA343,\"\")","v":""},null,"","","",null,null,0,0,0,null,{"$f":"VLOOKUP(B343,#REF!,3,FALSE)","v":{"$error":"#REF!"}}]
["B","C090","SHALEA","RAFAELA DARQUEA",null,null,40,40,40,null,null,null,null,null,null,"","","","",43,"","",null,null,null,80,"",null,48,null,"",null,"",null,null,null,null,null,"","","",null,null,"","","",null,null,80,128,291,null,{"$f":"VLOOKUP(B344,#REF!,3,FALSE)","v":{"$error":"#REF!"}}]
["C251","C079","SHAMIR SOLIN","FELIPE SERRANO",60,60,60,null,60,60,null,null,null,null,null,"","","","","","","",null,null,null,"","",null,"",null,"",null,"",null,null,null,null,null,"","","",null,null,"","","",null,null,60,0,300,null,{"$f":"VLOOKUP(B345,#REF!,3,FALSE)","v":{"$error":"#REF!"}}]
["CC","C300","SHANAYA","LOYOLA JERVES HERNAN GUSTAVO",null,null,null,null,null,null,null,null,null,null,null,null,null,null,null,null,null,null,null,null,null,null,null,null,null,null,null,null,null,null,null,null,null,null,"","","",null,null,"","","",null,null,0,0,0,null,{"$f":"VLOOKUP(B346,#REF!,3,FALSE)","v":{"$error":"#REF!"}}]
["CC","C201","SHASHENKA","MATUTE PEDRO JOSE",null,null,null,null,null,null,null,null,null,null,null,40,40,null,40,null,null,null,null,null,null,null,null,null,null,null,null,44,null,42,null,45,null,null,"","","",null,null,"","","",null,null,45,131,251,null,{"$f":"VLOOKUP(B347,#REF!,3,FALSE)","v":{"$error":"#REF!"}}]
[null,"C364","SHIMA","SAMPER ALVARO",null,null,null,null,null,null,null,null,null,null,null,null,null,null,null,null,null,null,null,null,null,null,null,null,null,null,null,null,null,null,null,null,null,null,"","","",{"$f":"IFERROR($BA348,\"\")","v":""},null,"","","",null,null,0,0,0,null,{"$f":"VLOOKUP(B348,#REF!,3,FALSE)","v":{"$error":"#REF!"}}]
["CC","C193","SHIVAGO","ANDRADE PAREDES JOSE DANIEL",null,null,null,null,null,null,null,null,null,null,null,null,null,null,40,null,null,null,null,null,null,null,null,null,null,null,null,null,null,null,null,null,null,null,84,"","",null,null,"","","",null,null,84,84,124,null,{"$f":"VLOOKUP(B349,#REF!,3,FALSE)","v":{"$error":"#REF!"}}]
["C137","C018","SILUETA","BENITO JOSE JARAMILLO",null,null,null,null,null,null,null,null,null,null,null,null,null,null,null,null,null,"",null,null,null,"","",null,"",null,"",null,"",null,null,null,null,null,"","","",null,null,"","","",null,null,0,0,0,null,{"$f":"VLOOKUP(B350,#REF!,3,FALSE)","v":{"$error":"#REF!"}}]
["C177","C064","SIMBA","BERNARDA LETORT",null,null,null,null,null,null,null,null,null,null,null,null,null,null,null,null,null,"",null,null,null,"",59,null,48,null,"",null,"",null,null,null,null,null,"","","",null,null,"","","",null,null,59,107,107,null,{"$f":"VLOOKUP(B351,#REF!,3,FALSE)","v":{"$error":"#REF!"}}]
["CC","C302","SIMON","BURBANO SERRANO JUAN JOSE",null,null,null,null,null,null,null,null,null,null,null,40,null,null,null,null,null,null,null,null,null,null,null,null,null,null,null,null,null,null,null,null,null,null,"","","",null,null,"","","",null,null,40,0,40,null,{"$f":"VLOOKUP(B352,#REF!,3,FALSE)","v":{"$error":"#REF!"}}]
["B","C","SIMON VM",null,40,null,null,null,null,null,null,null,null,null,null,"","","","","","","",null,null,null,"","",null,"",null,"",null,"",null,null,null,null,null,"","","",null,null,"","","",null,null,40,0,40,null,{"$f":"VLOOKUP(B353,#REF!,3,FALSE)","v":{"$error":"#REF!"}}]
["B","C031","SL SAGU","JOSE LUIS NIETO",null,null,null,null,null,null,null,null,null,null,null,null,null,null,null,null,null,"",null,null,null,"","",null,"",null,"",null,"",null,null,null,null,null,"","","",null,null,"","","",null,null,0,0,0,null,{"$f":"VLOOKUP(B354,#REF!,3,FALSE)","v":{"$error":"#REF!"}}]
["CC","C303","SOCRATES","ESPINOZA IZQUIERDO PEDRO JOSE",null,null,null,null,null,null,null,null,null,null,null,null,null,null,40,null,null,null,null,null,null,null,null,null,null,null,null,null,null,null,null,null,null,null,"","","",null,null,"","","",null,null,40,0,40,null,{"$f":"VLOOKUP(B355,#REF!,3,FALSE)","v":{"$error":"#REF!"}}]
["CC","C304","SOFIA","MALO GELLIBERT ANDREA",null,null,null,null,null,null,null,null,null,null,null,null,null,null,null,null,null,null,null,null,null,null,null,null,null,null,null,null,null,null,null,null,null,null,"","","",null,null,"","","",null,null,0,0,0,null,{"$f":"VLOOKUP(B356,#REF!,3,FALSE)","v":{"$error":"#REF!"}}]
["CC","C305","SPARTACO","SORIA VAZQUEZ MARIA DANIELA",null,null,null,null,null,null,null,null,null,null,null,null,null,null,null,null,null,null,null,40,40,null,null,null,null,null,null,null,null,null,null,null,null,null,"","","",null,null,"","","",null,null,40,0,80,null,{"$f":"VLOOKUP(B357,#REF!,3,FALSE)","v":{"$error":"#REF!"}}]
["CC","C306","SPIRIT","PRADO CAMILO",null,null,null,null,null,null,null,null,null,null,null,40,40,60,null,null,null,null,null,null,null,null,null,null,null,null,null,null,null,null,null,null,null,null,"","","",null,null,"","","",null,null,60,0,140,null,{"$f":"VLOOKUP(B358,#REF!,3,FALSE)","v":{"$error":"#REF!"}}]
["C086","C","SPIRIT GV",null,null,null,null,null,null,null,54,40,null,null,null,"","","","","","","",null,null,null,"","",null,"",null,"",null,"",null,null,null,null,null,"","","",null,null,"","","",null,null,54,0,94,null,{"$f":"VLOOKUP(B359,#REF!,3,FALSE)","v":{"$error":"#REF!"}}]
["CC","C322","SUCO","VINTIMILLA CORDERO PABLO JOSÉ",null,null,null,null,null,null,null,null,null,null,null,null,"","",60,"","","",null,null,null,"","",null,"",null,"",84,"",null,null,45,null,null,"","","",null,null,"","","",null,null,84,129,189,null,{"$f":"VLOOKUP(B360,#REF!,3,FALSE)","v":{"$error":"#REF!"}}]
["C025","C081","SUE","ANDRES BARAHONA VACA",null,null,null,null,null,null,null,null,null,null,null,null,null,"","","",null,"",null,null,null,"","",null,"",null,"",null,"",null,null,null,null,null,"","","",null,null,"","","",null,null,0,0,0,null,{"$f":"VLOOKUP(B361,#REF!,3,FALSE)","v":{"$error":"#REF!"}}]
["C002","C078","SUKO","RICARDO DARQUEA",null,null,null,null,null,null,null,null,null,null,null,"","","","","","","",null,null,null,"","",null,"",null,"",null,"",null,null,null,null,null,"","","",null,null,"","","",null,null,0,0,0,null,{"$f":"VLOOKUP(B362,#REF!,3,FALSE)","v":{"$error":"#REF!"}}]
["C071","C","SUNAMI CR",null,null,null,null,null,null,null,null,null,null,null,null,"","","","","","","",null,null,null,"","",null,"",null,"",null,"",null,null,null,null,null,"","","",null,null,"","","",null,null,0,0,0,null,{"$f":"VLOOKUP(B363,#REF!,3,FALSE)","v":{"$error":"#REF!"}}]
["CC","C307","TABATHA","SORIA MARIA DANIELA",null,null,null,null,null,null,null,null,null,null,null,null,null,null,null,null,null,null,null,null,null,null,null,null,null,null,null,null,null,null,null,null,null,null,"","","",null,null,"","","",null,null,0,0,0,null,{"$f":"VLOOKUP(B364,#REF!,3,FALSE)","v":{"$error":"#REF!"}}]
["CC","C308","TABITA","SORIA MARIA DANIELA",null,null,null,null,null,null,null,null,null,null,null,null,null,null,null,null,null,null,null,null,null,null,null,null,null,null,null,null,null,null,null,null,null,null,"","","",null,null,"","","",null,null,0,0,0,null,{"$f":"VLOOKUP(B365,#REF!,3,FALSE)","v":{"$error":"#REF!"}}]
["B","C","TACONEADO CE",null,null,40,40,null,null,null,null,null,null,null,null,"","","","","","","",null,null,null,"","",null,"",null,"",null,"",null,null,null,null,null,"","","",null,null,"","","",null,null,40,0,80,null,{"$f":"VLOOKUP(B366,#REF!,3,FALSE)","v":{"$error":"#REF!"}}]
["CC","C309","TAMBO RULIMAN","DAVALOS EMILIA",null,null,null,null,null,null,null,null,null,null,null,null,null,null,null,null,null,null,null,null,null,null,null,null,null,null,null,null,null,null,null,null,null,null,"","","",null,null,"","","",null,null,0,0,0,null,{"$f":"VLOOKUP(B367,#REF!,3,FALSE)","v":{"$error":"#REF!"}}]
["B","C153","TANGER","RODRIGO JIJION",null,null,null,null,null,null,null,null,null,null,null,null,null,null,null,null,null,null,null,null,null,null,null,null,"",null,"",null,"",null,null,null,null,null,"","","",null,null,"","","",null,null,0,0,0,null,{"$f":"VLOOKUP(B368,#REF!,3,FALSE)","v":{"$error":"#REF!"}}]
["C322","C061","TANGO","ROSA VICTORIA",null,null,null,null,null,null,null,null,null,null,null,null,null,null,null,null,null,"",null,null,null,"","",null,"",null,"",null,"",null,null,null,null,null,"","","",null,null,"","","",null,null,0,0,0,null,{"$f":"VLOOKUP(B369,#REF!,3,FALSE)","v":{"$error":"#REF!"}}]
["C232","C","TANGO LB",null,null,null,null,null,null,null,null,null,null,null,null,null,"","","","","","",null,null,null,"","",null,"",null,"",null,"",null,null,null,null,null,"","","",null,null,"","","",null,null,0,0,0,null,{"$f":"VLOOKUP(B370,#REF!,3,FALSE)","v":{"$error":"#REF!"}}]
["B","C152","TARA",null,null,null,null,null,null,null,null,null,null,null,null,null,null,null,null,43,42,"",null,null,null,"","",null,"",null,"",null,"",null,null,null,null,null,"","","",null,null,"","","",null,null,43,0,85,null,{"$f":"VLOOKUP(B371,#REF!,3,FALSE)","v":{"$error":"#REF!"}}]
["C012","C","TARIK PI",null,null,null,null,null,null,null,null,40,null,null,null,"","","","","","","",null,null,null,"","",null,"",null,"",null,"",null,null,null,null,null,"","","",null,null,"","","",null,null,40,0,40,null,{"$f":"VLOOKUP(B372,#REF!,3,FALSE)","v":{"$error":"#REF!"}}]
["B","C","TARQUI W",null,null,null,null,null,null,null,null,null,44,null,null,"","","","","","","",null,null,null,"","",null,"",null,"",null,"",null,null,null,null,null,"","","",null,null,"","","",null,null,44,0,44,null,{"$f":"VLOOKUP(B373,#REF!,3,FALSE)","v":{"$error":"#REF!"}}]
[null,"C341","TENGRI","VELEZ MENA MARIA CONSUELO",null,null,null,null,null,null,null,null,null,null,null,null,null,null,null,null,null,null,null,null,null,null,null,null,null,null,null,null,null,null,null,null,null,null,null,"","",null,null,"","","",null,null,0,0,0,null,{"$f":"VLOOKUP(B374,#REF!,3,FALSE)","v":{"$error":"#REF!"}}]
["B","C004","TEQUILA","WILLIAM CATUCUAMBA",null,null,null,null,null,null,null,null,null,null,null,"","","","","","","",null,null,null,"","",null,"",null,"",null,"",null,null,null,null,null,"","","",null,null,"","",42,null,null,42,42,42,null,{"$f":"VLOOKUP(B375,#REF!,3,FALSE)","v":{"$error":"#REF!"}}]
[null,"C191","TEQUILA","ALLAICO CHIMBORAZO JOSE EMILIO",null,null,null,null,null,null,null,null,null,null,null,null,null,null,null,null,null,null,null,null,null,null,null,null,null,null,null,null,null,null,null,null,null,null,null,null,null,null,null,"","","",null,null,0,0,0,null,{"$f":"VLOOKUP(B376,#REF!,3,FALSE)","v":{"$error":"#REF!"}}]
["C056","C","TEQUILA YA",null,null,null,null,null,null,null,null,40,null,null,null,"","","","","","","",null,null,null,"","",null,"",null,"",null,"",null,null,null,null,null,"","","",null,null,"","","",null,null,40,0,40,null,{"$f":"VLOOKUP(B377,#REF!,3,FALSE)","v":{"$error":"#REF!"}}]
[null,"C352","TIBE","ALVEAR JUAN CARLOS",null,null,null,null,null,null,null,null,null,null,null,null,null,null,null,null,null,null,null,null,null,null,null,null,null,null,null,null,null,null,null,null,null,null,null,"","",null,null,"","","",null,null,0,0,0,null,{"$f":"VLOOKUP(B378,#REF!,3,FALSE)","v":{"$error":"#REF!"}}]
["CC","C310","TICTAC","VALDIVIESO ISABEL",null,null,null,null,null,null,null,null,null,null,null,null,null,null,null,null,null,null,null,null,null,null,null,null,null,null,null,null,null,null,null,null,null,null,"","","",null,null,"","","",null,null,0,0,0,null,{"$f":"VLOOKUP(B379,#REF!,3,FALSE)","v":{"$error":"#REF!"}}]
["B","C235","TOACHI","SEBASTIAN GONZALEZ",null,null,null,null,null,null,null,null,null,null,null,null,null,null,null,null,null,null,null,null,null,null,null,null,null,null,null,null,null,null,null,null,null,null,"","","",null,null,"","","",null,null,0,0,0,null,{"$f":"VLOOKUP(B380,#REF!,3,FALSE)","v":{"$error":"#REF!"}}]
[null,"C353","TOCHI","GONZALEZ SEBASTIAN",null,null,null,null,null,null,null,null,null,null,null,null,null,null,null,null,null,null,null,null,null,null,null,null,null,null,null,null,null,null,null,null,null,null,null,"","",null,null,"","","",null,null,0,0,0,null,{"$f":"VLOOKUP(B381,#REF!,3,FALSE)","v":{"$error":"#REF!"}}]
["CC","C311","TOCTE","SALINAS HERRERA CARLOS",null,null,null,null,null,null,null,null,null,null,null,null,null,null,null,null,null,null,null,null,null,null,null,null,null,null,null,null,null,null,null,null,null,null,"","","",null,null,"","","",null,null,0,0,0,null,{"$f":"VLOOKUP(B382,#REF!,3,FALSE)","v":{"$error":"#REF!"}}]
["CC","C312","TORDILLO","GONZALEZ CARVALLO BERNANRDA",null,null,null,null,null,null,null,null,null,null,null,null,null,null,60,null,null,null,null,null,null,null,null,null,null,null,null,null,null,null,null,null,null,null,"","","",null,null,"","","",null,null,60,0,60,null,{"$f":"VLOOKUP(B383,#REF!,3,FALSE)","v":{"$error":"#REF!"}}]
["B","C","TORERO",null,null,null,null,null,null,null,null,null,null,null,null,"","","","","","","",null,null,null,"","",null,"",null,"",null,"",null,null,null,null,null,"","","",null,null,"","","",null,null,0,0,0,null,{"$f":"VLOOKUP(B384,#REF!,3,FALSE)","v":{"$error":"#REF!"}}]
["CC","C313","TOSTADO","CRESPO ACOSTA ROBERTO JOSE",null,null,null,null,null,null,null,null,null,null,null,null,null,null,null,null,null,null,null,null,null,null,null,null,null,null,null,null,null,null,null,null,null,null,"","","",null,null,"","","",null,null,0,0,0,null,{"$f":"VLOOKUP(B385,#REF!,3,FALSE)","v":{"$error":"#REF!"}}]
["CC","C314","TOYTOY","GONZALEZ SEBASTIAN",null,null,null,null,null,null,null,null,null,null,null,null,null,null,null,null,null,null,null,null,null,null,null,null,null,null,null,null,null,null,null,null,null,null,"","","",null,null,"","","",null,null,0,0,0,null,{"$f":"VLOOKUP(B386,#REF!,3,FALSE)","v":{"$error":"#REF!"}}]
["B","C172","TRES AMORES",null,null,null,null,null,null,null,null,null,null,null,null,"","","","","","","",null,null,null,"","",null,"",null,"",null,"",null,null,null,null,null,"","","",null,null,"","","",null,null,0,0,0,null,{"$f":"VLOOKUP(B387,#REF!,3,FALSE)","v":{"$error":"#REF!"}}]
["B","C","TRIANA",null,null,null,null,null,null,null,null,null,null,null,null,"","","","","",null,"",null,null,null,"","",null,"",null,"",null,"",null,null,null,null,null,"","","",null,null,"","","",null,null,0,0,0,null,{"$f":"VLOOKUP(B388,#REF!,3,FALSE)","v":{"$error":"#REF!"}}]
["B","C","TROMPETA",null,null,40,40,null,null,null,null,null,null,null,null,"","","","","","","",null,null,null,"","",null,"",null,"",null,"",null,null,null,null,null,"","","",null,null,"","","",null,null,40,0,80,null,{"$f":"VLOOKUP(B389,#REF!,3,FALSE)","v":{"$error":"#REF!"}}]
["B","C099","TRUENO",null,60,60,60,60,60,null,null,null,null,null,null,"","","","","","",81,null,null,null,80,"",null,"",null,"",null,"",null,null,null,null,null,"","","",null,null,"","","",null,null,81,80,461,null,{"$f":"VLOOKUP(B390,#REF!,3,FALSE)","v":{"$error":"#REF!"}}]
[null,"C055","TUMBA HOMBRES","MALO TORAL DAVID",null,null,null,null,null,null,null,null,null,null,null,null,null,null,null,null,null,null,null,null,null,null,null,null,null,null,null,null,null,null,null,null,null,null,null,null,null,null,null,"","","",null,null,{"$f":"MAX(E391:AV391)","v":0},{"$f":"SUM(Z391:AV391)","v":0},{"$f":"SUM(E391:AV391)","v":0},null,{"$f":"VLOOKUP(B391,#REF!,3,FALSE)","v":{"$error":"#REF!"}}]
["B","C","VENADO",null,null,null,null,null,null,null,null,null,null,null,null,"","","","","","","",null,null,null,"","",null,"",null,"",null,"",null,null,null,null,null,"","","",null,null,"","","",null,null,0,0,0,null,{"$f":"VLOOKUP(B392,#REF!,3,FALSE)","v":{"$error":"#REF!"}}]
["B","C166","VENUS","ESPINOZA TOMAS",null,null,null,null,null,null,null,null,null,null,null,null,null,null,null,null,null,null,null,null,null,null,null,null,"",null,"",null,"",null,null,null,null,null,"","","",null,null,"","","",null,null,0,0,0,null,{"$f":"VLOOKUP(B393,#REF!,3,FALSE)","v":{"$error":"#REF!"}}]
["B","C","VICTOR GH",null,null,null,null,null,null,null,null,null,null,null,null,null,null,null,null,null,null,null,null,null,null,44,"",52,"",null,"",null,"",null,null,null,null,null,"","","",null,null,"","","",null,null,52,96,96,null,{"$f":"VLOOKUP(B394,#REF!,3,FALSE)","v":{"$error":"#REF!"}}]
["CC","C315","VIKINGO","LUGMAÑA JUAN CARLOS",null,null,null,null,null,null,null,null,null,null,null,null,40,null,null,null,null,null,null,null,null,null,null,null,null,null,null,null,null,null,null,null,null,null,"","","",null,null,"","","",null,null,40,0,40,null,{"$f":"VLOOKUP(B395,#REF!,3,FALSE)","v":{"$error":"#REF!"}}]
["B","C","VP RHAMYA",null,null,null,null,null,null,null,null,null,null,null,null,null,null,null,null,null,null,null,null,null,null,null,"",null,"",null,"",null,"",null,null,null,null,null,"","","",null,null,"","","",null,null,0,0,0,null,{"$f":"VLOOKUP(B396,#REF!,3,FALSE)","v":{"$error":"#REF!"}}]
["B","C074","WISKY","MAURICIO NOBOA",null,null,null,null,null,null,null,null,null,null,null,44,41,44,44,43,42,null,null,null,null,null,null,null,80,null,62,null,"",null,null,68,53,null,"","","",null,null,"","","",null,null,80,263,521,null,{"$f":"VLOOKUP(B397,#REF!,3,FALSE)","v":{"$error":"#REF!"}}]
["B","C015","ZAFIRA","ANDRES AYALA",null,null,null,null,null,null,null,null,null,null,null,null,null,null,null,null,null,"",null,null,null,"","",null,"",null,"",null,"",null,null,null,null,null,"","","",null,null,"","","",null,null,0,0,0,null,{"$f":"VLOOKUP(B398,#REF!,3,FALSE)","v":{"$error":"#REF!"}}]
["CC","C316","ZAHIR","KOPPEL OSWALDO",null,null,null,null,null,null,null,null,null,null,null,null,null,null,null,null,null,null,null,null,null,null,null,null,null,null,null,null,null,null,null,null,null,null,"","","",null,null,"","","",null,null,0,0,0,null,{"$f":"VLOOKUP(B399,#REF!,3,FALSE)","v":{"$error":"#REF!"}}]
["B","C106","ZEUS LL","LUIS ENRIQUE LANDAZURI",40,null,null,40,null,60,null,null,null,null,null,"",82,"","","","","",null,null,null,"","",null,"",null,"",null,"",null,61,null,null,null,"","",84,null,null,80,"","",null,null,84,225,447,null,{"$f":"VLOOKUP(B400,#REF!,3,FALSE)","v":{"$error":"#REF!"}}]
["B","C077","ZEUS PB","PEDRO JOSE BACA",null,null,null,null,null,null,null,null,null,null,null,"","","","","","",62,null,60,null,"","",null,"",null,"",null,"",null,null,null,null,null,"","","",null,null,"","","",null,null,62,0,122,null,{"$f":"VLOOKUP(B401,#REF!,3,FALSE)","v":{"$error":"#REF!"}}]
["CC","C317","ZINGARA","NEIRA MALO MARTIN",null,null,null,null,null,null,null,null,null,null,null,null,null,null,null,null,null,null,null,null,40,40,null,null,null,null,null,null,null,null,null,null,null,null,"","","",null,null,"","","",null,null,40,40,80,null,{"$f":"VLOOKUP(B402,#REF!,3,FALSE)","v":{"$error":"#REF!"}}]
["B","C174","ZT SATFFANTDU","ARTURO RIBADENEIRA",null,null,null,null,null,null,null,null,null,null,null,null,null,null,null,null,null,null,null,null,null,null,null,null,null,null,"",null,"",null,null,null,null,null,"","","",null,null,"","","",null,null,0,0,0,null,{"$f":"VLOOKUP(B403,#REF!,3,FALSE)","v":{"$error":"#REF!"}}]
["B","C041","ZUCO","CESAR IGNACIO LEON ARAUJO",null,null,null,null,40,40,null,40,null,null,42,44,"","",44,"","",44,null,null,null,"","",null,"",null,"",null,"",null,null,null,null,null,"","","",null,null,"","","",null,null,44,0,294,null,{"$f":"VLOOKUP(B404,#REF!,3,FALSE)","v":{"$error":"#REF!"}}]
[null,"C328","ZULA","MEDINA JORGE",null,null,null,null,null,null,null,null,null,null,null,null,null,null,null,null,null,null,null,null,null,null,null,null,null,null,null,null,null,null,null,null,null,null,null,"","",null,null,"","","",null,null,0,0,0,null,{"$f":"VLOOKUP(B405,#REF!,3,FALSE)","v":{"$error":"#REF!"}}]
[1000,1000,"ZZZZZZZZZ",null,null,null,null,null,null,null,null,null,null,null,null,null,null,null,null,null,null,null,null,null,null,null,null,null,null,null,null,null,null,null,null,null,null,null,null,null,null,null,null,"","","",{"$f":"IFERROR($BA406,\"\")","v":""},{"$f":"IFERROR($BA406,\"\")","v":""},null,null,null,null,{"$f":"VLOOKUP(B406,#REF!,3,FALSE)","v":{"$error":"#REF!"}}]
[]
[]
[]
[null,null,null,null,null,null,null,null,null,null,null,null,null,null,null,null,null,null,null,null,null,null,null,null,null,"","",null,"",null,"",null,""]
[]
[]
[]
[]
[]
[]
[null,null,null,null,null,null,null,null,null,null,null,null,null,null,null,null,null,null,null,null,null,null,null,null,null,null,"AZUL COMPETENCIAS DE CUENCA"]

{"sheet":"PROGRAMAS","index":23,"n_rows":14,"n_cols":4,"rows_kept":14,"cut":false,"hidden":false,"merged":[]}
[]
["CATEGORÍA","MACRO","CODIGO","MODULO"]
["JUVENIL NOVICIOS",1,"CRTL+MAY+ Q",1]
["JUVENIL LIBRE",5,"CRTL+MAY+ T",10]
["JUVENIL ORDENAR",3,"CRTL+MAY+ O",2]
["ABIERTA NOVICIOS",2,"CRTL+MAY+ W",3]
["ABIERTA LIBRE",7,"CRTL+MAY+ U",7]
["ABIERTA ORDENAR",10,"CRTL+MAY+ J",4]
["MAYORES NOVICIOS",11,"CRTL+MAY+ E",5]
["MAYORES LIBRE",6,"CRTL+MAY+ Y",11]
["MAYORES ORDENAR",12,"CRTL+MAY+ M",6]
["CABALLOS CONTROLADA",4,"CRTL+MAY+R",9]
["CABALLOS LIBRE",8,"CRTL+MAY+I",8]
["CABALLOS ORDENAR",9,"CRTL+MAY+K",12]